{"text_format":"1","workbook":"xlsx","n_sheets":17,"sheets":["INTRO","index_classe","prepa_alea_cabasse","preparation_cabasse","coupons_cabasse","coupons_cabasse_chiffres","prepa_alea_plateau","preparation_plateau","coupons_plateau","coupons_plateau_chiffres","sauvegardes","suivi_plateau","suivi_cabasse","index_cabasse","index_plateau","index_plateau_formatif","base_formatage_alea_plateau"],"not_rendered":{"charts":0,"images":0,"macros":1,"external_links":0,"defined_names":57,"comments":2,"pivot_tables":1},"unopened":[],"bounds":{"document_bytes":16777216,"sheet_cells":100000,"rows_first":2000,"rows_last":500,"rows_between":2000,"halvings":0,"cell_chars":16384,"cell_head_chars":4096},"cells_cut":0,"cells_raw":0,"read":"whole","date_system":"1900"}

{"sheet":"INTRO","index":0,"n_rows":23,"n_cols":2,"rows_kept":23,"cut":false,"hidden":false,"merged":[]}
[]
[]
[]
[null,"AIDE A LA GESTION ET AU SUIVI DE LA COURSE D’ORIENTATION (Guellec - 2011)"]
[null,"(ZONE GEOGRAPHIQUE : CABASSE – MIRAMAS 13)"]
[]
[null,"Remarques : ce fichier devra être sauvegardé sous un nom explicite pour une classe donnée."]
[]
[null,"POTENTIALITES"]
[]
[null,"q     Prise en compte de 2 zones de travail (la zone globale « Cabasse » intégrant une deuxième zone limitée à l’ouest « Le plateau »)"]
[null,"q     Gestion d’une classe : prise en compte de groupes constitués ou de chaque élève pour la préparation des séances"]
[null,"q     Suivi du niveau d’autonomie atteint pour chaque élève au fil des séances"]
[null,"q     Production aléatoire de N° de balises en fonction d’une distance retenue (zone proche, médiane, lointaine, zones combinées…)"]
[null,"q     Mise en évidence des doublons (codes) pour chaque élève ou groupe avec possibilité de modification"]
[null,"q     Prise en compte de 12 cartes différenciées au niveau du codage des balises pour chaque élève ou groupes"]
[null,"q     Ecriture automatique des coupons de contrôle nominatif (ou par groupe) avec choix du nombre de codes inscrits au départ"]
[null,"q     Feuille de gestion de séance imprimable avec les codes et solutions pour le suivi des séances"]
[null,"q     Feuille de suivi prévue pour un usage sur site avec un ordinateur portable (*)"]
[null,"q     Sauvegarde automatisée des feuilles de gestion de séance"]
[]
[]
[null," (*) Permet un retour formatif automatique (en cas d'erreur comparaison possible sur la carte entre la position du code effectivement trouvé et le code demandé)"]

{"sheet":"index_classe","index":1,"n_rows":38,"n_cols":16,"rows_kept":38,"cut":false,"hidden":false,"merged":[[0,6,0,7]]}
[null,null,null,null,null,"CLASSE","4B",null," Souhaitez-vous prendre en compte les groupes ?",null,"NON",null,null,null,"OUI",{"$f":"MAX(B3:B38)","v":11}]
["N°","N° GROUPE","Nom_Prenom","NOM CABASSE","NOM PLATEAU","NOM","PRENOM","Niveau\nd'autonomie\n(0 à 3)",null,null,null,null,null,null,"NON"]
[1,1,{"$f":"CONCATENATE(F3,\" \",G3)","v":"BENZ Nawel"},{"$f":"IF($F3=\"\",\"\",IF(index_classe!$K$1=\"OUI\",CONCATENATE(\"Carte N° : \",preparation_cabasse!$D4,\" - \",preparation_cabasse!$B4),IF(preparation_cabasse!$C$2<>\"\",CONCATENATE(\"Carte N° : \",preparation_cabasse!$D4,\" - \",$F3,\" \",$G3),CONCATENATE(\"Carte N° : \",preparation_cabasse!$D4,\" - \",$F3,\" \",$G3))))","v":"Carte N° : 10 - BENZ Nawel"},{"$f":"IF($F3=\"\",\"\",IF(index_classe!$K$1=\"OUI\",CONCATENATE(\"Carte N° : \",preparation_plateau!$D4,\" - \",preparation_plateau!$B4),IF(preparation_plateau!$C$2<>\"\",CONCATENATE(\"Carte N° : \",preparation_plateau!$D4,\" - \",$F3,\" \",$G3),CONCATENATE(\"Carte N° : \",preparation_plateau!$D4,\" - \",$F3,\" \",$G3))))","v":"Carte N° : 1 - BENZ Nawel"},"BENZ","Nawel",0,"Tableau des groupes"]
[2,2,{"$f":"CONCATENATE(F4,\" \",G4)","v":"BERNA Laurine"},{"$f":"IF($F4=\"\",\"\",IF(index_classe!$K$1=\"OUI\",CONCATENATE(\"Carte N° : \",preparation_cabasse!$D5,\" - \",preparation_cabasse!$B5),IF(preparation_cabasse!$C$2<>\"\",CONCATENATE(\"Carte N° : \",preparation_cabasse!$D5,\" - \",$F4,\" \",$G4),CONCATENATE(\"Carte N° : \",preparation_cabasse!$D5,\" - \",$F4,\" \",$G4))))","v":"Carte N° : 10 - BERNA Laurine"},{"$f":"IF($F4=\"\",\"\",IF(index_classe!$K$1=\"OUI\",CONCATENATE(\"Carte N° : \",preparation_plateau!$D5,\" - \",preparation_plateau!$B5),IF(preparation_plateau!$C$2<>\"\",CONCATENATE(\"Carte N° : \",preparation_plateau!$D5,\" - \",$F4,\" \",$G4),CONCATENATE(\"Carte N° : \",preparation_plateau!$D5,\" - \",$F4,\" \",$G4))))","v":"Carte N° : 2 - BERNA Laurine"},"BERNA","Laurine",0,1]
[3,7,"CHEL Sarah",{"$f":"IF($F5=\"\",\"\",IF(index_classe!$K$1=\"OUI\",CONCATENATE(\"Carte N° : \",preparation_cabasse!$D6,\" - \",preparation_cabasse!$B6),IF(preparation_cabasse!$C$2<>\"\",CONCATENATE(\"Carte N° : \",preparation_cabasse!$D6,\" - \",$F5,\" \",$G5),CONCATENATE(\"Carte N° : \",preparation_cabasse!$D6,\" - \",$F5,\" \",$G5))))","v":"Carte N° : 10 - CHEL Sarah"},{"$f":"IF($F5=\"\",\"\",IF(index_classe!$K$1=\"OUI\",CONCATENATE(\"Carte N° : \",preparation_plateau!$D6,\" - \",preparation_plateau!$B6),IF(preparation_plateau!$C$2<>\"\",CONCATENATE(\"Carte N° : \",preparation_plateau!$D6,\" - \",$F5,\" \",$G5),CONCATENATE(\"Carte N° : \",preparation_plateau!$D6,\" - \",$F5,\" \",$G5))))","v":"Carte N° : 3 - CHEL Sarah"},"CHEL","Sarah",1,"BENZ Nawel"]
[4,8,"CLAUD Maxime",{"$f":"IF($F6=\"\",\"\",IF(index_classe!$K$1=\"OUI\",CONCATENATE(\"Carte N° : \",preparation_cabasse!$D7,\" - \",preparation_cabasse!$B7),IF(preparation_cabasse!$C$2<>\"\",CONCATENATE(\"Carte N° : \",preparation_cabasse!$D7,\" - \",$F6,\" \",$G6),CONCATENATE(\"Carte N° : \",preparation_cabasse!$D7,\" - \",$F6,\" \",$G6))))","v":"Carte N° : 10 - CLAUD Maxime"},{"$f":"IF($F6=\"\",\"\",IF(index_classe!$K$1=\"OUI\",CONCATENATE(\"Carte N° : \",preparation_plateau!$D7,\" - \",preparation_plateau!$B7),IF(preparation_plateau!$C$2<>\"\",CONCATENATE(\"Carte N° : \",preparation_plateau!$D7,\" - \",$F6,\" \",$G6),CONCATENATE(\"Carte N° : \",preparation_plateau!$D7,\" - \",$F6,\" \",$G6))))","v":"Carte N° : 4 - CLAUD Maxime"},"CLAUD","Maxime",1,"MORET Alice"]
[5,11,"NAISSA Estelle",{"$f":"IF($F7=\"\",\"\",IF(index_classe!$K$1=\"OUI\",CONCATENATE(\"Carte N° : \",preparation_cabasse!$D8,\" - \",preparation_cabasse!$B8),IF(preparation_cabasse!$C$2<>\"\",CONCATENATE(\"Carte N° : \",preparation_cabasse!$D8,\" - \",$F7,\" \",$G7),CONCATENATE(\"Carte N° : \",preparation_cabasse!$D8,\" - \",$F7,\" \",$G7))))","v":"Carte N° : 10 - NAISSA Estelle"},{"$f":"IF($F7=\"\",\"\",IF(index_classe!$K$1=\"OUI\",CONCATENATE(\"Carte N° : \",preparation_plateau!$D8,\" - \",preparation_plateau!$B8),IF(preparation_plateau!$C$2<>\"\",CONCATENATE(\"Carte N° : \",preparation_plateau!$D8,\" - \",$F7,\" \",$G7),CONCATENATE(\"Carte N° : \",preparation_plateau!$D8,\" - \",$F7,\" \",$G7))))","v":"Carte N° : 5 - NAISSA Estelle"},"NAISSA","Estelle",0,2]
[6,10,"FA Dylan",{"$f":"IF($F8=\"\",\"\",IF(index_classe!$K$1=\"OUI\",CONCATENATE(\"Carte N° : \",preparation_cabasse!$D9,\" - \",preparation_cabasse!$B9),IF(preparation_cabasse!$C$2<>\"\",CONCATENATE(\"Carte N° : \",preparation_cabasse!$D9,\" - \",$F8,\" \",$G8),CONCATENATE(\"Carte N° : \",preparation_cabasse!$D9,\" - \",$F8,\" \",$G8))))","v":"Carte N° : 10 - FA Dylan"},{"$f":"IF($F8=\"\",\"\",IF(index_classe!$K$1=\"OUI\",CONCATENATE(\"Carte N° : \",preparation_plateau!$D9,\" - \",preparation_plateau!$B9),IF(preparation_plateau!$C$2<>\"\",CONCATENATE(\"Carte N° : \",preparation_plateau!$D9,\" - \",$F8,\" \",$G8),CONCATENATE(\"Carte N° : \",preparation_plateau!$D9,\" - \",$F8,\" \",$G8))))","v":"Carte N° : 6 - FA Dylan"},"FA","Dylan",1,"BERNA Laurine"]
[7,10,"FLEIN Theo",{"$f":"IF($F9=\"\",\"\",IF(index_classe!$K$1=\"OUI\",CONCATENATE(\"Carte N° : \",preparation_cabasse!$D10,\" - \",preparation_cabasse!$B10),IF(preparation_cabasse!$C$2<>\"\",CONCATENATE(\"Carte N° : \",preparation_cabasse!$D10,\" - \",$F9,\" \",$G9),CONCATENATE(\"Carte N° : \",preparation_cabasse!$D10,\" - \",$F9,\" \",$G9))))","v":"Carte N° : 10 - FLEIN Theo"},{"$f":"IF($F9=\"\",\"\",IF(index_classe!$K$1=\"OUI\",CONCATENATE(\"Carte N° : \",preparation_plateau!$D10,\" - \",preparation_plateau!$B10),IF(preparation_plateau!$C$2<>\"\",CONCATENATE(\"Carte N° : \",preparation_plateau!$D10,\" - \",$F9,\" \",$G9),CONCATENATE(\"Carte N° : \",preparation_plateau!$D10,\" - \",$F9,\" \",$G9))))","v":"Carte N° : 7 - FLEIN Theo"},"FLEIN","Theo",3,"SAL Calvin"]
[8,4,"JEAON Alexis",{"$f":"IF($F10=\"\",\"\",IF(index_classe!$K$1=\"OUI\",CONCATENATE(\"Carte N° : \",preparation_cabasse!$D11,\" - \",preparation_cabasse!$B11),IF(preparation_cabasse!$C$2<>\"\",CONCATENATE(\"Carte N° : \",preparation_cabasse!$D11,\" - \",$F10,\" \",$G10),CONCATENATE(\"Carte N° : \",preparation_cabasse!$D11,\" - \",$F10,\" \",$G10))))","v":"Carte N° : 10 - JEAON Alexis"},{"$f":"IF($F10=\"\",\"\",IF(index_classe!$K$1=\"OUI\",CONCATENATE(\"Carte N° : \",preparation_plateau!$D11,\" - \",preparation_plateau!$B11),IF(preparation_plateau!$C$2<>\"\",CONCATENATE(\"Carte N° : \",preparation_plateau!$D11,\" - \",$F10,\" \",$G10),CONCATENATE(\"Carte N° : \",preparation_plateau!$D11,\" - \",$F10,\" \",$G10))))","v":"Carte N° : 8 - JEAON Alexis"},"JEAON","Alexis",1,3]
[9,7,"KOLA Alexandre",{"$f":"IF($F11=\"\",\"\",IF(index_classe!$K$1=\"OUI\",CONCATENATE(\"Carte N° : \",preparation_cabasse!$D12,\" - \",preparation_cabasse!$B12),IF(preparation_cabasse!$C$2<>\"\",CONCATENATE(\"Carte N° : \",preparation_cabasse!$D12,\" - \",$F11,\" \",$G11),CONCATENATE(\"Carte N° : \",preparation_cabasse!$D12,\" - \",$F11,\" \",$G11))))","v":"Carte N° : 10 - KOLA Alexandre"},{"$f":"IF($F11=\"\",\"\",IF(index_classe!$K$1=\"OUI\",CONCATENATE(\"Carte N° : \",preparation_plateau!$D12,\" - \",preparation_plateau!$B12),IF(preparation_plateau!$C$2<>\"\",CONCATENATE(\"Carte N° : \",preparation_plateau!$D12,\" - \",$F11,\" \",$G11),CONCATENATE(\"Carte N° : \",preparation_plateau!$D12,\" - \",$F11,\" \",$G11))))","v":"Carte N° : 9 - KOLA Alexandre"},"KOLA","Alexandre",1,"SIOUI Salah"]
[10,8,"LERHE Melvin",{"$f":"IF($F12=\"\",\"\",IF(index_classe!$K$1=\"OUI\",CONCATENATE(\"Carte N° : \",preparation_cabasse!$D13,\" - \",preparation_cabasse!$B13),IF(preparation_cabasse!$C$2<>\"\",CONCATENATE(\"Carte N° : \",preparation_cabasse!$D13,\" - \",$F12,\" \",$G12),CONCATENATE(\"Carte N° : \",preparation_cabasse!$D13,\" - \",$F12,\" \",$G12))))","v":"Carte N° : 10 - LERHE Melvin"},{"$f":"IF($F12=\"\",\"\",IF(index_classe!$K$1=\"OUI\",CONCATENATE(\"Carte N° : \",preparation_plateau!$D13,\" - \",preparation_plateau!$B13),IF(preparation_plateau!$C$2<>\"\",CONCATENATE(\"Carte N° : \",preparation_plateau!$D13,\" - \",$F12,\" \",$G12),CONCATENATE(\"Carte N° : \",preparation_plateau!$D13,\" - \",$F12,\" \",$G12))))","v":"Carte N° : 10 - LERHE Melvin"},"LERHE","Melvin",1,"TEJOR Carla"]
[11,6,"LOE Mickael",{"$f":"IF($F13=\"\",\"\",IF(index_classe!$K$1=\"OUI\",CONCATENATE(\"Carte N° : \",preparation_cabasse!$D14,\" - \",preparation_cabasse!$B14),IF(preparation_cabasse!$C$2<>\"\",CONCATENATE(\"Carte N° : \",preparation_cabasse!$D14,\" - \",$F13,\" \",$G13),CONCATENATE(\"Carte N° : \",preparation_cabasse!$D14,\" - \",$F13,\" \",$G13))))","v":"Carte N° : 10 - LOE Mickael"},{"$f":"IF($F13=\"\",\"\",IF(index_classe!$K$1=\"OUI\",CONCATENATE(\"Carte N° : \",preparation_plateau!$D14,\" - \",preparation_plateau!$B14),IF(preparation_plateau!$C$2<>\"\",CONCATENATE(\"Carte N° : \",preparation_plateau!$D14,\" - \",$F13,\" \",$G13),CONCATENATE(\"Carte N° : \",preparation_plateau!$D14,\" - \",$F13,\" \",$G13))))","v":"Carte N° : 11 - LOE Mickael"},"LOE","Mickael",1,4]
[12,1,"MORET Alice",{"$f":"IF($F14=\"\",\"\",IF(index_classe!$K$1=\"OUI\",CONCATENATE(\"Carte N° : \",preparation_cabasse!$D15,\" - \",preparation_cabasse!$B15),IF(preparation_cabasse!$C$2<>\"\",CONCATENATE(\"Carte N° : \",preparation_cabasse!$D15,\" - \",$F14,\" \",$G14),CONCATENATE(\"Carte N° : \",preparation_cabasse!$D15,\" - \",$F14,\" \",$G14))))","v":"Carte N° : 10 - MORET Alice"},{"$f":"IF($F14=\"\",\"\",IF(index_classe!$K$1=\"OUI\",CONCATENATE(\"Carte N° : \",preparation_plateau!$D15,\" - \",preparation_plateau!$B15),IF(preparation_plateau!$C$2<>\"\",CONCATENATE(\"Carte N° : \",preparation_plateau!$D15,\" - \",$F14,\" \",$G14),CONCATENATE(\"Carte N° : \",preparation_plateau!$D15,\" - \",$F14,\" \",$G14))))","v":"Carte N° : 1 - MORET Alice"},"MORET","Alice",2,"JEAON Alexis"]
[13,5,"NICAU Romain",{"$f":"IF($F15=\"\",\"\",IF(index_classe!$K$1=\"OUI\",CONCATENATE(\"Carte N° : \",preparation_cabasse!$D16,\" - \",preparation_cabasse!$B16),IF(preparation_cabasse!$C$2<>\"\",CONCATENATE(\"Carte N° : \",preparation_cabasse!$D16,\" - \",$F15,\" \",$G15),CONCATENATE(\"Carte N° : \",preparation_cabasse!$D16,\" - \",$F15,\" \",$G15))))","v":"Carte N° : 10 - NICAU Romain"},{"$f":"IF($F15=\"\",\"\",IF(index_classe!$K$1=\"OUI\",CONCATENATE(\"Carte N° : \",preparation_plateau!$D16,\" - \",preparation_plateau!$B16),IF(preparation_plateau!$C$2<>\"\",CONCATENATE(\"Carte N° : \",preparation_plateau!$D16,\" - \",$F15,\" \",$G15),CONCATENATE(\"Carte N° : \",preparation_plateau!$D16,\" - \",$F15,\" \",$G15))))","v":"Carte N° : 2 - NICAU Romain"},"NICAU","Romain",1,"RUI Desiderio"]
[14,4,"RUI Desiderio",{"$f":"IF($F16=\"\",\"\",IF(index_classe!$K$1=\"OUI\",CONCATENATE(\"Carte N° : \",preparation_cabasse!$D17,\" - \",preparation_cabasse!$B17),IF(preparation_cabasse!$C$2<>\"\",CONCATENATE(\"Carte N° : \",preparation_cabasse!$D17,\" - \",$F16,\" \",$G16),CONCATENATE(\"Carte N° : \",preparation_cabasse!$D17,\" - \",$F16,\" \",$G16))))","v":"Carte N° : 10 - RUI Desiderio"},{"$f":"IF($F16=\"\",\"\",IF(index_classe!$K$1=\"OUI\",CONCATENATE(\"Carte N° : \",preparation_plateau!$D17,\" - \",preparation_plateau!$B17),IF(preparation_plateau!$C$2<>\"\",CONCATENATE(\"Carte N° : \",preparation_plateau!$D17,\" - \",$F16,\" \",$G16),CONCATENATE(\"Carte N° : \",preparation_plateau!$D17,\" - \",$F16,\" \",$G16))))","v":"Carte N° : 3 - RUI Desiderio"},"RUI","Desiderio",1,5]
[15,9,"RI Niko",{"$f":"IF($F17=\"\",\"\",IF(index_classe!$K$1=\"OUI\",CONCATENATE(\"Carte N° : \",preparation_cabasse!$D18,\" - \",preparation_cabasse!$B18),IF(preparation_cabasse!$C$2<>\"\",CONCATENATE(\"Carte N° : \",preparation_cabasse!$D18,\" - \",$F17,\" \",$G17),CONCATENATE(\"Carte N° : \",preparation_cabasse!$D18,\" - \",$F17,\" \",$G17))))","v":"Carte N° : 10 - RI Niko"},{"$f":"IF($F17=\"\",\"\",IF(index_classe!$K$1=\"OUI\",CONCATENATE(\"Carte N° : \",preparation_plateau!$D18,\" - \",preparation_plateau!$B18),IF(preparation_plateau!$C$2<>\"\",CONCATENATE(\"Carte N° : \",preparation_plateau!$D18,\" - \",$F17,\" \",$G17),CONCATENATE(\"Carte N° : \",preparation_plateau!$D18,\" - \",$F17,\" \",$G17))))","v":"Carte N° : 4 - RI Niko"},"RI","Niko",1,"NICAU Romain"]
[16,2,"SAL Calvin",{"$f":"IF($F18=\"\",\"\",IF(index_classe!$K$1=\"OUI\",CONCATENATE(\"Carte N° : \",preparation_cabasse!$D19,\" - \",preparation_cabasse!$B19),IF(preparation_cabasse!$C$2<>\"\",CONCATENATE(\"Carte N° : \",preparation_cabasse!$D19,\" - \",$F18,\" \",$G18),CONCATENATE(\"Carte N° : \",preparation_cabasse!$D19,\" - \",$F18,\" \",$G18))))","v":"Carte N° : 10 - SAL Calvin"},{"$f":"IF($F18=\"\",\"\",IF(index_classe!$K$1=\"OUI\",CONCATENATE(\"Carte N° : \",preparation_plateau!$D19,\" - \",preparation_plateau!$B19),IF(preparation_plateau!$C$2<>\"\",CONCATENATE(\"Carte N° : \",preparation_plateau!$D19,\" - \",$F18,\" \",$G18),CONCATENATE(\"Carte N° : \",preparation_plateau!$D19,\" - \",$F18,\" \",$G18))))","v":"Carte N° : 5 - SAL Calvin"},"SAL","Calvin",0,"YI William"]
[17,3,"SIOUI Salah",{"$f":"IF($F19=\"\",\"\",IF(index_classe!$K$1=\"OUI\",CONCATENATE(\"Carte N° : \",preparation_cabasse!$D20,\" - \",preparation_cabasse!$B20),IF(preparation_cabasse!$C$2<>\"\",CONCATENATE(\"Carte N° : \",preparation_cabasse!$D20,\" - \",$F19,\" \",$G19),CONCATENATE(\"Carte N° : \",preparation_cabasse!$D20,\" - \",$F19,\" \",$G19))))","v":"Carte N° : 10 - SIOUI Salah"},{"$f":"IF($F19=\"\",\"\",IF(index_classe!$K$1=\"OUI\",CONCATENATE(\"Carte N° : \",preparation_plateau!$D20,\" - \",preparation_plateau!$B20),IF(preparation_plateau!$C$2<>\"\",CONCATENATE(\"Carte N° : \",preparation_plateau!$D20,\" - \",$F19,\" \",$G19),CONCATENATE(\"Carte N° : \",preparation_plateau!$D20,\" - \",$F19,\" \",$G19))))","v":"Carte N° : 6 - SIOUI Salah"},"SIOUI","Salah",1,6]
[18,11,"TADEVA Khatmat",{"$f":"IF($F20=\"\",\"\",IF(index_classe!$K$1=\"OUI\",CONCATENATE(\"Carte N° : \",preparation_cabasse!$D21,\" - \",preparation_cabasse!$B21),IF(preparation_cabasse!$C$2<>\"\",CONCATENATE(\"Carte N° : \",preparation_cabasse!$D21,\" - \",$F20,\" \",$G20),CONCATENATE(\"Carte N° : \",preparation_cabasse!$D21,\" - \",$F20,\" \",$G20))))","v":"Carte N° : 10 - TADEVA Khatmat"},{"$f":"IF($F20=\"\",\"\",IF(index_classe!$K$1=\"OUI\",CONCATENATE(\"Carte N° : \",preparation_plateau!$D21,\" - \",preparation_plateau!$B21),IF(preparation_plateau!$C$2<>\"\",CONCATENATE(\"Carte N° : \",preparation_plateau!$D21,\" - \",$F20,\" \",$G20),CONCATENATE(\"Carte N° : \",preparation_plateau!$D21,\" - \",$F20,\" \",$G20))))","v":"Carte N° : 7 - TADEVA Khatmat"},"TADEVA","Khatmat",0,"LOE Mickael"]
[19,6,"TEEC Victor",{"$f":"IF($F21=\"\",\"\",IF(index_classe!$K$1=\"OUI\",CONCATENATE(\"Carte N° : \",preparation_cabasse!$D22,\" - \",preparation_cabasse!$B22),IF(preparation_cabasse!$C$2<>\"\",CONCATENATE(\"Carte N° : \",preparation_cabasse!$D22,\" - \",$F21,\" \",$G21),CONCATENATE(\"Carte N° : \",preparation_cabasse!$D22,\" - \",$F21,\" \",$G21))))","v":"Carte N° : 10 - TEEC Victor"},{"$f":"IF($F21=\"\",\"\",IF(index_classe!$K$1=\"OUI\",CONCATENATE(\"Carte N° : \",preparation_plateau!$D22,\" - \",preparation_plateau!$B22),IF(preparation_plateau!$C$2<>\"\",CONCATENATE(\"Carte N° : \",preparation_plateau!$D22,\" - \",$F21,\" \",$G21),CONCATENATE(\"Carte N° : \",preparation_plateau!$D22,\" - \",$F21,\" \",$G21))))","v":"Carte N° : 8 - TEEC Victor"},"TEEC","Victor",3,"TEEC Victor"]
[20,3,"TEJOR Carla",{"$f":"IF($F22=\"\",\"\",IF(index_classe!$K$1=\"OUI\",CONCATENATE(\"Carte N° : \",preparation_cabasse!$D23,\" - \",preparation_cabasse!$B23),IF(preparation_cabasse!$C$2<>\"\",CONCATENATE(\"Carte N° : \",preparation_cabasse!$D23,\" - \",$F22,\" \",$G22),CONCATENATE(\"Carte N° : \",preparation_cabasse!$D23,\" - \",$F22,\" \",$G22))))","v":"Carte N° : 10 - TEJOR Carla"},{"$f":"IF($F22=\"\",\"\",IF(index_classe!$K$1=\"OUI\",CONCATENATE(\"Carte N° : \",preparation_plateau!$D23,\" - \",preparation_plateau!$B23),IF(preparation_plateau!$C$2<>\"\",CONCATENATE(\"Carte N° : \",preparation_plateau!$D23,\" - \",$F22,\" \",$G22),CONCATENATE(\"Carte N° : \",preparation_plateau!$D23,\" - \",$F22,\" \",$G22))))","v":"Carte N° : 9 - TEJOR Carla"},"TEJOR","Carla",0,7]
[21,9,"THIER Andrea",{"$f":"IF($F23=\"\",\"\",IF(index_classe!$K$1=\"OUI\",CONCATENATE(\"Carte N° : \",preparation_cabasse!$D24,\" - \",preparation_cabasse!$B24),IF(preparation_cabasse!$C$2<>\"\",CONCATENATE(\"Carte N° : \",preparation_cabasse!$D24,\" - \",$F23,\" \",$G23),CONCATENATE(\"Carte N° : \",preparation_cabasse!$D24,\" - \",$F23,\" \",$G23))))","v":"Carte N° : 10 - THIER Andrea"},{"$f":"IF($F23=\"\",\"\",IF(index_classe!$K$1=\"OUI\",CONCATENATE(\"Carte N° : \",preparation_plateau!$D24,\" - \",preparation_plateau!$B24),IF(preparation_plateau!$C$2<>\"\",CONCATENATE(\"Carte N° : \",preparation_plateau!$D24,\" - \",$F23,\" \",$G23),CONCATENATE(\"Carte N° : \",preparation_plateau!$D24,\" - \",$F23,\" \",$G23))))","v":"Carte N° : 10 - THIER Andrea"},"THIER","Andrea",2,"CHEL Sarah"]
[22,5,"YI William",{"$f":"IF($F24=\"\",\"\",IF(index_classe!$K$1=\"OUI\",CONCATENATE(\"Carte N° : \",preparation_cabasse!$D25,\" - \",preparation_cabasse!$B25),IF(preparation_cabasse!$C$2<>\"\",CONCATENATE(\"Carte N° : \",preparation_cabasse!$D25,\" - \",$F24,\" \",$G24),CONCATENATE(\"Carte N° : \",preparation_cabasse!$D25,\" - \",$F24,\" \",$G24))))","v":"Carte N° : 10 - YI William"},{"$f":"IF($F24=\"\",\"\",IF(index_classe!$K$1=\"OUI\",CONCATENATE(\"Carte N° : \",preparation_plateau!$D25,\" - \",preparation_plateau!$B25),IF(preparation_plateau!$C$2<>\"\",CONCATENATE(\"Carte N° : \",preparation_plateau!$D25,\" - \",$F24,\" \",$G24),CONCATENATE(\"Carte N° : \",preparation_plateau!$D25,\" - \",$F24,\" \",$G24))))","v":"Carte N° : 12 - YI William"},"YI","William",1,"KOLA Alexandre"]
[23,null," ",{"$f":"IF($F25=\"\",\"\",IF(index_classe!$K$1=\"OUI\",CONCATENATE(\"Carte N° : \",preparation_cabasse!$D26,\" - \",preparation_cabasse!$B26),IF(preparation_cabasse!$C$2<>\"\",CONCATENATE(\"Carte N° : \",preparation_cabasse!$D26,\" - \",$F25,\" \",$G25),CONCATENATE(\"Carte N° : \",preparation_cabasse!$D26,\" - \",$F25,\" \",$G25))))","v":""},{"$f":"IF($F25=\"\",\"\",IF(index_classe!$K$1=\"OUI\",CONCATENATE(\"Carte N° : \",preparation_plateau!$D26,\" - \",preparation_plateau!$B26),IF(preparation_plateau!$C$2<>\"\",CONCATENATE(\"Carte N° : \",preparation_plateau!$D26,\" - \",$F25,\" \",$G25),CONCATENATE(\"Carte N° : \",preparation_plateau!$D26,\" - \",$F25,\" \",$G25))))","v":""},null,null,null,8]
[24,null," ",{"$f":"IF($F26=\"\",\"\",IF(index_classe!$K$1=\"OUI\",CONCATENATE(\"Carte N° : \",preparation_cabasse!$D27,\" - \",preparation_cabasse!$B27),IF(preparation_cabasse!$C$2<>\"\",CONCATENATE(\"Carte N° : \",preparation_cabasse!$D27,\" - \",$F26,\" \",$G26),CONCATENATE(\"Carte N° : \",preparation_cabasse!$D27,\" - \",$F26,\" \",$G26))))","v":""},{"$f":"IF($F26=\"\",\"\",IF(index_classe!$K$1=\"OUI\",CONCATENATE(\"Carte N° : \",preparation_plateau!$D27,\" - \",preparation_plateau!$B27),IF(preparation_plateau!$C$2<>\"\",CONCATENATE(\"Carte N° : \",preparation_plateau!$D27,\" - \",$F26,\" \",$G26),CONCATENATE(\"Carte N° : \",preparation_plateau!$D27,\" - \",$F26,\" \",$G26))))","v":""},null,null,null,"CLAUD Maxime"]
[25,null," ",{"$f":"IF($F27=\"\",\"\",IF(index_classe!$K$1=\"OUI\",CONCATENATE(\"Carte N° : \",preparation_cabasse!$D28,\" - \",preparation_cabasse!$B28),IF(preparation_cabasse!$C$2<>\"\",CONCATENATE(\"Carte N° : \",preparation_cabasse!$D28,\" - \",$F27,\" \",$G27),CONCATENATE(\"Carte N° : \",preparation_cabasse!$D28,\" - \",$F27,\" \",$G27))))","v":""},{"$f":"IF($F27=\"\",\"\",IF(index_classe!$K$1=\"OUI\",CONCATENATE(\"Carte N° : \",preparation_plateau!$D28,\" - \",preparation_plateau!$B28),IF(preparation_plateau!$C$2<>\"\",CONCATENATE(\"Carte N° : \",preparation_plateau!$D28,\" - \",$F27,\" \",$G27),CONCATENATE(\"Carte N° : \",preparation_plateau!$D28,\" - \",$F27,\" \",$G27))))","v":""},null,null,null,"LERHE Melvin"]
[26,null," ",{"$f":"IF($F28=\"\",\"\",IF(index_classe!$K$1=\"OUI\",CONCATENATE(\"Carte N° : \",preparation_cabasse!$D29,\" - \",preparation_cabasse!$B29),IF(preparation_cabasse!$C$2<>\"\",CONCATENATE(\"Carte N° : \",preparation_cabasse!$D29,\" - \",$F28,\" \",$G28),CONCATENATE(\"Carte N° : \",preparation_cabasse!$D29,\" - \",$F28,\" \",$G28))))","v":""},{"$f":"IF($F28=\"\",\"\",IF(index_classe!$K$1=\"OUI\",CONCATENATE(\"Carte N° : \",preparation_plateau!$D29,\" - \",preparation_plateau!$B29),IF(preparation_plateau!$C$2<>\"\",CONCATENATE(\"Carte N° : \",preparation_plateau!$D29,\" - \",$F28,\" \",$G28),CONCATENATE(\"Carte N° : \",preparation_plateau!$D29,\" - \",$F28,\" \",$G28))))","v":""},null,null,null,9]
[27,null," ",{"$f":"IF($F29=\"\",\"\",IF(index_classe!$K$1=\"OUI\",CONCATENATE(\"Carte N° : \",preparation_cabasse!$D30,\" - \",preparation_cabasse!$B30),IF(preparation_cabasse!$C$2<>\"\",CONCATENATE(\"Carte N° : \",preparation_cabasse!$D30,\" - \",$F29,\" \",$G29),CONCATENATE(\"Carte N° : \",preparation_cabasse!$D30,\" - \",$F29,\" \",$G29))))","v":""},{"$f":"IF($F29=\"\",\"\",IF(index_classe!$K$1=\"OUI\",CONCATENATE(\"Carte N° : \",preparation_plateau!$D30,\" - \",preparation_plateau!$B30),IF(preparation_plateau!$C$2<>\"\",CONCATENATE(\"Carte N° : \",preparation_plateau!$D30,\" - \",$F29,\" \",$G29),CONCATENATE(\"Carte N° : \",preparation_plateau!$D30,\" - \",$F29,\" \",$G29))))","v":""},null,null,null,"RI Niko"]
[28,null," ",{"$f":"IF($F30=\"\",\"\",IF(index_classe!$K$1=\"OUI\",CONCATENATE(\"Carte N° : \",preparation_cabasse!$D31,\" - \",preparation_cabasse!$B31),IF(preparation_cabasse!$C$2<>\"\",CONCATENATE(\"Carte N° : \",preparation_cabasse!$D31,\" - \",$F30,\" \",$G30),CONCATENATE(\"Carte N° : \",preparation_cabasse!$D31,\" - \",$F30,\" \",$G30))))","v":""},{"$f":"IF($F30=\"\",\"\",IF(index_classe!$K$1=\"OUI\",CONCATENATE(\"Carte N° : \",preparation_plateau!$D31,\" - \",preparation_plateau!$B31),IF(preparation_plateau!$C$2<>\"\",CONCATENATE(\"Carte N° : \",preparation_plateau!$D31,\" - \",$F30,\" \",$G30),CONCATENATE(\"Carte N° : \",preparation_plateau!$D31,\" - \",$F30,\" \",$G30))))","v":""},null,null,null,"THIER Andrea"]
[29,null," ",{"$f":"IF($F31=\"\",\"\",IF(index_classe!$K$1=\"OUI\",CONCATENATE(\"Carte N° : \",preparation_cabasse!$D32,\" - \",preparation_cabasse!$B32),IF(preparation_cabasse!$C$2<>\"\",CONCATENATE(\"Carte N° : \",preparation_cabasse!$D32,\" - \",$F31,\" \",$G31),CONCATENATE(\"Carte N° : \",preparation_cabasse!$D32,\" - \",$F31,\" \",$G31))))","v":""},{"$f":"IF($F31=\"\",\"\",IF(index_classe!$K$1=\"OUI\",CONCATENATE(\"Carte N° : \",preparation_plateau!$D32,\" - \",preparation_plateau!$B32),IF(preparation_plateau!$C$2<>\"\",CONCATENATE(\"Carte N° : \",preparation_plateau!$D32,\" - \",$F31,\" \",$G31),CONCATENATE(\"Carte N° : \",preparation_plateau!$D32,\" - \",$F31,\" \",$G31))))","v":""},null,null,null,10]
[30,null," ",{"$f":"IF($F32=\"\",\"\",IF(index_classe!$K$1=\"OUI\",CONCATENATE(\"Carte N° : \",preparation_cabasse!$D33,\" - \",preparation_cabasse!$B33),IF(preparation_cabasse!$C$2<>\"\",CONCATENATE(\"Carte N° : \",preparation_cabasse!$D33,\" - \",$F32,\" \",$G32),CONCATENATE(\"Carte N° : \",preparation_cabasse!$D33,\" - \",$F32,\" \",$G32))))","v":""},{"$f":"IF($F32=\"\",\"\",IF(index_classe!$K$1=\"OUI\",CONCATENATE(\"Carte N° : \",preparation_plateau!$D33,\" - \",preparation_plateau!$B33),IF(preparation_plateau!$C$2<>\"\",CONCATENATE(\"Carte N° : \",preparation_plateau!$D33,\" - \",$F32,\" \",$G32),CONCATENATE(\"Carte N° : \",preparation_plateau!$D33,\" - \",$F32,\" \",$G32))))","v":""},null,null,null,"FA Dylan"]
[31,null," ",{"$f":"IF($F33=\"\",\"\",IF(index_classe!$K$1=\"OUI\",CONCATENATE(\"Carte N° : \",preparation_cabasse!$D34,\" - \",preparation_cabasse!$B34),IF(preparation_cabasse!$C$2<>\"\",CONCATENATE(\"Carte N° : \",preparation_cabasse!$D34,\" - \",$F33,\" \",$G33),CONCATENATE(\"Carte N° : \",preparation_cabasse!$D34,\" - \",$F33,\" \",$G33))))","v":""},{"$f":"IF($F33=\"\",\"\",IF(index_classe!$K$1=\"OUI\",CONCATENATE(\"Carte N° : \",preparation_plateau!$D34,\" - \",preparation_plateau!$B34),IF(preparation_plateau!$C$2<>\"\",CONCATENATE(\"Carte N° : \",preparation_plateau!$D34,\" - \",$F33,\" \",$G33),CONCATENATE(\"Carte N° : \",preparation_plateau!$D34,\" - \",$F33,\" \",$G33))))","v":""},null,null,null,"FLEIN Theo"]
[32,null," ",{"$f":"IF($F34=\"\",\"\",IF(index_classe!$K$1=\"OUI\",CONCATENATE(\"Carte N° : \",preparation_cabasse!$D35,\" - \",preparation_cabasse!$B35),IF(preparation_cabasse!$C$2<>\"\",CONCATENATE(\"Carte N° : \",preparation_cabasse!$D35,\" - \",$F34,\" \",$G34),CONCATENATE(\"Carte N° : \",preparation_cabasse!$D35,\" - \",$F34,\" \",$G34))))","v":""},{"$f":"IF($F34=\"\",\"\",IF(index_classe!$K$1=\"OUI\",CONCATENATE(\"Carte N° : \",preparation_plateau!$D35,\" - \",preparation_plateau!$B35),IF(preparation_plateau!$C$2<>\"\",CONCATENATE(\"Carte N° : \",preparation_plateau!$D35,\" - \",$F34,\" \",$G34),CONCATENATE(\"Carte N° : \",preparation_plateau!$D35,\" - \",$F34,\" \",$G34))))","v":""},null,null,null,11]
[33,null," ",{"$f":"IF($F35=\"\",\"\",IF(index_classe!$K$1=\"OUI\",CONCATENATE(\"Carte N° : \",preparation_cabasse!$D36,\" - \",preparation_cabasse!$B36),IF(preparation_cabasse!$C$2<>\"\",CONCATENATE(\"Carte N° : \",preparation_cabasse!$D36,\" - \",$F35,\" \",$G35),CONCATENATE(\"Carte N° : \",preparation_cabasse!$D36,\" - \",$F35,\" \",$G35))))","v":""},{"$f":"IF($F35=\"\",\"\",IF(index_classe!$K$1=\"OUI\",CONCATENATE(\"Carte N° : \",preparation_plateau!$D36,\" - \",preparation_plateau!$B36),IF(preparation_plateau!$C$2<>\"\",CONCATENATE(\"Carte N° : \",preparation_plateau!$D36,\" - \",$F35,\" \",$G35),CONCATENATE(\"Carte N° : \",preparation_plateau!$D36,\" - \",$F35,\" \",$G35))))","v":""},null,null,null,"NAISSA Estelle"]
[34,null," ",{"$f":"IF($F36=\"\",\"\",IF(index_classe!$K$1=\"OUI\",CONCATENATE(\"Carte N° : \",preparation_cabasse!$D37,\" - \",preparation_cabasse!$B37),IF(preparation_cabasse!$C$2<>\"\",CONCATENATE(\"Carte N° : \",preparation_cabasse!$D37,\" - \",$F36,\" \",$G36),CONCATENATE(\"Carte N° : \",preparation_cabasse!$D37,\" - \",$F36,\" \",$G36))))","v":""},{"$f":"IF($F36=\"\",\"\",IF(index_classe!$K$1=\"OUI\",CONCATENATE(\"Carte N° : \",preparation_plateau!$D37,\" - \",preparation_plateau!$B37),IF(preparation_plateau!$C$2<>\"\",CONCATENATE(\"Carte N° : \",preparation_plateau!$D37,\" - \",$F36,\" \",$G36),CONCATENATE(\"Carte N° : \",preparation_plateau!$D37,\" - \",$F36,\" \",$G36))))","v":""},null,null,null,"TADEVA Khatmat"]
[35,null," ",{"$f":"IF($F37=\"\",\"\",IF(index_classe!$K$1=\"OUI\",CONCATENATE(\"Carte N° : \",preparation_cabasse!$D38,\" - \",preparation_cabasse!$B38),IF(preparation_cabasse!$C$2<>\"\",CONCATENATE(\"Carte N° : \",preparation_cabasse!$D38,\" - \",$F37,\" \",$G37),CONCATENATE(\"Carte N° : \",preparation_cabasse!$D38,\" - \",$F37,\" \",$G37))))","v":""},{"$f":"IF($F37=\"\",\"\",IF(index_classe!$K$1=\"OUI\",CONCATENATE(\"Carte N° : \",preparation_plateau!$D38,\" - \",preparation_plateau!$B38),IF(preparation_plateau!$C$2<>\"\",CONCATENATE(\"Carte N° : \",preparation_plateau!$D38,\" - \",$F37,\" \",$G37),CONCATENATE(\"Carte N° : \",preparation_plateau!$D38,\" - \",$F37,\" \",$G37))))","v":""},null,null,null,"(vide)"]
[36,null," ",{"$f":"IF($F38=\"\",\"\",IF(index_classe!$K$1=\"OUI\",CONCATENATE(\"Carte N° : \",preparation_cabasse!#REF!,\" - \",preparation_cabasse!#REF!),IF(preparation_cabasse!$C$2<>\"\",CONCATENATE(\"Carte N° : \",preparation_cabasse!#REF!,\" - \",$F38,\" \",$G38),CONCATENATE(\"Carte N° : \",preparation_cabasse!#REF!,\" - \",$F38,\" \",$G38))))","v":""},{"$f":"IF($F38=\"\",\"\",IF(index_classe!$K$1=\"OUI\",CONCATENATE(\"Carte N° : \",preparation_plateau!#REF!,\" - \",preparation_plateau!#REF!),IF(preparation_plateau!$C$2<>\"\",CONCATENATE(\"Carte N° : \",preparation_plateau!#REF!,\" - \",$F38,\" \",$G38),CONCATENATE(\"Carte N° : \",preparation_plateau!#REF!,\" - \",$F38,\" \",$G38))))","v":""},null,null,null," "]

{"sheet":"prepa_alea_cabasse","index":2,"n_rows":40,"n_cols":26,"rows_kept":40,"cut":false,"hidden":false,"merged":[[38,0,38,1]]}
[]
[">>>>>>>>  Appuyer sur F9 pour générer de nouvelles données"]
["NOM","PRENOM","Index\nbalise 1","N°\nbalise 1","Index\nbalise 2","N°\nBalise 2","Index\nbalise 3","N°\nBalise 3","Index\nbalise 4","N°\nBalise 4","Index\nbalise 5","N°\nBalise 5","Index\nbalise 6","N°\nBalise 6","Index\nbalise 7","N°\nBalise 7","Index\nbalise 8","N°\nBalise 8","Index\nbalise 9","N°\nBalise 9","Index\nbalise 10","N°\nBalise 10"]
[{"$f":"preparation_cabasse!B4","v":"BENZ"},{"$f":"preparation_cabasse!C4","v":"Nawel"},{"$f":"IF($A4=\"\",\"\",IF($A$40=\"PROCHES\",RANDBETWEEN(1,21),IF($A$40=\"MEDIANES\",RANDBETWEEN(22,44),IF($A$40=\"LOINTAINES\",RANDBETWEEN(45,85),IF($A$40=\"PROCHES+MEDIANES\",RANDBETWEEN(1,44),IF($A$40=\"MEDIANES+LOINTAINES\",RANDBETWEEN(22,85),IF($A$40=\"TOUTES\",RANDBETWEEN(1,85))))))))","v":79},{"$f":"IF(C4=\"\",\"\",VLOOKUP(C4,index_cabasse!$A$5:$O$89,2,FALSE))","v":76},{"$f":"IF($A4=\"\",\"\",IF($A$40=\"PROCHES\",RANDBETWEEN(1,21),IF($A$40=\"MEDIANES\",RANDBETWEEN(22,44),IF($A$40=\"LOINTAINES\",RANDBETWEEN(45,85),IF($A$40=\"PROCHES+MEDIANES\",RANDBETWEEN(1,44),IF($A$40=\"MEDIANES+LOINTAINES\",RANDBETWEEN(22,85),IF($A$40=\"TOUTES\",RANDBETWEEN(1,85))))))))","v":25},{"$f":"IF(E4=\"\",\"\",VLOOKUP(E4,index_cabasse!$A$5:$O$89,2,FALSE))","v":14},{"$f":"IF($A4=\"\",\"\",IF($A$40=\"PROCHES\",RANDBETWEEN(1,21),IF($A$40=\"MEDIANES\",RANDBETWEEN(22,44),IF($A$40=\"LOINTAINES\",RANDBETWEEN(45,85),IF($A$40=\"PROCHES+MEDIANES\",RANDBETWEEN(1,44),IF($A$40=\"MEDIANES+LOINTAINES\",RANDBETWEEN(22,85),IF($A$40=\"TOUTES\",RANDBETWEEN(1,85))))))))","v":73},{"$f":"IF(G4=\"\",\"\",VLOOKUP(G4,index_cabasse!$A$5:$O$89,2,FALSE))","v":58},{"$f":"IF($A4=\"\",\"\",IF($A$40=\"PROCHES\",RANDBETWEEN(1,21),IF($A$40=\"MEDIANES\",RANDBETWEEN(22,44),IF($A$40=\"LOINTAINES\",RANDBETWEEN(45,85),IF($A$40=\"PROCHES+MEDIANES\",RANDBETWEEN(1,44),IF($A$40=\"MEDIANES+LOINTAINES\",RANDBETWEEN(22,85),IF($A$40=\"TOUTES\",RANDBETWEEN(1,85))))))))","v":62},{"$f":"IF(I4=\"\",\"\",VLOOKUP(I4,index_cabasse!$A$5:$O$89,2,FALSE))","v":41},{"$f":"IF($A4=\"\",\"\",IF($A$40=\"PROCHES\",RANDBETWEEN(1,21),IF($A$40=\"MEDIANES\",RANDBETWEEN(22,44),IF($A$40=\"LOINTAINES\",RANDBETWEEN(45,85),IF($A$40=\"PROCHES+MEDIANES\",RANDBETWEEN(1,44),IF($A$40=\"MEDIANES+LOINTAINES\",RANDBETWEEN(22,85),IF($A$40=\"TOUTES\",RANDBETWEEN(1,85))))))))","v":85},{"$f":"IF(K4=\"\",\"\",VLOOKUP(K4,index_cabasse!$A$5:$O$89,2,FALSE))","v":85},{"$f":"IF($A4=\"\",\"\",IF($A$40=\"PROCHES\",RANDBETWEEN(1,21),IF($A$40=\"MEDIANES\",RANDBETWEEN(22,44),IF($A$40=\"LOINTAINES\",RANDBETWEEN(45,85),IF($A$40=\"PROCHES+MEDIANES\",RANDBETWEEN(1,44),IF($A$40=\"MEDIANES+LOINTAINES\",RANDBETWEEN(22,85),IF($A$40=\"TOUTES\",RANDBETWEEN(1,85))))))))","v":65},{"$f":"IF(M4=\"\",\"\",VLOOKUP(M4,index_cabasse!$A$5:$O$89,2,FALSE))","v":45},{"$f":"IF($A4=\"\",\"\",IF($A$40=\"PROCHES\",RANDBETWEEN(1,21),IF($A$40=\"MEDIANES\",RANDBETWEEN(22,44),IF($A$40=\"LOINTAINES\",RANDBETWEEN(45,85),IF($A$40=\"PROCHES+MEDIANES\",RANDBETWEEN(1,44),IF($A$40=\"MEDIANES+LOINTAINES\",RANDBETWEEN(22,85),IF($A$40=\"TOUTES\",RANDBETWEEN(1,85))))))))","v":82},{"$f":"IF(O4=\"\",\"\",VLOOKUP(O4,index_cabasse!$A$5:$O$89,2,FALSE))","v":79},{"$f":"IF($A4=\"\",\"\",IF($A$40=\"PROCHES\",RANDBETWEEN(1,21),IF($A$40=\"MEDIANES\",RANDBETWEEN(22,44),IF($A$40=\"LOINTAINES\",RANDBETWEEN(45,85),IF($A$40=\"PROCHES+MEDIANES\",RANDBETWEEN(1,44),IF($A$40=\"MEDIANES+LOINTAINES\",RANDBETWEEN(22,85),IF($A$40=\"TOUTES\",RANDBETWEEN(1,85))))))))","v":58},{"$f":"IF(Q4=\"\",\"\",VLOOKUP(Q4,index_cabasse!$A$5:$O$89,2,FALSE))","v":37},{"$f":"IF($A4=\"\",\"\",IF($A$40=\"PROCHES\",RANDBETWEEN(1,21),IF($A$40=\"MEDIANES\",RANDBETWEEN(22,44),IF($A$40=\"LOINTAINES\",RANDBETWEEN(45,85),IF($A$40=\"PROCHES+MEDIANES\",RANDBETWEEN(1,44),IF($A$40=\"MEDIANES+LOINTAINES\",RANDBETWEEN(22,85),IF($A$40=\"TOUTES\",RANDBETWEEN(1,85))))))))","v":79},{"$f":"IF(S4=\"\",\"\",VLOOKUP(S4,index_cabasse!$A$5:$O$89,2,FALSE))","v":76},{"$f":"IF($A4=\"\",\"\",IF($A$40=\"PROCHES\",RANDBETWEEN(1,21),IF($A$40=\"MEDIANES\",RANDBETWEEN(22,44),IF($A$40=\"LOINTAINES\",RANDBETWEEN(45,85),IF($A$40=\"PROCHES+MEDIANES\",RANDBETWEEN(1,44),IF($A$40=\"MEDIANES+LOINTAINES\",RANDBETWEEN(22,85),IF($A$40=\"TOUTES\",RANDBETWEEN(1,85))))))))","v":46},{"$f":"IF(U4=\"\",\"\",VLOOKUP(U4,index_cabasse!$A$5:$O$89,2,FALSE))","v":5}]
[{"$f":"preparation_cabasse!B5","v":"BERNA"},{"$f":"preparation_cabasse!C5","v":"Laurine"},{"$f":"IF($A5=\"\",\"\",IF($A$40=\"PROCHES\",RANDBETWEEN(1,21),IF($A$40=\"MEDIANES\",RANDBETWEEN(22,44),IF($A$40=\"LOINTAINES\",RANDBETWEEN(45,85),IF($A$40=\"PROCHES+MEDIANES\",RANDBETWEEN(1,44),IF($A$40=\"MEDIANES+LOINTAINES\",RANDBETWEEN(22,85),IF($A$40=\"TOUTES\",RANDBETWEEN(1,85))))))))","v":48},{"$f":"IF(C5=\"\",\"\",VLOOKUP(C5,index_cabasse!$A$5:$O$89,2,FALSE))","v":7},1,{"$f":"IF(E5=\"\",\"\",VLOOKUP(E5,index_cabasse!$A$5:$O$89,2,FALSE))","v":16},71,{"$f":"IF(G5=\"\",\"\",VLOOKUP(G5,index_cabasse!$A$5:$O$89,2,FALSE))","v":56},18,{"$f":"IF(I5=\"\",\"\",VLOOKUP(I5,index_cabasse!$A$5:$O$89,2,FALSE))","v":66},13,{"$f":"IF(K5=\"\",\"\",VLOOKUP(K5,index_cabasse!$A$5:$O$89,2,FALSE))","v":28},29,{"$f":"IF(M5=\"\",\"\",VLOOKUP(M5,index_cabasse!$A$5:$O$89,2,FALSE))","v":31},26,{"$f":"IF(O5=\"\",\"\",VLOOKUP(O5,index_cabasse!$A$5:$O$89,2,FALSE))","v":15},35,{"$f":"IF(Q5=\"\",\"\",VLOOKUP(Q5,index_cabasse!$A$5:$O$89,2,FALSE))","v":49},{"$f":"IF($A5=\"\",\"\",IF($A$40=\"PROCHES\",RANDBETWEEN(1,21),IF($A$40=\"MEDIANES\",RANDBETWEEN(22,44),IF($A$40=\"LOINTAINES\",RANDBETWEEN(45,85),IF($A$40=\"PROCHES+MEDIANES\",RANDBETWEEN(1,44),IF($A$40=\"MEDIANES+LOINTAINES\",RANDBETWEEN(22,85),IF($A$40=\"TOUTES\",RANDBETWEEN(1,85))))))))","v":17},{"$f":"IF(S5=\"\",\"\",VLOOKUP(S5,index_cabasse!$A$5:$O$89,2,FALSE))","v":65},{"$f":"IF($A5=\"\",\"\",IF($A$40=\"PROCHES\",RANDBETWEEN(1,21),IF($A$40=\"MEDIANES\",RANDBETWEEN(22,44),IF($A$40=\"LOINTAINES\",RANDBETWEEN(45,85),IF($A$40=\"PROCHES+MEDIANES\",RANDBETWEEN(1,44),IF($A$40=\"MEDIANES+LOINTAINES\",RANDBETWEEN(22,85),IF($A$40=\"TOUTES\",RANDBETWEEN(1,85))))))))","v":27},{"$f":"IF(U5=\"\",\"\",VLOOKUP(U5,index_cabasse!$A$5:$O$89,2,FALSE))","v":29},null,null,null,"PROCHES"]
[{"$f":"preparation_cabasse!B6","v":"CHEL"},{"$f":"preparation_cabasse!C6","v":"Sarah"},44,{"$f":"IF(C6=\"\",\"\",VLOOKUP(C6,index_cabasse!$A$5:$O$89,2,FALSE))","v":83},27,{"$f":"IF(E6=\"\",\"\",VLOOKUP(E6,index_cabasse!$A$5:$O$89,2,FALSE))","v":29},64,{"$f":"IF(G6=\"\",\"\",VLOOKUP(G6,index_cabasse!$A$5:$O$89,2,FALSE))","v":43},64,{"$f":"IF(I6=\"\",\"\",VLOOKUP(I6,index_cabasse!$A$5:$O$89,2,FALSE))","v":43},67,{"$f":"IF(K6=\"\",\"\",VLOOKUP(K6,index_cabasse!$A$5:$O$89,2,FALSE))","v":52},51,{"$f":"IF(M6=\"\",\"\",VLOOKUP(M6,index_cabasse!$A$5:$O$89,2,FALSE))","v":10},19,{"$f":"IF(O6=\"\",\"\",VLOOKUP(O6,index_cabasse!$A$5:$O$89,2,FALSE))","v":67},6,{"$f":"IF(Q6=\"\",\"\",VLOOKUP(Q6,index_cabasse!$A$5:$O$89,2,FALSE))","v":21},72,{"$f":"IF(S6=\"\",\"\",VLOOKUP(S6,index_cabasse!$A$5:$O$89,2,FALSE))","v":57},23,{"$f":"IF(U6=\"\",\"\",VLOOKUP(U6,index_cabasse!$A$5:$O$89,2,FALSE))","v":2},null,null,null,"MEDIANES"]
[{"$f":"preparation_cabasse!B7","v":"CLAUD"},{"$f":"preparation_cabasse!C7","v":"Maxime"},5,{"$f":"IF(C7=\"\",\"\",VLOOKUP(C7,index_cabasse!$A$5:$O$89,2,FALSE))","v":20},73,{"$f":"IF(E7=\"\",\"\",VLOOKUP(E7,index_cabasse!$A$5:$O$89,2,FALSE))","v":58},15,{"$f":"IF(G7=\"\",\"\",VLOOKUP(G7,index_cabasse!$A$5:$O$89,2,FALSE))","v":63},67,{"$f":"IF(I7=\"\",\"\",VLOOKUP(I7,index_cabasse!$A$5:$O$89,2,FALSE))","v":52},9,{"$f":"IF(K7=\"\",\"\",VLOOKUP(K7,index_cabasse!$A$5:$O$89,2,FALSE))","v":24},51,{"$f":"IF(M7=\"\",\"\",VLOOKUP(M7,index_cabasse!$A$5:$O$89,2,FALSE))","v":10},66,{"$f":"IF(O7=\"\",\"\",VLOOKUP(O7,index_cabasse!$A$5:$O$89,2,FALSE))","v":46},37,{"$f":"IF(Q7=\"\",\"\",VLOOKUP(Q7,index_cabasse!$A$5:$O$89,2,FALSE))","v":51},13,{"$f":"IF(S7=\"\",\"\",VLOOKUP(S7,index_cabasse!$A$5:$O$89,2,FALSE))","v":28},36,{"$f":"IF(U7=\"\",\"\",VLOOKUP(U7,index_cabasse!$A$5:$O$89,2,FALSE))","v":50},null,null,null,"LOINTAINES"]
[{"$f":"preparation_cabasse!B8","v":"NAISSA"},{"$f":"preparation_cabasse!C8","v":"Estelle"},26,{"$f":"IF(C8=\"\",\"\",VLOOKUP(C8,index_cabasse!$A$5:$O$89,2,FALSE))","v":15},33,{"$f":"IF(E8=\"\",\"\",VLOOKUP(E8,index_cabasse!$A$5:$O$89,2,FALSE))","v":47},63,{"$f":"IF(G8=\"\",\"\",VLOOKUP(G8,index_cabasse!$A$5:$O$89,2,FALSE))","v":42},84,{"$f":"IF(I8=\"\",\"\",VLOOKUP(I8,index_cabasse!$A$5:$O$89,2,FALSE))","v":84},79,{"$f":"IF(K8=\"\",\"\",VLOOKUP(K8,index_cabasse!$A$5:$O$89,2,FALSE))","v":76},18,{"$f":"IF(M8=\"\",\"\",VLOOKUP(M8,index_cabasse!$A$5:$O$89,2,FALSE))","v":66},78,{"$f":"IF(O8=\"\",\"\",VLOOKUP(O8,index_cabasse!$A$5:$O$89,2,FALSE))","v":75},78,{"$f":"IF(Q8=\"\",\"\",VLOOKUP(Q8,index_cabasse!$A$5:$O$89,2,FALSE))","v":75},9,{"$f":"IF(S8=\"\",\"\",VLOOKUP(S8,index_cabasse!$A$5:$O$89,2,FALSE))","v":24},19,{"$f":"IF(U8=\"\",\"\",VLOOKUP(U8,index_cabasse!$A$5:$O$89,2,FALSE))","v":67},null,null,null,"PROCHES+MEDIANES"]
[{"$f":"preparation_cabasse!B9","v":"FA"},{"$f":"preparation_cabasse!C9","v":"Dylan"},22,{"$f":"IF(C9=\"\",\"\",VLOOKUP(C9,index_cabasse!$A$5:$O$89,2,FALSE))","v":1},70,{"$f":"IF(E9=\"\",\"\",VLOOKUP(E9,index_cabasse!$A$5:$O$89,2,FALSE))","v":55},76,{"$f":"IF(G9=\"\",\"\",VLOOKUP(G9,index_cabasse!$A$5:$O$89,2,FALSE))","v":71},27,{"$f":"IF(I9=\"\",\"\",VLOOKUP(I9,index_cabasse!$A$5:$O$89,2,FALSE))","v":29},73,{"$f":"IF(K9=\"\",\"\",VLOOKUP(K9,index_cabasse!$A$5:$O$89,2,FALSE))","v":58},37,{"$f":"IF(M9=\"\",\"\",VLOOKUP(M9,index_cabasse!$A$5:$O$89,2,FALSE))","v":51},50,{"$f":"IF(O9=\"\",\"\",VLOOKUP(O9,index_cabasse!$A$5:$O$89,2,FALSE))","v":9},12,{"$f":"IF(Q9=\"\",\"\",VLOOKUP(Q9,index_cabasse!$A$5:$O$89,2,FALSE))","v":27},3,{"$f":"IF(S9=\"\",\"\",VLOOKUP(S9,index_cabasse!$A$5:$O$89,2,FALSE))","v":18},41,{"$f":"IF(U9=\"\",\"\",VLOOKUP(U9,index_cabasse!$A$5:$O$89,2,FALSE))","v":73},null,null,null,"MEDIANES+LOINTAINES"]
[{"$f":"preparation_cabasse!B10","v":"FLEIN"},{"$f":"preparation_cabasse!C10","v":"Theo"},77,{"$f":"IF(C10=\"\",\"\",VLOOKUP(C10,index_cabasse!$A$5:$O$89,2,FALSE))","v":74},35,{"$f":"IF(E10=\"\",\"\",VLOOKUP(E10,index_cabasse!$A$5:$O$89,2,FALSE))","v":49},3,{"$f":"IF(G10=\"\",\"\",VLOOKUP(G10,index_cabasse!$A$5:$O$89,2,FALSE))","v":18},12,{"$f":"IF(I10=\"\",\"\",VLOOKUP(I10,index_cabasse!$A$5:$O$89,2,FALSE))","v":27},56,{"$f":"IF(K10=\"\",\"\",VLOOKUP(K10,index_cabasse!$A$5:$O$89,2,FALSE))","v":35},42,{"$f":"IF(M10=\"\",\"\",VLOOKUP(M10,index_cabasse!$A$5:$O$89,2,FALSE))","v":81},4,{"$f":"IF(O10=\"\",\"\",VLOOKUP(O10,index_cabasse!$A$5:$O$89,2,FALSE))","v":19},53,{"$f":"IF(Q10=\"\",\"\",VLOOKUP(Q10,index_cabasse!$A$5:$O$89,2,FALSE))","v":12},77,{"$f":"IF(S10=\"\",\"\",VLOOKUP(S10,index_cabasse!$A$5:$O$89,2,FALSE))","v":74},1,{"$f":"IF(U10=\"\",\"\",VLOOKUP(U10,index_cabasse!$A$5:$O$89,2,FALSE))","v":16},null,null,null,"TOUTES"]
[{"$f":"preparation_cabasse!B11","v":"JEAON"},{"$f":"preparation_cabasse!C11","v":"Alexis"},15,{"$f":"IF(C11=\"\",\"\",VLOOKUP(C11,index_cabasse!$A$5:$O$89,2,FALSE))","v":63},15,{"$f":"IF(E11=\"\",\"\",VLOOKUP(E11,index_cabasse!$A$5:$O$89,2,FALSE))","v":63},15,{"$f":"IF(G11=\"\",\"\",VLOOKUP(G11,index_cabasse!$A$5:$O$89,2,FALSE))","v":63},62,{"$f":"IF(I11=\"\",\"\",VLOOKUP(I11,index_cabasse!$A$5:$O$89,2,FALSE))","v":41},5,{"$f":"IF(K11=\"\",\"\",VLOOKUP(K11,index_cabasse!$A$5:$O$89,2,FALSE))","v":20},24,{"$f":"IF(M11=\"\",\"\",VLOOKUP(M11,index_cabasse!$A$5:$O$89,2,FALSE))","v":3},31,{"$f":"IF(O11=\"\",\"\",VLOOKUP(O11,index_cabasse!$A$5:$O$89,2,FALSE))","v":34},83,{"$f":"IF(Q11=\"\",\"\",VLOOKUP(Q11,index_cabasse!$A$5:$O$89,2,FALSE))","v":80},7,{"$f":"IF(S11=\"\",\"\",VLOOKUP(S11,index_cabasse!$A$5:$O$89,2,FALSE))","v":22},10,{"$f":"IF(U11=\"\",\"\",VLOOKUP(U11,index_cabasse!$A$5:$O$89,2,FALSE))","v":25}]
[{"$f":"preparation_cabasse!B12","v":"KOLA"},{"$f":"preparation_cabasse!C12","v":"Alexandre"},79,{"$f":"IF(C12=\"\",\"\",VLOOKUP(C12,index_cabasse!$A$5:$O$89,2,FALSE))","v":76},8,{"$f":"IF(E12=\"\",\"\",VLOOKUP(E12,index_cabasse!$A$5:$O$89,2,FALSE))","v":23},74,{"$f":"IF(G12=\"\",\"\",VLOOKUP(G12,index_cabasse!$A$5:$O$89,2,FALSE))","v":59},73,{"$f":"IF(I12=\"\",\"\",VLOOKUP(I12,index_cabasse!$A$5:$O$89,2,FALSE))","v":58},38,{"$f":"IF(K12=\"\",\"\",VLOOKUP(K12,index_cabasse!$A$5:$O$89,2,FALSE))","v":61},42,{"$f":"IF(M12=\"\",\"\",VLOOKUP(M12,index_cabasse!$A$5:$O$89,2,FALSE))","v":81},17,{"$f":"IF(O12=\"\",\"\",VLOOKUP(O12,index_cabasse!$A$5:$O$89,2,FALSE))","v":65},73,{"$f":"IF(Q12=\"\",\"\",VLOOKUP(Q12,index_cabasse!$A$5:$O$89,2,FALSE))","v":58},48,{"$f":"IF(S12=\"\",\"\",VLOOKUP(S12,index_cabasse!$A$5:$O$89,2,FALSE))","v":7},51,{"$f":"IF(U12=\"\",\"\",VLOOKUP(U12,index_cabasse!$A$5:$O$89,2,FALSE))","v":10}]
[{"$f":"preparation_cabasse!B13","v":"LERHE"},{"$f":"preparation_cabasse!C13","v":"Melvin"},27,{"$f":"IF(C13=\"\",\"\",VLOOKUP(C13,index_cabasse!$A$5:$O$89,2,FALSE))","v":29},84,{"$f":"IF(E13=\"\",\"\",VLOOKUP(E13,index_cabasse!$A$5:$O$89,2,FALSE))","v":84},7,{"$f":"IF(G13=\"\",\"\",VLOOKUP(G13,index_cabasse!$A$5:$O$89,2,FALSE))","v":22},83,{"$f":"IF(I13=\"\",\"\",VLOOKUP(I13,index_cabasse!$A$5:$O$89,2,FALSE))","v":80},52,{"$f":"IF(K13=\"\",\"\",VLOOKUP(K13,index_cabasse!$A$5:$O$89,2,FALSE))","v":11},39,{"$f":"IF(M13=\"\",\"\",VLOOKUP(M13,index_cabasse!$A$5:$O$89,2,FALSE))","v":70},4,{"$f":"IF(O13=\"\",\"\",VLOOKUP(O13,index_cabasse!$A$5:$O$89,2,FALSE))","v":19},19,{"$f":"IF(Q13=\"\",\"\",VLOOKUP(Q13,index_cabasse!$A$5:$O$89,2,FALSE))","v":67},34,{"$f":"IF(S13=\"\",\"\",VLOOKUP(S13,index_cabasse!$A$5:$O$89,2,FALSE))","v":48},75,{"$f":"IF(U13=\"\",\"\",VLOOKUP(U13,index_cabasse!$A$5:$O$89,2,FALSE))","v":60}]
[{"$f":"preparation_cabasse!B14","v":"LOE"},{"$f":"preparation_cabasse!C14","v":"Mickael"},8,{"$f":"IF(C14=\"\",\"\",VLOOKUP(C14,index_cabasse!$A$5:$O$89,2,FALSE))","v":23},43,{"$f":"IF(E14=\"\",\"\",VLOOKUP(E14,index_cabasse!$A$5:$O$89,2,FALSE))","v":82},26,{"$f":"IF(G14=\"\",\"\",VLOOKUP(G14,index_cabasse!$A$5:$O$89,2,FALSE))","v":15},68,{"$f":"IF(I14=\"\",\"\",VLOOKUP(I14,index_cabasse!$A$5:$O$89,2,FALSE))","v":53},67,{"$f":"IF(K14=\"\",\"\",VLOOKUP(K14,index_cabasse!$A$5:$O$89,2,FALSE))","v":52},77,{"$f":"IF(M14=\"\",\"\",VLOOKUP(M14,index_cabasse!$A$5:$O$89,2,FALSE))","v":74},61,{"$f":"IF(O14=\"\",\"\",VLOOKUP(O14,index_cabasse!$A$5:$O$89,2,FALSE))","v":40},67,{"$f":"IF(Q14=\"\",\"\",VLOOKUP(Q14,index_cabasse!$A$5:$O$89,2,FALSE))","v":52},63,{"$f":"IF(S14=\"\",\"\",VLOOKUP(S14,index_cabasse!$A$5:$O$89,2,FALSE))","v":42},71,{"$f":"IF(U14=\"\",\"\",VLOOKUP(U14,index_cabasse!$A$5:$O$89,2,FALSE))","v":56}]
[{"$f":"preparation_cabasse!B15","v":"MORET"},{"$f":"preparation_cabasse!C15","v":"Alice"},40,{"$f":"IF(C15=\"\",\"\",VLOOKUP(C15,index_cabasse!$A$5:$O$89,2,FALSE))","v":72},1,{"$f":"IF(E15=\"\",\"\",VLOOKUP(E15,index_cabasse!$A$5:$O$89,2,FALSE))","v":16},54,{"$f":"IF(G15=\"\",\"\",VLOOKUP(G15,index_cabasse!$A$5:$O$89,2,FALSE))","v":13},73,{"$f":"IF(I15=\"\",\"\",VLOOKUP(I15,index_cabasse!$A$5:$O$89,2,FALSE))","v":58},45,{"$f":"IF(K15=\"\",\"\",VLOOKUP(K15,index_cabasse!$A$5:$O$89,2,FALSE))","v":4},2,{"$f":"IF(M15=\"\",\"\",VLOOKUP(M15,index_cabasse!$A$5:$O$89,2,FALSE))","v":17},46,{"$f":"IF(O15=\"\",\"\",VLOOKUP(O15,index_cabasse!$A$5:$O$89,2,FALSE))","v":5},33,{"$f":"IF(Q15=\"\",\"\",VLOOKUP(Q15,index_cabasse!$A$5:$O$89,2,FALSE))","v":47},80,{"$f":"IF(S15=\"\",\"\",VLOOKUP(S15,index_cabasse!$A$5:$O$89,2,FALSE))","v":77},12,{"$f":"IF(U15=\"\",\"\",VLOOKUP(U15,index_cabasse!$A$5:$O$89,2,FALSE))","v":27}]
[{"$f":"preparation_cabasse!B16","v":"NICAU"},{"$f":"preparation_cabasse!C16","v":"Romain"},52,{"$f":"IF(C16=\"\",\"\",VLOOKUP(C16,index_cabasse!$A$5:$O$89,2,FALSE))","v":11},67,{"$f":"IF(E16=\"\",\"\",VLOOKUP(E16,index_cabasse!$A$5:$O$89,2,FALSE))","v":52},81,{"$f":"IF(G16=\"\",\"\",VLOOKUP(G16,index_cabasse!$A$5:$O$89,2,FALSE))","v":78},85,{"$f":"IF(I16=\"\",\"\",VLOOKUP(I16,index_cabasse!$A$5:$O$89,2,FALSE))","v":85},2,{"$f":"IF(K16=\"\",\"\",VLOOKUP(K16,index_cabasse!$A$5:$O$89,2,FALSE))","v":17},82,{"$f":"IF(M16=\"\",\"\",VLOOKUP(M16,index_cabasse!$A$5:$O$89,2,FALSE))","v":79},72,{"$f":"IF(O16=\"\",\"\",VLOOKUP(O16,index_cabasse!$A$5:$O$89,2,FALSE))","v":57},22,{"$f":"IF(Q16=\"\",\"\",VLOOKUP(Q16,index_cabasse!$A$5:$O$89,2,FALSE))","v":1},59,{"$f":"IF(S16=\"\",\"\",VLOOKUP(S16,index_cabasse!$A$5:$O$89,2,FALSE))","v":38},73,{"$f":"IF(U16=\"\",\"\",VLOOKUP(U16,index_cabasse!$A$5:$O$89,2,FALSE))","v":58}]
[{"$f":"preparation_cabasse!B17","v":"RUI"},{"$f":"preparation_cabasse!C17","v":"Desiderio"},12,{"$f":"IF(C17=\"\",\"\",VLOOKUP(C17,index_cabasse!$A$5:$O$89,2,FALSE))","v":27},37,{"$f":"IF(E17=\"\",\"\",VLOOKUP(E17,index_cabasse!$A$5:$O$89,2,FALSE))","v":51},85,{"$f":"IF(G17=\"\",\"\",VLOOKUP(G17,index_cabasse!$A$5:$O$89,2,FALSE))","v":85},64,{"$f":"IF(I17=\"\",\"\",VLOOKUP(I17,index_cabasse!$A$5:$O$89,2,FALSE))","v":43},56,{"$f":"IF(K17=\"\",\"\",VLOOKUP(K17,index_cabasse!$A$5:$O$89,2,FALSE))","v":35},64,{"$f":"IF(M17=\"\",\"\",VLOOKUP(M17,index_cabasse!$A$5:$O$89,2,FALSE))","v":43},1,{"$f":"IF(O17=\"\",\"\",VLOOKUP(O17,index_cabasse!$A$5:$O$89,2,FALSE))","v":16},42,{"$f":"IF(Q17=\"\",\"\",VLOOKUP(Q17,index_cabasse!$A$5:$O$89,2,FALSE))","v":81},60,{"$f":"IF(S17=\"\",\"\",VLOOKUP(S17,index_cabasse!$A$5:$O$89,2,FALSE))","v":39},58,{"$f":"IF(U17=\"\",\"\",VLOOKUP(U17,index_cabasse!$A$5:$O$89,2,FALSE))","v":37}]
[{"$f":"preparation_cabasse!B18","v":"RI"},{"$f":"preparation_cabasse!C18","v":"Niko"},26,{"$f":"IF(C18=\"\",\"\",VLOOKUP(C18,index_cabasse!$A$5:$O$89,2,FALSE))","v":15},64,{"$f":"IF(E18=\"\",\"\",VLOOKUP(E18,index_cabasse!$A$5:$O$89,2,FALSE))","v":43},6,{"$f":"IF(G18=\"\",\"\",VLOOKUP(G18,index_cabasse!$A$5:$O$89,2,FALSE))","v":21},22,{"$f":"IF(I18=\"\",\"\",VLOOKUP(I18,index_cabasse!$A$5:$O$89,2,FALSE))","v":1},76,{"$f":"IF(K18=\"\",\"\",VLOOKUP(K18,index_cabasse!$A$5:$O$89,2,FALSE))","v":71},18,{"$f":"IF(M18=\"\",\"\",VLOOKUP(M18,index_cabasse!$A$5:$O$89,2,FALSE))","v":66},14,{"$f":"IF(O18=\"\",\"\",VLOOKUP(O18,index_cabasse!$A$5:$O$89,2,FALSE))","v":62},80,{"$f":"IF(Q18=\"\",\"\",VLOOKUP(Q18,index_cabasse!$A$5:$O$89,2,FALSE))","v":77},76,{"$f":"IF(S18=\"\",\"\",VLOOKUP(S18,index_cabasse!$A$5:$O$89,2,FALSE))","v":71},57,{"$f":"IF(U18=\"\",\"\",VLOOKUP(U18,index_cabasse!$A$5:$O$89,2,FALSE))","v":36}]
[{"$f":"preparation_cabasse!B19","v":"SAL"},{"$f":"preparation_cabasse!C19","v":"Calvin"},38,{"$f":"IF(C19=\"\",\"\",VLOOKUP(C19,index_cabasse!$A$5:$O$89,2,FALSE))","v":61},56,{"$f":"IF(E19=\"\",\"\",VLOOKUP(E19,index_cabasse!$A$5:$O$89,2,FALSE))","v":35},37,{"$f":"IF(G19=\"\",\"\",VLOOKUP(G19,index_cabasse!$A$5:$O$89,2,FALSE))","v":51},74,{"$f":"IF(I19=\"\",\"\",VLOOKUP(I19,index_cabasse!$A$5:$O$89,2,FALSE))","v":59},55,{"$f":"IF(K19=\"\",\"\",VLOOKUP(K19,index_cabasse!$A$5:$O$89,2,FALSE))","v":33},3,{"$f":"IF(M19=\"\",\"\",VLOOKUP(M19,index_cabasse!$A$5:$O$89,2,FALSE))","v":18},46,{"$f":"IF(O19=\"\",\"\",VLOOKUP(O19,index_cabasse!$A$5:$O$89,2,FALSE))","v":5},46,{"$f":"IF(Q19=\"\",\"\",VLOOKUP(Q19,index_cabasse!$A$5:$O$89,2,FALSE))","v":5},69,{"$f":"IF(S19=\"\",\"\",VLOOKUP(S19,index_cabasse!$A$5:$O$89,2,FALSE))","v":54},38,{"$f":"IF(U19=\"\",\"\",VLOOKUP(U19,index_cabasse!$A$5:$O$89,2,FALSE))","v":61}]
[{"$f":"preparation_cabasse!B20","v":"SIOUI"},{"$f":"preparation_cabasse!C20","v":"Salah"},47,{"$f":"IF(C20=\"\",\"\",VLOOKUP(C20,index_cabasse!$A$5:$O$89,2,FALSE))","v":6},44,{"$f":"IF(E20=\"\",\"\",VLOOKUP(E20,index_cabasse!$A$5:$O$89,2,FALSE))","v":83},70,{"$f":"IF(G20=\"\",\"\",VLOOKUP(G20,index_cabasse!$A$5:$O$89,2,FALSE))","v":55},71,{"$f":"IF(I20=\"\",\"\",VLOOKUP(I20,index_cabasse!$A$5:$O$89,2,FALSE))","v":56},59,{"$f":"IF(K20=\"\",\"\",VLOOKUP(K20,index_cabasse!$A$5:$O$89,2,FALSE))","v":38},78,{"$f":"IF(M20=\"\",\"\",VLOOKUP(M20,index_cabasse!$A$5:$O$89,2,FALSE))","v":75},19,{"$f":"IF(O20=\"\",\"\",VLOOKUP(O20,index_cabasse!$A$5:$O$89,2,FALSE))","v":67},3,{"$f":"IF(Q20=\"\",\"\",VLOOKUP(Q20,index_cabasse!$A$5:$O$89,2,FALSE))","v":18},21,{"$f":"IF(S20=\"\",\"\",VLOOKUP(S20,index_cabasse!$A$5:$O$89,2,FALSE))","v":69},50,{"$f":"IF(U20=\"\",\"\",VLOOKUP(U20,index_cabasse!$A$5:$O$89,2,FALSE))","v":9}]
[{"$f":"preparation_cabasse!B21","v":"TADEVA"},{"$f":"preparation_cabasse!C21","v":"Khatmat"},83,{"$f":"IF(C21=\"\",\"\",VLOOKUP(C21,index_cabasse!$A$5:$O$89,2,FALSE))","v":80},33,{"$f":"IF(E21=\"\",\"\",VLOOKUP(E21,index_cabasse!$A$5:$O$89,2,FALSE))","v":47},23,{"$f":"IF(G21=\"\",\"\",VLOOKUP(G21,index_cabasse!$A$5:$O$89,2,FALSE))","v":2},35,{"$f":"IF(I21=\"\",\"\",VLOOKUP(I21,index_cabasse!$A$5:$O$89,2,FALSE))","v":49},60,{"$f":"IF(K21=\"\",\"\",VLOOKUP(K21,index_cabasse!$A$5:$O$89,2,FALSE))","v":39},28,{"$f":"IF(M21=\"\",\"\",VLOOKUP(M21,index_cabasse!$A$5:$O$89,2,FALSE))","v":30},58,{"$f":"IF(O21=\"\",\"\",VLOOKUP(O21,index_cabasse!$A$5:$O$89,2,FALSE))","v":37},53,{"$f":"IF(Q21=\"\",\"\",VLOOKUP(Q21,index_cabasse!$A$5:$O$89,2,FALSE))","v":12},18,{"$f":"IF(S21=\"\",\"\",VLOOKUP(S21,index_cabasse!$A$5:$O$89,2,FALSE))","v":66},7,{"$f":"IF(U21=\"\",\"\",VLOOKUP(U21,index_cabasse!$A$5:$O$89,2,FALSE))","v":22}]
[{"$f":"preparation_cabasse!B22","v":"TEEC"},{"$f":"preparation_cabasse!C22","v":"Victor"},42,{"$f":"IF(C22=\"\",\"\",VLOOKUP(C22,index_cabasse!$A$5:$O$89,2,FALSE))","v":81},37,{"$f":"IF(E22=\"\",\"\",VLOOKUP(E22,index_cabasse!$A$5:$O$89,2,FALSE))","v":51},52,{"$f":"IF(G22=\"\",\"\",VLOOKUP(G22,index_cabasse!$A$5:$O$89,2,FALSE))","v":11},69,{"$f":"IF(I22=\"\",\"\",VLOOKUP(I22,index_cabasse!$A$5:$O$89,2,FALSE))","v":54},73,{"$f":"IF(K22=\"\",\"\",VLOOKUP(K22,index_cabasse!$A$5:$O$89,2,FALSE))","v":58},56,{"$f":"IF(M22=\"\",\"\",VLOOKUP(M22,index_cabasse!$A$5:$O$89,2,FALSE))","v":35},39,{"$f":"IF(O22=\"\",\"\",VLOOKUP(O22,index_cabasse!$A$5:$O$89,2,FALSE))","v":70},{"$f":"IF($A22=\"\",\"\",IF($A$40=\"PROCHES\",RANDBETWEEN(1,21),IF($A$40=\"MEDIANES\",RANDBETWEEN(22,44),IF($A$40=\"LOINTAINES\",RANDBETWEEN(45,85),IF($A$40=\"PROCHES+MEDIANES\",RANDBETWEEN(1,44),IF($A$40=\"MEDIANES+LOINTAINES\",RANDBETWEEN(22,85),IF($A$40=\"TOUTES\",RANDBETWEEN(1,85))))))))","v":48},{"$f":"IF(Q22=\"\",\"\",VLOOKUP(Q22,index_cabasse!$A$5:$O$89,2,FALSE))","v":7},22,{"$f":"IF(S22=\"\",\"\",VLOOKUP(S22,index_cabasse!$A$5:$O$89,2,FALSE))","v":1},39,{"$f":"IF(U22=\"\",\"\",VLOOKUP(U22,index_cabasse!$A$5:$O$89,2,FALSE))","v":70}]
[{"$f":"preparation_cabasse!B23","v":"TEJOR"},{"$f":"preparation_cabasse!C23","v":"Carla"},51,{"$f":"IF(C23=\"\",\"\",VLOOKUP(C23,index_cabasse!$A$5:$O$89,2,FALSE))","v":10},82,{"$f":"IF(E23=\"\",\"\",VLOOKUP(E23,index_cabasse!$A$5:$O$89,2,FALSE))","v":79},47,{"$f":"IF(G23=\"\",\"\",VLOOKUP(G23,index_cabasse!$A$5:$O$89,2,FALSE))","v":6},29,{"$f":"IF(I23=\"\",\"\",VLOOKUP(I23,index_cabasse!$A$5:$O$89,2,FALSE))","v":31},53,{"$f":"IF(K23=\"\",\"\",VLOOKUP(K23,index_cabasse!$A$5:$O$89,2,FALSE))","v":12},17,{"$f":"IF(M23=\"\",\"\",VLOOKUP(M23,index_cabasse!$A$5:$O$89,2,FALSE))","v":65},51,{"$f":"IF(O23=\"\",\"\",VLOOKUP(O23,index_cabasse!$A$5:$O$89,2,FALSE))","v":10},40,{"$f":"IF(Q23=\"\",\"\",VLOOKUP(Q23,index_cabasse!$A$5:$O$89,2,FALSE))","v":72},69,{"$f":"IF(S23=\"\",\"\",VLOOKUP(S23,index_cabasse!$A$5:$O$89,2,FALSE))","v":54},59,{"$f":"IF(U23=\"\",\"\",VLOOKUP(U23,index_cabasse!$A$5:$O$89,2,FALSE))","v":38}]
[{"$f":"preparation_cabasse!B24","v":"THIER"},{"$f":"preparation_cabasse!C24","v":"Andrea"},65,{"$f":"IF(C24=\"\",\"\",VLOOKUP(C24,index_cabasse!$A$5:$O$89,2,FALSE))","v":45},78,{"$f":"IF(E24=\"\",\"\",VLOOKUP(E24,index_cabasse!$A$5:$O$89,2,FALSE))","v":75},2,{"$f":"IF(G24=\"\",\"\",VLOOKUP(G24,index_cabasse!$A$5:$O$89,2,FALSE))","v":17},80,{"$f":"IF(I24=\"\",\"\",VLOOKUP(I24,index_cabasse!$A$5:$O$89,2,FALSE))","v":77},39,{"$f":"IF(K24=\"\",\"\",VLOOKUP(K24,index_cabasse!$A$5:$O$89,2,FALSE))","v":70},71,{"$f":"IF(M24=\"\",\"\",VLOOKUP(M24,index_cabasse!$A$5:$O$89,2,FALSE))","v":56},52,{"$f":"IF(O24=\"\",\"\",VLOOKUP(O24,index_cabasse!$A$5:$O$89,2,FALSE))","v":11},33,{"$f":"IF(Q24=\"\",\"\",VLOOKUP(Q24,index_cabasse!$A$5:$O$89,2,FALSE))","v":47},19,{"$f":"IF(S24=\"\",\"\",VLOOKUP(S24,index_cabasse!$A$5:$O$89,2,FALSE))","v":67},8,{"$f":"IF(U24=\"\",\"\",VLOOKUP(U24,index_cabasse!$A$5:$O$89,2,FALSE))","v":23}]
[{"$f":"preparation_cabasse!B25","v":"YI"},{"$f":"preparation_cabasse!C25","v":"William"},56,{"$f":"IF(C25=\"\",\"\",VLOOKUP(C25,index_cabasse!$A$5:$O$89,2,FALSE))","v":35},84,{"$f":"IF(E25=\"\",\"\",VLOOKUP(E25,index_cabasse!$A$5:$O$89,2,FALSE))","v":84},37,{"$f":"IF(G25=\"\",\"\",VLOOKUP(G25,index_cabasse!$A$5:$O$89,2,FALSE))","v":51},31,{"$f":"IF(I25=\"\",\"\",VLOOKUP(I25,index_cabasse!$A$5:$O$89,2,FALSE))","v":34},63,{"$f":"IF(K25=\"\",\"\",VLOOKUP(K25,index_cabasse!$A$5:$O$89,2,FALSE))","v":42},27,{"$f":"IF(M25=\"\",\"\",VLOOKUP(M25,index_cabasse!$A$5:$O$89,2,FALSE))","v":29},76,{"$f":"IF(O25=\"\",\"\",VLOOKUP(O25,index_cabasse!$A$5:$O$89,2,FALSE))","v":71},54,{"$f":"IF(Q25=\"\",\"\",VLOOKUP(Q25,index_cabasse!$A$5:$O$89,2,FALSE))","v":13},16,{"$f":"IF(S25=\"\",\"\",VLOOKUP(S25,index_cabasse!$A$5:$O$89,2,FALSE))","v":64},32,{"$f":"IF(U25=\"\",\"\",VLOOKUP(U25,index_cabasse!$A$5:$O$89,2,FALSE))","v":44}]
[{"$f":"preparation_cabasse!B26","v":""},{"$f":"preparation_cabasse!C26","v":""},"",{"$f":"IF(C26=\"\",\"\",VLOOKUP(C26,index_cabasse!$A$5:$O$89,2,FALSE))","v":""},"",{"$f":"IF(E26=\"\",\"\",VLOOKUP(E26,index_cabasse!$A$5:$O$89,2,FALSE))","v":""},"",{"$f":"IF(G26=\"\",\"\",VLOOKUP(G26,index_cabasse!$A$5:$O$89,2,FALSE))","v":""},"",{"$f":"IF(I26=\"\",\"\",VLOOKUP(I26,index_cabasse!$A$5:$O$89,2,FALSE))","v":""},"",{"$f":"IF(K26=\"\",\"\",VLOOKUP(K26,index_cabasse!$A$5:$O$89,2,FALSE))","v":""},"",{"$f":"IF(M26=\"\",\"\",VLOOKUP(M26,index_cabasse!$A$5:$O$89,2,FALSE))","v":""},"",{"$f":"IF(O26=\"\",\"\",VLOOKUP(O26,index_cabasse!$A$5:$O$89,2,FALSE))","v":""},"",{"$f":"IF(Q26=\"\",\"\",VLOOKUP(Q26,index_cabasse!$A$5:$O$89,2,FALSE))","v":""},"",{"$f":"IF(S26=\"\",\"\",VLOOKUP(S26,index_cabasse!$A$5:$O$89,2,FALSE))","v":""},"",{"$f":"IF(U26=\"\",\"\",VLOOKUP(U26,index_cabasse!$A$5:$O$89,2,FALSE))","v":""}]
[{"$f":"preparation_cabasse!B27","v":""},{"$f":"preparation_cabasse!C27","v":""},"",{"$f":"IF(C27=\"\",\"\",VLOOKUP(C27,index_cabasse!$A$5:$O$89,2,FALSE))","v":""},"",{"$f":"IF(E27=\"\",\"\",VLOOKUP(E27,index_cabasse!$A$5:$O$89,2,FALSE))","v":""},"",{"$f":"IF(G27=\"\",\"\",VLOOKUP(G27,index_cabasse!$A$5:$O$89,2,FALSE))","v":""},"",{"$f":"IF(I27=\"\",\"\",VLOOKUP(I27,index_cabasse!$A$5:$O$89,2,FALSE))","v":""},"",{"$f":"IF(K27=\"\",\"\",VLOOKUP(K27,index_cabasse!$A$5:$O$89,2,FALSE))","v":""},"",{"$f":"IF(M27=\"\",\"\",VLOOKUP(M27,index_cabasse!$A$5:$O$89,2,FALSE))","v":""},"",{"$f":"IF(O27=\"\",\"\",VLOOKUP(O27,index_cabasse!$A$5:$O$89,2,FALSE))","v":""},"",{"$f":"IF(Q27=\"\",\"\",VLOOKUP(Q27,index_cabasse!$A$5:$O$89,2,FALSE))","v":""},"",{"$f":"IF(S27=\"\",\"\",VLOOKUP(S27,index_cabasse!$A$5:$O$89,2,FALSE))","v":""},"",{"$f":"IF(U27=\"\",\"\",VLOOKUP(U27,index_cabasse!$A$5:$O$89,2,FALSE))","v":""}]
[{"$f":"preparation_cabasse!B28","v":""},{"$f":"preparation_cabasse!C28","v":""},"",{"$f":"IF(C28=\"\",\"\",VLOOKUP(C28,index_cabasse!$A$5:$O$89,2,FALSE))","v":""},"",{"$f":"IF(E28=\"\",\"\",VLOOKUP(E28,index_cabasse!$A$5:$O$89,2,FALSE))","v":""},"",{"$f":"IF(G28=\"\",\"\",VLOOKUP(G28,index_cabasse!$A$5:$O$89,2,FALSE))","v":""},"",{"$f":"IF(I28=\"\",\"\",VLOOKUP(I28,index_cabasse!$A$5:$O$89,2,FALSE))","v":""},"",{"$f":"IF(K28=\"\",\"\",VLOOKUP(K28,index_cabasse!$A$5:$O$89,2,FALSE))","v":""},"",{"$f":"IF(M28=\"\",\"\",VLOOKUP(M28,index_cabasse!$A$5:$O$89,2,FALSE))","v":""},"",{"$f":"IF(O28=\"\",\"\",VLOOKUP(O28,index_cabasse!$A$5:$O$89,2,FALSE))","v":""},"",{"$f":"IF(Q28=\"\",\"\",VLOOKUP(Q28,index_cabasse!$A$5:$O$89,2,FALSE))","v":""},"",{"$f":"IF(S28=\"\",\"\",VLOOKUP(S28,index_cabasse!$A$5:$O$89,2,FALSE))","v":""},"",{"$f":"IF(U28=\"\",\"\",VLOOKUP(U28,index_cabasse!$A$5:$O$89,2,FALSE))","v":""}]
[{"$f":"preparation_cabasse!B29","v":""},{"$f":"preparation_cabasse!C29","v":""},"",{"$f":"IF(C29=\"\",\"\",VLOOKUP(C29,index_cabasse!$A$5:$O$89,2,FALSE))","v":""},"",{"$f":"IF(E29=\"\",\"\",VLOOKUP(E29,index_cabasse!$A$5:$O$89,2,FALSE))","v":""},"",{"$f":"IF(G29=\"\",\"\",VLOOKUP(G29,index_cabasse!$A$5:$O$89,2,FALSE))","v":""},"",{"$f":"IF(I29=\"\",\"\",VLOOKUP(I29,index_cabasse!$A$5:$O$89,2,FALSE))","v":""},"",{"$f":"IF(K29=\"\",\"\",VLOOKUP(K29,index_cabasse!$A$5:$O$89,2,FALSE))","v":""},"",{"$f":"IF(M29=\"\",\"\",VLOOKUP(M29,index_cabasse!$A$5:$O$89,2,FALSE))","v":""},"",{"$f":"IF(O29=\"\",\"\",VLOOKUP(O29,index_cabasse!$A$5:$O$89,2,FALSE))","v":""},"",{"$f":"IF(Q29=\"\",\"\",VLOOKUP(Q29,index_cabasse!$A$5:$O$89,2,FALSE))","v":""},"",{"$f":"IF(S29=\"\",\"\",VLOOKUP(S29,index_cabasse!$A$5:$O$89,2,FALSE))","v":""},"",{"$f":"IF(U29=\"\",\"\",VLOOKUP(U29,index_cabasse!$A$5:$O$89,2,FALSE))","v":""}]
[{"$f":"preparation_cabasse!B30","v":""},{"$f":"preparation_cabasse!C30","v":""},"",{"$f":"IF(C30=\"\",\"\",VLOOKUP(C30,index_cabasse!$A$5:$O$89,2,FALSE))","v":""},"",{"$f":"IF(E30=\"\",\"\",VLOOKUP(E30,index_cabasse!$A$5:$O$89,2,FALSE))","v":""},"",{"$f":"IF(G30=\"\",\"\",VLOOKUP(G30,index_cabasse!$A$5:$O$89,2,FALSE))","v":""},"",{"$f":"IF(I30=\"\",\"\",VLOOKUP(I30,index_cabasse!$A$5:$O$89,2,FALSE))","v":""},"",{"$f":"IF(K30=\"\",\"\",VLOOKUP(K30,index_cabasse!$A$5:$O$89,2,FALSE))","v":""},"",{"$f":"IF(M30=\"\",\"\",VLOOKUP(M30,index_cabasse!$A$5:$O$89,2,FALSE))","v":""},"",{"$f":"IF(O30=\"\",\"\",VLOOKUP(O30,index_cabasse!$A$5:$O$89,2,FALSE))","v":""},"",{"$f":"IF(Q30=\"\",\"\",VLOOKUP(Q30,index_cabasse!$A$5:$O$89,2,FALSE))","v":""},"",{"$f":"IF(S30=\"\",\"\",VLOOKUP(S30,index_cabasse!$A$5:$O$89,2,FALSE))","v":""},"",{"$f":"IF(U30=\"\",\"\",VLOOKUP(U30,index_cabasse!$A$5:$O$89,2,FALSE))","v":""}]
[{"$f":"preparation_cabasse!B31","v":""},{"$f":"preparation_cabasse!C31","v":""},"",{"$f":"IF(C31=\"\",\"\",VLOOKUP(C31,index_cabasse!$A$5:$O$89,2,FALSE))","v":""},"",{"$f":"IF(E31=\"\",\"\",VLOOKUP(E31,index_cabasse!$A$5:$O$89,2,FALSE))","v":""},"",{"$f":"IF(G31=\"\",\"\",VLOOKUP(G31,index_cabasse!$A$5:$O$89,2,FALSE))","v":""},"",{"$f":"IF(I31=\"\",\"\",VLOOKUP(I31,index_cabasse!$A$5:$O$89,2,FALSE))","v":""},"",{"$f":"IF(K31=\"\",\"\",VLOOKUP(K31,index_cabasse!$A$5:$O$89,2,FALSE))","v":""},"",{"$f":"IF(M31=\"\",\"\",VLOOKUP(M31,index_cabasse!$A$5:$O$89,2,FALSE))","v":""},"",{"$f":"IF(O31=\"\",\"\",VLOOKUP(O31,index_cabasse!$A$5:$O$89,2,FALSE))","v":""},"",{"$f":"IF(Q31=\"\",\"\",VLOOKUP(Q31,index_cabasse!$A$5:$O$89,2,FALSE))","v":""},"",{"$f":"IF(S31=\"\",\"\",VLOOKUP(S31,index_cabasse!$A$5:$O$89,2,FALSE))","v":""},"",{"$f":"IF(U31=\"\",\"\",VLOOKUP(U31,index_cabasse!$A$5:$O$89,2,FALSE))","v":""}]
[{"$f":"preparation_cabasse!B32","v":""},{"$f":"preparation_cabasse!C32","v":""},"",{"$f":"IF(C32=\"\",\"\",VLOOKUP(C32,index_cabasse!$A$5:$O$89,2,FALSE))","v":""},"",{"$f":"IF(E32=\"\",\"\",VLOOKUP(E32,index_cabasse!$A$5:$O$89,2,FALSE))","v":""},"",{"$f":"IF(G32=\"\",\"\",VLOOKUP(G32,index_cabasse!$A$5:$O$89,2,FALSE))","v":""},"",{"$f":"IF(I32=\"\",\"\",VLOOKUP(I32,index_cabasse!$A$5:$O$89,2,FALSE))","v":""},"",{"$f":"IF(K32=\"\",\"\",VLOOKUP(K32,index_cabasse!$A$5:$O$89,2,FALSE))","v":""},"",{"$f":"IF(M32=\"\",\"\",VLOOKUP(M32,index_cabasse!$A$5:$O$89,2,FALSE))","v":""},"",{"$f":"IF(O32=\"\",\"\",VLOOKUP(O32,index_cabasse!$A$5:$O$89,2,FALSE))","v":""},"",{"$f":"IF(Q32=\"\",\"\",VLOOKUP(Q32,index_cabasse!$A$5:$O$89,2,FALSE))","v":""},"",{"$f":"IF(S32=\"\",\"\",VLOOKUP(S32,index_cabasse!$A$5:$O$89,2,FALSE))","v":""},"",{"$f":"IF(U32=\"\",\"\",VLOOKUP(U32,index_cabasse!$A$5:$O$89,2,FALSE))","v":""}]
[{"$f":"preparation_cabasse!B33","v":""},{"$f":"preparation_cabasse!C33","v":""},"",{"$f":"IF(C33=\"\",\"\",VLOOKUP(C33,index_cabasse!$A$5:$O$89,2,FALSE))","v":""},"",{"$f":"IF(E33=\"\",\"\",VLOOKUP(E33,index_cabasse!$A$5:$O$89,2,FALSE))","v":""},"",{"$f":"IF(G33=\"\",\"\",VLOOKUP(G33,index_cabasse!$A$5:$O$89,2,FALSE))","v":""},"",{"$f":"IF(I33=\"\",\"\",VLOOKUP(I33,index_cabasse!$A$5:$O$89,2,FALSE))","v":""},"",{"$f":"IF(K33=\"\",\"\",VLOOKUP(K33,index_cabasse!$A$5:$O$89,2,FALSE))","v":""},"",{"$f":"IF(M33=\"\",\"\",VLOOKUP(M33,index_cabasse!$A$5:$O$89,2,FALSE))","v":""},"",{"$f":"IF(O33=\"\",\"\",VLOOKUP(O33,index_cabasse!$A$5:$O$89,2,FALSE))","v":""},"",{"$f":"IF(Q33=\"\",\"\",VLOOKUP(Q33,index_cabasse!$A$5:$O$89,2,FALSE))","v":""},"",{"$f":"IF(S33=\"\",\"\",VLOOKUP(S33,index_cabasse!$A$5:$O$89,2,FALSE))","v":""},"",{"$f":"IF(U33=\"\",\"\",VLOOKUP(U33,index_cabasse!$A$5:$O$89,2,FALSE))","v":""}]
[{"$f":"preparation_cabasse!B34","v":""},{"$f":"preparation_cabasse!C34","v":""},"",{"$f":"IF(C34=\"\",\"\",VLOOKUP(C34,index_cabasse!$A$5:$O$89,2,FALSE))","v":""},"",{"$f":"IF(E34=\"\",\"\",VLOOKUP(E34,index_cabasse!$A$5:$O$89,2,FALSE))","v":""},"",{"$f":"IF(G34=\"\",\"\",VLOOKUP(G34,index_cabasse!$A$5:$O$89,2,FALSE))","v":""},"",{"$f":"IF(I34=\"\",\"\",VLOOKUP(I34,index_cabasse!$A$5:$O$89,2,FALSE))","v":""},"",{"$f":"IF(K34=\"\",\"\",VLOOKUP(K34,index_cabasse!$A$5:$O$89,2,FALSE))","v":""},"",{"$f":"IF(M34=\"\",\"\",VLOOKUP(M34,index_cabasse!$A$5:$O$89,2,FALSE))","v":""},"",{"$f":"IF(O34=\"\",\"\",VLOOKUP(O34,index_cabasse!$A$5:$O$89,2,FALSE))","v":""},"",{"$f":"IF(Q34=\"\",\"\",VLOOKUP(Q34,index_cabasse!$A$5:$O$89,2,FALSE))","v":""},"",{"$f":"IF(S34=\"\",\"\",VLOOKUP(S34,index_cabasse!$A$5:$O$89,2,FALSE))","v":""},"",{"$f":"IF(U34=\"\",\"\",VLOOKUP(U34,index_cabasse!$A$5:$O$89,2,FALSE))","v":""}]
[{"$f":"preparation_cabasse!B35","v":""},{"$f":"preparation_cabasse!C35","v":""},"",{"$f":"IF(C35=\"\",\"\",VLOOKUP(C35,index_cabasse!$A$5:$O$89,2,FALSE))","v":""},"",{"$f":"IF(E35=\"\",\"\",VLOOKUP(E35,index_cabasse!$A$5:$O$89,2,FALSE))","v":""},"",{"$f":"IF(G35=\"\",\"\",VLOOKUP(G35,index_cabasse!$A$5:$O$89,2,FALSE))","v":""},"",{"$f":"IF(I35=\"\",\"\",VLOOKUP(I35,index_cabasse!$A$5:$O$89,2,FALSE))","v":""},"",{"$f":"IF(K35=\"\",\"\",VLOOKUP(K35,index_cabasse!$A$5:$O$89,2,FALSE))","v":""},"",{"$f":"IF(M35=\"\",\"\",VLOOKUP(M35,index_cabasse!$A$5:$O$89,2,FALSE))","v":""},"",{"$f":"IF(O35=\"\",\"\",VLOOKUP(O35,index_cabasse!$A$5:$O$89,2,FALSE))","v":""},"",{"$f":"IF(Q35=\"\",\"\",VLOOKUP(Q35,index_cabasse!$A$5:$O$89,2,FALSE))","v":""},"",{"$f":"IF(S35=\"\",\"\",VLOOKUP(S35,index_cabasse!$A$5:$O$89,2,FALSE))","v":""},"",{"$f":"IF(U35=\"\",\"\",VLOOKUP(U35,index_cabasse!$A$5:$O$89,2,FALSE))","v":""}]
[{"$f":"preparation_cabasse!B36","v":""},{"$f":"preparation_cabasse!C36","v":""},"",{"$f":"IF(C36=\"\",\"\",VLOOKUP(C36,index_cabasse!$A$5:$O$89,2,FALSE))","v":""},"",{"$f":"IF(E36=\"\",\"\",VLOOKUP(E36,index_cabasse!$A$5:$O$89,2,FALSE))","v":""},"",{"$f":"IF(G36=\"\",\"\",VLOOKUP(G36,index_cabasse!$A$5:$O$89,2,FALSE))","v":""},"",{"$f":"IF(I36=\"\",\"\",VLOOKUP(I36,index_cabasse!$A$5:$O$89,2,FALSE))","v":""},"",{"$f":"IF(K36=\"\",\"\",VLOOKUP(K36,index_cabasse!$A$5:$O$89,2,FALSE))","v":""},"",{"$f":"IF(M36=\"\",\"\",VLOOKUP(M36,index_cabasse!$A$5:$O$89,2,FALSE))","v":""},"",{"$f":"IF(O36=\"\",\"\",VLOOKUP(O36,index_cabasse!$A$5:$O$89,2,FALSE))","v":""},"",{"$f":"IF(Q36=\"\",\"\",VLOOKUP(Q36,index_cabasse!$A$5:$O$89,2,FALSE))","v":""},"",{"$f":"IF(S36=\"\",\"\",VLOOKUP(S36,index_cabasse!$A$5:$O$89,2,FALSE))","v":""},"",{"$f":"IF(U36=\"\",\"\",VLOOKUP(U36,index_cabasse!$A$5:$O$89,2,FALSE))","v":""}]
[{"$f":"preparation_cabasse!B37","v":""},{"$f":"preparation_cabasse!C37","v":""},"",{"$f":"IF(C37=\"\",\"\",VLOOKUP(C37,index_cabasse!$A$5:$O$89,2,FALSE))","v":""},"",{"$f":"IF(E37=\"\",\"\",VLOOKUP(E37,index_cabasse!$A$5:$O$89,2,FALSE))","v":""},"",{"$f":"IF(G37=\"\",\"\",VLOOKUP(G37,index_cabasse!$A$5:$O$89,2,FALSE))","v":""},"",{"$f":"IF(I37=\"\",\"\",VLOOKUP(I37,index_cabasse!$A$5:$O$89,2,FALSE))","v":""},"",{"$f":"IF(K37=\"\",\"\",VLOOKUP(K37,index_cabasse!$A$5:$O$89,2,FALSE))","v":""},"",{"$f":"IF(M37=\"\",\"\",VLOOKUP(M37,index_cabasse!$A$5:$O$89,2,FALSE))","v":""},"",{"$f":"IF(O37=\"\",\"\",VLOOKUP(O37,index_cabasse!$A$5:$O$89,2,FALSE))","v":""},"",{"$f":"IF(Q37=\"\",\"\",VLOOKUP(Q37,index_cabasse!$A$5:$O$89,2,FALSE))","v":""},"",{"$f":"IF(S37=\"\",\"\",VLOOKUP(S37,index_cabasse!$A$5:$O$89,2,FALSE))","v":""},"",{"$f":"IF(U37=\"\",\"\",VLOOKUP(U37,index_cabasse!$A$5:$O$89,2,FALSE))","v":""}]
[{"$f":"preparation_cabasse!B38","v":""},{"$f":"preparation_cabasse!C38","v":""},"",{"$f":"IF(C38=\"\",\"\",VLOOKUP(C38,index_cabasse!$A$5:$O$89,2,FALSE))","v":""},"",{"$f":"IF(E38=\"\",\"\",VLOOKUP(E38,index_cabasse!$A$5:$O$89,2,FALSE))","v":""},"",{"$f":"IF(G38=\"\",\"\",VLOOKUP(G38,index_cabasse!$A$5:$O$89,2,FALSE))","v":""},"",{"$f":"IF(I38=\"\",\"\",VLOOKUP(I38,index_cabasse!$A$5:$O$89,2,FALSE))","v":""},"",{"$f":"IF(K38=\"\",\"\",VLOOKUP(K38,index_cabasse!$A$5:$O$89,2,FALSE))","v":""},"",{"$f":"IF(M38=\"\",\"\",VLOOKUP(M38,index_cabasse!$A$5:$O$89,2,FALSE))","v":""},"",{"$f":"IF(O38=\"\",\"\",VLOOKUP(O38,index_cabasse!$A$5:$O$89,2,FALSE))","v":""},"",{"$f":"IF(Q38=\"\",\"\",VLOOKUP(Q38,index_cabasse!$A$5:$O$89,2,FALSE))","v":""},"",{"$f":"IF(S38=\"\",\"\",VLOOKUP(S38,index_cabasse!$A$5:$O$89,2,FALSE))","v":""},"",{"$f":"IF(U38=\"\",\"\",VLOOKUP(U38,index_cabasse!$A$5:$O$89,2,FALSE))","v":""}]
["CHOIX DES BALISES"]
["TOUTES","<<<<<<<<<<"]

{"sheet":"preparation_cabasse","index":3,"n_rows":38,"n_cols":38,"rows_kept":38,"cut":false,"hidden":false,"merged":[]}
[null,"CABASSE",null,null,null,"Cellule \"N° CARTE\" prioritaire par rapport à la colonne \"N° CARTE\" (si cellule \"C2\"vide alors la colonne est prise en compte).",null,null,null,null,null,null,null,null,null,null,null,null,null,null,null,null,null,null,null,null,null,null,null,null,null,null,null,null,null,null,null,0]
[null,"N° CARTE  ",10,null,null,"Combien de code(s) sur chaque coupon ?",null,null,null,null,5,null,null,"SEANCE N° :",null,null,null,null,"DATE :",null,null,null,null,null,null,null,null,null,null,null,null,null,null,null,null,null,null,1]
[null,"NOM","PRENOM","N° CARTE","N° CARTE","N° BALISE 1","CODE 1","Solution 1","N° BALISE 2","CODE 2","Solution 2","N° BALISE 3","CODE 3","Solution 3","N° BALISE 4","CODE 4","Solution 4","N° BALISE 5","CODE 5","Solution 5","N° BALISE 6","CODE 6","Solution 6","N° BALISE 7","CODE 7","Solution 7","N° BALISE 8","CODE 8","Solution 8","N° BALISE 9","CODE 9","Solution 9","N° BALISE 10","CODE 10","Solution 10",null,null,2]
[1,{"$f":"IF(index_classe!F3=\"\",\"\",IF(index_classe!$K$1=\"NON\",index_classe!F3,\"Groupe 1\"))","v":"BENZ"},{"$f":"IF(index_classe!G3=\"\",\"\",IF(index_classe!$K$1=\"NON\",index_classe!G3,\">>>>>\"))","v":"Nawel"},{"$f":"IF($C$2<>\"\",$C$2,E4)","v":10},null,18,{"$f":"IF(F4=\"\",\"\",IF($C$2<>\"\",VLOOKUP(F4,index_cabasse!$B$5:$O$89,$C$2+2,FALSE),VLOOKUP(F4,index_cabasse!$B$5:$O$89,$D4+2,FALSE)))","v":"EEK"},{"$f":"IF(G4=\"\",\"\",VLOOKUP(F4,index_cabasse!$B$5:$O$89,2,FALSE))","v":4798},43,{"$f":"IF(I4=\"\",\"\",IF($C$2<>\"\",VLOOKUP(I4,index_cabasse!$B$5:$O$89,$C$2+2,FALSE),VLOOKUP(I4,index_cabasse!$B$5:$O$89,$D4+2,FALSE)))","v":"FFK"},{"$f":"IF(J4=\"\",\"\",VLOOKUP(I4,index_cabasse!$B$5:$O$89,2,FALSE))","v":7011},85,{"$f":"IF(L4=\"\",\"\",IF($C$2<>\"\",VLOOKUP(L4,index_cabasse!$B$5:$O$89,$C$2+2,FALSE),VLOOKUP(L4,index_cabasse!$B$5:$O$89,$D4+2,FALSE)))","v":"HHB"},{"$f":"IF(M4=\"\",\"\",VLOOKUP(L4,index_cabasse!$B$5:$O$89,2,FALSE))","v":6129},22,{"$f":"IF(O4=\"\",\"\",IF($C$2<>\"\",VLOOKUP(O4,index_cabasse!$B$5:$O$89,$C$2+2,FALSE),VLOOKUP(O4,index_cabasse!$B$5:$O$89,$D4+2,FALSE)))","v":"EEO"},{"$f":"IF(P4=\"\",\"\",VLOOKUP(O4,index_cabasse!$B$5:$O$89,2,FALSE))","v":5338},48,{"$f":"IF(R4=\"\",\"\",IF($C$2<>\"\",VLOOKUP(R4,index_cabasse!$B$5:$O$89,$C$2+2,FALSE),VLOOKUP(R4,index_cabasse!$B$5:$O$89,$D4+2,FALSE)))","v":"FFP"},{"$f":"IF(S4=\"\",\"\",VLOOKUP(R4,index_cabasse!$B$5:$O$89,2,FALSE))","v":4945},5,{"$f":"IF(U4=\"\",\"\",IF($C$2<>\"\",VLOOKUP(U4,index_cabasse!$B$5:$O$89,$C$2+2,FALSE),VLOOKUP(U4,index_cabasse!$B$5:$O$89,$D4+2,FALSE)))","v":"DW"},{"$f":"IF(V4=\"\",\"\",VLOOKUP(U4,index_cabasse!$B$5:$O$89,2,FALSE))","v":3231},52,{"$f":"IF(X4=\"\",\"\",IF($C$2<>\"\",VLOOKUP(X4,index_cabasse!$B$5:$O$89,$C$2+2,FALSE),VLOOKUP(X4,index_cabasse!$B$5:$O$89,$D4+2,FALSE)))","v":"FFT"},{"$f":"IF(Y4=\"\",\"\",VLOOKUP(X4,index_cabasse!$B$5:$O$89,2,FALSE))","v":7641},37,{"$f":"IF(AA4=\"\",\"\",IF($C$2<>\"\",VLOOKUP(AA4,index_cabasse!$B$5:$O$89,$C$2+2,FALSE),VLOOKUP(AA4,index_cabasse!$B$5:$O$89,$D4+2,FALSE)))","v":"FFD"},{"$f":"IF(AB4=\"\",\"\",VLOOKUP(AA4,index_cabasse!$B$5:$O$89,2,FALSE))","v":5751},76,{"$f":"IF(AD4=\"\",\"\",IF($C$2<>\"\",VLOOKUP(AD4,index_cabasse!$B$5:$O$89,$C$2+2,FALSE),VLOOKUP(AD4,index_cabasse!$B$5:$O$89,$D4+2,FALSE)))","v":"GGS"},{"$f":"IF(AE4=\"\",\"\",VLOOKUP(AD4,index_cabasse!$B$5:$O$89,2,FALSE))","v":9405},15,{"$f":"IF(AG4=\"\",\"\",IF($C$2<>\"\",VLOOKUP(AG4,index_cabasse!$B$5:$O$89,$C$2+2,FALSE),VLOOKUP(AG4,index_cabasse!$B$5:$O$89,$D4+2,FALSE)))","v":"EEH"},{"$f":"IF(AH4=\"\",\"\",VLOOKUP(AG4,index_cabasse!$B$5:$O$89,2,FALSE))","v":6209},null,null,3]
[2,{"$f":"IF(index_classe!F4=\"\",\"\",IF(index_classe!$K$1=\"NON\",index_classe!F4,IF(A5>index_classe!$P$1,\"\",\"Groupe 2\")))","v":"BERNA"},{"$f":"IF(index_classe!G4=\"\",\"\",IF(index_classe!$K$1=\"NON\",index_classe!G4,IF(A5>index_classe!$P$1,\"\",\">>>>>\")))","v":"Laurine"},{"$f":"IF($C$2<>\"\",$C$2,E5)","v":10},null,8,{"$f":"IF(F5=\"\",\"\",IF($C$2<>\"\",VLOOKUP(F5,index_cabasse!$B$5:$O$89,$C$2+2,FALSE),VLOOKUP(F5,index_cabasse!$B$5:$O$89,$D5+2,FALSE)))","v":"DDZ"},{"$f":"IF(G5=\"\",\"\",VLOOKUP(F5,index_cabasse!$B$5:$O$89,2,FALSE))","v":3861},68,{"$f":"IF(I5=\"\",\"\",IF($C$2<>\"\",VLOOKUP(I5,index_cabasse!$B$5:$O$89,$C$2+2,FALSE),VLOOKUP(I5,index_cabasse!$B$5:$O$89,$D5+2,FALSE)))","v":"GGK"},{"$f":"IF(J5=\"\",\"\",VLOOKUP(I5,index_cabasse!$B$5:$O$89,2,FALSE))","v":7093},33,{"$f":"IF(L5=\"\",\"\",IF($C$2<>\"\",VLOOKUP(L5,index_cabasse!$B$5:$O$89,$C$2+2,FALSE),VLOOKUP(L5,index_cabasse!$B$5:$O$89,$D5+2,FALSE)))","v":"EEZ"},{"$f":"IF(M5=\"\",\"\",VLOOKUP(L5,index_cabasse!$B$5:$O$89,2,FALSE))","v":5121},29,{"$f":"IF(O5=\"\",\"\",IF($C$2<>\"\",VLOOKUP(O5,index_cabasse!$B$5:$O$89,$C$2+2,FALSE),VLOOKUP(O5,index_cabasse!$B$5:$O$89,$D5+2,FALSE)))","v":"EEV"},{"$f":"IF(P5=\"\",\"\",VLOOKUP(O5,index_cabasse!$B$5:$O$89,2,FALSE))","v":6051},41,{"$f":"IF(R5=\"\",\"\",IF($C$2<>\"\",VLOOKUP(R5,index_cabasse!$B$5:$O$89,$C$2+2,FALSE),VLOOKUP(R5,index_cabasse!$B$5:$O$89,$D5+2,FALSE)))","v":"FFI"},{"$f":"IF(S5=\"\",\"\",VLOOKUP(R5,index_cabasse!$B$5:$O$89,2,FALSE))","v":6591},11,{"$f":"IF(U5=\"\",\"\",IF($C$2<>\"\",VLOOKUP(U5,index_cabasse!$B$5:$O$89,$C$2+2,FALSE),VLOOKUP(U5,index_cabasse!$B$5:$O$89,$D5+2,FALSE)))","v":"EEC"},{"$f":"IF(V5=\"\",\"\",VLOOKUP(U5,index_cabasse!$B$5:$O$89,2,FALSE))","v":4491},6,{"$f":"IF(X5=\"\",\"\",IF($C$2<>\"\",VLOOKUP(X5,index_cabasse!$B$5:$O$89,$C$2+2,FALSE),VLOOKUP(X5,index_cabasse!$B$5:$O$89,$D5+2,FALSE)))","v":"DDX"},{"$f":"IF(Y5=\"\",\"\",VLOOKUP(X5,index_cabasse!$B$5:$O$89,2,FALSE))","v":3441},84,{"$f":"IF(AA5=\"\",\"\",IF($C$2<>\"\",VLOOKUP(AA5,index_cabasse!$B$5:$O$89,$C$2+2,FALSE),VLOOKUP(AA5,index_cabasse!$B$5:$O$89,$D5+2,FALSE)))","v":"HHA"},{"$f":"IF(AB5=\"\",\"\",VLOOKUP(AA5,index_cabasse!$B$5:$O$89,2,FALSE))","v":6675},1,{"$f":"IF(AD5=\"\",\"\",IF($C$2<>\"\",VLOOKUP(AD5,index_cabasse!$B$5:$O$89,$C$2+2,FALSE),VLOOKUP(AD5,index_cabasse!$B$5:$O$89,$D5+2,FALSE)))","v":"DDS"},{"$f":"IF(AE5=\"\",\"\",VLOOKUP(AD5,index_cabasse!$B$5:$O$89,2,FALSE))","v":6841},57,{"$f":"IF(AG5=\"\",\"\",IF($C$2<>\"\",VLOOKUP(AG5,index_cabasse!$B$5:$O$89,$C$2+2,FALSE),VLOOKUP(AG5,index_cabasse!$B$5:$O$89,$D5+2,FALSE)))","v":"FFY"},{"$f":"IF(AH5=\"\",\"\",VLOOKUP(AG5,index_cabasse!$B$5:$O$89,2,FALSE))","v":8691},null,null,4]
[3,{"$f":"IF(index_classe!F5=\"\",\"\",IF(index_classe!$K$1=\"NON\",index_classe!F5,IF(A6>index_classe!$P$1,\"\",\"Groupe 3\")))","v":"CHEL"},{"$f":"IF(index_classe!G5=\"\",\"\",IF(index_classe!$K$1=\"NON\",index_classe!G5,IF(A6>index_classe!$P$1,\"\",\">>>>>\")))","v":"Sarah"},10,null,54,{"$f":"IF(F6=\"\",\"\",IF($C$2<>\"\",VLOOKUP(F6,index_cabasse!$B$5:$O$89,$C$2+2,FALSE),VLOOKUP(F6,index_cabasse!$B$5:$O$89,$D6+2,FALSE)))","v":"FFV"},{"$f":"IF(G6=\"\",\"\",VLOOKUP(F6,index_cabasse!$B$5:$O$89,2,FALSE))","v":8061},42,{"$f":"IF(I6=\"\",\"\",IF($C$2<>\"\",VLOOKUP(I6,index_cabasse!$B$5:$O$89,$C$2+2,FALSE),VLOOKUP(I6,index_cabasse!$B$5:$O$89,$D6+2,FALSE)))","v":"FFJ"},{"$f":"IF(J6=\"\",\"\",VLOOKUP(I6,index_cabasse!$B$5:$O$89,2,FALSE))","v":6801},71,{"$f":"IF(L6=\"\",\"\",IF($C$2<>\"\",VLOOKUP(L6,index_cabasse!$B$5:$O$89,$C$2+2,FALSE),VLOOKUP(L6,index_cabasse!$B$5:$O$89,$D6+2,FALSE)))","v":"GGN"},{"$f":"IF(M6=\"\",\"\",VLOOKUP(L6,index_cabasse!$B$5:$O$89,2,FALSE))","v":9531},53,{"$f":"IF(O6=\"\",\"\",IF($C$2<>\"\",VLOOKUP(O6,index_cabasse!$B$5:$O$89,$C$2+2,FALSE),VLOOKUP(O6,index_cabasse!$B$5:$O$89,$D6+2,FALSE)))","v":"FFU"},{"$f":"IF(P6=\"\",\"\",VLOOKUP(O6,index_cabasse!$B$5:$O$89,2,FALSE))","v":7851},9,{"$f":"IF(R6=\"\",\"\",IF($C$2<>\"\",VLOOKUP(R6,index_cabasse!$B$5:$O$89,$C$2+2,FALSE),VLOOKUP(R6,index_cabasse!$B$5:$O$89,$D6+2,FALSE)))","v":"EEA"},{"$f":"IF(S6=\"\",\"\",VLOOKUP(R6,index_cabasse!$B$5:$O$89,2,FALSE))","v":4071},19,{"$f":"IF(U6=\"\",\"\",IF($C$2<>\"\",VLOOKUP(U6,index_cabasse!$B$5:$O$89,$C$2+2,FALSE),VLOOKUP(U6,index_cabasse!$B$5:$O$89,$D6+2,FALSE)))","v":"EEL"},{"$f":"IF(V6=\"\",\"\",VLOOKUP(U6,index_cabasse!$B$5:$O$89,2,FALSE))","v":4933},17,{"$f":"IF(X6=\"\",\"\",IF($C$2<>\"\",VLOOKUP(X6,index_cabasse!$B$5:$O$89,$C$2+2,FALSE),VLOOKUP(X6,index_cabasse!$B$5:$O$89,$D6+2,FALSE)))","v":"EEJ"},{"$f":"IF(Y6=\"\",\"\",VLOOKUP(X6,index_cabasse!$B$5:$O$89,2,FALSE))","v":4663},10,{"$f":"IF(AA6=\"\",\"\",IF($C$2<>\"\",VLOOKUP(AA6,index_cabasse!$B$5:$O$89,$C$2+2,FALSE),VLOOKUP(AA6,index_cabasse!$B$5:$O$89,$D6+2,FALSE)))","v":"EEB"},{"$f":"IF(AB6=\"\",\"\",VLOOKUP(AA6,index_cabasse!$B$5:$O$89,2,FALSE))","v":4281},53,{"$f":"IF(AD6=\"\",\"\",IF($C$2<>\"\",VLOOKUP(AD6,index_cabasse!$B$5:$O$89,$C$2+2,FALSE),VLOOKUP(AD6,index_cabasse!$B$5:$O$89,$D6+2,FALSE)))","v":"FFU"},{"$f":"IF(AE6=\"\",\"\",VLOOKUP(AD6,index_cabasse!$B$5:$O$89,2,FALSE))","v":7851},11,{"$f":"IF(AG6=\"\",\"\",IF($C$2<>\"\",VLOOKUP(AG6,index_cabasse!$B$5:$O$89,$C$2+2,FALSE),VLOOKUP(AG6,index_cabasse!$B$5:$O$89,$D6+2,FALSE)))","v":"EEC"},{"$f":"IF(AH6=\"\",\"\",VLOOKUP(AG6,index_cabasse!$B$5:$O$89,2,FALSE))","v":4491},null,null,5]
[4,{"$f":"IF(index_classe!F6=\"\",\"\",IF(index_classe!$K$1=\"NON\",index_classe!F6,IF(A7>index_classe!$P$1,\"\",\"Groupe 4\")))","v":"CLAUD"},{"$f":"IF(index_classe!G6=\"\",\"\",IF(index_classe!$K$1=\"NON\",index_classe!G6,IF(A7>index_classe!$P$1,\"\",\">>>>>\")))","v":"Maxime"},10,null,71,{"$f":"IF(F7=\"\",\"\",IF($C$2<>\"\",VLOOKUP(F7,index_cabasse!$B$5:$O$89,$C$2+2,FALSE),VLOOKUP(F7,index_cabasse!$B$5:$O$89,$D7+2,FALSE)))","v":"GGN"},{"$f":"IF(G7=\"\",\"\",VLOOKUP(F7,index_cabasse!$B$5:$O$89,2,FALSE))","v":9531},62,{"$f":"IF(I7=\"\",\"\",IF($C$2<>\"\",VLOOKUP(I7,index_cabasse!$B$5:$O$89,$C$2+2,FALSE),VLOOKUP(I7,index_cabasse!$B$5:$O$89,$D7+2,FALSE)))","v":"GGD"},{"$f":"IF(J7=\"\",\"\",VLOOKUP(I7,index_cabasse!$B$5:$O$89,2,FALSE))","v":6283},20,{"$f":"IF(L7=\"\",\"\",IF($C$2<>\"\",VLOOKUP(L7,index_cabasse!$B$5:$O$89,$C$2+2,FALSE),VLOOKUP(L7,index_cabasse!$B$5:$O$89,$D7+2,FALSE)))","v":"EEM"},{"$f":"IF(M7=\"\",\"\",VLOOKUP(L7,index_cabasse!$B$5:$O$89,2,FALSE))","v":5068},67,{"$f":"IF(O7=\"\",\"\",IF($C$2<>\"\",VLOOKUP(O7,index_cabasse!$B$5:$O$89,$C$2+2,FALSE),VLOOKUP(O7,index_cabasse!$B$5:$O$89,$D7+2,FALSE)))","v":"GGJ"},{"$f":"IF(P7=\"\",\"\",VLOOKUP(O7,index_cabasse!$B$5:$O$89,2,FALSE))","v":6958},56,{"$f":"IF(R7=\"\",\"\",IF($C$2<>\"\",VLOOKUP(R7,index_cabasse!$B$5:$O$89,$C$2+2,FALSE),VLOOKUP(R7,index_cabasse!$B$5:$O$89,$D7+2,FALSE)))","v":"FFX"},{"$f":"IF(S7=\"\",\"\",VLOOKUP(R7,index_cabasse!$B$5:$O$89,2,FALSE))","v":8481},44,{"$f":"IF(U7=\"\",\"\",IF($C$2<>\"\",VLOOKUP(U7,index_cabasse!$B$5:$O$89,$C$2+2,FALSE),VLOOKUP(U7,index_cabasse!$B$5:$O$89,$D7+2,FALSE)))","v":"FFL"},{"$f":"IF(V7=\"\",\"\",VLOOKUP(U7,index_cabasse!$B$5:$O$89,2,FALSE))","v":5261},15,{"$f":"IF(X7=\"\",\"\",IF($C$2<>\"\",VLOOKUP(X7,index_cabasse!$B$5:$O$89,$C$2+2,FALSE),VLOOKUP(X7,index_cabasse!$B$5:$O$89,$D7+2,FALSE)))","v":"EEH"},{"$f":"IF(Y7=\"\",\"\",VLOOKUP(X7,index_cabasse!$B$5:$O$89,2,FALSE))","v":6209},66,{"$f":"IF(AA7=\"\",\"\",IF($C$2<>\"\",VLOOKUP(AA7,index_cabasse!$B$5:$O$89,$C$2+2,FALSE),VLOOKUP(AA7,index_cabasse!$B$5:$O$89,$D7+2,FALSE)))","v":"GGI"},{"$f":"IF(AB7=\"\",\"\",VLOOKUP(AA7,index_cabasse!$B$5:$O$89,2,FALSE))","v":6823},5,{"$f":"IF(AD7=\"\",\"\",IF($C$2<>\"\",VLOOKUP(AD7,index_cabasse!$B$5:$O$89,$C$2+2,FALSE),VLOOKUP(AD7,index_cabasse!$B$5:$O$89,$D7+2,FALSE)))","v":"DW"},{"$f":"IF(AE7=\"\",\"\",VLOOKUP(AD7,index_cabasse!$B$5:$O$89,2,FALSE))","v":3231},9,{"$f":"IF(AG7=\"\",\"\",IF($C$2<>\"\",VLOOKUP(AG7,index_cabasse!$B$5:$O$89,$C$2+2,FALSE),VLOOKUP(AG7,index_cabasse!$B$5:$O$89,$D7+2,FALSE)))","v":"EEA"},{"$f":"IF(AH7=\"\",\"\",VLOOKUP(AG7,index_cabasse!$B$5:$O$89,2,FALSE))","v":4071},null,null,6]
[5,{"$f":"IF(index_classe!F7=\"\",\"\",IF(index_classe!$K$1=\"NON\",index_classe!F7,IF(A8>index_classe!$P$1,\"\",\"Groupe 5\")))","v":"NAISSA"},{"$f":"IF(index_classe!G7=\"\",\"\",IF(index_classe!$K$1=\"NON\",index_classe!G7,IF(A8>index_classe!$P$1,\"\",\">>>>>\")))","v":"Estelle"},10,null,73,{"$f":"IF(F8=\"\",\"\",IF($C$2<>\"\",VLOOKUP(F8,index_cabasse!$B$5:$O$89,$C$2+2,FALSE),VLOOKUP(F8,index_cabasse!$B$5:$O$89,$D8+2,FALSE)))","v":"GGP"},{"$f":"IF(G8=\"\",\"\",VLOOKUP(F8,index_cabasse!$B$5:$O$89,2,FALSE))","v":3839},43,{"$f":"IF(I8=\"\",\"\",IF($C$2<>\"\",VLOOKUP(I8,index_cabasse!$B$5:$O$89,$C$2+2,FALSE),VLOOKUP(I8,index_cabasse!$B$5:$O$89,$D8+2,FALSE)))","v":"FFK"},{"$f":"IF(J8=\"\",\"\",VLOOKUP(I8,index_cabasse!$B$5:$O$89,2,FALSE))","v":7011},16,{"$f":"IF(L8=\"\",\"\",IF($C$2<>\"\",VLOOKUP(L8,index_cabasse!$B$5:$O$89,$C$2+2,FALSE),VLOOKUP(L8,index_cabasse!$B$5:$O$89,$D8+2,FALSE)))","v":"EEI"},{"$f":"IF(M8=\"\",\"\",VLOOKUP(L8,index_cabasse!$B$5:$O$89,2,FALSE))","v":4528},74,{"$f":"IF(O8=\"\",\"\",IF($C$2<>\"\",VLOOKUP(O8,index_cabasse!$B$5:$O$89,$C$2+2,FALSE),VLOOKUP(O8,index_cabasse!$B$5:$O$89,$D8+2,FALSE)))","v":"GGQ"},{"$f":"IF(P8=\"\",\"\",VLOOKUP(O8,index_cabasse!$B$5:$O$89,2,FALSE))","v":9741},55,{"$f":"IF(R8=\"\",\"\",IF($C$2<>\"\",VLOOKUP(R8,index_cabasse!$B$5:$O$89,$C$2+2,FALSE),VLOOKUP(R8,index_cabasse!$B$5:$O$89,$D8+2,FALSE)))","v":"FFW"},{"$f":"IF(S8=\"\",\"\",VLOOKUP(R8,index_cabasse!$B$5:$O$89,2,FALSE))","v":8271},52,{"$f":"IF(U8=\"\",\"\",IF($C$2<>\"\",VLOOKUP(U8,index_cabasse!$B$5:$O$89,$C$2+2,FALSE),VLOOKUP(U8,index_cabasse!$B$5:$O$89,$D8+2,FALSE)))","v":"FFT"},{"$f":"IF(V8=\"\",\"\",VLOOKUP(U8,index_cabasse!$B$5:$O$89,2,FALSE))","v":7641},61,{"$f":"IF(X8=\"\",\"\",IF($C$2<>\"\",VLOOKUP(X8,index_cabasse!$B$5:$O$89,$C$2+2,FALSE),VLOOKUP(X8,index_cabasse!$B$5:$O$89,$D8+2,FALSE)))","v":"GGC"},{"$f":"IF(Y8=\"\",\"\",VLOOKUP(X8,index_cabasse!$B$5:$O$89,2,FALSE))","v":4313},38,{"$f":"IF(AA8=\"\",\"\",IF($C$2<>\"\",VLOOKUP(AA8,index_cabasse!$B$5:$O$89,$C$2+2,FALSE),VLOOKUP(AA8,index_cabasse!$B$5:$O$89,$D8+2,FALSE)))","v":"FFE"},{"$f":"IF(AB8=\"\",\"\",VLOOKUP(AA8,index_cabasse!$B$5:$O$89,2,FALSE))","v":5961},71,{"$f":"IF(AD8=\"\",\"\",IF($C$2<>\"\",VLOOKUP(AD8,index_cabasse!$B$5:$O$89,$C$2+2,FALSE),VLOOKUP(AD8,index_cabasse!$B$5:$O$89,$D8+2,FALSE)))","v":"GGN"},{"$f":"IF(AE8=\"\",\"\",VLOOKUP(AD8,index_cabasse!$B$5:$O$89,2,FALSE))","v":9531},24,{"$f":"IF(AG8=\"\",\"\",IF($C$2<>\"\",VLOOKUP(AG8,index_cabasse!$B$5:$O$89,$C$2+2,FALSE),VLOOKUP(AG8,index_cabasse!$B$5:$O$89,$D8+2,FALSE)))","v":"EEQ"},{"$f":"IF(AH8=\"\",\"\",VLOOKUP(AG8,index_cabasse!$B$5:$O$89,2,FALSE))","v":5608},null,null,7]
[6,{"$f":"IF(index_classe!F8=\"\",\"\",IF(index_classe!$K$1=\"NON\",index_classe!F8,IF(A9>index_classe!$P$1,\"\",\"Groupe 6\")))","v":"FA"},{"$f":"IF(index_classe!G8=\"\",\"\",IF(index_classe!$K$1=\"NON\",index_classe!G8,IF(A9>index_classe!$P$1,\"\",\">>>>>\")))","v":"Dylan"},10,null,67,{"$f":"IF(F9=\"\",\"\",IF($C$2<>\"\",VLOOKUP(F9,index_cabasse!$B$5:$O$89,$C$2+2,FALSE),VLOOKUP(F9,index_cabasse!$B$5:$O$89,$D9+2,FALSE)))","v":"GGJ"},{"$f":"IF(G9=\"\",\"\",VLOOKUP(F9,index_cabasse!$B$5:$O$89,2,FALSE))","v":6958},73,{"$f":"IF(I9=\"\",\"\",IF($C$2<>\"\",VLOOKUP(I9,index_cabasse!$B$5:$O$89,$C$2+2,FALSE),VLOOKUP(I9,index_cabasse!$B$5:$O$89,$D9+2,FALSE)))","v":"GGP"},{"$f":"IF(J9=\"\",\"\",VLOOKUP(I9,index_cabasse!$B$5:$O$89,2,FALSE))","v":3839},78,{"$f":"IF(L9=\"\",\"\",IF($C$2<>\"\",VLOOKUP(L9,index_cabasse!$B$5:$O$89,$C$2+2,FALSE),VLOOKUP(L9,index_cabasse!$B$5:$O$89,$D9+2,FALSE)))","v":"GGU"},{"$f":"IF(M9=\"\",\"\",VLOOKUP(L9,index_cabasse!$B$5:$O$89,2,FALSE))","v":8313},71,{"$f":"IF(O9=\"\",\"\",IF($C$2<>\"\",VLOOKUP(O9,index_cabasse!$B$5:$O$89,$C$2+2,FALSE),VLOOKUP(O9,index_cabasse!$B$5:$O$89,$D9+2,FALSE)))","v":"GGN"},{"$f":"IF(P9=\"\",\"\",VLOOKUP(O9,index_cabasse!$B$5:$O$89,2,FALSE))","v":9531},12,{"$f":"IF(R9=\"\",\"\",IF($C$2<>\"\",VLOOKUP(R9,index_cabasse!$B$5:$O$89,$C$2+2,FALSE),VLOOKUP(R9,index_cabasse!$B$5:$O$89,$D9+2,FALSE)))","v":"EED"},{"$f":"IF(S9=\"\",\"\",VLOOKUP(R9,index_cabasse!$B$5:$O$89,2,FALSE))","v":4701},11,{"$f":"IF(U9=\"\",\"\",IF($C$2<>\"\",VLOOKUP(U9,index_cabasse!$B$5:$O$89,$C$2+2,FALSE),VLOOKUP(U9,index_cabasse!$B$5:$O$89,$D9+2,FALSE)))","v":"EEC"},{"$f":"IF(V9=\"\",\"\",VLOOKUP(U9,index_cabasse!$B$5:$O$89,2,FALSE))","v":4491},31,{"$f":"IF(X9=\"\",\"\",IF($C$2<>\"\",VLOOKUP(X9,index_cabasse!$B$5:$O$89,$C$2+2,FALSE),VLOOKUP(X9,index_cabasse!$B$5:$O$89,$D9+2,FALSE)))","v":"EEX"},{"$f":"IF(Y9=\"\",\"\",VLOOKUP(X9,index_cabasse!$B$5:$O$89,2,FALSE))","v":5735},19,{"$f":"IF(AA9=\"\",\"\",IF($C$2<>\"\",VLOOKUP(AA9,index_cabasse!$B$5:$O$89,$C$2+2,FALSE),VLOOKUP(AA9,index_cabasse!$B$5:$O$89,$D9+2,FALSE)))","v":"EEL"},{"$f":"IF(AB9=\"\",\"\",VLOOKUP(AA9,index_cabasse!$B$5:$O$89,2,FALSE))","v":4933},73,{"$f":"IF(AD9=\"\",\"\",IF($C$2<>\"\",VLOOKUP(AD9,index_cabasse!$B$5:$O$89,$C$2+2,FALSE),VLOOKUP(AD9,index_cabasse!$B$5:$O$89,$D9+2,FALSE)))","v":"GGP"},{"$f":"IF(AE9=\"\",\"\",VLOOKUP(AD9,index_cabasse!$B$5:$O$89,2,FALSE))","v":3839},12,{"$f":"IF(AG9=\"\",\"\",IF($C$2<>\"\",VLOOKUP(AG9,index_cabasse!$B$5:$O$89,$C$2+2,FALSE),VLOOKUP(AG9,index_cabasse!$B$5:$O$89,$D9+2,FALSE)))","v":"EED"},{"$f":"IF(AH9=\"\",\"\",VLOOKUP(AG9,index_cabasse!$B$5:$O$89,2,FALSE))","v":4701},null,null,8]
[7,{"$f":"IF(index_classe!F9=\"\",\"\",IF(index_classe!$K$1=\"NON\",index_classe!F9,IF(A10>index_classe!$P$1,\"\",\"Groupe 7\")))","v":"FLEIN"},{"$f":"IF(index_classe!G9=\"\",\"\",IF(index_classe!$K$1=\"NON\",index_classe!G9,IF(A10>index_classe!$P$1,\"\",\">>>>>\")))","v":"Theo"},10,null,3,{"$f":"IF(F10=\"\",\"\",IF($C$2<>\"\",VLOOKUP(F10,index_cabasse!$B$5:$O$89,$C$2+2,FALSE),VLOOKUP(F10,index_cabasse!$B$5:$O$89,$D10+2,FALSE)))","v":"DDU"},{"$f":"IF(G10=\"\",\"\",VLOOKUP(F10,index_cabasse!$B$5:$O$89,2,FALSE))","v":6525},20,{"$f":"IF(I10=\"\",\"\",IF($C$2<>\"\",VLOOKUP(I10,index_cabasse!$B$5:$O$89,$C$2+2,FALSE),VLOOKUP(I10,index_cabasse!$B$5:$O$89,$D10+2,FALSE)))","v":"EEM"},{"$f":"IF(J10=\"\",\"\",VLOOKUP(I10,index_cabasse!$B$5:$O$89,2,FALSE))","v":5068},62,{"$f":"IF(L10=\"\",\"\",IF($C$2<>\"\",VLOOKUP(L10,index_cabasse!$B$5:$O$89,$C$2+2,FALSE),VLOOKUP(L10,index_cabasse!$B$5:$O$89,$D10+2,FALSE)))","v":"GGD"},{"$f":"IF(M10=\"\",\"\",VLOOKUP(L10,index_cabasse!$B$5:$O$89,2,FALSE))","v":6283},64,{"$f":"IF(O10=\"\",\"\",IF($C$2<>\"\",VLOOKUP(O10,index_cabasse!$B$5:$O$89,$C$2+2,FALSE),VLOOKUP(O10,index_cabasse!$B$5:$O$89,$D10+2,FALSE)))","v":"GGF"},{"$f":"IF(P10=\"\",\"\",VLOOKUP(O10,index_cabasse!$B$5:$O$89,2,FALSE))","v":6553},67,{"$f":"IF(R10=\"\",\"\",IF($C$2<>\"\",VLOOKUP(R10,index_cabasse!$B$5:$O$89,$C$2+2,FALSE),VLOOKUP(R10,index_cabasse!$B$5:$O$89,$D10+2,FALSE)))","v":"GGJ"},{"$f":"IF(S10=\"\",\"\",VLOOKUP(R10,index_cabasse!$B$5:$O$89,2,FALSE))","v":6958},51,{"$f":"IF(U10=\"\",\"\",IF($C$2<>\"\",VLOOKUP(U10,index_cabasse!$B$5:$O$89,$C$2+2,FALSE),VLOOKUP(U10,index_cabasse!$B$5:$O$89,$D10+2,FALSE)))","v":"FFS"},{"$f":"IF(V10=\"\",\"\",VLOOKUP(U10,index_cabasse!$B$5:$O$89,2,FALSE))","v":4471},83,{"$f":"IF(X10=\"\",\"\",IF($C$2<>\"\",VLOOKUP(X10,index_cabasse!$B$5:$O$89,$C$2+2,FALSE),VLOOKUP(X10,index_cabasse!$B$5:$O$89,$D10+2,FALSE)))","v":"GGZ"},{"$f":"IF(Y10=\"\",\"\",VLOOKUP(X10,index_cabasse!$B$5:$O$89,2,FALSE))","v":3365},8,{"$f":"IF(AA10=\"\",\"\",IF($C$2<>\"\",VLOOKUP(AA10,index_cabasse!$B$5:$O$89,$C$2+2,FALSE),VLOOKUP(AA10,index_cabasse!$B$5:$O$89,$D10+2,FALSE)))","v":"DDZ"},{"$f":"IF(AB10=\"\",\"\",VLOOKUP(AA10,index_cabasse!$B$5:$O$89,2,FALSE))","v":3861},68,{"$f":"IF(AD10=\"\",\"\",IF($C$2<>\"\",VLOOKUP(AD10,index_cabasse!$B$5:$O$89,$C$2+2,FALSE),VLOOKUP(AD10,index_cabasse!$B$5:$O$89,$D10+2,FALSE)))","v":"GGK"},{"$f":"IF(AE10=\"\",\"\",VLOOKUP(AD10,index_cabasse!$B$5:$O$89,2,FALSE))","v":7093},13,{"$f":"IF(AG10=\"\",\"\",IF($C$2<>\"\",VLOOKUP(AG10,index_cabasse!$B$5:$O$89,$C$2+2,FALSE),VLOOKUP(AG10,index_cabasse!$B$5:$O$89,$D10+2,FALSE)))","v":"EEF"},{"$f":"IF(AH10=\"\",\"\",VLOOKUP(AG10,index_cabasse!$B$5:$O$89,2,FALSE))","v":4911},null,null,9]
[8,{"$f":"IF(index_classe!F10=\"\",\"\",IF(index_classe!$K$1=\"NON\",index_classe!F10,IF(A11>index_classe!$P$1,\"\",\"Groupe 8\")))","v":"JEAON"},{"$f":"IF(index_classe!G10=\"\",\"\",IF(index_classe!$K$1=\"NON\",index_classe!G10,IF(A11>index_classe!$P$1,\"\",\">>>>>\")))","v":"Alexis"},10,null,62,{"$f":"IF(F11=\"\",\"\",IF($C$2<>\"\",VLOOKUP(F11,index_cabasse!$B$5:$O$89,$C$2+2,FALSE),VLOOKUP(F11,index_cabasse!$B$5:$O$89,$D11+2,FALSE)))","v":"GGD"},{"$f":"IF(G11=\"\",\"\",VLOOKUP(F11,index_cabasse!$B$5:$O$89,2,FALSE))","v":6283},1,{"$f":"IF(I11=\"\",\"\",IF($C$2<>\"\",VLOOKUP(I11,index_cabasse!$B$5:$O$89,$C$2+2,FALSE),VLOOKUP(I11,index_cabasse!$B$5:$O$89,$D11+2,FALSE)))","v":"DDS"},{"$f":"IF(J11=\"\",\"\",VLOOKUP(I11,index_cabasse!$B$5:$O$89,2,FALSE))","v":6841},53,{"$f":"IF(L11=\"\",\"\",IF($C$2<>\"\",VLOOKUP(L11,index_cabasse!$B$5:$O$89,$C$2+2,FALSE),VLOOKUP(L11,index_cabasse!$B$5:$O$89,$D11+2,FALSE)))","v":"FFU"},{"$f":"IF(M11=\"\",\"\",VLOOKUP(L11,index_cabasse!$B$5:$O$89,2,FALSE))","v":7851},52,{"$f":"IF(O11=\"\",\"\",IF($C$2<>\"\",VLOOKUP(O11,index_cabasse!$B$5:$O$89,$C$2+2,FALSE),VLOOKUP(O11,index_cabasse!$B$5:$O$89,$D11+2,FALSE)))","v":"FFT"},{"$f":"IF(P11=\"\",\"\",VLOOKUP(O11,index_cabasse!$B$5:$O$89,2,FALSE))","v":7641},68,{"$f":"IF(R11=\"\",\"\",IF($C$2<>\"\",VLOOKUP(R11,index_cabasse!$B$5:$O$89,$C$2+2,FALSE),VLOOKUP(R11,index_cabasse!$B$5:$O$89,$D11+2,FALSE)))","v":"GGK"},{"$f":"IF(S11=\"\",\"\",VLOOKUP(R11,index_cabasse!$B$5:$O$89,2,FALSE))","v":7093},13,{"$f":"IF(U11=\"\",\"\",IF($C$2<>\"\",VLOOKUP(U11,index_cabasse!$B$5:$O$89,$C$2+2,FALSE),VLOOKUP(U11,index_cabasse!$B$5:$O$89,$D11+2,FALSE)))","v":"EEF"},{"$f":"IF(V11=\"\",\"\",VLOOKUP(U11,index_cabasse!$B$5:$O$89,2,FALSE))","v":4911},79,{"$f":"IF(X11=\"\",\"\",IF($C$2<>\"\",VLOOKUP(X11,index_cabasse!$B$5:$O$89,$C$2+2,FALSE),VLOOKUP(X11,index_cabasse!$B$5:$O$89,$D11+2,FALSE)))","v":"GGV"},{"$f":"IF(Y11=\"\",\"\",VLOOKUP(X11,index_cabasse!$B$5:$O$89,2,FALSE))","v":7767},31,{"$f":"IF(AA11=\"\",\"\",IF($C$2<>\"\",VLOOKUP(AA11,index_cabasse!$B$5:$O$89,$C$2+2,FALSE),VLOOKUP(AA11,index_cabasse!$B$5:$O$89,$D11+2,FALSE)))","v":"EEX"},{"$f":"IF(AB11=\"\",\"\",VLOOKUP(AA11,index_cabasse!$B$5:$O$89,2,FALSE))","v":5735},16,{"$f":"IF(AD11=\"\",\"\",IF($C$2<>\"\",VLOOKUP(AD11,index_cabasse!$B$5:$O$89,$C$2+2,FALSE),VLOOKUP(AD11,index_cabasse!$B$5:$O$89,$D11+2,FALSE)))","v":"EEI"},{"$f":"IF(AE11=\"\",\"\",VLOOKUP(AD11,index_cabasse!$B$5:$O$89,2,FALSE))","v":4528},75,{"$f":"IF(AG11=\"\",\"\",IF($C$2<>\"\",VLOOKUP(AG11,index_cabasse!$B$5:$O$89,$C$2+2,FALSE),VLOOKUP(AG11,index_cabasse!$B$5:$O$89,$D11+2,FALSE)))","v":"GGR"},{"$f":"IF(AH11=\"\",\"\",VLOOKUP(AG11,index_cabasse!$B$5:$O$89,2,FALSE))","v":9951},null,null,10]
[9,{"$f":"IF(index_classe!F11=\"\",\"\",IF(index_classe!$K$1=\"NON\",index_classe!F11,IF(A12>index_classe!$P$1,\"\",\"Groupe 9\")))","v":"KOLA"},{"$f":"IF(index_classe!G11=\"\",\"\",IF(index_classe!$K$1=\"NON\",index_classe!G11,IF(A12>index_classe!$P$1,\"\",\">>>>>\")))","v":"Alexandre"},10,null,79,{"$f":"IF(F12=\"\",\"\",IF($C$2<>\"\",VLOOKUP(F12,index_cabasse!$B$5:$O$89,$C$2+2,FALSE),VLOOKUP(F12,index_cabasse!$B$5:$O$89,$D12+2,FALSE)))","v":"GGV"},{"$f":"IF(G12=\"\",\"\",VLOOKUP(F12,index_cabasse!$B$5:$O$89,2,FALSE))","v":7767},22,{"$f":"IF(I12=\"\",\"\",IF($C$2<>\"\",VLOOKUP(I12,index_cabasse!$B$5:$O$89,$C$2+2,FALSE),VLOOKUP(I12,index_cabasse!$B$5:$O$89,$D12+2,FALSE)))","v":"EEO"},{"$f":"IF(J12=\"\",\"\",VLOOKUP(I12,index_cabasse!$B$5:$O$89,2,FALSE))","v":5338},45,{"$f":"IF(L12=\"\",\"\",IF($C$2<>\"\",VLOOKUP(L12,index_cabasse!$B$5:$O$89,$C$2+2,FALSE),VLOOKUP(L12,index_cabasse!$B$5:$O$89,$D12+2,FALSE)))","v":"FFM"},{"$f":"IF(M12=\"\",\"\",VLOOKUP(L12,index_cabasse!$B$5:$O$89,2,FALSE))","v":7221},2,{"$f":"IF(O12=\"\",\"\",IF($C$2<>\"\",VLOOKUP(O12,index_cabasse!$B$5:$O$89,$C$2+2,FALSE),VLOOKUP(O12,index_cabasse!$B$5:$O$89,$D12+2,FALSE)))","v":"DDT"},{"$f":"IF(P12=\"\",\"\",VLOOKUP(O12,index_cabasse!$B$5:$O$89,2,FALSE))","v":6683},4,{"$f":"IF(R12=\"\",\"\",IF($C$2<>\"\",VLOOKUP(R12,index_cabasse!$B$5:$O$89,$C$2+2,FALSE),VLOOKUP(R12,index_cabasse!$B$5:$O$89,$D12+2,FALSE)))","v":"DDV"},{"$f":"IF(S12=\"\",\"\",VLOOKUP(R12,index_cabasse!$B$5:$O$89,2,FALSE))","v":3021},60,{"$f":"IF(U12=\"\",\"\",IF($C$2<>\"\",VLOOKUP(U12,index_cabasse!$B$5:$O$89,$C$2+2,FALSE),VLOOKUP(U12,index_cabasse!$B$5:$O$89,$D12+2,FALSE)))","v":"GGB"},{"$f":"IF(V12=\"\",\"\",VLOOKUP(U12,index_cabasse!$B$5:$O$89,2,FALSE))","v":9321},32,{"$f":"IF(X12=\"\",\"\",IF($C$2<>\"\",VLOOKUP(X12,index_cabasse!$B$5:$O$89,$C$2+2,FALSE),VLOOKUP(X12,index_cabasse!$B$5:$O$89,$D12+2,FALSE)))","v":"EEY"},{"$f":"IF(Y12=\"\",\"\",VLOOKUP(X12,index_cabasse!$B$5:$O$89,2,FALSE))","v":5577},39,{"$f":"IF(AA12=\"\",\"\",IF($C$2<>\"\",VLOOKUP(AA12,index_cabasse!$B$5:$O$89,$C$2+2,FALSE),VLOOKUP(AA12,index_cabasse!$B$5:$O$89,$D12+2,FALSE)))","v":"FFG"},{"$f":"IF(AB12=\"\",\"\",VLOOKUP(AA12,index_cabasse!$B$5:$O$89,2,FALSE))","v":6171},8,{"$f":"IF(AD12=\"\",\"\",IF($C$2<>\"\",VLOOKUP(AD12,index_cabasse!$B$5:$O$89,$C$2+2,FALSE),VLOOKUP(AD12,index_cabasse!$B$5:$O$89,$D12+2,FALSE)))","v":"DDZ"},{"$f":"IF(AE12=\"\",\"\",VLOOKUP(AD12,index_cabasse!$B$5:$O$89,2,FALSE))","v":3861},22,{"$f":"IF(AG12=\"\",\"\",IF($C$2<>\"\",VLOOKUP(AG12,index_cabasse!$B$5:$O$89,$C$2+2,FALSE),VLOOKUP(AG12,index_cabasse!$B$5:$O$89,$D12+2,FALSE)))","v":"EEO"},{"$f":"IF(AH12=\"\",\"\",VLOOKUP(AG12,index_cabasse!$B$5:$O$89,2,FALSE))","v":5338},null,null,11]
[10,{"$f":"IF(index_classe!F12=\"\",\"\",IF(index_classe!$K$1=\"NON\",index_classe!F12,IF(A13>index_classe!$P$1,\"\",\"Groupe 10\")))","v":"LERHE"},{"$f":"IF(index_classe!G12=\"\",\"\",IF(index_classe!$K$1=\"NON\",index_classe!G12,IF(A13>index_classe!$P$1,\"\",\">>>>>\")))","v":"Melvin"},10,null,70,{"$f":"IF(F13=\"\",\"\",IF($C$2<>\"\",VLOOKUP(F13,index_cabasse!$B$5:$O$89,$C$2+2,FALSE),VLOOKUP(F13,index_cabasse!$B$5:$O$89,$D13+2,FALSE)))","v":"GGM"},{"$f":"IF(G13=\"\",\"\",VLOOKUP(F13,index_cabasse!$B$5:$O$89,2,FALSE))","v":4155},38,{"$f":"IF(I13=\"\",\"\",IF($C$2<>\"\",VLOOKUP(I13,index_cabasse!$B$5:$O$89,$C$2+2,FALSE),VLOOKUP(I13,index_cabasse!$B$5:$O$89,$D13+2,FALSE)))","v":"FFE"},{"$f":"IF(J13=\"\",\"\",VLOOKUP(I13,index_cabasse!$B$5:$O$89,2,FALSE))","v":5961},28,{"$f":"IF(L13=\"\",\"\",IF($C$2<>\"\",VLOOKUP(L13,index_cabasse!$B$5:$O$89,$C$2+2,FALSE),VLOOKUP(L13,index_cabasse!$B$5:$O$89,$D13+2,FALSE)))","v":"EEU"},{"$f":"IF(M13=\"\",\"\",VLOOKUP(L13,index_cabasse!$B$5:$O$89,2,FALSE))","v":6148},27,{"$f":"IF(O13=\"\",\"\",IF($C$2<>\"\",VLOOKUP(O13,index_cabasse!$B$5:$O$89,$C$2+2,FALSE),VLOOKUP(O13,index_cabasse!$B$5:$O$89,$D13+2,FALSE)))","v":"EET"},{"$f":"IF(P13=\"\",\"\",VLOOKUP(O13,index_cabasse!$B$5:$O$89,2,FALSE))","v":6013},5,{"$f":"IF(R13=\"\",\"\",IF($C$2<>\"\",VLOOKUP(R13,index_cabasse!$B$5:$O$89,$C$2+2,FALSE),VLOOKUP(R13,index_cabasse!$B$5:$O$89,$D13+2,FALSE)))","v":"DW"},{"$f":"IF(S13=\"\",\"\",VLOOKUP(R13,index_cabasse!$B$5:$O$89,2,FALSE))","v":3231},21,{"$f":"IF(U13=\"\",\"\",IF($C$2<>\"\",VLOOKUP(U13,index_cabasse!$B$5:$O$89,$C$2+2,FALSE),VLOOKUP(U13,index_cabasse!$B$5:$O$89,$D13+2,FALSE)))","v":"EEN"},{"$f":"IF(V13=\"\",\"\",VLOOKUP(U13,index_cabasse!$B$5:$O$89,2,FALSE))","v":5203},37,{"$f":"IF(X13=\"\",\"\",IF($C$2<>\"\",VLOOKUP(X13,index_cabasse!$B$5:$O$89,$C$2+2,FALSE),VLOOKUP(X13,index_cabasse!$B$5:$O$89,$D13+2,FALSE)))","v":"FFD"},{"$f":"IF(Y13=\"\",\"\",VLOOKUP(X13,index_cabasse!$B$5:$O$89,2,FALSE))","v":5751},39,{"$f":"IF(AA13=\"\",\"\",IF($C$2<>\"\",VLOOKUP(AA13,index_cabasse!$B$5:$O$89,$C$2+2,FALSE),VLOOKUP(AA13,index_cabasse!$B$5:$O$89,$D13+2,FALSE)))","v":"FFG"},{"$f":"IF(AB13=\"\",\"\",VLOOKUP(AA13,index_cabasse!$B$5:$O$89,2,FALSE))","v":6171},84,{"$f":"IF(AD13=\"\",\"\",IF($C$2<>\"\",VLOOKUP(AD13,index_cabasse!$B$5:$O$89,$C$2+2,FALSE),VLOOKUP(AD13,index_cabasse!$B$5:$O$89,$D13+2,FALSE)))","v":"HHA"},{"$f":"IF(AE13=\"\",\"\",VLOOKUP(AD13,index_cabasse!$B$5:$O$89,2,FALSE))","v":6675},49,{"$f":"IF(AG13=\"\",\"\",IF($C$2<>\"\",VLOOKUP(AG13,index_cabasse!$B$5:$O$89,$C$2+2,FALSE),VLOOKUP(AG13,index_cabasse!$B$5:$O$89,$D13+2,FALSE)))","v":"FFQ"},{"$f":"IF(AH13=\"\",\"\",VLOOKUP(AG13,index_cabasse!$B$5:$O$89,2,FALSE))","v":4787},null,null,12]
[11,{"$f":"IF(index_classe!F13=\"\",\"\",IF(index_classe!$K$1=\"NON\",index_classe!F13,IF(A14>index_classe!$P$1,\"\",\"Groupe 11\")))","v":"LOE"},{"$f":"IF(index_classe!G13=\"\",\"\",IF(index_classe!$K$1=\"NON\",index_classe!G13,IF(A14>index_classe!$P$1,\"\",\">>>>>\")))","v":"Mickael"},10,null,40,{"$f":"IF(F14=\"\",\"\",IF($C$2<>\"\",VLOOKUP(F14,index_cabasse!$B$5:$O$89,$C$2+2,FALSE),VLOOKUP(F14,index_cabasse!$B$5:$O$89,$D14+2,FALSE)))","v":"FFH"},{"$f":"IF(G14=\"\",\"\",VLOOKUP(F14,index_cabasse!$B$5:$O$89,2,FALSE))","v":6381},3,{"$f":"IF(I14=\"\",\"\",IF($C$2<>\"\",VLOOKUP(I14,index_cabasse!$B$5:$O$89,$C$2+2,FALSE),VLOOKUP(I14,index_cabasse!$B$5:$O$89,$D14+2,FALSE)))","v":"DDU"},{"$f":"IF(J14=\"\",\"\",VLOOKUP(I14,index_cabasse!$B$5:$O$89,2,FALSE))","v":6525},77,{"$f":"IF(L14=\"\",\"\",IF($C$2<>\"\",VLOOKUP(L14,index_cabasse!$B$5:$O$89,$C$2+2,FALSE),VLOOKUP(L14,index_cabasse!$B$5:$O$89,$D14+2,FALSE)))","v":"GGT"},{"$f":"IF(M14=\"\",\"\",VLOOKUP(L14,index_cabasse!$B$5:$O$89,2,FALSE))","v":8859},71,{"$f":"IF(O14=\"\",\"\",IF($C$2<>\"\",VLOOKUP(O14,index_cabasse!$B$5:$O$89,$C$2+2,FALSE),VLOOKUP(O14,index_cabasse!$B$5:$O$89,$D14+2,FALSE)))","v":"GGN"},{"$f":"IF(P14=\"\",\"\",VLOOKUP(O14,index_cabasse!$B$5:$O$89,2,FALSE))","v":9531},77,{"$f":"IF(R14=\"\",\"\",IF($C$2<>\"\",VLOOKUP(R14,index_cabasse!$B$5:$O$89,$C$2+2,FALSE),VLOOKUP(R14,index_cabasse!$B$5:$O$89,$D14+2,FALSE)))","v":"GGT"},{"$f":"IF(S14=\"\",\"\",VLOOKUP(R14,index_cabasse!$B$5:$O$89,2,FALSE))","v":8859},75,{"$f":"IF(U14=\"\",\"\",IF($C$2<>\"\",VLOOKUP(U14,index_cabasse!$B$5:$O$89,$C$2+2,FALSE),VLOOKUP(U14,index_cabasse!$B$5:$O$89,$D14+2,FALSE)))","v":"GGR"},{"$f":"IF(V14=\"\",\"\",VLOOKUP(U14,index_cabasse!$B$5:$O$89,2,FALSE))","v":9951},39,{"$f":"IF(X14=\"\",\"\",IF($C$2<>\"\",VLOOKUP(X14,index_cabasse!$B$5:$O$89,$C$2+2,FALSE),VLOOKUP(X14,index_cabasse!$B$5:$O$89,$D14+2,FALSE)))","v":"FFG"},{"$f":"IF(Y14=\"\",\"\",VLOOKUP(X14,index_cabasse!$B$5:$O$89,2,FALSE))","v":6171},32,{"$f":"IF(AA14=\"\",\"\",IF($C$2<>\"\",VLOOKUP(AA14,index_cabasse!$B$5:$O$89,$C$2+2,FALSE),VLOOKUP(AA14,index_cabasse!$B$5:$O$89,$D14+2,FALSE)))","v":"EEY"},{"$f":"IF(AB14=\"\",\"\",VLOOKUP(AA14,index_cabasse!$B$5:$O$89,2,FALSE))","v":5577},19,{"$f":"IF(AD14=\"\",\"\",IF($C$2<>\"\",VLOOKUP(AD14,index_cabasse!$B$5:$O$89,$C$2+2,FALSE),VLOOKUP(AD14,index_cabasse!$B$5:$O$89,$D14+2,FALSE)))","v":"EEL"},{"$f":"IF(AE14=\"\",\"\",VLOOKUP(AD14,index_cabasse!$B$5:$O$89,2,FALSE))","v":4933},55,{"$f":"IF(AG14=\"\",\"\",IF($C$2<>\"\",VLOOKUP(AG14,index_cabasse!$B$5:$O$89,$C$2+2,FALSE),VLOOKUP(AG14,index_cabasse!$B$5:$O$89,$D14+2,FALSE)))","v":"FFW"},{"$f":"IF(AH14=\"\",\"\",VLOOKUP(AG14,index_cabasse!$B$5:$O$89,2,FALSE))","v":8271}]
[12,{"$f":"IF(index_classe!F14=\"\",\"\",IF(index_classe!$K$1=\"NON\",index_classe!F14,IF(A15>index_classe!$P$1,\"\",\"Groupe 12\")))","v":"MORET"},{"$f":"IF(index_classe!G14=\"\",\"\",IF(index_classe!$K$1=\"NON\",index_classe!G14,IF(A15>index_classe!$P$1,\"\",\">>>>>\")))","v":"Alice"},10,null,54,{"$f":"IF(F15=\"\",\"\",IF($C$2<>\"\",VLOOKUP(F15,index_cabasse!$B$5:$O$89,$C$2+2,FALSE),VLOOKUP(F15,index_cabasse!$B$5:$O$89,$D15+2,FALSE)))","v":"FFV"},{"$f":"IF(G15=\"\",\"\",VLOOKUP(F15,index_cabasse!$B$5:$O$89,2,FALSE))","v":8061},30,{"$f":"IF(I15=\"\",\"\",IF($C$2<>\"\",VLOOKUP(I15,index_cabasse!$B$5:$O$89,$C$2+2,FALSE),VLOOKUP(I15,index_cabasse!$B$5:$O$89,$D15+2,FALSE)))","v":"EEW"},{"$f":"IF(J15=\"\",\"\",VLOOKUP(I15,index_cabasse!$B$5:$O$89,2,FALSE))","v":5893},13,{"$f":"IF(L15=\"\",\"\",IF($C$2<>\"\",VLOOKUP(L15,index_cabasse!$B$5:$O$89,$C$2+2,FALSE),VLOOKUP(L15,index_cabasse!$B$5:$O$89,$D15+2,FALSE)))","v":"EEF"},{"$f":"IF(M15=\"\",\"\",VLOOKUP(L15,index_cabasse!$B$5:$O$89,2,FALSE))","v":4911},33,{"$f":"IF(O15=\"\",\"\",IF($C$2<>\"\",VLOOKUP(O15,index_cabasse!$B$5:$O$89,$C$2+2,FALSE),VLOOKUP(O15,index_cabasse!$B$5:$O$89,$D15+2,FALSE)))","v":"EEZ"},{"$f":"IF(P15=\"\",\"\",VLOOKUP(O15,index_cabasse!$B$5:$O$89,2,FALSE))","v":5121},6,{"$f":"IF(R15=\"\",\"\",IF($C$2<>\"\",VLOOKUP(R15,index_cabasse!$B$5:$O$89,$C$2+2,FALSE),VLOOKUP(R15,index_cabasse!$B$5:$O$89,$D15+2,FALSE)))","v":"DDX"},{"$f":"IF(S15=\"\",\"\",VLOOKUP(R15,index_cabasse!$B$5:$O$89,2,FALSE))","v":3441},32,{"$f":"IF(U15=\"\",\"\",IF($C$2<>\"\",VLOOKUP(U15,index_cabasse!$B$5:$O$89,$C$2+2,FALSE),VLOOKUP(U15,index_cabasse!$B$5:$O$89,$D15+2,FALSE)))","v":"EEY"},{"$f":"IF(V15=\"\",\"\",VLOOKUP(U15,index_cabasse!$B$5:$O$89,2,FALSE))","v":5577},6,{"$f":"IF(X15=\"\",\"\",IF($C$2<>\"\",VLOOKUP(X15,index_cabasse!$B$5:$O$89,$C$2+2,FALSE),VLOOKUP(X15,index_cabasse!$B$5:$O$89,$D15+2,FALSE)))","v":"DDX"},{"$f":"IF(Y15=\"\",\"\",VLOOKUP(X15,index_cabasse!$B$5:$O$89,2,FALSE))","v":3441},53,{"$f":"IF(AA15=\"\",\"\",IF($C$2<>\"\",VLOOKUP(AA15,index_cabasse!$B$5:$O$89,$C$2+2,FALSE),VLOOKUP(AA15,index_cabasse!$B$5:$O$89,$D15+2,FALSE)))","v":"FFU"},{"$f":"IF(AB15=\"\",\"\",VLOOKUP(AA15,index_cabasse!$B$5:$O$89,2,FALSE))","v":7851},72,{"$f":"IF(AD15=\"\",\"\",IF($C$2<>\"\",VLOOKUP(AD15,index_cabasse!$B$5:$O$89,$C$2+2,FALSE),VLOOKUP(AD15,index_cabasse!$B$5:$O$89,$D15+2,FALSE)))","v":"GGO"},{"$f":"IF(AE15=\"\",\"\",VLOOKUP(AD15,index_cabasse!$B$5:$O$89,2,FALSE))","v":3997},9,{"$f":"IF(AG15=\"\",\"\",IF($C$2<>\"\",VLOOKUP(AG15,index_cabasse!$B$5:$O$89,$C$2+2,FALSE),VLOOKUP(AG15,index_cabasse!$B$5:$O$89,$D15+2,FALSE)))","v":"EEA"},{"$f":"IF(AH15=\"\",\"\",VLOOKUP(AG15,index_cabasse!$B$5:$O$89,2,FALSE))","v":4071}]
[13,{"$f":"IF(index_classe!F15=\"\",\"\",IF(index_classe!$K$1=\"NON\",index_classe!F15,IF(A16>index_classe!$P$1,\"\",\"Groupe 13\")))","v":"NICAU"},{"$f":"IF(index_classe!G15=\"\",\"\",IF(index_classe!$K$1=\"NON\",index_classe!G15,IF(A16>index_classe!$P$1,\"\",\">>>>>\")))","v":"Romain"},10,null,9,{"$f":"IF(F16=\"\",\"\",IF($C$2<>\"\",VLOOKUP(F16,index_cabasse!$B$5:$O$89,$C$2+2,FALSE),VLOOKUP(F16,index_cabasse!$B$5:$O$89,$D16+2,FALSE)))","v":"EEA"},{"$f":"IF(G16=\"\",\"\",VLOOKUP(F16,index_cabasse!$B$5:$O$89,2,FALSE))","v":4071},10,{"$f":"IF(I16=\"\",\"\",IF($C$2<>\"\",VLOOKUP(I16,index_cabasse!$B$5:$O$89,$C$2+2,FALSE),VLOOKUP(I16,index_cabasse!$B$5:$O$89,$D16+2,FALSE)))","v":"EEB"},{"$f":"IF(J16=\"\",\"\",VLOOKUP(I16,index_cabasse!$B$5:$O$89,2,FALSE))","v":4281},66,{"$f":"IF(L16=\"\",\"\",IF($C$2<>\"\",VLOOKUP(L16,index_cabasse!$B$5:$O$89,$C$2+2,FALSE),VLOOKUP(L16,index_cabasse!$B$5:$O$89,$D16+2,FALSE)))","v":"GGI"},{"$f":"IF(M16=\"\",\"\",VLOOKUP(L16,index_cabasse!$B$5:$O$89,2,FALSE))","v":6823},49,{"$f":"IF(O16=\"\",\"\",IF($C$2<>\"\",VLOOKUP(O16,index_cabasse!$B$5:$O$89,$C$2+2,FALSE),VLOOKUP(O16,index_cabasse!$B$5:$O$89,$D16+2,FALSE)))","v":"FFQ"},{"$f":"IF(P16=\"\",\"\",VLOOKUP(O16,index_cabasse!$B$5:$O$89,2,FALSE))","v":4787},66,{"$f":"IF(R16=\"\",\"\",IF($C$2<>\"\",VLOOKUP(R16,index_cabasse!$B$5:$O$89,$C$2+2,FALSE),VLOOKUP(R16,index_cabasse!$B$5:$O$89,$D16+2,FALSE)))","v":"GGI"},{"$f":"IF(S16=\"\",\"\",VLOOKUP(R16,index_cabasse!$B$5:$O$89,2,FALSE))","v":6823},39,{"$f":"IF(U16=\"\",\"\",IF($C$2<>\"\",VLOOKUP(U16,index_cabasse!$B$5:$O$89,$C$2+2,FALSE),VLOOKUP(U16,index_cabasse!$B$5:$O$89,$D16+2,FALSE)))","v":"FFG"},{"$f":"IF(V16=\"\",\"\",VLOOKUP(U16,index_cabasse!$B$5:$O$89,2,FALSE))","v":6171},80,{"$f":"IF(X16=\"\",\"\",IF($C$2<>\"\",VLOOKUP(X16,index_cabasse!$B$5:$O$89,$C$2+2,FALSE),VLOOKUP(X16,index_cabasse!$B$5:$O$89,$D16+2,FALSE)))","v":"GGW"},{"$f":"IF(Y16=\"\",\"\",VLOOKUP(X16,index_cabasse!$B$5:$O$89,2,FALSE))","v":7221},44,{"$f":"IF(AA16=\"\",\"\",IF($C$2<>\"\",VLOOKUP(AA16,index_cabasse!$B$5:$O$89,$C$2+2,FALSE),VLOOKUP(AA16,index_cabasse!$B$5:$O$89,$D16+2,FALSE)))","v":"FFL"},{"$f":"IF(AB16=\"\",\"\",VLOOKUP(AA16,index_cabasse!$B$5:$O$89,2,FALSE))","v":5261},48,{"$f":"IF(AD16=\"\",\"\",IF($C$2<>\"\",VLOOKUP(AD16,index_cabasse!$B$5:$O$89,$C$2+2,FALSE),VLOOKUP(AD16,index_cabasse!$B$5:$O$89,$D16+2,FALSE)))","v":"FFP"},{"$f":"IF(AE16=\"\",\"\",VLOOKUP(AD16,index_cabasse!$B$5:$O$89,2,FALSE))","v":4945},61,{"$f":"IF(AG16=\"\",\"\",IF($C$2<>\"\",VLOOKUP(AG16,index_cabasse!$B$5:$O$89,$C$2+2,FALSE),VLOOKUP(AG16,index_cabasse!$B$5:$O$89,$D16+2,FALSE)))","v":"GGC"},{"$f":"IF(AH16=\"\",\"\",VLOOKUP(AG16,index_cabasse!$B$5:$O$89,2,FALSE))","v":4313}]
[14,{"$f":"IF(index_classe!F16=\"\",\"\",IF(index_classe!$K$1=\"NON\",index_classe!F16,IF(A17>index_classe!$P$1,\"\",\"Groupe 14\")))","v":"RUI"},{"$f":"IF(index_classe!G16=\"\",\"\",IF(index_classe!$K$1=\"NON\",index_classe!G16,IF(A17>index_classe!$P$1,\"\",\">>>>>\")))","v":"Desiderio"},10,null,3,{"$f":"IF(F17=\"\",\"\",IF($C$2<>\"\",VLOOKUP(F17,index_cabasse!$B$5:$O$89,$C$2+2,FALSE),VLOOKUP(F17,index_cabasse!$B$5:$O$89,$D17+2,FALSE)))","v":"DDU"},{"$f":"IF(G17=\"\",\"\",VLOOKUP(F17,index_cabasse!$B$5:$O$89,2,FALSE))","v":6525},6,{"$f":"IF(I17=\"\",\"\",IF($C$2<>\"\",VLOOKUP(I17,index_cabasse!$B$5:$O$89,$C$2+2,FALSE),VLOOKUP(I17,index_cabasse!$B$5:$O$89,$D17+2,FALSE)))","v":"DDX"},{"$f":"IF(J17=\"\",\"\",VLOOKUP(I17,index_cabasse!$B$5:$O$89,2,FALSE))","v":3441},9,{"$f":"IF(L17=\"\",\"\",IF($C$2<>\"\",VLOOKUP(L17,index_cabasse!$B$5:$O$89,$C$2+2,FALSE),VLOOKUP(L17,index_cabasse!$B$5:$O$89,$D17+2,FALSE)))","v":"EEA"},{"$f":"IF(M17=\"\",\"\",VLOOKUP(L17,index_cabasse!$B$5:$O$89,2,FALSE))","v":4071},80,{"$f":"IF(O17=\"\",\"\",IF($C$2<>\"\",VLOOKUP(O17,index_cabasse!$B$5:$O$89,$C$2+2,FALSE),VLOOKUP(O17,index_cabasse!$B$5:$O$89,$D17+2,FALSE)))","v":"GGW"},{"$f":"IF(P17=\"\",\"\",VLOOKUP(O17,index_cabasse!$B$5:$O$89,2,FALSE))","v":7221},39,{"$f":"IF(R17=\"\",\"\",IF($C$2<>\"\",VLOOKUP(R17,index_cabasse!$B$5:$O$89,$C$2+2,FALSE),VLOOKUP(R17,index_cabasse!$B$5:$O$89,$D17+2,FALSE)))","v":"FFG"},{"$f":"IF(S17=\"\",\"\",VLOOKUP(R17,index_cabasse!$B$5:$O$89,2,FALSE))","v":6171},14,{"$f":"IF(U17=\"\",\"\",IF($C$2<>\"\",VLOOKUP(U17,index_cabasse!$B$5:$O$89,$C$2+2,FALSE),VLOOKUP(U17,index_cabasse!$B$5:$O$89,$D17+2,FALSE)))","v":"EEG"},{"$f":"IF(V17=\"\",\"\",VLOOKUP(U17,index_cabasse!$B$5:$O$89,2,FALSE))","v":6367},14,{"$f":"IF(X17=\"\",\"\",IF($C$2<>\"\",VLOOKUP(X17,index_cabasse!$B$5:$O$89,$C$2+2,FALSE),VLOOKUP(X17,index_cabasse!$B$5:$O$89,$D17+2,FALSE)))","v":"EEG"},{"$f":"IF(Y17=\"\",\"\",VLOOKUP(X17,index_cabasse!$B$5:$O$89,2,FALSE))","v":6367},67,{"$f":"IF(AA17=\"\",\"\",IF($C$2<>\"\",VLOOKUP(AA17,index_cabasse!$B$5:$O$89,$C$2+2,FALSE),VLOOKUP(AA17,index_cabasse!$B$5:$O$89,$D17+2,FALSE)))","v":"GGJ"},{"$f":"IF(AB17=\"\",\"\",VLOOKUP(AA17,index_cabasse!$B$5:$O$89,2,FALSE))","v":6958},25,{"$f":"IF(AD17=\"\",\"\",IF($C$2<>\"\",VLOOKUP(AD17,index_cabasse!$B$5:$O$89,$C$2+2,FALSE),VLOOKUP(AD17,index_cabasse!$B$5:$O$89,$D17+2,FALSE)))","v":"EER"},{"$f":"IF(AE17=\"\",\"\",VLOOKUP(AD17,index_cabasse!$B$5:$O$89,2,FALSE))","v":5743},77,{"$f":"IF(AG17=\"\",\"\",IF($C$2<>\"\",VLOOKUP(AG17,index_cabasse!$B$5:$O$89,$C$2+2,FALSE),VLOOKUP(AG17,index_cabasse!$B$5:$O$89,$D17+2,FALSE)))","v":"GGT"},{"$f":"IF(AH17=\"\",\"\",VLOOKUP(AG17,index_cabasse!$B$5:$O$89,2,FALSE))","v":8859}]
[15,{"$f":"IF(index_classe!F17=\"\",\"\",IF(index_classe!$K$1=\"NON\",index_classe!F17,IF(A18>index_classe!$P$1,\"\",\"Groupe 15\")))","v":"RI"},{"$f":"IF(index_classe!G17=\"\",\"\",IF(index_classe!$K$1=\"NON\",index_classe!G17,IF(A18>index_classe!$P$1,\"\",\">>>>>\")))","v":"Niko"},10,null,26,{"$f":"IF(F18=\"\",\"\",IF($C$2<>\"\",VLOOKUP(F18,index_cabasse!$B$5:$O$89,$C$2+2,FALSE),VLOOKUP(F18,index_cabasse!$B$5:$O$89,$D18+2,FALSE)))","v":"EES"},{"$f":"IF(G18=\"\",\"\",VLOOKUP(F18,index_cabasse!$B$5:$O$89,2,FALSE))","v":5878},43,{"$f":"IF(I18=\"\",\"\",IF($C$2<>\"\",VLOOKUP(I18,index_cabasse!$B$5:$O$89,$C$2+2,FALSE),VLOOKUP(I18,index_cabasse!$B$5:$O$89,$D18+2,FALSE)))","v":"FFK"},{"$f":"IF(J18=\"\",\"\",VLOOKUP(I18,index_cabasse!$B$5:$O$89,2,FALSE))","v":7011},49,{"$f":"IF(L18=\"\",\"\",IF($C$2<>\"\",VLOOKUP(L18,index_cabasse!$B$5:$O$89,$C$2+2,FALSE),VLOOKUP(L18,index_cabasse!$B$5:$O$89,$D18+2,FALSE)))","v":"FFQ"},{"$f":"IF(M18=\"\",\"\",VLOOKUP(L18,index_cabasse!$B$5:$O$89,2,FALSE))","v":4787},12,{"$f":"IF(O18=\"\",\"\",IF($C$2<>\"\",VLOOKUP(O18,index_cabasse!$B$5:$O$89,$C$2+2,FALSE),VLOOKUP(O18,index_cabasse!$B$5:$O$89,$D18+2,FALSE)))","v":"EED"},{"$f":"IF(P18=\"\",\"\",VLOOKUP(O18,index_cabasse!$B$5:$O$89,2,FALSE))","v":4701},71,{"$f":"IF(R18=\"\",\"\",IF($C$2<>\"\",VLOOKUP(R18,index_cabasse!$B$5:$O$89,$C$2+2,FALSE),VLOOKUP(R18,index_cabasse!$B$5:$O$89,$D18+2,FALSE)))","v":"GGN"},{"$f":"IF(S18=\"\",\"\",VLOOKUP(R18,index_cabasse!$B$5:$O$89,2,FALSE))","v":9531},41,{"$f":"IF(U18=\"\",\"\",IF($C$2<>\"\",VLOOKUP(U18,index_cabasse!$B$5:$O$89,$C$2+2,FALSE),VLOOKUP(U18,index_cabasse!$B$5:$O$89,$D18+2,FALSE)))","v":"FFI"},{"$f":"IF(V18=\"\",\"\",VLOOKUP(U18,index_cabasse!$B$5:$O$89,2,FALSE))","v":6591},41,{"$f":"IF(X18=\"\",\"\",IF($C$2<>\"\",VLOOKUP(X18,index_cabasse!$B$5:$O$89,$C$2+2,FALSE),VLOOKUP(X18,index_cabasse!$B$5:$O$89,$D18+2,FALSE)))","v":"FFI"},{"$f":"IF(Y18=\"\",\"\",VLOOKUP(X18,index_cabasse!$B$5:$O$89,2,FALSE))","v":6591},57,{"$f":"IF(AA18=\"\",\"\",IF($C$2<>\"\",VLOOKUP(AA18,index_cabasse!$B$5:$O$89,$C$2+2,FALSE),VLOOKUP(AA18,index_cabasse!$B$5:$O$89,$D18+2,FALSE)))","v":"FFY"},{"$f":"IF(AB18=\"\",\"\",VLOOKUP(AA18,index_cabasse!$B$5:$O$89,2,FALSE))","v":8691},58,{"$f":"IF(AD18=\"\",\"\",IF($C$2<>\"\",VLOOKUP(AD18,index_cabasse!$B$5:$O$89,$C$2+2,FALSE),VLOOKUP(AD18,index_cabasse!$B$5:$O$89,$D18+2,FALSE)))","v":"FFZ"},{"$f":"IF(AE18=\"\",\"\",VLOOKUP(AD18,index_cabasse!$B$5:$O$89,2,FALSE))","v":8901},48,{"$f":"IF(AG18=\"\",\"\",IF($C$2<>\"\",VLOOKUP(AG18,index_cabasse!$B$5:$O$89,$C$2+2,FALSE),VLOOKUP(AG18,index_cabasse!$B$5:$O$89,$D18+2,FALSE)))","v":"FFP"},{"$f":"IF(AH18=\"\",\"\",VLOOKUP(AG18,index_cabasse!$B$5:$O$89,2,FALSE))","v":4945}]
[16,{"$f":"IF(index_classe!F18=\"\",\"\",IF(index_classe!$K$1=\"NON\",index_classe!F18,IF(A19>index_classe!$P$1,\"\",\"Groupe 16\")))","v":"SAL"},{"$f":"IF(index_classe!G18=\"\",\"\",IF(index_classe!$K$1=\"NON\",index_classe!G18,IF(A19>index_classe!$P$1,\"\",\">>>>>\")))","v":"Calvin"},10,null,52,{"$f":"IF(F19=\"\",\"\",IF($C$2<>\"\",VLOOKUP(F19,index_cabasse!$B$5:$O$89,$C$2+2,FALSE),VLOOKUP(F19,index_cabasse!$B$5:$O$89,$D19+2,FALSE)))","v":"FFT"},{"$f":"IF(G19=\"\",\"\",VLOOKUP(F19,index_cabasse!$B$5:$O$89,2,FALSE))","v":7641},30,{"$f":"IF(I19=\"\",\"\",IF($C$2<>\"\",VLOOKUP(I19,index_cabasse!$B$5:$O$89,$C$2+2,FALSE),VLOOKUP(I19,index_cabasse!$B$5:$O$89,$D19+2,FALSE)))","v":"EEW"},{"$f":"IF(J19=\"\",\"\",VLOOKUP(I19,index_cabasse!$B$5:$O$89,2,FALSE))","v":5893},84,{"$f":"IF(L19=\"\",\"\",IF($C$2<>\"\",VLOOKUP(L19,index_cabasse!$B$5:$O$89,$C$2+2,FALSE),VLOOKUP(L19,index_cabasse!$B$5:$O$89,$D19+2,FALSE)))","v":"HHA"},{"$f":"IF(M19=\"\",\"\",VLOOKUP(L19,index_cabasse!$B$5:$O$89,2,FALSE))","v":6675},83,{"$f":"IF(O19=\"\",\"\",IF($C$2<>\"\",VLOOKUP(O19,index_cabasse!$B$5:$O$89,$C$2+2,FALSE),VLOOKUP(O19,index_cabasse!$B$5:$O$89,$D19+2,FALSE)))","v":"GGZ"},{"$f":"IF(P19=\"\",\"\",VLOOKUP(O19,index_cabasse!$B$5:$O$89,2,FALSE))","v":3365},9,{"$f":"IF(R19=\"\",\"\",IF($C$2<>\"\",VLOOKUP(R19,index_cabasse!$B$5:$O$89,$C$2+2,FALSE),VLOOKUP(R19,index_cabasse!$B$5:$O$89,$D19+2,FALSE)))","v":"EEA"},{"$f":"IF(S19=\"\",\"\",VLOOKUP(R19,index_cabasse!$B$5:$O$89,2,FALSE))","v":4071},55,{"$f":"IF(U19=\"\",\"\",IF($C$2<>\"\",VLOOKUP(U19,index_cabasse!$B$5:$O$89,$C$2+2,FALSE),VLOOKUP(U19,index_cabasse!$B$5:$O$89,$D19+2,FALSE)))","v":"FFW"},{"$f":"IF(V19=\"\",\"\",VLOOKUP(U19,index_cabasse!$B$5:$O$89,2,FALSE))","v":8271},15,{"$f":"IF(X19=\"\",\"\",IF($C$2<>\"\",VLOOKUP(X19,index_cabasse!$B$5:$O$89,$C$2+2,FALSE),VLOOKUP(X19,index_cabasse!$B$5:$O$89,$D19+2,FALSE)))","v":"EEH"},{"$f":"IF(Y19=\"\",\"\",VLOOKUP(X19,index_cabasse!$B$5:$O$89,2,FALSE))","v":6209},37,{"$f":"IF(AA19=\"\",\"\",IF($C$2<>\"\",VLOOKUP(AA19,index_cabasse!$B$5:$O$89,$C$2+2,FALSE),VLOOKUP(AA19,index_cabasse!$B$5:$O$89,$D19+2,FALSE)))","v":"FFD"},{"$f":"IF(AB19=\"\",\"\",VLOOKUP(AA19,index_cabasse!$B$5:$O$89,2,FALSE))","v":5751},70,{"$f":"IF(AD19=\"\",\"\",IF($C$2<>\"\",VLOOKUP(AD19,index_cabasse!$B$5:$O$89,$C$2+2,FALSE),VLOOKUP(AD19,index_cabasse!$B$5:$O$89,$D19+2,FALSE)))","v":"GGM"},{"$f":"IF(AE19=\"\",\"\",VLOOKUP(AD19,index_cabasse!$B$5:$O$89,2,FALSE))","v":4155},1,{"$f":"IF(AG19=\"\",\"\",IF($C$2<>\"\",VLOOKUP(AG19,index_cabasse!$B$5:$O$89,$C$2+2,FALSE),VLOOKUP(AG19,index_cabasse!$B$5:$O$89,$D19+2,FALSE)))","v":"DDS"},{"$f":"IF(AH19=\"\",\"\",VLOOKUP(AG19,index_cabasse!$B$5:$O$89,2,FALSE))","v":6841}]
[17,{"$f":"IF(index_classe!F19=\"\",\"\",IF(index_classe!$K$1=\"NON\",index_classe!F19,IF(A20>index_classe!$P$1,\"\",\"Groupe 17\")))","v":"SIOUI"},{"$f":"IF(index_classe!G19=\"\",\"\",IF(index_classe!$K$1=\"NON\",index_classe!G19,IF(A20>index_classe!$P$1,\"\",\">>>>>\")))","v":"Salah"},10,null,57,{"$f":"IF(F20=\"\",\"\",IF($C$2<>\"\",VLOOKUP(F20,index_cabasse!$B$5:$O$89,$C$2+2,FALSE),VLOOKUP(F20,index_cabasse!$B$5:$O$89,$D20+2,FALSE)))","v":"FFY"},{"$f":"IF(G20=\"\",\"\",VLOOKUP(F20,index_cabasse!$B$5:$O$89,2,FALSE))","v":8691},42,{"$f":"IF(I20=\"\",\"\",IF($C$2<>\"\",VLOOKUP(I20,index_cabasse!$B$5:$O$89,$C$2+2,FALSE),VLOOKUP(I20,index_cabasse!$B$5:$O$89,$D20+2,FALSE)))","v":"FFJ"},{"$f":"IF(J20=\"\",\"\",VLOOKUP(I20,index_cabasse!$B$5:$O$89,2,FALSE))","v":6801},46,{"$f":"IF(L20=\"\",\"\",IF($C$2<>\"\",VLOOKUP(L20,index_cabasse!$B$5:$O$89,$C$2+2,FALSE),VLOOKUP(L20,index_cabasse!$B$5:$O$89,$D20+2,FALSE)))","v":"FFN"},{"$f":"IF(M20=\"\",\"\",VLOOKUP(L20,index_cabasse!$B$5:$O$89,2,FALSE))","v":7431},1,{"$f":"IF(O20=\"\",\"\",IF($C$2<>\"\",VLOOKUP(O20,index_cabasse!$B$5:$O$89,$C$2+2,FALSE),VLOOKUP(O20,index_cabasse!$B$5:$O$89,$D20+2,FALSE)))","v":"DDS"},{"$f":"IF(P20=\"\",\"\",VLOOKUP(O20,index_cabasse!$B$5:$O$89,2,FALSE))","v":6841},41,{"$f":"IF(R20=\"\",\"\",IF($C$2<>\"\",VLOOKUP(R20,index_cabasse!$B$5:$O$89,$C$2+2,FALSE),VLOOKUP(R20,index_cabasse!$B$5:$O$89,$D20+2,FALSE)))","v":"FFI"},{"$f":"IF(S20=\"\",\"\",VLOOKUP(R20,index_cabasse!$B$5:$O$89,2,FALSE))","v":6591},72,{"$f":"IF(U20=\"\",\"\",IF($C$2<>\"\",VLOOKUP(U20,index_cabasse!$B$5:$O$89,$C$2+2,FALSE),VLOOKUP(U20,index_cabasse!$B$5:$O$89,$D20+2,FALSE)))","v":"GGO"},{"$f":"IF(V20=\"\",\"\",VLOOKUP(U20,index_cabasse!$B$5:$O$89,2,FALSE))","v":3997},69,{"$f":"IF(X20=\"\",\"\",IF($C$2<>\"\",VLOOKUP(X20,index_cabasse!$B$5:$O$89,$C$2+2,FALSE),VLOOKUP(X20,index_cabasse!$B$5:$O$89,$D20+2,FALSE)))","v":"GGL"},{"$f":"IF(Y20=\"\",\"\",VLOOKUP(X20,index_cabasse!$B$5:$O$89,2,FALSE))","v":7228},64,{"$f":"IF(AA20=\"\",\"\",IF($C$2<>\"\",VLOOKUP(AA20,index_cabasse!$B$5:$O$89,$C$2+2,FALSE),VLOOKUP(AA20,index_cabasse!$B$5:$O$89,$D20+2,FALSE)))","v":"GGF"},{"$f":"IF(AB20=\"\",\"\",VLOOKUP(AA20,index_cabasse!$B$5:$O$89,2,FALSE))","v":6553},38,{"$f":"IF(AD20=\"\",\"\",IF($C$2<>\"\",VLOOKUP(AD20,index_cabasse!$B$5:$O$89,$C$2+2,FALSE),VLOOKUP(AD20,index_cabasse!$B$5:$O$89,$D20+2,FALSE)))","v":"FFE"},{"$f":"IF(AE20=\"\",\"\",VLOOKUP(AD20,index_cabasse!$B$5:$O$89,2,FALSE))","v":5961},57,{"$f":"IF(AG20=\"\",\"\",IF($C$2<>\"\",VLOOKUP(AG20,index_cabasse!$B$5:$O$89,$C$2+2,FALSE),VLOOKUP(AG20,index_cabasse!$B$5:$O$89,$D20+2,FALSE)))","v":"FFY"},{"$f":"IF(AH20=\"\",\"\",VLOOKUP(AG20,index_cabasse!$B$5:$O$89,2,FALSE))","v":8691}]
[18,{"$f":"IF(index_classe!F20=\"\",\"\",IF(index_classe!$K$1=\"NON\",index_classe!F20,IF(A21>index_classe!$P$1,\"\",\"Groupe 18\")))","v":"TADEVA"},{"$f":"IF(index_classe!G20=\"\",\"\",IF(index_classe!$K$1=\"NON\",index_classe!G20,IF(A21>index_classe!$P$1,\"\",\">>>>>\")))","v":"Khatmat"},10,null,66,{"$f":"IF(F21=\"\",\"\",IF($C$2<>\"\",VLOOKUP(F21,index_cabasse!$B$5:$O$89,$C$2+2,FALSE),VLOOKUP(F21,index_cabasse!$B$5:$O$89,$D21+2,FALSE)))","v":"GGI"},{"$f":"IF(G21=\"\",\"\",VLOOKUP(F21,index_cabasse!$B$5:$O$89,2,FALSE))","v":6823},29,{"$f":"IF(I21=\"\",\"\",IF($C$2<>\"\",VLOOKUP(I21,index_cabasse!$B$5:$O$89,$C$2+2,FALSE),VLOOKUP(I21,index_cabasse!$B$5:$O$89,$D21+2,FALSE)))","v":"EEV"},{"$f":"IF(J21=\"\",\"\",VLOOKUP(I21,index_cabasse!$B$5:$O$89,2,FALSE))","v":6051},14,{"$f":"IF(L21=\"\",\"\",IF($C$2<>\"\",VLOOKUP(L21,index_cabasse!$B$5:$O$89,$C$2+2,FALSE),VLOOKUP(L21,index_cabasse!$B$5:$O$89,$D21+2,FALSE)))","v":"EEG"},{"$f":"IF(M21=\"\",\"\",VLOOKUP(L21,index_cabasse!$B$5:$O$89,2,FALSE))","v":6367},76,{"$f":"IF(O21=\"\",\"\",IF($C$2<>\"\",VLOOKUP(O21,index_cabasse!$B$5:$O$89,$C$2+2,FALSE),VLOOKUP(O21,index_cabasse!$B$5:$O$89,$D21+2,FALSE)))","v":"GGS"},{"$f":"IF(P21=\"\",\"\",VLOOKUP(O21,index_cabasse!$B$5:$O$89,2,FALSE))","v":9405},53,{"$f":"IF(R21=\"\",\"\",IF($C$2<>\"\",VLOOKUP(R21,index_cabasse!$B$5:$O$89,$C$2+2,FALSE),VLOOKUP(R21,index_cabasse!$B$5:$O$89,$D21+2,FALSE)))","v":"FFU"},{"$f":"IF(S21=\"\",\"\",VLOOKUP(R21,index_cabasse!$B$5:$O$89,2,FALSE))","v":7851},12,{"$f":"IF(U21=\"\",\"\",IF($C$2<>\"\",VLOOKUP(U21,index_cabasse!$B$5:$O$89,$C$2+2,FALSE),VLOOKUP(U21,index_cabasse!$B$5:$O$89,$D21+2,FALSE)))","v":"EED"},{"$f":"IF(V21=\"\",\"\",VLOOKUP(U21,index_cabasse!$B$5:$O$89,2,FALSE))","v":4701},59,{"$f":"IF(X21=\"\",\"\",IF($C$2<>\"\",VLOOKUP(X21,index_cabasse!$B$5:$O$89,$C$2+2,FALSE),VLOOKUP(X21,index_cabasse!$B$5:$O$89,$D21+2,FALSE)))","v":"GGA"},{"$f":"IF(Y21=\"\",\"\",VLOOKUP(X21,index_cabasse!$B$5:$O$89,2,FALSE))","v":9111},47,{"$f":"IF(AA21=\"\",\"\",IF($C$2<>\"\",VLOOKUP(AA21,index_cabasse!$B$5:$O$89,$C$2+2,FALSE),VLOOKUP(AA21,index_cabasse!$B$5:$O$89,$D21+2,FALSE)))","v":"FFO"},{"$f":"IF(AB21=\"\",\"\",VLOOKUP(AA21,index_cabasse!$B$5:$O$89,2,FALSE))","v":5103},66,{"$f":"IF(AD21=\"\",\"\",IF($C$2<>\"\",VLOOKUP(AD21,index_cabasse!$B$5:$O$89,$C$2+2,FALSE),VLOOKUP(AD21,index_cabasse!$B$5:$O$89,$D21+2,FALSE)))","v":"GGI"},{"$f":"IF(AE21=\"\",\"\",VLOOKUP(AD21,index_cabasse!$B$5:$O$89,2,FALSE))","v":6823},79,{"$f":"IF(AG21=\"\",\"\",IF($C$2<>\"\",VLOOKUP(AG21,index_cabasse!$B$5:$O$89,$C$2+2,FALSE),VLOOKUP(AG21,index_cabasse!$B$5:$O$89,$D21+2,FALSE)))","v":"GGV"},{"$f":"IF(AH21=\"\",\"\",VLOOKUP(AG21,index_cabasse!$B$5:$O$89,2,FALSE))","v":7767}]
[19,{"$f":"IF(index_classe!F21=\"\",\"\",IF(index_classe!$K$1=\"NON\",index_classe!F21,IF(A22>index_classe!$P$1,\"\",\"Groupe 19\")))","v":"TEEC"},{"$f":"IF(index_classe!G21=\"\",\"\",IF(index_classe!$K$1=\"NON\",index_classe!G21,IF(A22>index_classe!$P$1,\"\",\">>>>>\")))","v":"Victor"},10,null,54,{"$f":"IF(F22=\"\",\"\",IF($C$2<>\"\",VLOOKUP(F22,index_cabasse!$B$5:$O$89,$C$2+2,FALSE),VLOOKUP(F22,index_cabasse!$B$5:$O$89,$D22+2,FALSE)))","v":"FFV"},{"$f":"IF(G22=\"\",\"\",VLOOKUP(F22,index_cabasse!$B$5:$O$89,2,FALSE))","v":8061},79,{"$f":"IF(I22=\"\",\"\",IF($C$2<>\"\",VLOOKUP(I22,index_cabasse!$B$5:$O$89,$C$2+2,FALSE),VLOOKUP(I22,index_cabasse!$B$5:$O$89,$D22+2,FALSE)))","v":"GGV"},{"$f":"IF(J22=\"\",\"\",VLOOKUP(I22,index_cabasse!$B$5:$O$89,2,FALSE))","v":7767},51,{"$f":"IF(L22=\"\",\"\",IF($C$2<>\"\",VLOOKUP(L22,index_cabasse!$B$5:$O$89,$C$2+2,FALSE),VLOOKUP(L22,index_cabasse!$B$5:$O$89,$D22+2,FALSE)))","v":"FFS"},{"$f":"IF(M22=\"\",\"\",VLOOKUP(L22,index_cabasse!$B$5:$O$89,2,FALSE))","v":4471},79,{"$f":"IF(O22=\"\",\"\",IF($C$2<>\"\",VLOOKUP(O22,index_cabasse!$B$5:$O$89,$C$2+2,FALSE),VLOOKUP(O22,index_cabasse!$B$5:$O$89,$D22+2,FALSE)))","v":"GGV"},{"$f":"IF(P22=\"\",\"\",VLOOKUP(O22,index_cabasse!$B$5:$O$89,2,FALSE))","v":7767},48,{"$f":"IF(R22=\"\",\"\",IF($C$2<>\"\",VLOOKUP(R22,index_cabasse!$B$5:$O$89,$C$2+2,FALSE),VLOOKUP(R22,index_cabasse!$B$5:$O$89,$D22+2,FALSE)))","v":"FFP"},{"$f":"IF(S22=\"\",\"\",VLOOKUP(R22,index_cabasse!$B$5:$O$89,2,FALSE))","v":4945},82,{"$f":"IF(U22=\"\",\"\",IF($C$2<>\"\",VLOOKUP(U22,index_cabasse!$B$5:$O$89,$C$2+2,FALSE),VLOOKUP(U22,index_cabasse!$B$5:$O$89,$D22+2,FALSE)))","v":"GGY"},{"$f":"IF(V22=\"\",\"\",VLOOKUP(U22,index_cabasse!$B$5:$O$89,2,FALSE))","v":3523},9,{"$f":"IF(X22=\"\",\"\",IF($C$2<>\"\",VLOOKUP(X22,index_cabasse!$B$5:$O$89,$C$2+2,FALSE),VLOOKUP(X22,index_cabasse!$B$5:$O$89,$D22+2,FALSE)))","v":"EEA"},{"$f":"IF(Y22=\"\",\"\",VLOOKUP(X22,index_cabasse!$B$5:$O$89,2,FALSE))","v":4071},25,{"$f":"IF(AA22=\"\",\"\",IF($C$2<>\"\",VLOOKUP(AA22,index_cabasse!$B$5:$O$89,$C$2+2,FALSE),VLOOKUP(AA22,index_cabasse!$B$5:$O$89,$D22+2,FALSE)))","v":"EER"},{"$f":"IF(AB22=\"\",\"\",VLOOKUP(AA22,index_cabasse!$B$5:$O$89,2,FALSE))","v":5743},37,{"$f":"IF(AD22=\"\",\"\",IF($C$2<>\"\",VLOOKUP(AD22,index_cabasse!$B$5:$O$89,$C$2+2,FALSE),VLOOKUP(AD22,index_cabasse!$B$5:$O$89,$D22+2,FALSE)))","v":"FFD"},{"$f":"IF(AE22=\"\",\"\",VLOOKUP(AD22,index_cabasse!$B$5:$O$89,2,FALSE))","v":5751},45,{"$f":"IF(AG22=\"\",\"\",IF($C$2<>\"\",VLOOKUP(AG22,index_cabasse!$B$5:$O$89,$C$2+2,FALSE),VLOOKUP(AG22,index_cabasse!$B$5:$O$89,$D22+2,FALSE)))","v":"FFM"},{"$f":"IF(AH22=\"\",\"\",VLOOKUP(AG22,index_cabasse!$B$5:$O$89,2,FALSE))","v":7221}]
[20,{"$f":"IF(index_classe!F22=\"\",\"\",IF(index_classe!$K$1=\"NON\",index_classe!F22,IF(A23>index_classe!$P$1,\"\",\"Groupe 20\")))","v":"TEJOR"},{"$f":"IF(index_classe!G22=\"\",\"\",IF(index_classe!$K$1=\"NON\",index_classe!G22,IF(A23>index_classe!$P$1,\"\",\">>>>>\")))","v":"Carla"},10,null,25,{"$f":"IF(F23=\"\",\"\",IF($C$2<>\"\",VLOOKUP(F23,index_cabasse!$B$5:$O$89,$C$2+2,FALSE),VLOOKUP(F23,index_cabasse!$B$5:$O$89,$D23+2,FALSE)))","v":"EER"},{"$f":"IF(G23=\"\",\"\",VLOOKUP(F23,index_cabasse!$B$5:$O$89,2,FALSE))","v":5743},69,{"$f":"IF(I23=\"\",\"\",IF($C$2<>\"\",VLOOKUP(I23,index_cabasse!$B$5:$O$89,$C$2+2,FALSE),VLOOKUP(I23,index_cabasse!$B$5:$O$89,$D23+2,FALSE)))","v":"GGL"},{"$f":"IF(J23=\"\",\"\",VLOOKUP(I23,index_cabasse!$B$5:$O$89,2,FALSE))","v":7228},65,{"$f":"IF(L23=\"\",\"\",IF($C$2<>\"\",VLOOKUP(L23,index_cabasse!$B$5:$O$89,$C$2+2,FALSE),VLOOKUP(L23,index_cabasse!$B$5:$O$89,$D23+2,FALSE)))","v":"GGH"},{"$f":"IF(M23=\"\",\"\",VLOOKUP(L23,index_cabasse!$B$5:$O$89,2,FALSE))","v":6688},61,{"$f":"IF(O23=\"\",\"\",IF($C$2<>\"\",VLOOKUP(O23,index_cabasse!$B$5:$O$89,$C$2+2,FALSE),VLOOKUP(O23,index_cabasse!$B$5:$O$89,$D23+2,FALSE)))","v":"GGC"},{"$f":"IF(P23=\"\",\"\",VLOOKUP(O23,index_cabasse!$B$5:$O$89,2,FALSE))","v":4313},46,{"$f":"IF(R23=\"\",\"\",IF($C$2<>\"\",VLOOKUP(R23,index_cabasse!$B$5:$O$89,$C$2+2,FALSE),VLOOKUP(R23,index_cabasse!$B$5:$O$89,$D23+2,FALSE)))","v":"FFN"},{"$f":"IF(S23=\"\",\"\",VLOOKUP(R23,index_cabasse!$B$5:$O$89,2,FALSE))","v":7431},68,{"$f":"IF(U23=\"\",\"\",IF($C$2<>\"\",VLOOKUP(U23,index_cabasse!$B$5:$O$89,$C$2+2,FALSE),VLOOKUP(U23,index_cabasse!$B$5:$O$89,$D23+2,FALSE)))","v":"GGK"},{"$f":"IF(V23=\"\",\"\",VLOOKUP(U23,index_cabasse!$B$5:$O$89,2,FALSE))","v":7093},24,{"$f":"IF(X23=\"\",\"\",IF($C$2<>\"\",VLOOKUP(X23,index_cabasse!$B$5:$O$89,$C$2+2,FALSE),VLOOKUP(X23,index_cabasse!$B$5:$O$89,$D23+2,FALSE)))","v":"EEQ"},{"$f":"IF(Y23=\"\",\"\",VLOOKUP(X23,index_cabasse!$B$5:$O$89,2,FALSE))","v":5608},23,{"$f":"IF(AA23=\"\",\"\",IF($C$2<>\"\",VLOOKUP(AA23,index_cabasse!$B$5:$O$89,$C$2+2,FALSE),VLOOKUP(AA23,index_cabasse!$B$5:$O$89,$D23+2,FALSE)))","v":"EEP"},{"$f":"IF(AB23=\"\",\"\",VLOOKUP(AA23,index_cabasse!$B$5:$O$89,2,FALSE))","v":5473},14,{"$f":"IF(AD23=\"\",\"\",IF($C$2<>\"\",VLOOKUP(AD23,index_cabasse!$B$5:$O$89,$C$2+2,FALSE),VLOOKUP(AD23,index_cabasse!$B$5:$O$89,$D23+2,FALSE)))","v":"EEG"},{"$f":"IF(AE23=\"\",\"\",VLOOKUP(AD23,index_cabasse!$B$5:$O$89,2,FALSE))","v":6367},39,{"$f":"IF(AG23=\"\",\"\",IF($C$2<>\"\",VLOOKUP(AG23,index_cabasse!$B$5:$O$89,$C$2+2,FALSE),VLOOKUP(AG23,index_cabasse!$B$5:$O$89,$D23+2,FALSE)))","v":"FFG"},{"$f":"IF(AH23=\"\",\"\",VLOOKUP(AG23,index_cabasse!$B$5:$O$89,2,FALSE))","v":6171}]
[21,{"$f":"IF(index_classe!F23=\"\",\"\",IF(index_classe!$K$1=\"NON\",index_classe!F23,IF(A24>index_classe!$P$1,\"\",\"Groupe 21\")))","v":"THIER"},{"$f":"IF(index_classe!G23=\"\",\"\",IF(index_classe!$K$1=\"NON\",index_classe!G23,IF(A24>index_classe!$P$1,\"\",\">>>>>\")))","v":"Andrea"},10,null,71,{"$f":"IF(F24=\"\",\"\",IF($C$2<>\"\",VLOOKUP(F24,index_cabasse!$B$5:$O$89,$C$2+2,FALSE),VLOOKUP(F24,index_cabasse!$B$5:$O$89,$D24+2,FALSE)))","v":"GGN"},{"$f":"IF(G24=\"\",\"\",VLOOKUP(F24,index_cabasse!$B$5:$O$89,2,FALSE))","v":9531},52,{"$f":"IF(I24=\"\",\"\",IF($C$2<>\"\",VLOOKUP(I24,index_cabasse!$B$5:$O$89,$C$2+2,FALSE),VLOOKUP(I24,index_cabasse!$B$5:$O$89,$D24+2,FALSE)))","v":"FFT"},{"$f":"IF(J24=\"\",\"\",VLOOKUP(I24,index_cabasse!$B$5:$O$89,2,FALSE))","v":7641},12,{"$f":"IF(L24=\"\",\"\",IF($C$2<>\"\",VLOOKUP(L24,index_cabasse!$B$5:$O$89,$C$2+2,FALSE),VLOOKUP(L24,index_cabasse!$B$5:$O$89,$D24+2,FALSE)))","v":"EED"},{"$f":"IF(M24=\"\",\"\",VLOOKUP(L24,index_cabasse!$B$5:$O$89,2,FALSE))","v":4701},64,{"$f":"IF(O24=\"\",\"\",IF($C$2<>\"\",VLOOKUP(O24,index_cabasse!$B$5:$O$89,$C$2+2,FALSE),VLOOKUP(O24,index_cabasse!$B$5:$O$89,$D24+2,FALSE)))","v":"GGF"},{"$f":"IF(P24=\"\",\"\",VLOOKUP(O24,index_cabasse!$B$5:$O$89,2,FALSE))","v":6553},26,{"$f":"IF(R24=\"\",\"\",IF($C$2<>\"\",VLOOKUP(R24,index_cabasse!$B$5:$O$89,$C$2+2,FALSE),VLOOKUP(R24,index_cabasse!$B$5:$O$89,$D24+2,FALSE)))","v":"EES"},{"$f":"IF(S24=\"\",\"\",VLOOKUP(R24,index_cabasse!$B$5:$O$89,2,FALSE))","v":5878},7,{"$f":"IF(U24=\"\",\"\",IF($C$2<>\"\",VLOOKUP(U24,index_cabasse!$B$5:$O$89,$C$2+2,FALSE),VLOOKUP(U24,index_cabasse!$B$5:$O$89,$D24+2,FALSE)))","v":"DDY"},{"$f":"IF(V24=\"\",\"\",VLOOKUP(U24,index_cabasse!$B$5:$O$89,2,FALSE))","v":3651},14,{"$f":"IF(X24=\"\",\"\",IF($C$2<>\"\",VLOOKUP(X24,index_cabasse!$B$5:$O$89,$C$2+2,FALSE),VLOOKUP(X24,index_cabasse!$B$5:$O$89,$D24+2,FALSE)))","v":"EEG"},{"$f":"IF(Y24=\"\",\"\",VLOOKUP(X24,index_cabasse!$B$5:$O$89,2,FALSE))","v":6367},63,{"$f":"IF(AA24=\"\",\"\",IF($C$2<>\"\",VLOOKUP(AA24,index_cabasse!$B$5:$O$89,$C$2+2,FALSE),VLOOKUP(AA24,index_cabasse!$B$5:$O$89,$D24+2,FALSE)))","v":"GGE"},{"$f":"IF(AB24=\"\",\"\",VLOOKUP(AA24,index_cabasse!$B$5:$O$89,2,FALSE))","v":6418},51,{"$f":"IF(AD24=\"\",\"\",IF($C$2<>\"\",VLOOKUP(AD24,index_cabasse!$B$5:$O$89,$C$2+2,FALSE),VLOOKUP(AD24,index_cabasse!$B$5:$O$89,$D24+2,FALSE)))","v":"FFS"},{"$f":"IF(AE24=\"\",\"\",VLOOKUP(AD24,index_cabasse!$B$5:$O$89,2,FALSE))","v":4471},9,{"$f":"IF(AG24=\"\",\"\",IF($C$2<>\"\",VLOOKUP(AG24,index_cabasse!$B$5:$O$89,$C$2+2,FALSE),VLOOKUP(AG24,index_cabasse!$B$5:$O$89,$D24+2,FALSE)))","v":"EEA"},{"$f":"IF(AH24=\"\",\"\",VLOOKUP(AG24,index_cabasse!$B$5:$O$89,2,FALSE))","v":4071}]
[22,{"$f":"IF(index_classe!F24=\"\",\"\",IF(index_classe!$K$1=\"NON\",index_classe!F24,IF(A25>index_classe!$P$1,\"\",\"Groupe 22\")))","v":"YI"},{"$f":"IF(index_classe!G24=\"\",\"\",IF(index_classe!$K$1=\"NON\",index_classe!G24,IF(A25>index_classe!$P$1,\"\",\">>>>>\")))","v":"William"},10,null,8,{"$f":"IF(F25=\"\",\"\",IF($C$2<>\"\",VLOOKUP(F25,index_cabasse!$B$5:$O$89,$C$2+2,FALSE),VLOOKUP(F25,index_cabasse!$B$5:$O$89,$D25+2,FALSE)))","v":"DDZ"},{"$f":"IF(G25=\"\",\"\",VLOOKUP(F25,index_cabasse!$B$5:$O$89,2,FALSE))","v":3861},33,{"$f":"IF(I25=\"\",\"\",IF($C$2<>\"\",VLOOKUP(I25,index_cabasse!$B$5:$O$89,$C$2+2,FALSE),VLOOKUP(I25,index_cabasse!$B$5:$O$89,$D25+2,FALSE)))","v":"EEZ"},{"$f":"IF(J25=\"\",\"\",VLOOKUP(I25,index_cabasse!$B$5:$O$89,2,FALSE))","v":5121},69,{"$f":"IF(L25=\"\",\"\",IF($C$2<>\"\",VLOOKUP(L25,index_cabasse!$B$5:$O$89,$C$2+2,FALSE),VLOOKUP(L25,index_cabasse!$B$5:$O$89,$D25+2,FALSE)))","v":"GGL"},{"$f":"IF(M25=\"\",\"\",VLOOKUP(L25,index_cabasse!$B$5:$O$89,2,FALSE))","v":7228},15,{"$f":"IF(O25=\"\",\"\",IF($C$2<>\"\",VLOOKUP(O25,index_cabasse!$B$5:$O$89,$C$2+2,FALSE),VLOOKUP(O25,index_cabasse!$B$5:$O$89,$D25+2,FALSE)))","v":"EEH"},{"$f":"IF(P25=\"\",\"\",VLOOKUP(O25,index_cabasse!$B$5:$O$89,2,FALSE))","v":6209},44,{"$f":"IF(R25=\"\",\"\",IF($C$2<>\"\",VLOOKUP(R25,index_cabasse!$B$5:$O$89,$C$2+2,FALSE),VLOOKUP(R25,index_cabasse!$B$5:$O$89,$D25+2,FALSE)))","v":"FFL"},{"$f":"IF(S25=\"\",\"\",VLOOKUP(R25,index_cabasse!$B$5:$O$89,2,FALSE))","v":5261},28,{"$f":"IF(U25=\"\",\"\",IF($C$2<>\"\",VLOOKUP(U25,index_cabasse!$B$5:$O$89,$C$2+2,FALSE),VLOOKUP(U25,index_cabasse!$B$5:$O$89,$D25+2,FALSE)))","v":"EEU"},{"$f":"IF(V25=\"\",\"\",VLOOKUP(U25,index_cabasse!$B$5:$O$89,2,FALSE))","v":6148},74,{"$f":"IF(X25=\"\",\"\",IF($C$2<>\"\",VLOOKUP(X25,index_cabasse!$B$5:$O$89,$C$2+2,FALSE),VLOOKUP(X25,index_cabasse!$B$5:$O$89,$D25+2,FALSE)))","v":"GGQ"},{"$f":"IF(Y25=\"\",\"\",VLOOKUP(X25,index_cabasse!$B$5:$O$89,2,FALSE))","v":9741},15,{"$f":"IF(AA25=\"\",\"\",IF($C$2<>\"\",VLOOKUP(AA25,index_cabasse!$B$5:$O$89,$C$2+2,FALSE),VLOOKUP(AA25,index_cabasse!$B$5:$O$89,$D25+2,FALSE)))","v":"EEH"},{"$f":"IF(AB25=\"\",\"\",VLOOKUP(AA25,index_cabasse!$B$5:$O$89,2,FALSE))","v":6209},9,{"$f":"IF(AD25=\"\",\"\",IF($C$2<>\"\",VLOOKUP(AD25,index_cabasse!$B$5:$O$89,$C$2+2,FALSE),VLOOKUP(AD25,index_cabasse!$B$5:$O$89,$D25+2,FALSE)))","v":"EEA"},{"$f":"IF(AE25=\"\",\"\",VLOOKUP(AD25,index_cabasse!$B$5:$O$89,2,FALSE))","v":4071},48,{"$f":"IF(AG25=\"\",\"\",IF($C$2<>\"\",VLOOKUP(AG25,index_cabasse!$B$5:$O$89,$C$2+2,FALSE),VLOOKUP(AG25,index_cabasse!$B$5:$O$89,$D25+2,FALSE)))","v":"FFP"},{"$f":"IF(AH25=\"\",\"\",VLOOKUP(AG25,index_cabasse!$B$5:$O$89,2,FALSE))","v":4945}]
[23,{"$f":"IF(index_classe!F25=\"\",\"\",IF(index_classe!$K$1=\"NON\",index_classe!F25,IF(A26>index_classe!$P$1,\"\",\"Groupe 23\")))","v":""},{"$f":"IF(index_classe!G25=\"\",\"\",IF(index_classe!$K$1=\"NON\",index_classe!G25,IF(A26>index_classe!$P$1,\"\",\">>>>>\")))","v":""},10,null,"",{"$f":"IF(F26=\"\",\"\",IF($C$2<>\"\",VLOOKUP(F26,index_cabasse!$B$5:$O$89,$C$2+2,FALSE),VLOOKUP(F26,index_cabasse!$B$5:$O$89,$D26+2,FALSE)))","v":""},{"$f":"IF(G26=\"\",\"\",VLOOKUP(F26,index_cabasse!$B$5:$O$89,2,FALSE))","v":""},"",{"$f":"IF(I26=\"\",\"\",IF($C$2<>\"\",VLOOKUP(I26,index_cabasse!$B$5:$O$89,$C$2+2,FALSE),VLOOKUP(I26,index_cabasse!$B$5:$O$89,$D26+2,FALSE)))","v":""},{"$f":"IF(J26=\"\",\"\",VLOOKUP(I26,index_cabasse!$B$5:$O$89,2,FALSE))","v":""},"",{"$f":"IF(L26=\"\",\"\",IF($C$2<>\"\",VLOOKUP(L26,index_cabasse!$B$5:$O$89,$C$2+2,FALSE),VLOOKUP(L26,index_cabasse!$B$5:$O$89,$D26+2,FALSE)))","v":""},{"$f":"IF(M26=\"\",\"\",VLOOKUP(L26,index_cabasse!$B$5:$O$89,2,FALSE))","v":""},"",{"$f":"IF(O26=\"\",\"\",IF($C$2<>\"\",VLOOKUP(O26,index_cabasse!$B$5:$O$89,$C$2+2,FALSE),VLOOKUP(O26,index_cabasse!$B$5:$O$89,$D26+2,FALSE)))","v":""},{"$f":"IF(P26=\"\",\"\",VLOOKUP(O26,index_cabasse!$B$5:$O$89,2,FALSE))","v":""},"",{"$f":"IF(R26=\"\",\"\",IF($C$2<>\"\",VLOOKUP(R26,index_cabasse!$B$5:$O$89,$C$2+2,FALSE),VLOOKUP(R26,index_cabasse!$B$5:$O$89,$D26+2,FALSE)))","v":""},{"$f":"IF(S26=\"\",\"\",VLOOKUP(R26,index_cabasse!$B$5:$O$89,2,FALSE))","v":""},"",{"$f":"IF(U26=\"\",\"\",IF($C$2<>\"\",VLOOKUP(U26,index_cabasse!$B$5:$O$89,$C$2+2,FALSE),VLOOKUP(U26,index_cabasse!$B$5:$O$89,$D26+2,FALSE)))","v":""},{"$f":"IF(V26=\"\",\"\",VLOOKUP(U26,index_cabasse!$B$5:$O$89,2,FALSE))","v":""},"",{"$f":"IF(X26=\"\",\"\",IF($C$2<>\"\",VLOOKUP(X26,index_cabasse!$B$5:$O$89,$C$2+2,FALSE),VLOOKUP(X26,index_cabasse!$B$5:$O$89,$D26+2,FALSE)))","v":""},{"$f":"IF(Y26=\"\",\"\",VLOOKUP(X26,index_cabasse!$B$5:$O$89,2,FALSE))","v":""},"",{"$f":"IF(AA26=\"\",\"\",IF($C$2<>\"\",VLOOKUP(AA26,index_cabasse!$B$5:$O$89,$C$2+2,FALSE),VLOOKUP(AA26,index_cabasse!$B$5:$O$89,$D26+2,FALSE)))","v":""},{"$f":"IF(AB26=\"\",\"\",VLOOKUP(AA26,index_cabasse!$B$5:$O$89,2,FALSE))","v":""},"",{"$f":"IF(AD26=\"\",\"\",IF($C$2<>\"\",VLOOKUP(AD26,index_cabasse!$B$5:$O$89,$C$2+2,FALSE),VLOOKUP(AD26,index_cabasse!$B$5:$O$89,$D26+2,FALSE)))","v":""},{"$f":"IF(AE26=\"\",\"\",VLOOKUP(AD26,index_cabasse!$B$5:$O$89,2,FALSE))","v":""},"",{"$f":"IF(AG26=\"\",\"\",IF($C$2<>\"\",VLOOKUP(AG26,index_cabasse!$B$5:$O$89,$C$2+2,FALSE),VLOOKUP(AG26,index_cabasse!$B$5:$O$89,$D26+2,FALSE)))","v":""},{"$f":"IF(AH26=\"\",\"\",VLOOKUP(AG26,index_cabasse!$B$5:$O$89,2,FALSE))","v":""}]
[24,{"$f":"IF(index_classe!F26=\"\",\"\",IF(index_classe!$K$1=\"NON\",index_classe!F26,IF(A27>index_classe!$P$1,\"\",\"Groupe 24\")))","v":""},{"$f":"IF(index_classe!G26=\"\",\"\",IF(index_classe!$K$1=\"NON\",index_classe!G26,IF(A27>index_classe!$P$1,\"\",\">>>>>\")))","v":""},10,null,"",{"$f":"IF(F27=\"\",\"\",IF($C$2<>\"\",VLOOKUP(F27,index_cabasse!$B$5:$O$89,$C$2+2,FALSE),VLOOKUP(F27,index_cabasse!$B$5:$O$89,$D27+2,FALSE)))","v":""},{"$f":"IF(G27=\"\",\"\",VLOOKUP(F27,index_cabasse!$B$5:$O$89,2,FALSE))","v":""},"",{"$f":"IF(I27=\"\",\"\",IF($C$2<>\"\",VLOOKUP(I27,index_cabasse!$B$5:$O$89,$C$2+2,FALSE),VLOOKUP(I27,index_cabasse!$B$5:$O$89,$D27+2,FALSE)))","v":""},{"$f":"IF(J27=\"\",\"\",VLOOKUP(I27,index_cabasse!$B$5:$O$89,2,FALSE))","v":""},"",{"$f":"IF(L27=\"\",\"\",IF($C$2<>\"\",VLOOKUP(L27,index_cabasse!$B$5:$O$89,$C$2+2,FALSE),VLOOKUP(L27,index_cabasse!$B$5:$O$89,$D27+2,FALSE)))","v":""},{"$f":"IF(M27=\"\",\"\",VLOOKUP(L27,index_cabasse!$B$5:$O$89,2,FALSE))","v":""},"",{"$f":"IF(O27=\"\",\"\",IF($C$2<>\"\",VLOOKUP(O27,index_cabasse!$B$5:$O$89,$C$2+2,FALSE),VLOOKUP(O27,index_cabasse!$B$5:$O$89,$D27+2,FALSE)))","v":""},{"$f":"IF(P27=\"\",\"\",VLOOKUP(O27,index_cabasse!$B$5:$O$89,2,FALSE))","v":""},"",{"$f":"IF(R27=\"\",\"\",IF($C$2<>\"\",VLOOKUP(R27,index_cabasse!$B$5:$O$89,$C$2+2,FALSE),VLOOKUP(R27,index_cabasse!$B$5:$O$89,$D27+2,FALSE)))","v":""},{"$f":"IF(S27=\"\",\"\",VLOOKUP(R27,index_cabasse!$B$5:$O$89,2,FALSE))","v":""},"",{"$f":"IF(U27=\"\",\"\",IF($C$2<>\"\",VLOOKUP(U27,index_cabasse!$B$5:$O$89,$C$2+2,FALSE),VLOOKUP(U27,index_cabasse!$B$5:$O$89,$D27+2,FALSE)))","v":""},{"$f":"IF(V27=\"\",\"\",VLOOKUP(U27,index_cabasse!$B$5:$O$89,2,FALSE))","v":""},"",{"$f":"IF(X27=\"\",\"\",IF($C$2<>\"\",VLOOKUP(X27,index_cabasse!$B$5:$O$89,$C$2+2,FALSE),VLOOKUP(X27,index_cabasse!$B$5:$O$89,$D27+2,FALSE)))","v":""},{"$f":"IF(Y27=\"\",\"\",VLOOKUP(X27,index_cabasse!$B$5:$O$89,2,FALSE))","v":""},"",{"$f":"IF(AA27=\"\",\"\",IF($C$2<>\"\",VLOOKUP(AA27,index_cabasse!$B$5:$O$89,$C$2+2,FALSE),VLOOKUP(AA27,index_cabasse!$B$5:$O$89,$D27+2,FALSE)))","v":""},{"$f":"IF(AB27=\"\",\"\",VLOOKUP(AA27,index_cabasse!$B$5:$O$89,2,FALSE))","v":""},"",{"$f":"IF(AD27=\"\",\"\",IF($C$2<>\"\",VLOOKUP(AD27,index_cabasse!$B$5:$O$89,$C$2+2,FALSE),VLOOKUP(AD27,index_cabasse!$B$5:$O$89,$D27+2,FALSE)))","v":""},{"$f":"IF(AE27=\"\",\"\",VLOOKUP(AD27,index_cabasse!$B$5:$O$89,2,FALSE))","v":""},"",{"$f":"IF(AG27=\"\",\"\",IF($C$2<>\"\",VLOOKUP(AG27,index_cabasse!$B$5:$O$89,$C$2+2,FALSE),VLOOKUP(AG27,index_cabasse!$B$5:$O$89,$D27+2,FALSE)))","v":""},{"$f":"IF(AH27=\"\",\"\",VLOOKUP(AG27,index_cabasse!$B$5:$O$89,2,FALSE))","v":""}]
[25,{"$f":"IF(index_classe!F27=\"\",\"\",IF(index_classe!$K$1=\"NON\",index_classe!F27,IF(A28>index_classe!$P$1,\"\",\"Groupe 25\")))","v":""},{"$f":"IF(index_classe!G27=\"\",\"\",IF(index_classe!$K$1=\"NON\",index_classe!G27,IF(A28>index_classe!$P$1,\"\",\">>>>>\")))","v":""},10,null,"",{"$f":"IF(F28=\"\",\"\",IF($C$2<>\"\",VLOOKUP(F28,index_cabasse!$B$5:$O$89,$C$2+2,FALSE),VLOOKUP(F28,index_cabasse!$B$5:$O$89,$D28+2,FALSE)))","v":""},{"$f":"IF(G28=\"\",\"\",VLOOKUP(F28,index_cabasse!$B$5:$O$89,2,FALSE))","v":""},"",{"$f":"IF(I28=\"\",\"\",IF($C$2<>\"\",VLOOKUP(I28,index_cabasse!$B$5:$O$89,$C$2+2,FALSE),VLOOKUP(I28,index_cabasse!$B$5:$O$89,$D28+2,FALSE)))","v":""},{"$f":"IF(J28=\"\",\"\",VLOOKUP(I28,index_cabasse!$B$5:$O$89,2,FALSE))","v":""},"",{"$f":"IF(L28=\"\",\"\",IF($C$2<>\"\",VLOOKUP(L28,index_cabasse!$B$5:$O$89,$C$2+2,FALSE),VLOOKUP(L28,index_cabasse!$B$5:$O$89,$D28+2,FALSE)))","v":""},{"$f":"IF(M28=\"\",\"\",VLOOKUP(L28,index_cabasse!$B$5:$O$89,2,FALSE))","v":""},"",{"$f":"IF(O28=\"\",\"\",IF($C$2<>\"\",VLOOKUP(O28,index_cabasse!$B$5:$O$89,$C$2+2,FALSE),VLOOKUP(O28,index_cabasse!$B$5:$O$89,$D28+2,FALSE)))","v":""},{"$f":"IF(P28=\"\",\"\",VLOOKUP(O28,index_cabasse!$B$5:$O$89,2,FALSE))","v":""},"",{"$f":"IF(R28=\"\",\"\",IF($C$2<>\"\",VLOOKUP(R28,index_cabasse!$B$5:$O$89,$C$2+2,FALSE),VLOOKUP(R28,index_cabasse!$B$5:$O$89,$D28+2,FALSE)))","v":""},{"$f":"IF(S28=\"\",\"\",VLOOKUP(R28,index_cabasse!$B$5:$O$89,2,FALSE))","v":""},"",{"$f":"IF(U28=\"\",\"\",IF($C$2<>\"\",VLOOKUP(U28,index_cabasse!$B$5:$O$89,$C$2+2,FALSE),VLOOKUP(U28,index_cabasse!$B$5:$O$89,$D28+2,FALSE)))","v":""},{"$f":"IF(V28=\"\",\"\",VLOOKUP(U28,index_cabasse!$B$5:$O$89,2,FALSE))","v":""},"",{"$f":"IF(X28=\"\",\"\",IF($C$2<>\"\",VLOOKUP(X28,index_cabasse!$B$5:$O$89,$C$2+2,FALSE),VLOOKUP(X28,index_cabasse!$B$5:$O$89,$D28+2,FALSE)))","v":""},{"$f":"IF(Y28=\"\",\"\",VLOOKUP(X28,index_cabasse!$B$5:$O$89,2,FALSE))","v":""},"",{"$f":"IF(AA28=\"\",\"\",IF($C$2<>\"\",VLOOKUP(AA28,index_cabasse!$B$5:$O$89,$C$2+2,FALSE),VLOOKUP(AA28,index_cabasse!$B$5:$O$89,$D28+2,FALSE)))","v":""},{"$f":"IF(AB28=\"\",\"\",VLOOKUP(AA28,index_cabasse!$B$5:$O$89,2,FALSE))","v":""},"",{"$f":"IF(AD28=\"\",\"\",IF($C$2<>\"\",VLOOKUP(AD28,index_cabasse!$B$5:$O$89,$C$2+2,FALSE),VLOOKUP(AD28,index_cabasse!$B$5:$O$89,$D28+2,FALSE)))","v":""},{"$f":"IF(AE28=\"\",\"\",VLOOKUP(AD28,index_cabasse!$B$5:$O$89,2,FALSE))","v":""},"",{"$f":"IF(AG28=\"\",\"\",IF($C$2<>\"\",VLOOKUP(AG28,index_cabasse!$B$5:$O$89,$C$2+2,FALSE),VLOOKUP(AG28,index_cabasse!$B$5:$O$89,$D28+2,FALSE)))","v":""},{"$f":"IF(AH28=\"\",\"\",VLOOKUP(AG28,index_cabasse!$B$5:$O$89,2,FALSE))","v":""}]
[26,{"$f":"IF(index_classe!F28=\"\",\"\",IF(index_classe!$K$1=\"NON\",index_classe!F28,IF(A29>index_classe!$P$1,\"\",\"Groupe 26\")))","v":""},{"$f":"IF(index_classe!G28=\"\",\"\",IF(index_classe!$K$1=\"NON\",index_classe!G28,IF(A29>index_classe!$P$1,\"\",\">>>>>\")))","v":""},10,null,"",{"$f":"IF(F29=\"\",\"\",IF($C$2<>\"\",VLOOKUP(F29,index_cabasse!$B$5:$O$89,$C$2+2,FALSE),VLOOKUP(F29,index_cabasse!$B$5:$O$89,$D29+2,FALSE)))","v":""},{"$f":"IF(G29=\"\",\"\",VLOOKUP(F29,index_cabasse!$B$5:$O$89,2,FALSE))","v":""},"",{"$f":"IF(I29=\"\",\"\",IF($C$2<>\"\",VLOOKUP(I29,index_cabasse!$B$5:$O$89,$C$2+2,FALSE),VLOOKUP(I29,index_cabasse!$B$5:$O$89,$D29+2,FALSE)))","v":""},{"$f":"IF(J29=\"\",\"\",VLOOKUP(I29,index_cabasse!$B$5:$O$89,2,FALSE))","v":""},"",{"$f":"IF(L29=\"\",\"\",IF($C$2<>\"\",VLOOKUP(L29,index_cabasse!$B$5:$O$89,$C$2+2,FALSE),VLOOKUP(L29,index_cabasse!$B$5:$O$89,$D29+2,FALSE)))","v":""},{"$f":"IF(M29=\"\",\"\",VLOOKUP(L29,index_cabasse!$B$5:$O$89,2,FALSE))","v":""},"",{"$f":"IF(O29=\"\",\"\",IF($C$2<>\"\",VLOOKUP(O29,index_cabasse!$B$5:$O$89,$C$2+2,FALSE),VLOOKUP(O29,index_cabasse!$B$5:$O$89,$D29+2,FALSE)))","v":""},{"$f":"IF(P29=\"\",\"\",VLOOKUP(O29,index_cabasse!$B$5:$O$89,2,FALSE))","v":""},"",{"$f":"IF(R29=\"\",\"\",IF($C$2<>\"\",VLOOKUP(R29,index_cabasse!$B$5:$O$89,$C$2+2,FALSE),VLOOKUP(R29,index_cabasse!$B$5:$O$89,$D29+2,FALSE)))","v":""},{"$f":"IF(S29=\"\",\"\",VLOOKUP(R29,index_cabasse!$B$5:$O$89,2,FALSE))","v":""},"",{"$f":"IF(U29=\"\",\"\",IF($C$2<>\"\",VLOOKUP(U29,index_cabasse!$B$5:$O$89,$C$2+2,FALSE),VLOOKUP(U29,index_cabasse!$B$5:$O$89,$D29+2,FALSE)))","v":""},{"$f":"IF(V29=\"\",\"\",VLOOKUP(U29,index_cabasse!$B$5:$O$89,2,FALSE))","v":""},"",{"$f":"IF(X29=\"\",\"\",IF($C$2<>\"\",VLOOKUP(X29,index_cabasse!$B$5:$O$89,$C$2+2,FALSE),VLOOKUP(X29,index_cabasse!$B$5:$O$89,$D29+2,FALSE)))","v":""},{"$f":"IF(Y29=\"\",\"\",VLOOKUP(X29,index_cabasse!$B$5:$O$89,2,FALSE))","v":""},"",{"$f":"IF(AA29=\"\",\"\",IF($C$2<>\"\",VLOOKUP(AA29,index_cabasse!$B$5:$O$89,$C$2+2,FALSE),VLOOKUP(AA29,index_cabasse!$B$5:$O$89,$D29+2,FALSE)))","v":""},{"$f":"IF(AB29=\"\",\"\",VLOOKUP(AA29,index_cabasse!$B$5:$O$89,2,FALSE))","v":""},"",{"$f":"IF(AD29=\"\",\"\",IF($C$2<>\"\",VLOOKUP(AD29,index_cabasse!$B$5:$O$89,$C$2+2,FALSE),VLOOKUP(AD29,index_cabasse!$B$5:$O$89,$D29+2,FALSE)))","v":""},{"$f":"IF(AE29=\"\",\"\",VLOOKUP(AD29,index_cabasse!$B$5:$O$89,2,FALSE))","v":""},"",{"$f":"IF(AG29=\"\",\"\",IF($C$2<>\"\",VLOOKUP(AG29,index_cabasse!$B$5:$O$89,$C$2+2,FALSE),VLOOKUP(AG29,index_cabasse!$B$5:$O$89,$D29+2,FALSE)))","v":""},{"$f":"IF(AH29=\"\",\"\",VLOOKUP(AG29,index_cabasse!$B$5:$O$89,2,FALSE))","v":""}]
[27,{"$f":"IF(index_classe!F29=\"\",\"\",IF(index_classe!$K$1=\"NON\",index_classe!F29,IF(A30>index_classe!$P$1,\"\",\"Groupe 27\")))","v":""},{"$f":"IF(index_classe!G29=\"\",\"\",IF(index_classe!$K$1=\"NON\",index_classe!G29,IF(A30>index_classe!$P$1,\"\",\">>>>>\")))","v":""},10,null,"",{"$f":"IF(F30=\"\",\"\",IF($C$2<>\"\",VLOOKUP(F30,index_cabasse!$B$5:$O$89,$C$2+2,FALSE),VLOOKUP(F30,index_cabasse!$B$5:$O$89,$D30+2,FALSE)))","v":""},{"$f":"IF(G30=\"\",\"\",VLOOKUP(F30,index_cabasse!$B$5:$O$89,2,FALSE))","v":""},"",{"$f":"IF(I30=\"\",\"\",IF($C$2<>\"\",VLOOKUP(I30,index_cabasse!$B$5:$O$89,$C$2+2,FALSE),VLOOKUP(I30,index_cabasse!$B$5:$O$89,$D30+2,FALSE)))","v":""},{"$f":"IF(J30=\"\",\"\",VLOOKUP(I30,index_cabasse!$B$5:$O$89,2,FALSE))","v":""},"",{"$f":"IF(L30=\"\",\"\",IF($C$2<>\"\",VLOOKUP(L30,index_cabasse!$B$5:$O$89,$C$2+2,FALSE),VLOOKUP(L30,index_cabasse!$B$5:$O$89,$D30+2,FALSE)))","v":""},{"$f":"IF(M30=\"\",\"\",VLOOKUP(L30,index_cabasse!$B$5:$O$89,2,FALSE))","v":""},"",{"$f":"IF(O30=\"\",\"\",IF($C$2<>\"\",VLOOKUP(O30,index_cabasse!$B$5:$O$89,$C$2+2,FALSE),VLOOKUP(O30,index_cabasse!$B$5:$O$89,$D30+2,FALSE)))","v":""},{"$f":"IF(P30=\"\",\"\",VLOOKUP(O30,index_cabasse!$B$5:$O$89,2,FALSE))","v":""},"",{"$f":"IF(R30=\"\",\"\",IF($C$2<>\"\",VLOOKUP(R30,index_cabasse!$B$5:$O$89,$C$2+2,FALSE),VLOOKUP(R30,index_cabasse!$B$5:$O$89,$D30+2,FALSE)))","v":""},{"$f":"IF(S30=\"\",\"\",VLOOKUP(R30,index_cabasse!$B$5:$O$89,2,FALSE))","v":""},"",{"$f":"IF(U30=\"\",\"\",IF($C$2<>\"\",VLOOKUP(U30,index_cabasse!$B$5:$O$89,$C$2+2,FALSE),VLOOKUP(U30,index_cabasse!$B$5:$O$89,$D30+2,FALSE)))","v":""},{"$f":"IF(V30=\"\",\"\",VLOOKUP(U30,index_cabasse!$B$5:$O$89,2,FALSE))","v":""},"",{"$f":"IF(X30=\"\",\"\",IF($C$2<>\"\",VLOOKUP(X30,index_cabasse!$B$5:$O$89,$C$2+2,FALSE),VLOOKUP(X30,index_cabasse!$B$5:$O$89,$D30+2,FALSE)))","v":""},{"$f":"IF(Y30=\"\",\"\",VLOOKUP(X30,index_cabasse!$B$5:$O$89,2,FALSE))","v":""},"",{"$f":"IF(AA30=\"\",\"\",IF($C$2<>\"\",VLOOKUP(AA30,index_cabasse!$B$5:$O$89,$C$2+2,FALSE),VLOOKUP(AA30,index_cabasse!$B$5:$O$89,$D30+2,FALSE)))","v":""},{"$f":"IF(AB30=\"\",\"\",VLOOKUP(AA30,index_cabasse!$B$5:$O$89,2,FALSE))","v":""},"",{"$f":"IF(AD30=\"\",\"\",IF($C$2<>\"\",VLOOKUP(AD30,index_cabasse!$B$5:$O$89,$C$2+2,FALSE),VLOOKUP(AD30,index_cabasse!$B$5:$O$89,$D30+2,FALSE)))","v":""},{"$f":"IF(AE30=\"\",\"\",VLOOKUP(AD30,index_cabasse!$B$5:$O$89,2,FALSE))","v":""},"",{"$f":"IF(AG30=\"\",\"\",IF($C$2<>\"\",VLOOKUP(AG30,index_cabasse!$B$5:$O$89,$C$2+2,FALSE),VLOOKUP(AG30,index_cabasse!$B$5:$O$89,$D30+2,FALSE)))","v":""},{"$f":"IF(AH30=\"\",\"\",VLOOKUP(AG30,index_cabasse!$B$5:$O$89,2,FALSE))","v":""}]
[28,{"$f":"IF(index_classe!F30=\"\",\"\",IF(index_classe!$K$1=\"NON\",index_classe!F30,IF(A31>index_classe!$P$1,\"\",\"Groupe x\")))","v":""},{"$f":"IF(index_classe!G30=\"\",\"\",IF(index_classe!$K$1=\"NON\",index_classe!G30,IF(A31>index_classe!$P$1,\"\",\">>>>>\")))","v":""},10,null,"",{"$f":"IF(F31=\"\",\"\",IF($C$2<>\"\",VLOOKUP(F31,index_cabasse!$B$5:$O$89,$C$2+2,FALSE),VLOOKUP(F31,index_cabasse!$B$5:$O$89,$D31+2,FALSE)))","v":""},{"$f":"IF(G31=\"\",\"\",VLOOKUP(F31,index_cabasse!$B$5:$O$89,2,FALSE))","v":""},"",{"$f":"IF(I31=\"\",\"\",IF($C$2<>\"\",VLOOKUP(I31,index_cabasse!$B$5:$O$89,$C$2+2,FALSE),VLOOKUP(I31,index_cabasse!$B$5:$O$89,$D31+2,FALSE)))","v":""},{"$f":"IF(J31=\"\",\"\",VLOOKUP(I31,index_cabasse!$B$5:$O$89,2,FALSE))","v":""},"",{"$f":"IF(L31=\"\",\"\",IF($C$2<>\"\",VLOOKUP(L31,index_cabasse!$B$5:$O$89,$C$2+2,FALSE),VLOOKUP(L31,index_cabasse!$B$5:$O$89,$D31+2,FALSE)))","v":""},{"$f":"IF(M31=\"\",\"\",VLOOKUP(L31,index_cabasse!$B$5:$O$89,2,FALSE))","v":""},"",{"$f":"IF(O31=\"\",\"\",IF($C$2<>\"\",VLOOKUP(O31,index_cabasse!$B$5:$O$89,$C$2+2,FALSE),VLOOKUP(O31,index_cabasse!$B$5:$O$89,$D31+2,FALSE)))","v":""},{"$f":"IF(P31=\"\",\"\",VLOOKUP(O31,index_cabasse!$B$5:$O$89,2,FALSE))","v":""},"",{"$f":"IF(R31=\"\",\"\",IF($C$2<>\"\",VLOOKUP(R31,index_cabasse!$B$5:$O$89,$C$2+2,FALSE),VLOOKUP(R31,index_cabasse!$B$5:$O$89,$D31+2,FALSE)))","v":""},{"$f":"IF(S31=\"\",\"\",VLOOKUP(R31,index_cabasse!$B$5:$O$89,2,FALSE))","v":""},"",{"$f":"IF(U31=\"\",\"\",IF($C$2<>\"\",VLOOKUP(U31,index_cabasse!$B$5:$O$89,$C$2+2,FALSE),VLOOKUP(U31,index_cabasse!$B$5:$O$89,$D31+2,FALSE)))","v":""},{"$f":"IF(V31=\"\",\"\",VLOOKUP(U31,index_cabasse!$B$5:$O$89,2,FALSE))","v":""},"",{"$f":"IF(X31=\"\",\"\",IF($C$2<>\"\",VLOOKUP(X31,index_cabasse!$B$5:$O$89,$C$2+2,FALSE),VLOOKUP(X31,index_cabasse!$B$5:$O$89,$D31+2,FALSE)))","v":""},{"$f":"IF(Y31=\"\",\"\",VLOOKUP(X31,index_cabasse!$B$5:$O$89,2,FALSE))","v":""},"",{"$f":"IF(AA31=\"\",\"\",IF($C$2<>\"\",VLOOKUP(AA31,index_cabasse!$B$5:$O$89,$C$2+2,FALSE),VLOOKUP(AA31,index_cabasse!$B$5:$O$89,$D31+2,FALSE)))","v":""},{"$f":"IF(AB31=\"\",\"\",VLOOKUP(AA31,index_cabasse!$B$5:$O$89,2,FALSE))","v":""},"",{"$f":"IF(AD31=\"\",\"\",IF($C$2<>\"\",VLOOKUP(AD31,index_cabasse!$B$5:$O$89,$C$2+2,FALSE),VLOOKUP(AD31,index_cabasse!$B$5:$O$89,$D31+2,FALSE)))","v":""},{"$f":"IF(AE31=\"\",\"\",VLOOKUP(AD31,index_cabasse!$B$5:$O$89,2,FALSE))","v":""},"",{"$f":"IF(AG31=\"\",\"\",IF($C$2<>\"\",VLOOKUP(AG31,index_cabasse!$B$5:$O$89,$C$2+2,FALSE),VLOOKUP(AG31,index_cabasse!$B$5:$O$89,$D31+2,FALSE)))","v":""},{"$f":"IF(AH31=\"\",\"\",VLOOKUP(AG31,index_cabasse!$B$5:$O$89,2,FALSE))","v":""}]
[29,{"$f":"IF(index_classe!F31=\"\",\"\",IF(index_classe!$K$1=\"NON\",index_classe!F31,IF(A32>index_classe!$P$1,\"\",\"Groupe x\")))","v":""},{"$f":"IF(index_classe!G31=\"\",\"\",IF(index_classe!$K$1=\"NON\",index_classe!G31,IF(A32>index_classe!$P$1,\"\",\">>>>>\")))","v":""},10,null,"",{"$f":"IF(F32=\"\",\"\",IF($C$2<>\"\",VLOOKUP(F32,index_cabasse!$B$5:$O$89,$C$2+2,FALSE),VLOOKUP(F32,index_cabasse!$B$5:$O$89,$D32+2,FALSE)))","v":""},{"$f":"IF(G32=\"\",\"\",VLOOKUP(F32,index_cabasse!$B$5:$O$89,2,FALSE))","v":""},"",{"$f":"IF(I32=\"\",\"\",IF($C$2<>\"\",VLOOKUP(I32,index_cabasse!$B$5:$O$89,$C$2+2,FALSE),VLOOKUP(I32,index_cabasse!$B$5:$O$89,$D32+2,FALSE)))","v":""},{"$f":"IF(J32=\"\",\"\",VLOOKUP(I32,index_cabasse!$B$5:$O$89,2,FALSE))","v":""},"",{"$f":"IF(L32=\"\",\"\",IF($C$2<>\"\",VLOOKUP(L32,index_cabasse!$B$5:$O$89,$C$2+2,FALSE),VLOOKUP(L32,index_cabasse!$B$5:$O$89,$D32+2,FALSE)))","v":""},{"$f":"IF(M32=\"\",\"\",VLOOKUP(L32,index_cabasse!$B$5:$O$89,2,FALSE))","v":""},"",{"$f":"IF(O32=\"\",\"\",IF($C$2<>\"\",VLOOKUP(O32,index_cabasse!$B$5:$O$89,$C$2+2,FALSE),VLOOKUP(O32,index_cabasse!$B$5:$O$89,$D32+2,FALSE)))","v":""},{"$f":"IF(P32=\"\",\"\",VLOOKUP(O32,index_cabasse!$B$5:$O$89,2,FALSE))","v":""},"",{"$f":"IF(R32=\"\",\"\",IF($C$2<>\"\",VLOOKUP(R32,index_cabasse!$B$5:$O$89,$C$2+2,FALSE),VLOOKUP(R32,index_cabasse!$B$5:$O$89,$D32+2,FALSE)))","v":""},{"$f":"IF(S32=\"\",\"\",VLOOKUP(R32,index_cabasse!$B$5:$O$89,2,FALSE))","v":""},"",{"$f":"IF(U32=\"\",\"\",IF($C$2<>\"\",VLOOKUP(U32,index_cabasse!$B$5:$O$89,$C$2+2,FALSE),VLOOKUP(U32,index_cabasse!$B$5:$O$89,$D32+2,FALSE)))","v":""},{"$f":"IF(V32=\"\",\"\",VLOOKUP(U32,index_cabasse!$B$5:$O$89,2,FALSE))","v":""},"",{"$f":"IF(X32=\"\",\"\",IF($C$2<>\"\",VLOOKUP(X32,index_cabasse!$B$5:$O$89,$C$2+2,FALSE),VLOOKUP(X32,index_cabasse!$B$5:$O$89,$D32+2,FALSE)))","v":""},{"$f":"IF(Y32=\"\",\"\",VLOOKUP(X32,index_cabasse!$B$5:$O$89,2,FALSE))","v":""},"",{"$f":"IF(AA32=\"\",\"\",IF($C$2<>\"\",VLOOKUP(AA32,index_cabasse!$B$5:$O$89,$C$2+2,FALSE),VLOOKUP(AA32,index_cabasse!$B$5:$O$89,$D32+2,FALSE)))","v":""},{"$f":"IF(AB32=\"\",\"\",VLOOKUP(AA32,index_cabasse!$B$5:$O$89,2,FALSE))","v":""},"",{"$f":"IF(AD32=\"\",\"\",IF($C$2<>\"\",VLOOKUP(AD32,index_cabasse!$B$5:$O$89,$C$2+2,FALSE),VLOOKUP(AD32,index_cabasse!$B$5:$O$89,$D32+2,FALSE)))","v":""},{"$f":"IF(AE32=\"\",\"\",VLOOKUP(AD32,index_cabasse!$B$5:$O$89,2,FALSE))","v":""},"",{"$f":"IF(AG32=\"\",\"\",IF($C$2<>\"\",VLOOKUP(AG32,index_cabasse!$B$5:$O$89,$C$2+2,FALSE),VLOOKUP(AG32,index_cabasse!$B$5:$O$89,$D32+2,FALSE)))","v":""},{"$f":"IF(AH32=\"\",\"\",VLOOKUP(AG32,index_cabasse!$B$5:$O$89,2,FALSE))","v":""}]
[30,{"$f":"IF(index_classe!F32=\"\",\"\",IF(index_classe!$K$1=\"NON\",index_classe!F32,IF(A33>index_classe!$P$1,\"\",\"Groupe x\")))","v":""},{"$f":"IF(index_classe!G32=\"\",\"\",IF(index_classe!$K$1=\"NON\",index_classe!G32,IF(A33>index_classe!$P$1,\"\",\">>>>>\")))","v":""},10,null,"",{"$f":"IF(F33=\"\",\"\",IF($C$2<>\"\",VLOOKUP(F33,index_cabasse!$B$5:$O$89,$C$2+2,FALSE),VLOOKUP(F33,index_cabasse!$B$5:$O$89,$D33+2,FALSE)))","v":""},{"$f":"IF(G33=\"\",\"\",VLOOKUP(F33,index_cabasse!$B$5:$O$89,2,FALSE))","v":""},"",{"$f":"IF(I33=\"\",\"\",IF($C$2<>\"\",VLOOKUP(I33,index_cabasse!$B$5:$O$89,$C$2+2,FALSE),VLOOKUP(I33,index_cabasse!$B$5:$O$89,$D33+2,FALSE)))","v":""},{"$f":"IF(J33=\"\",\"\",VLOOKUP(I33,index_cabasse!$B$5:$O$89,2,FALSE))","v":""},"",{"$f":"IF(L33=\"\",\"\",IF($C$2<>\"\",VLOOKUP(L33,index_cabasse!$B$5:$O$89,$C$2+2,FALSE),VLOOKUP(L33,index_cabasse!$B$5:$O$89,$D33+2,FALSE)))","v":""},{"$f":"IF(M33=\"\",\"\",VLOOKUP(L33,index_cabasse!$B$5:$O$89,2,FALSE))","v":""},"",{"$f":"IF(O33=\"\",\"\",IF($C$2<>\"\",VLOOKUP(O33,index_cabasse!$B$5:$O$89,$C$2+2,FALSE),VLOOKUP(O33,index_cabasse!$B$5:$O$89,$D33+2,FALSE)))","v":""},{"$f":"IF(P33=\"\",\"\",VLOOKUP(O33,index_cabasse!$B$5:$O$89,2,FALSE))","v":""},"",{"$f":"IF(R33=\"\",\"\",IF($C$2<>\"\",VLOOKUP(R33,index_cabasse!$B$5:$O$89,$C$2+2,FALSE),VLOOKUP(R33,index_cabasse!$B$5:$O$89,$D33+2,FALSE)))","v":""},{"$f":"IF(S33=\"\",\"\",VLOOKUP(R33,index_cabasse!$B$5:$O$89,2,FALSE))","v":""},"",{"$f":"IF(U33=\"\",\"\",IF($C$2<>\"\",VLOOKUP(U33,index_cabasse!$B$5:$O$89,$C$2+2,FALSE),VLOOKUP(U33,index_cabasse!$B$5:$O$89,$D33+2,FALSE)))","v":""},{"$f":"IF(V33=\"\",\"\",VLOOKUP(U33,index_cabasse!$B$5:$O$89,2,FALSE))","v":""},"",{"$f":"IF(X33=\"\",\"\",IF($C$2<>\"\",VLOOKUP(X33,index_cabasse!$B$5:$O$89,$C$2+2,FALSE),VLOOKUP(X33,index_cabasse!$B$5:$O$89,$D33+2,FALSE)))","v":""},{"$f":"IF(Y33=\"\",\"\",VLOOKUP(X33,index_cabasse!$B$5:$O$89,2,FALSE))","v":""},"",{"$f":"IF(AA33=\"\",\"\",IF($C$2<>\"\",VLOOKUP(AA33,index_cabasse!$B$5:$O$89,$C$2+2,FALSE),VLOOKUP(AA33,index_cabasse!$B$5:$O$89,$D33+2,FALSE)))","v":""},{"$f":"IF(AB33=\"\",\"\",VLOOKUP(AA33,index_cabasse!$B$5:$O$89,2,FALSE))","v":""},"",{"$f":"IF(AD33=\"\",\"\",IF($C$2<>\"\",VLOOKUP(AD33,index_cabasse!$B$5:$O$89,$C$2+2,FALSE),VLOOKUP(AD33,index_cabasse!$B$5:$O$89,$D33+2,FALSE)))","v":""},{"$f":"IF(AE33=\"\",\"\",VLOOKUP(AD33,index_cabasse!$B$5:$O$89,2,FALSE))","v":""},"",{"$f":"IF(AG33=\"\",\"\",IF($C$2<>\"\",VLOOKUP(AG33,index_cabasse!$B$5:$O$89,$C$2+2,FALSE),VLOOKUP(AG33,index_cabasse!$B$5:$O$89,$D33+2,FALSE)))","v":""},{"$f":"IF(AH33=\"\",\"\",VLOOKUP(AG33,index_cabasse!$B$5:$O$89,2,FALSE))","v":""}]
[31,{"$f":"IF(index_classe!F33=\"\",\"\",IF(index_classe!$K$1=\"NON\",index_classe!F33,IF(A34>index_classe!$P$1,\"\",\"Groupe x\")))","v":""},{"$f":"IF(index_classe!G33=\"\",\"\",IF(index_classe!$K$1=\"NON\",index_classe!G33,IF(A34>index_classe!$P$1,\"\",\">>>>>\")))","v":""},10,null,"",{"$f":"IF(F34=\"\",\"\",IF($C$2<>\"\",VLOOKUP(F34,index_cabasse!$B$5:$O$89,$C$2+2,FALSE),VLOOKUP(F34,index_cabasse!$B$5:$O$89,$D34+2,FALSE)))","v":""},{"$f":"IF(G34=\"\",\"\",VLOOKUP(F34,index_cabasse!$B$5:$O$89,2,FALSE))","v":""},"",{"$f":"IF(I34=\"\",\"\",IF($C$2<>\"\",VLOOKUP(I34,index_cabasse!$B$5:$O$89,$C$2+2,FALSE),VLOOKUP(I34,index_cabasse!$B$5:$O$89,$D34+2,FALSE)))","v":""},{"$f":"IF(J34=\"\",\"\",VLOOKUP(I34,index_cabasse!$B$5:$O$89,2,FALSE))","v":""},"",{"$f":"IF(L34=\"\",\"\",IF($C$2<>\"\",VLOOKUP(L34,index_cabasse!$B$5:$O$89,$C$2+2,FALSE),VLOOKUP(L34,index_cabasse!$B$5:$O$89,$D34+2,FALSE)))","v":""},{"$f":"IF(M34=\"\",\"\",VLOOKUP(L34,index_cabasse!$B$5:$O$89,2,FALSE))","v":""},"",{"$f":"IF(O34=\"\",\"\",IF($C$2<>\"\",VLOOKUP(O34,index_cabasse!$B$5:$O$89,$C$2+2,FALSE),VLOOKUP(O34,index_cabasse!$B$5:$O$89,$D34+2,FALSE)))","v":""},{"$f":"IF(P34=\"\",\"\",VLOOKUP(O34,index_cabasse!$B$5:$O$89,2,FALSE))","v":""},"",{"$f":"IF(R34=\"\",\"\",IF($C$2<>\"\",VLOOKUP(R34,index_cabasse!$B$5:$O$89,$C$2+2,FALSE),VLOOKUP(R34,index_cabasse!$B$5:$O$89,$D34+2,FALSE)))","v":""},{"$f":"IF(S34=\"\",\"\",VLOOKUP(R34,index_cabasse!$B$5:$O$89,2,FALSE))","v":""},"",{"$f":"IF(U34=\"\",\"\",IF($C$2<>\"\",VLOOKUP(U34,index_cabasse!$B$5:$O$89,$C$2+2,FALSE),VLOOKUP(U34,index_cabasse!$B$5:$O$89,$D34+2,FALSE)))","v":""},{"$f":"IF(V34=\"\",\"\",VLOOKUP(U34,index_cabasse!$B$5:$O$89,2,FALSE))","v":""},"",{"$f":"IF(X34=\"\",\"\",IF($C$2<>\"\",VLOOKUP(X34,index_cabasse!$B$5:$O$89,$C$2+2,FALSE),VLOOKUP(X34,index_cabasse!$B$5:$O$89,$D34+2,FALSE)))","v":""},{"$f":"IF(Y34=\"\",\"\",VLOOKUP(X34,index_cabasse!$B$5:$O$89,2,FALSE))","v":""},"",{"$f":"IF(AA34=\"\",\"\",IF($C$2<>\"\",VLOOKUP(AA34,index_cabasse!$B$5:$O$89,$C$2+2,FALSE),VLOOKUP(AA34,index_cabasse!$B$5:$O$89,$D34+2,FALSE)))","v":""},{"$f":"IF(AB34=\"\",\"\",VLOOKUP(AA34,index_cabasse!$B$5:$O$89,2,FALSE))","v":""},"",{"$f":"IF(AD34=\"\",\"\",IF($C$2<>\"\",VLOOKUP(AD34,index_cabasse!$B$5:$O$89,$C$2+2,FALSE),VLOOKUP(AD34,index_cabasse!$B$5:$O$89,$D34+2,FALSE)))","v":""},{"$f":"IF(AE34=\"\",\"\",VLOOKUP(AD34,index_cabasse!$B$5:$O$89,2,FALSE))","v":""},"",{"$f":"IF(AG34=\"\",\"\",IF($C$2<>\"\",VLOOKUP(AG34,index_cabasse!$B$5:$O$89,$C$2+2,FALSE),VLOOKUP(AG34,index_cabasse!$B$5:$O$89,$D34+2,FALSE)))","v":""},{"$f":"IF(AH34=\"\",\"\",VLOOKUP(AG34,index_cabasse!$B$5:$O$89,2,FALSE))","v":""}]
[32,{"$f":"IF(index_classe!F34=\"\",\"\",IF(index_classe!$K$1=\"NON\",index_classe!F34,IF(A35>index_classe!$P$1,\"\",\"Groupe x\")))","v":""},{"$f":"IF(index_classe!G34=\"\",\"\",IF(index_classe!$K$1=\"NON\",index_classe!G34,IF(A35>index_classe!$P$1,\"\",\">>>>>\")))","v":""},10,null,"",{"$f":"IF(F35=\"\",\"\",IF($C$2<>\"\",VLOOKUP(F35,index_cabasse!$B$5:$O$89,$C$2+2,FALSE),VLOOKUP(F35,index_cabasse!$B$5:$O$89,$D35+2,FALSE)))","v":""},{"$f":"IF(G35=\"\",\"\",VLOOKUP(F35,index_cabasse!$B$5:$O$89,2,FALSE))","v":""},"",{"$f":"IF(I35=\"\",\"\",IF($C$2<>\"\",VLOOKUP(I35,index_cabasse!$B$5:$O$89,$C$2+2,FALSE),VLOOKUP(I35,index_cabasse!$B$5:$O$89,$D35+2,FALSE)))","v":""},{"$f":"IF(J35=\"\",\"\",VLOOKUP(I35,index_cabasse!$B$5:$O$89,2,FALSE))","v":""},"",{"$f":"IF(L35=\"\",\"\",IF($C$2<>\"\",VLOOKUP(L35,index_cabasse!$B$5:$O$89,$C$2+2,FALSE),VLOOKUP(L35,index_cabasse!$B$5:$O$89,$D35+2,FALSE)))","v":""},{"$f":"IF(M35=\"\",\"\",VLOOKUP(L35,index_cabasse!$B$5:$O$89,2,FALSE))","v":""},"",{"$f":"IF(O35=\"\",\"\",IF($C$2<>\"\",VLOOKUP(O35,index_cabasse!$B$5:$O$89,$C$2+2,FALSE),VLOOKUP(O35,index_cabasse!$B$5:$O$89,$D35+2,FALSE)))","v":""},{"$f":"IF(P35=\"\",\"\",VLOOKUP(O35,index_cabasse!$B$5:$O$89,2,FALSE))","v":""},"",{"$f":"IF(R35=\"\",\"\",IF($C$2<>\"\",VLOOKUP(R35,index_cabasse!$B$5:$O$89,$C$2+2,FALSE),VLOOKUP(R35,index_cabasse!$B$5:$O$89,$D35+2,FALSE)))","v":""},{"$f":"IF(S35=\"\",\"\",VLOOKUP(R35,index_cabasse!$B$5:$O$89,2,FALSE))","v":""},"",{"$f":"IF(U35=\"\",\"\",IF($C$2<>\"\",VLOOKUP(U35,index_cabasse!$B$5:$O$89,$C$2+2,FALSE),VLOOKUP(U35,index_cabasse!$B$5:$O$89,$D35+2,FALSE)))","v":""},{"$f":"IF(V35=\"\",\"\",VLOOKUP(U35,index_cabasse!$B$5:$O$89,2,FALSE))","v":""},"",{"$f":"IF(X35=\"\",\"\",IF($C$2<>\"\",VLOOKUP(X35,index_cabasse!$B$5:$O$89,$C$2+2,FALSE),VLOOKUP(X35,index_cabasse!$B$5:$O$89,$D35+2,FALSE)))","v":""},{"$f":"IF(Y35=\"\",\"\",VLOOKUP(X35,index_cabasse!$B$5:$O$89,2,FALSE))","v":""},"",{"$f":"IF(AA35=\"\",\"\",IF($C$2<>\"\",VLOOKUP(AA35,index_cabasse!$B$5:$O$89,$C$2+2,FALSE),VLOOKUP(AA35,index_cabasse!$B$5:$O$89,$D35+2,FALSE)))","v":""},{"$f":"IF(AB35=\"\",\"\",VLOOKUP(AA35,index_cabasse!$B$5:$O$89,2,FALSE))","v":""},"",{"$f":"IF(AD35=\"\",\"\",IF($C$2<>\"\",VLOOKUP(AD35,index_cabasse!$B$5:$O$89,$C$2+2,FALSE),VLOOKUP(AD35,index_cabasse!$B$5:$O$89,$D35+2,FALSE)))","v":""},{"$f":"IF(AE35=\"\",\"\",VLOOKUP(AD35,index_cabasse!$B$5:$O$89,2,FALSE))","v":""},"",{"$f":"IF(AG35=\"\",\"\",IF($C$2<>\"\",VLOOKUP(AG35,index_cabasse!$B$5:$O$89,$C$2+2,FALSE),VLOOKUP(AG35,index_cabasse!$B$5:$O$89,$D35+2,FALSE)))","v":""},{"$f":"IF(AH35=\"\",\"\",VLOOKUP(AG35,index_cabasse!$B$5:$O$89,2,FALSE))","v":""}]
[33,{"$f":"IF(index_classe!F35=\"\",\"\",IF(index_classe!$K$1=\"NON\",index_classe!F35,IF(A36>index_classe!$P$1,\"\",\"Groupe x\")))","v":""},{"$f":"IF(index_classe!G35=\"\",\"\",IF(index_classe!$K$1=\"NON\",index_classe!G35,IF(A36>index_classe!$P$1,\"\",\">>>>>\")))","v":""},10,null,"",{"$f":"IF(F36=\"\",\"\",IF($C$2<>\"\",VLOOKUP(F36,index_cabasse!$B$5:$O$89,$C$2+2,FALSE),VLOOKUP(F36,index_cabasse!$B$5:$O$89,$D36+2,FALSE)))","v":""},{"$f":"IF(G36=\"\",\"\",VLOOKUP(F36,index_cabasse!$B$5:$O$89,2,FALSE))","v":""},"",{"$f":"IF(I36=\"\",\"\",IF($C$2<>\"\",VLOOKUP(I36,index_cabasse!$B$5:$O$89,$C$2+2,FALSE),VLOOKUP(I36,index_cabasse!$B$5:$O$89,$D36+2,FALSE)))","v":""},{"$f":"IF(J36=\"\",\"\",VLOOKUP(I36,index_cabasse!$B$5:$O$89,2,FALSE))","v":""},"",{"$f":"IF(L36=\"\",\"\",IF($C$2<>\"\",VLOOKUP(L36,index_cabasse!$B$5:$O$89,$C$2+2,FALSE),VLOOKUP(L36,index_cabasse!$B$5:$O$89,$D36+2,FALSE)))","v":""},{"$f":"IF(M36=\"\",\"\",VLOOKUP(L36,index_cabasse!$B$5:$O$89,2,FALSE))","v":""},"",{"$f":"IF(O36=\"\",\"\",IF($C$2<>\"\",VLOOKUP(O36,index_cabasse!$B$5:$O$89,$C$2+2,FALSE),VLOOKUP(O36,index_cabasse!$B$5:$O$89,$D36+2,FALSE)))","v":""},{"$f":"IF(P36=\"\",\"\",VLOOKUP(O36,index_cabasse!$B$5:$O$89,2,FALSE))","v":""},"",{"$f":"IF(R36=\"\",\"\",IF($C$2<>\"\",VLOOKUP(R36,index_cabasse!$B$5:$O$89,$C$2+2,FALSE),VLOOKUP(R36,index_cabasse!$B$5:$O$89,$D36+2,FALSE)))","v":""},{"$f":"IF(S36=\"\",\"\",VLOOKUP(R36,index_cabasse!$B$5:$O$89,2,FALSE))","v":""},"",{"$f":"IF(U36=\"\",\"\",IF($C$2<>\"\",VLOOKUP(U36,index_cabasse!$B$5:$O$89,$C$2+2,FALSE),VLOOKUP(U36,index_cabasse!$B$5:$O$89,$D36+2,FALSE)))","v":""},{"$f":"IF(V36=\"\",\"\",VLOOKUP(U36,index_cabasse!$B$5:$O$89,2,FALSE))","v":""},"",{"$f":"IF(X36=\"\",\"\",IF($C$2<>\"\",VLOOKUP(X36,index_cabasse!$B$5:$O$89,$C$2+2,FALSE),VLOOKUP(X36,index_cabasse!$B$5:$O$89,$D36+2,FALSE)))","v":""},{"$f":"IF(Y36=\"\",\"\",VLOOKUP(X36,index_cabasse!$B$5:$O$89,2,FALSE))","v":""},"",{"$f":"IF(AA36=\"\",\"\",IF($C$2<>\"\",VLOOKUP(AA36,index_cabasse!$B$5:$O$89,$C$2+2,FALSE),VLOOKUP(AA36,index_cabasse!$B$5:$O$89,$D36+2,FALSE)))","v":""},{"$f":"IF(AB36=\"\",\"\",VLOOKUP(AA36,index_cabasse!$B$5:$O$89,2,FALSE))","v":""},"",{"$f":"IF(AD36=\"\",\"\",IF($C$2<>\"\",VLOOKUP(AD36,index_cabasse!$B$5:$O$89,$C$2+2,FALSE),VLOOKUP(AD36,index_cabasse!$B$5:$O$89,$D36+2,FALSE)))","v":""},{"$f":"IF(AE36=\"\",\"\",VLOOKUP(AD36,index_cabasse!$B$5:$O$89,2,FALSE))","v":""},"",{"$f":"IF(AG36=\"\",\"\",IF($C$2<>\"\",VLOOKUP(AG36,index_cabasse!$B$5:$O$89,$C$2+2,FALSE),VLOOKUP(AG36,index_cabasse!$B$5:$O$89,$D36+2,FALSE)))","v":""},{"$f":"IF(AH36=\"\",\"\",VLOOKUP(AG36,index_cabasse!$B$5:$O$89,2,FALSE))","v":""}]
[34,{"$f":"IF(index_classe!F36=\"\",\"\",IF(index_classe!$K$1=\"NON\",index_classe!F36,IF(A37>index_classe!$P$1,\"\",\"Groupe x\")))","v":""},{"$f":"IF(index_classe!G36=\"\",\"\",IF(index_classe!$K$1=\"NON\",index_classe!G36,IF(A37>index_classe!$P$1,\"\",\">>>>>\")))","v":""},10,null,"",{"$f":"IF(F37=\"\",\"\",IF($C$2<>\"\",VLOOKUP(F37,index_cabasse!$B$5:$O$89,$C$2+2,FALSE),VLOOKUP(F37,index_cabasse!$B$5:$O$89,$D37+2,FALSE)))","v":""},{"$f":"IF(G37=\"\",\"\",VLOOKUP(F37,index_cabasse!$B$5:$O$89,2,FALSE))","v":""},"",{"$f":"IF(I37=\"\",\"\",IF($C$2<>\"\",VLOOKUP(I37,index_cabasse!$B$5:$O$89,$C$2+2,FALSE),VLOOKUP(I37,index_cabasse!$B$5:$O$89,$D37+2,FALSE)))","v":""},{"$f":"IF(J37=\"\",\"\",VLOOKUP(I37,index_cabasse!$B$5:$O$89,2,FALSE))","v":""},"",{"$f":"IF(L37=\"\",\"\",IF($C$2<>\"\",VLOOKUP(L37,index_cabasse!$B$5:$O$89,$C$2+2,FALSE),VLOOKUP(L37,index_cabasse!$B$5:$O$89,$D37+2,FALSE)))","v":""},{"$f":"IF(M37=\"\",\"\",VLOOKUP(L37,index_cabasse!$B$5:$O$89,2,FALSE))","v":""},"",{"$f":"IF(O37=\"\",\"\",IF($C$2<>\"\",VLOOKUP(O37,index_cabasse!$B$5:$O$89,$C$2+2,FALSE),VLOOKUP(O37,index_cabasse!$B$5:$O$89,$D37+2,FALSE)))","v":""},{"$f":"IF(P37=\"\",\"\",VLOOKUP(O37,index_cabasse!$B$5:$O$89,2,FALSE))","v":""},"",{"$f":"IF(R37=\"\",\"\",IF($C$2<>\"\",VLOOKUP(R37,index_cabasse!$B$5:$O$89,$C$2+2,FALSE),VLOOKUP(R37,index_cabasse!$B$5:$O$89,$D37+2,FALSE)))","v":""},{"$f":"IF(S37=\"\",\"\",VLOOKUP(R37,index_cabasse!$B$5:$O$89,2,FALSE))","v":""},"",{"$f":"IF(U37=\"\",\"\",IF($C$2<>\"\",VLOOKUP(U37,index_cabasse!$B$5:$O$89,$C$2+2,FALSE),VLOOKUP(U37,index_cabasse!$B$5:$O$89,$D37+2,FALSE)))","v":""},{"$f":"IF(V37=\"\",\"\",VLOOKUP(U37,index_cabasse!$B$5:$O$89,2,FALSE))","v":""},"",{"$f":"IF(X37=\"\",\"\",IF($C$2<>\"\",VLOOKUP(X37,index_cabasse!$B$5:$O$89,$C$2+2,FALSE),VLOOKUP(X37,index_cabasse!$B$5:$O$89,$D37+2,FALSE)))","v":""},{"$f":"IF(Y37=\"\",\"\",VLOOKUP(X37,index_cabasse!$B$5:$O$89,2,FALSE))","v":""},"",{"$f":"IF(AA37=\"\",\"\",IF($C$2<>\"\",VLOOKUP(AA37,index_cabasse!$B$5:$O$89,$C$2+2,FALSE),VLOOKUP(AA37,index_cabasse!$B$5:$O$89,$D37+2,FALSE)))","v":""},{"$f":"IF(AB37=\"\",\"\",VLOOKUP(AA37,index_cabasse!$B$5:$O$89,2,FALSE))","v":""},"",{"$f":"IF(AD37=\"\",\"\",IF($C$2<>\"\",VLOOKUP(AD37,index_cabasse!$B$5:$O$89,$C$2+2,FALSE),VLOOKUP(AD37,index_cabasse!$B$5:$O$89,$D37+2,FALSE)))","v":""},{"$f":"IF(AE37=\"\",\"\",VLOOKUP(AD37,index_cabasse!$B$5:$O$89,2,FALSE))","v":""},"",{"$f":"IF(AG37=\"\",\"\",IF($C$2<>\"\",VLOOKUP(AG37,index_cabasse!$B$5:$O$89,$C$2+2,FALSE),VLOOKUP(AG37,index_cabasse!$B$5:$O$89,$D37+2,FALSE)))","v":""},{"$f":"IF(AH37=\"\",\"\",VLOOKUP(AG37,index_cabasse!$B$5:$O$89,2,FALSE))","v":""}]
[35,{"$f":"IF(index_classe!F37=\"\",\"\",IF(index_classe!$K$1=\"NON\",index_classe!F37,IF(A38>index_classe!$P$1,\"\",\"Groupe x\")))","v":""},{"$f":"IF(index_classe!G37=\"\",\"\",IF(index_classe!$K$1=\"NON\",index_classe!G37,IF(A38>index_classe!$P$1,\"\",\">>>>>\")))","v":""},10,null,"",{"$f":"IF(F38=\"\",\"\",IF($C$2<>\"\",VLOOKUP(F38,index_cabasse!$B$5:$O$89,$C$2+2,FALSE),VLOOKUP(F38,index_cabasse!$B$5:$O$89,$D38+2,FALSE)))","v":""},{"$f":"IF(G38=\"\",\"\",VLOOKUP(F38,index_cabasse!$B$5:$O$89,2,FALSE))","v":""},"",{"$f":"IF(I38=\"\",\"\",IF($C$2<>\"\",VLOOKUP(I38,index_cabasse!$B$5:$O$89,$C$2+2,FALSE),VLOOKUP(I38,index_cabasse!$B$5:$O$89,$D38+2,FALSE)))","v":""},{"$f":"IF(J38=\"\",\"\",VLOOKUP(I38,index_cabasse!$B$5:$O$89,2,FALSE))","v":""},"",{"$f":"IF(L38=\"\",\"\",IF($C$2<>\"\",VLOOKUP(L38,index_cabasse!$B$5:$O$89,$C$2+2,FALSE),VLOOKUP(L38,index_cabasse!$B$5:$O$89,$D38+2,FALSE)))","v":""},{"$f":"IF(M38=\"\",\"\",VLOOKUP(L38,index_cabasse!$B$5:$O$89,2,FALSE))","v":""},"",{"$f":"IF(O38=\"\",\"\",IF($C$2<>\"\",VLOOKUP(O38,index_cabasse!$B$5:$O$89,$C$2+2,FALSE),VLOOKUP(O38,index_cabasse!$B$5:$O$89,$D38+2,FALSE)))","v":""},{"$f":"IF(P38=\"\",\"\",VLOOKUP(O38,index_cabasse!$B$5:$O$89,2,FALSE))","v":""},"",{"$f":"IF(R38=\"\",\"\",IF($C$2<>\"\",VLOOKUP(R38,index_cabasse!$B$5:$O$89,$C$2+2,FALSE),VLOOKUP(R38,index_cabasse!$B$5:$O$89,$D38+2,FALSE)))","v":""},{"$f":"IF(S38=\"\",\"\",VLOOKUP(R38,index_cabasse!$B$5:$O$89,2,FALSE))","v":""},"",{"$f":"IF(U38=\"\",\"\",IF($C$2<>\"\",VLOOKUP(U38,index_cabasse!$B$5:$O$89,$C$2+2,FALSE),VLOOKUP(U38,index_cabasse!$B$5:$O$89,$D38+2,FALSE)))","v":""},{"$f":"IF(V38=\"\",\"\",VLOOKUP(U38,index_cabasse!$B$5:$O$89,2,FALSE))","v":""},"",{"$f":"IF(X38=\"\",\"\",IF($C$2<>\"\",VLOOKUP(X38,index_cabasse!$B$5:$O$89,$C$2+2,FALSE),VLOOKUP(X38,index_cabasse!$B$5:$O$89,$D38+2,FALSE)))","v":""},{"$f":"IF(Y38=\"\",\"\",VLOOKUP(X38,index_cabasse!$B$5:$O$89,2,FALSE))","v":""},"",{"$f":"IF(AA38=\"\",\"\",IF($C$2<>\"\",VLOOKUP(AA38,index_cabasse!$B$5:$O$89,$C$2+2,FALSE),VLOOKUP(AA38,index_cabasse!$B$5:$O$89,$D38+2,FALSE)))","v":""},{"$f":"IF(AB38=\"\",\"\",VLOOKUP(AA38,index_cabasse!$B$5:$O$89,2,FALSE))","v":""},"",{"$f":"IF(AD38=\"\",\"\",IF($C$2<>\"\",VLOOKUP(AD38,index_cabasse!$B$5:$O$89,$C$2+2,FALSE),VLOOKUP(AD38,index_cabasse!$B$5:$O$89,$D38+2,FALSE)))","v":""},{"$f":"IF(AE38=\"\",\"\",VLOOKUP(AD38,index_cabasse!$B$5:$O$89,2,FALSE))","v":""},"",{"$f":"IF(AG38=\"\",\"\",IF($C$2<>\"\",VLOOKUP(AG38,index_cabasse!$B$5:$O$89,$C$2+2,FALSE),VLOOKUP(AG38,index_cabasse!$B$5:$O$89,$D38+2,FALSE)))","v":""},{"$f":"IF(AH38=\"\",\"\",VLOOKUP(AG38,index_cabasse!$B$5:$O$89,2,FALSE))","v":""}]

{"sheet":"coupons_cabasse","index":4,"n_rows":135,"n_cols":16,"rows_kept":135,"cut":false,"hidden":false,"merged":[[134,1,134,3],[134,5,134,7],[134,9,134,11],[134,13,134,15],[83,13,83,15],[117,1,117,3],[117,5,117,7],[117,9,117,11],[117,13,117,15],[100,13,100,15],[83,1,83,3],[83,5,83,7],[102,3,102,4],[102,11,102,12],[15,13,15,15],[32,13,32,15],[32,1,32,3],[32,5,32,7],[32,9,32,11],[49,13,49,15],[66,1,66,3],[66,5,66,7],[66,9,66,11],[66,13,66,15],[0,3,0,4],[0,11,0,12],[15,5,15,7],[15,1,15,3],[15,9,15,11],[34,3,34,4],[34,11,34,12],[68,3,68,4],[68,11,68,12],[100,1,100,3],[100,5,100,7],[100,9,100,11],[83,9,83,11],[49,1,49,3],[49,5,49,7],[49,9,49,11]]}
[]
[null,"DATE :",null,{"$f":"index_classe!$D3","v":"Carte N° : 10 - BENZ Nawel"},null,"DATE :",null,{"$f":"index_classe!$D4","v":"Carte N° : 10 - BERNA Laurine"},null,"DATE :",null,{"$f":"index_classe!$D19","v":"Carte N° : 10 - SIOUI Salah"},null,"DATE :",null,{"$f":"index_classe!$D20","v":"Carte N° : 10 - TADEVA Khatmat"}]
[null,"CODE","Numéro BALISE","HEURE LIMITE:",null,"CODE","Numéro BALISE","HEURE LIMITE:",null,"CODE","Numéro BALISE","HEURE LIMITE:",null,"CODE","Numéro BALISE","HEURE LIMITE:"]
[]
[null,{"$f":"IF(preparation_cabasse!$K$2>=1,preparation_cabasse!$G4,\"\")","v":"EEK"},null,"Dpt :             Arr :             Net :",null,{"$f":"IF(preparation_cabasse!$K$2>=1,preparation_cabasse!$G5,\"\")","v":"DDZ"},null,"Dpt :             Arr :             Net :",null,{"$f":"IF(preparation_cabasse!$K$2>=1,preparation_cabasse!$G20,\"\")","v":"FFY"},null,"Dpt :             Arr :             Net :",null,{"$f":"IF(preparation_cabasse!$K$2>=1,preparation_cabasse!$G21,\"\")","v":"GGI"},null,"Dpt :             Arr :             Net :"]
[null,{"$f":"IF(preparation_cabasse!$K$2>=2,preparation_cabasse!$J4,\"\")","v":"FFK"},null,"Dpt :             Arr :             Net :",null,{"$f":"IF(preparation_cabasse!$K$2>=2,preparation_cabasse!$J5,\"\")","v":"GGK"},null,"Dpt :             Arr :             Net :",null,{"$f":"IF(preparation_cabasse!$K$2>=2,preparation_cabasse!$J20,\"\")","v":"FFJ"},null,"Dpt :             Arr :             Net :",null,{"$f":"IF(preparation_cabasse!$K$2>=2,preparation_cabasse!$J21,\"\")","v":"EEV"},null,"Dpt :             Arr :             Net :"]
[null,{"$f":"IF(preparation_cabasse!$K$2>=3,preparation_cabasse!$M4,\"\")","v":"HHB"},null,"Dpt :             Arr :             Net :",null,{"$f":"IF(preparation_cabasse!$K$2>=3,preparation_cabasse!$M5,\"\")","v":"EEZ"},null,"Dpt :             Arr :             Net :",null,{"$f":"IF(preparation_cabasse!$K$2>=3,preparation_cabasse!$M20,\"\")","v":"FFN"},null,"Dpt :             Arr :             Net :",null,{"$f":"IF(preparation_cabasse!$K$2>=3,preparation_cabasse!$M21,\"\")","v":"EEG"},null,"Dpt :             Arr :             Net :"]
[null,{"$f":"IF(preparation_cabasse!$K$2>=4,preparation_cabasse!$P4,\"\")","v":"EEO"},null,"Dpt :             Arr :             Net :",null,{"$f":"IF(preparation_cabasse!$K$2>=4,preparation_cabasse!$P5,\"\")","v":"EEV"},null,"Dpt :             Arr :             Net :",null,{"$f":"IF(preparation_cabasse!$K$2>=4,preparation_cabasse!$P20,\"\")","v":"DDS"},null,"Dpt :             Arr :             Net :",null,{"$f":"IF(preparation_cabasse!$K$2>=4,preparation_cabasse!$P21,\"\")","v":"GGS"},null,"Dpt :             Arr :             Net :"]
[null,{"$f":"IF(preparation_cabasse!$K$2>=5,preparation_cabasse!$S4,\"\")","v":"FFP"},null,"Dpt :             Arr :             Net :",null,{"$f":"IF(preparation_cabasse!$K$2>=5,preparation_cabasse!$S5,\"\")","v":"FFI"},null,"Dpt :             Arr :             Net :",null,{"$f":"IF(preparation_cabasse!$K$2>=5,preparation_cabasse!$S20,\"\")","v":"FFI"},null,"Dpt :             Arr :             Net :",null,{"$f":"IF(preparation_cabasse!$K$2>=5,preparation_cabasse!$S21,\"\")","v":"FFU"},null,"Dpt :             Arr :             Net :"]
[null,{"$f":"IF(preparation_cabasse!$K$2>=6,preparation_cabasse!$V4,\"\")","v":""},null,"Dpt :             Arr :             Net :",null,{"$f":"IF(preparation_cabasse!$K$2>=6,preparation_cabasse!$V5,\"\")","v":""},null,"Dpt :             Arr :             Net :",null,{"$f":"IF(preparation_cabasse!$K$2>=6,preparation_cabasse!$V20,\"\")","v":""},null,"Dpt :             Arr :             Net :",null,{"$f":"IF(preparation_cabasse!$K$2>=6,preparation_cabasse!$V21,\"\")","v":""},null,"Dpt :             Arr :             Net :"]
[null,{"$f":"IF(preparation_cabasse!$K$2>=7,preparation_cabasse!$Y4,\"\")","v":""},null,"Dpt :             Arr :             Net :",null,{"$f":"IF(preparation_cabasse!$K$2>=7,preparation_cabasse!$Y5,\"\")","v":""},null,"Dpt :             Arr :             Net :",null,{"$f":"IF(preparation_cabasse!$K$2>=7,preparation_cabasse!$Y20,\"\")","v":""},null,"Dpt :             Arr :             Net :",null,{"$f":"IF(preparation_cabasse!$K$2>=7,preparation_cabasse!$Y21,\"\")","v":""},null,"Dpt :             Arr :             Net :"]
[null,{"$f":"IF(preparation_cabasse!$K$2>=8,preparation_cabasse!$AB4,\"\")","v":""},null,"Dpt :             Arr :             Net :",null,{"$f":"IF(preparation_cabasse!$K$2>=8,preparation_cabasse!$AB5,\"\")","v":""},null,"Dpt :             Arr :             Net :",null,{"$f":"IF(preparation_cabasse!$K$2>=8,preparation_cabasse!$AB20,\"\")","v":""},null,"Dpt :             Arr :             Net :",null,{"$f":"IF(preparation_cabasse!$K$2>=8,preparation_cabasse!$AB21,\"\")","v":""},null,"Dpt :             Arr :             Net :"]
[null,{"$f":"IF(preparation_cabasse!$K$2>=9,preparation_cabasse!$AE4,\"\")","v":""},null,"Dpt :             Arr :             Net :",null,{"$f":"IF(preparation_cabasse!$K$2>=9,preparation_cabasse!$AE5,\"\")","v":""},null,"Dpt :             Arr :             Net :",null,{"$f":"IF(preparation_cabasse!$K$2>=9,preparation_cabasse!$AE20,\"\")","v":""},null,"Dpt :             Arr :             Net :",null,{"$f":"IF(preparation_cabasse!$K$2>=9,preparation_cabasse!$AE21,\"\")","v":""},null,"Dpt :             Arr :             Net :"]
[null,{"$f":"IF(preparation_cabasse!$K$2>=10,preparation_cabasse!$AH4,\"\")","v":""},null,"Dpt :             Arr :             Net :",null,{"$f":"IF(preparation_cabasse!$K$2>=10,preparation_cabasse!$AH5,\"\")","v":""},null,"Dpt :             Arr :             Net :",null,{"$f":"IF(preparation_cabasse!$K$2>=10,preparation_cabasse!$AH20,\"\")","v":""},null,"Dpt :             Arr :             Net :",null,{"$f":"IF(preparation_cabasse!$K$2>=10,preparation_cabasse!$AH21,\"\")","v":""},null,"Dpt :             Arr :             Net :"]
[null,"Bilan",null,"Tps net :",null,"Bilan",null,"Tps net :",null,"Bilan",null,"Tps net :",null,"Bilan",null,"Tps net :"]
[null,"TEL. CLG : 04 90 58 11 32",null,null,null,"TEL. CLG : 04 90 58 11 32",null,null,null,"TEL. CLG : 04 90 58 11 32",null,null,null,"TEL. CLG : 04 90 58 11 32"]
[]
[]
[null,"DATE :",null,{"$f":"index_classe!$D5","v":"Carte N° : 10 - CHEL Sarah"},null,"DATE :",null,{"$f":"index_classe!$D6","v":"Carte N° : 10 - CLAUD Maxime"},null,"DATE :",null,{"$f":"index_classe!$D21","v":"Carte N° : 10 - TEEC Victor"},null,"DATE :",null,{"$f":"index_classe!$D22","v":"Carte N° : 10 - TEJOR Carla"}]
[null,"CODE","Numéro BALISE","HEURE LIMITE:",null,"CODE","Numéro BALISE","HEURE LIMITE:",null,"CODE","Numéro BALISE","HEURE LIMITE:",null,"CODE","Numéro BALISE","HEURE LIMITE:"]
[]
[null,{"$f":"IF(preparation_cabasse!$K$2>=1,preparation_cabasse!$G6,\"\")","v":"FFV"},null,"Dpt :             Arr :             Net :",null,{"$f":"IF(preparation_cabasse!$K$2>=1,preparation_cabasse!$G7,\"\")","v":"GGN"},null,"Dpt :             Arr :             Net :",null,{"$f":"IF(preparation_cabasse!$K$2>=1,preparation_cabasse!$G22,\"\")","v":"FFV"},null,"Dpt :             Arr :             Net :",null,{"$f":"IF(preparation_cabasse!$K$2>=1,preparation_cabasse!$G23,\"\")","v":"EER"},null,"Dpt :             Arr :             Net :"]
[null,{"$f":"IF(preparation_cabasse!$K$2>=2,preparation_cabasse!$J6,\"\")","v":"FFJ"},null,"Dpt :             Arr :             Net :",null,{"$f":"IF(preparation_cabasse!$K$2>=2,preparation_cabasse!$J7,\"\")","v":"GGD"},null,"Dpt :             Arr :             Net :",null,{"$f":"IF(preparation_cabasse!$K$2>=2,preparation_cabasse!$J22,\"\")","v":"GGV"},null,"Dpt :             Arr :             Net :",null,{"$f":"IF(preparation_cabasse!$K$2>=2,preparation_cabasse!$J23,\"\")","v":"GGL"},null,"Dpt :             Arr :             Net :"]
[null,{"$f":"IF(preparation_cabasse!$K$2>=3,preparation_cabasse!$M6,\"\")","v":"GGN"},null,"Dpt :             Arr :             Net :",null,{"$f":"IF(preparation_cabasse!$K$2>=3,preparation_cabasse!$M7,\"\")","v":"EEM"},null,"Dpt :             Arr :             Net :",null,{"$f":"IF(preparation_cabasse!$K$2>=3,preparation_cabasse!$M22,\"\")","v":"FFS"},null,"Dpt :             Arr :             Net :",null,{"$f":"IF(preparation_cabasse!$K$2>=3,preparation_cabasse!$M23,\"\")","v":"GGH"},null,"Dpt :             Arr :             Net :"]
[null,{"$f":"IF(preparation_cabasse!$K$2>=4,preparation_cabasse!$P6,\"\")","v":"FFU"},null,"Dpt :             Arr :             Net :",null,{"$f":"IF(preparation_cabasse!$K$2>=4,preparation_cabasse!$P7,\"\")","v":"GGJ"},null,"Dpt :             Arr :             Net :",null,{"$f":"IF(preparation_cabasse!$K$2>=4,preparation_cabasse!$P22,\"\")","v":"GGV"},null,"Dpt :             Arr :             Net :",null,{"$f":"IF(preparation_cabasse!$K$2>=4,preparation_cabasse!$P23,\"\")","v":"GGC"},null,"Dpt :             Arr :             Net :"]
[null,{"$f":"IF(preparation_cabasse!$K$2>=5,preparation_cabasse!$S6,\"\")","v":"EEA"},null,"Dpt :             Arr :             Net :",null,{"$f":"IF(preparation_cabasse!$K$2>=5,preparation_cabasse!$S7,\"\")","v":"FFX"},null,"Dpt :             Arr :             Net :",null,{"$f":"IF(preparation_cabasse!$K$2>=5,preparation_cabasse!$S22,\"\")","v":"FFP"},null,"Dpt :             Arr :             Net :",null,{"$f":"IF(preparation_cabasse!$K$2>=5,preparation_cabasse!$S23,\"\")","v":"FFN"},null,"Dpt :             Arr :             Net :"]
[null,{"$f":"IF(preparation_cabasse!$K$2>=6,preparation_cabasse!$V6,\"\")","v":""},null,"Dpt :             Arr :             Net :",null,{"$f":"IF(preparation_cabasse!$K$2>=6,preparation_cabasse!$V7,\"\")","v":""},null,"Dpt :             Arr :             Net :",null,{"$f":"IF(preparation_cabasse!$K$2>=6,preparation_cabasse!$V22,\"\")","v":""},null,"Dpt :             Arr :             Net :",null,{"$f":"IF(preparation_cabasse!$K$2>=6,preparation_cabasse!$V23,\"\")","v":""},null,"Dpt :             Arr :             Net :"]
[null,{"$f":"IF(preparation_cabasse!$K$2>=7,preparation_cabasse!$Y6,\"\")","v":""},null,"Dpt :             Arr :             Net :",null,{"$f":"IF(preparation_cabasse!$K$2>=7,preparation_cabasse!$Y7,\"\")","v":""},null,"Dpt :             Arr :             Net :",null,{"$f":"IF(preparation_cabasse!$K$2>=7,preparation_cabasse!$Y22,\"\")","v":""},null,"Dpt :             Arr :             Net :",null,{"$f":"IF(preparation_cabasse!$K$2>=7,preparation_cabasse!$Y23,\"\")","v":""},null,"Dpt :             Arr :             Net :"]
[null,{"$f":"IF(preparation_cabasse!$K$2>=8,preparation_cabasse!$AB6,\"\")","v":""},null,"Dpt :             Arr :             Net :",null,{"$f":"IF(preparation_cabasse!$K$2>=8,preparation_cabasse!$AB7,\"\")","v":""},null,"Dpt :             Arr :             Net :",null,{"$f":"IF(preparation_cabasse!$K$2>=8,preparation_cabasse!$AB22,\"\")","v":""},null,"Dpt :             Arr :             Net :",null,{"$f":"IF(preparation_cabasse!$K$2>=8,preparation_cabasse!$AB23,\"\")","v":""},null,"Dpt :             Arr :             Net :"]
[null,{"$f":"IF(preparation_cabasse!$K$2>=9,preparation_cabasse!$AE6,\"\")","v":""},null,"Dpt :             Arr :             Net :",null,{"$f":"IF(preparation_cabasse!$K$2>=9,preparation_cabasse!$AE7,\"\")","v":""},null,"Dpt :             Arr :             Net :",null,{"$f":"IF(preparation_cabasse!$K$2>=9,preparation_cabasse!$AE22,\"\")","v":""},null,"Dpt :             Arr :             Net :",null,{"$f":"IF(preparation_cabasse!$K$2>=9,preparation_cabasse!$AE23,\"\")","v":""},null,"Dpt :             Arr :             Net :"]
[null,{"$f":"IF(preparation_cabasse!$K$2>=10,preparation_cabasse!$AH6,\"\")","v":""},null,"Dpt :             Arr :             Net :",null,{"$f":"IF(preparation_cabasse!$K$2>=10,preparation_cabasse!$AH7,\"\")","v":""},null,"Dpt :             Arr :             Net :",null,{"$f":"IF(preparation_cabasse!$K$2>=10,preparation_cabasse!$AH22,\"\")","v":""},null,"Dpt :             Arr :             Net :",null,{"$f":"IF(preparation_cabasse!$K$2>=10,preparation_cabasse!$AH23,\"\")","v":""},null,"Dpt :             Arr :             Net :"]
[null,"Bilan",null,"Tps net :",null,"Bilan",null,"Tps net :",null,"Bilan",null,"Tps net :",null,"Bilan",null,"Tps net :"]
[null,"TEL. CLG : 04 90 58 11 32",null,null,null,"TEL. CLG : 04 90 58 11 32",null,null,null,"TEL. CLG : 04 90 58 11 32",null,null,null,"TEL. CLG : 04 90 58 11 32"]
[]
[]
[null,"DATE :",null,{"$f":"index_classe!$D7","v":"Carte N° : 10 - NAISSA Estelle"},null,"DATE :",null,{"$f":"index_classe!$D8","v":"Carte N° : 10 - FA Dylan"},null,"DATE :",null,{"$f":"index_classe!$D23","v":"Carte N° : 10 - THIER Andrea"},null,"DATE :",null,{"$f":"index_classe!$D24","v":"Carte N° : 10 - YI William"}]
[null,"CODE","Numéro BALISE","HEURE LIMITE:",null,"CODE","Numéro BALISE","HEURE LIMITE:",null,"CODE","Numéro BALISE","HEURE LIMITE:",null,"CODE","Numéro BALISE","HEURE LIMITE:"]
[]
[null,{"$f":"IF(preparation_cabasse!$K$2>=1,preparation_cabasse!$G8,\"\")","v":"GGP"},null,"Dpt :             Arr :             Net :",null,{"$f":"IF(preparation_cabasse!$K$2>=1,preparation_cabasse!$G9,\"\")","v":"GGJ"},null,"Dpt :             Arr :             Net :",null,{"$f":"IF(preparation_cabasse!$K$2>=1,preparation_cabasse!$G24,\"\")","v":"GGN"},null,"Dpt :             Arr :             Net :",null,{"$f":"IF(preparation_cabasse!$K$2>=1,preparation_cabasse!$G25,\"\")","v":"DDZ"},null,"Dpt :             Arr :             Net :"]
[null,{"$f":"IF(preparation_cabasse!$K$2>=2,preparation_cabasse!$J8,\"\")","v":"FFK"},null,"Dpt :             Arr :             Net :",null,{"$f":"IF(preparation_cabasse!$K$2>=2,preparation_cabasse!$J9,\"\")","v":"GGP"},null,"Dpt :             Arr :             Net :",null,{"$f":"IF(preparation_cabasse!$K$2>=2,preparation_cabasse!$J24,\"\")","v":"FFT"},null,"Dpt :             Arr :             Net :",null,{"$f":"IF(preparation_cabasse!$K$2>=2,preparation_cabasse!$J25,\"\")","v":"EEZ"},null,"Dpt :             Arr :             Net :"]
[null,{"$f":"IF(preparation_cabasse!$K$2>=3,preparation_cabasse!$M8,\"\")","v":"EEI"},null,"Dpt :             Arr :             Net :",null,{"$f":"IF(preparation_cabasse!$K$2>=3,preparation_cabasse!$M9,\"\")","v":"GGU"},null,"Dpt :             Arr :             Net :",null,{"$f":"IF(preparation_cabasse!$K$2>=3,preparation_cabasse!$M24,\"\")","v":"EED"},null,"Dpt :             Arr :             Net :",null,{"$f":"IF(preparation_cabasse!$K$2>=3,preparation_cabasse!$M25,\"\")","v":"GGL"},null,"Dpt :             Arr :             Net :"]
[null,{"$f":"IF(preparation_cabasse!$K$2>=4,preparation_cabasse!$P8,\"\")","v":"GGQ"},null,"Dpt :             Arr :             Net :",null,{"$f":"IF(preparation_cabasse!$K$2>=4,preparation_cabasse!$P9,\"\")","v":"GGN"},null,"Dpt :             Arr :             Net :",null,{"$f":"IF(preparation_cabasse!$K$2>=4,preparation_cabasse!$P24,\"\")","v":"GGF"},null,"Dpt :             Arr :             Net :",null,{"$f":"IF(preparation_cabasse!$K$2>=4,preparation_cabasse!$P25,\"\")","v":"EEH"},null,"Dpt :             Arr :             Net :"]
[null,{"$f":"IF(preparation_cabasse!$K$2>=5,preparation_cabasse!$S8,\"\")","v":"FFW"},null,"Dpt :             Arr :             Net :",null,{"$f":"IF(preparation_cabasse!$K$2>=5,preparation_cabasse!$S9,\"\")","v":"EED"},null,"Dpt :             Arr :             Net :",null,{"$f":"IF(preparation_cabasse!$K$2>=5,preparation_cabasse!$S24,\"\")","v":"EES"},null,"Dpt :             Arr :             Net :",null,{"$f":"IF(preparation_cabasse!$K$2>=5,preparation_cabasse!$S25,\"\")","v":"FFL"},null,"Dpt :             Arr :             Net :"]
[null,{"$f":"IF(preparation_cabasse!$K$2>=6,preparation_cabasse!$V8,\"\")","v":""},null,"Dpt :             Arr :             Net :",null,{"$f":"IF(preparation_cabasse!$K$2>=6,preparation_cabasse!$V9,\"\")","v":""},null,"Dpt :             Arr :             Net :",null,{"$f":"IF(preparation_cabasse!$K$2>=6,preparation_cabasse!$V24,\"\")","v":""},null,"Dpt :             Arr :             Net :",null,{"$f":"IF(preparation_cabasse!$K$2>=6,preparation_cabasse!$V25,\"\")","v":""},null,"Dpt :             Arr :             Net :"]
[null,{"$f":"IF(preparation_cabasse!$K$2>=7,preparation_cabasse!$Y8,\"\")","v":""},null,"Dpt :             Arr :             Net :",null,{"$f":"IF(preparation_cabasse!$K$2>=7,preparation_cabasse!$Y9,\"\")","v":""},null,"Dpt :             Arr :             Net :",null,{"$f":"IF(preparation_cabasse!$K$2>=7,preparation_cabasse!$Y24,\"\")","v":""},null,"Dpt :             Arr :             Net :",null,{"$f":"IF(preparation_cabasse!$K$2>=7,preparation_cabasse!$Y25,\"\")","v":""},null,"Dpt :             Arr :             Net :"]
[null,{"$f":"IF(preparation_cabasse!$K$2>=8,preparation_cabasse!$AB8,\"\")","v":""},null,"Dpt :             Arr :             Net :",null,{"$f":"IF(preparation_cabasse!$K$2>=8,preparation_cabasse!$AB9,\"\")","v":""},null,"Dpt :             Arr :             Net :",null,{"$f":"IF(preparation_cabasse!$K$2>=8,preparation_cabasse!$AB24,\"\")","v":""},null,"Dpt :             Arr :             Net :",null,{"$f":"IF(preparation_cabasse!$K$2>=8,preparation_cabasse!$AB25,\"\")","v":""},null,"Dpt :             Arr :             Net :"]
[null,{"$f":"IF(preparation_cabasse!$K$2>=9,preparation_cabasse!$AE8,\"\")","v":""},null,"Dpt :             Arr :             Net :",null,{"$f":"IF(preparation_cabasse!$K$2>=9,preparation_cabasse!$AE9,\"\")","v":""},null,"Dpt :             Arr :             Net :",null,{"$f":"IF(preparation_cabasse!$K$2>=9,preparation_cabasse!$AE24,\"\")","v":""},null,"Dpt :             Arr :             Net :",null,{"$f":"IF(preparation_cabasse!$K$2>=9,preparation_cabasse!$AE25,\"\")","v":""},null,"Dpt :             Arr :             Net :"]
[null,{"$f":"IF(preparation_cabasse!$K$2>=10,preparation_cabasse!$AH8,\"\")","v":""},null,"Dpt :             Arr :             Net :",null,{"$f":"IF(preparation_cabasse!$K$2>=10,preparation_cabasse!$AH9,\"\")","v":""},null,"Dpt :             Arr :             Net :",null,{"$f":"IF(preparation_cabasse!$K$2>=10,preparation_cabasse!$AH24,\"\")","v":""},null,"Dpt :             Arr :             Net :",null,{"$f":"IF(preparation_cabasse!$K$2>=10,preparation_cabasse!$AH25,\"\")","v":""},null,"Dpt :             Arr :             Net :"]
[null,"Bilan",null,"Tps net :",null,"Bilan",null,"Tps net :",null,"Bilan",null,"Tps net :",null,"Bilan",null,"Tps net :"]
[null,"TEL. CLG : 04 90 58 11 32",null,null,null,"TEL. CLG : 04 90 58 11 32",null,null,null,"TEL. CLG : 04 90 58 11 32",null,null,null,"TEL. CLG : 04 90 58 11 32"]
[]
[]
[null,"DATE :",null,{"$f":"index_classe!$D9","v":"Carte N° : 10 - FLEIN Theo"},null,"DATE :",null,{"$f":"index_classe!$D10","v":"Carte N° : 10 - JEAON Alexis"},null,"DATE :",null,{"$f":"index_classe!$D25","v":""},null,"DATE :",null,{"$f":"index_classe!$D26","v":""}]
[null,"CODE","Numéro BALISE","HEURE LIMITE:",null,"CODE","Numéro BALISE","HEURE LIMITE:",null,"CODE","Numéro BALISE","HEURE LIMITE:",null,"CODE","Numéro BALISE","HEURE LIMITE:"]
[]
[null,{"$f":"IF(preparation_cabasse!$K$2>=1,preparation_cabasse!$G10,\"\")","v":"DDU"},null,"Dpt :             Arr :             Net :",null,{"$f":"IF(preparation_cabasse!$K$2>=1,preparation_cabasse!$G11,\"\")","v":"GGD"},null,"Dpt :             Arr :             Net :",null,{"$f":"IF(preparation_cabasse!$K$2>=1,preparation_cabasse!$G26,\"\")","v":""},null,"Dpt :             Arr :             Net :",null,{"$f":"IF(preparation_cabasse!$K$2>=1,preparation_cabasse!$G27,\"\")","v":""},null,"Dpt :             Arr :             Net :"]
[null,{"$f":"IF(preparation_cabasse!$K$2>=2,preparation_cabasse!$J10,\"\")","v":"EEM"},null,"Dpt :             Arr :             Net :",null,{"$f":"IF(preparation_cabasse!$K$2>=2,preparation_cabasse!$J11,\"\")","v":"DDS"},null,"Dpt :             Arr :             Net :",null,{"$f":"IF(preparation_cabasse!$K$2>=2,preparation_cabasse!$J26,\"\")","v":""},null,"Dpt :             Arr :             Net :",null,{"$f":"IF(preparation_cabasse!$K$2>=2,preparation_cabasse!$J27,\"\")","v":""},null,"Dpt :             Arr :             Net :"]
[null,{"$f":"IF(preparation_cabasse!$K$2>=3,preparation_cabasse!$M10,\"\")","v":"GGD"},null,"Dpt :             Arr :             Net :",null,{"$f":"IF(preparation_cabasse!$K$2>=3,preparation_cabasse!$M11,\"\")","v":"FFU"},null,"Dpt :             Arr :             Net :",null,{"$f":"IF(preparation_cabasse!$K$2>=3,preparation_cabasse!$M26,\"\")","v":""},null,"Dpt :             Arr :             Net :",null,{"$f":"IF(preparation_cabasse!$K$2>=3,preparation_cabasse!$M27,\"\")","v":""},null,"Dpt :             Arr :             Net :"]
[null,{"$f":"IF(preparation_cabasse!$K$2>=4,preparation_cabasse!$P10,\"\")","v":"GGF"},null,"Dpt :             Arr :             Net :",null,{"$f":"IF(preparation_cabasse!$K$2>=4,preparation_cabasse!$P11,\"\")","v":"FFT"},null,"Dpt :             Arr :             Net :",null,{"$f":"IF(preparation_cabasse!$K$2>=4,preparation_cabasse!$P26,\"\")","v":""},null,"Dpt :             Arr :             Net :",null,{"$f":"IF(preparation_cabasse!$K$2>=4,preparation_cabasse!$P27,\"\")","v":""},null,"Dpt :             Arr :             Net :"]
[null,{"$f":"IF(preparation_cabasse!$K$2>=5,preparation_cabasse!$S10,\"\")","v":"GGJ"},null,"Dpt :             Arr :             Net :",null,{"$f":"IF(preparation_cabasse!$K$2>=5,preparation_cabasse!$S11,\"\")","v":"GGK"},null,"Dpt :             Arr :             Net :",null,{"$f":"IF(preparation_cabasse!$K$2>=5,preparation_cabasse!$S26,\"\")","v":""},null,"Dpt :             Arr :             Net :",null,{"$f":"IF(preparation_cabasse!$K$2>=5,preparation_cabasse!$S27,\"\")","v":""},null,"Dpt :             Arr :             Net :"]
[null,{"$f":"IF(preparation_cabasse!$K$2>=6,preparation_cabasse!$V10,\"\")","v":""},null,"Dpt :             Arr :             Net :",null,{"$f":"IF(preparation_cabasse!$K$2>=6,preparation_cabasse!$V11,\"\")","v":""},null,"Dpt :             Arr :             Net :",null,{"$f":"IF(preparation_cabasse!$K$2>=6,preparation_cabasse!$V26,\"\")","v":""},null,"Dpt :             Arr :             Net :",null,{"$f":"IF(preparation_cabasse!$K$2>=6,preparation_cabasse!$V27,\"\")","v":""},null,"Dpt :             Arr :             Net :"]
[null,{"$f":"IF(preparation_cabasse!$K$2>=7,preparation_cabasse!$Y10,\"\")","v":""},null,"Dpt :             Arr :             Net :",null,{"$f":"IF(preparation_cabasse!$K$2>=7,preparation_cabasse!$Y11,\"\")","v":""},null,"Dpt :             Arr :             Net :",null,{"$f":"IF(preparation_cabasse!$K$2>=7,preparation_cabasse!$Y26,\"\")","v":""},null,"Dpt :             Arr :             Net :",null,{"$f":"IF(preparation_cabasse!$K$2>=7,preparation_cabasse!$Y27,\"\")","v":""},null,"Dpt :             Arr :             Net :"]
[null,{"$f":"IF(preparation_cabasse!$K$2>=8,preparation_cabasse!$AB10,\"\")","v":""},null,"Dpt :             Arr :             Net :",null,{"$f":"IF(preparation_cabasse!$K$2>=8,preparation_cabasse!$AB11,\"\")","v":""},null,"Dpt :             Arr :             Net :",null,{"$f":"IF(preparation_cabasse!$K$2>=8,preparation_cabasse!$AB26,\"\")","v":""},null,"Dpt :             Arr :             Net :",null,{"$f":"IF(preparation_cabasse!$K$2>=8,preparation_cabasse!$AB27,\"\")","v":""},null,"Dpt :             Arr :             Net :"]
[null,{"$f":"IF(preparation_cabasse!$K$2>=9,preparation_cabasse!$AE25,\"\")","v":""},null,"Dpt :             Arr :             Net :",null,{"$f":"IF(preparation_cabasse!$K$2>=9,preparation_cabasse!$AE11,\"\")","v":""},null,"Dpt :             Arr :             Net :",null,{"$f":"IF(preparation_cabasse!$K$2>=9,preparation_cabasse!$AE26,\"\")","v":""},null,"Dpt :             Arr :             Net :",null,{"$f":"IF(preparation_cabasse!$K$2>=9,preparation_cabasse!$AE27,\"\")","v":""},null,"Dpt :             Arr :             Net :"]
[null,{"$f":"IF(preparation_cabasse!$K$2>=10,preparation_cabasse!$AH10,\"\")","v":""},null,"Dpt :             Arr :             Net :",null,{"$f":"IF(preparation_cabasse!$K$2>=10,preparation_cabasse!$AH11,\"\")","v":""},null,"Dpt :             Arr :             Net :",null,{"$f":"IF(preparation_cabasse!$K$2>=10,preparation_cabasse!$AH26,\"\")","v":""},null,"Dpt :             Arr :             Net :",null,{"$f":"IF(preparation_cabasse!$K$2>=10,preparation_cabasse!$AH27,\"\")","v":""},null,"Dpt :             Arr :             Net :"]
[null,"Bilan",null,"Tps net :",null,"Bilan",null,"Tps net :",null,"Bilan",null,"Tps net :",null,"Bilan",null,"Tps net :"]
[null,"TEL. CLG : 04 90 58 11 32",null,null,null,"TEL. CLG : 04 90 58 11 32",null,null,null,"TEL. CLG : 04 90 58 11 32",null,null,null,"TEL. CLG : 04 90 58 11 32"]
[]
[]
[null,"DATE :",null,{"$f":"index_classe!$D11","v":"Carte N° : 10 - KOLA Alexandre"},null,"DATE :",null,{"$f":"index_classe!$D12","v":"Carte N° : 10 - LERHE Melvin"},null,"DATE :",null,{"$f":"index_classe!$D27","v":""},null,"DATE :",null,{"$f":"index_classe!$D28","v":""}]
[null,"CODE","Numéro BALISE","HEURE LIMITE:",null,"CODE","Numéro BALISE","HEURE LIMITE:",null,"CODE","Numéro BALISE","HEURE LIMITE:",null,"CODE","Numéro BALISE","HEURE LIMITE:"]
[]
[null,{"$f":"IF(preparation_cabasse!$K$2>=1,preparation_cabasse!$G12,\"\")","v":"GGV"},null,"Dpt :             Arr :             Net :",null,{"$f":"IF(preparation_cabasse!$K$2>=1,preparation_cabasse!$G13,\"\")","v":"GGM"},null,"Dpt :             Arr :             Net :",null,{"$f":"IF(preparation_cabasse!$K$2>=1,preparation_cabasse!$G28,\"\")","v":""},null,"Dpt :             Arr :             Net :",null,{"$f":"IF(preparation_cabasse!$K$2>=1,preparation_cabasse!$G29,\"\")","v":""},null,"Dpt :             Arr :             Net :"]
[null,{"$f":"IF(preparation_cabasse!$K$2>=2,preparation_cabasse!$J12,\"\")","v":"EEO"},null,"Dpt :             Arr :             Net :",null,{"$f":"IF(preparation_cabasse!$K$2>=2,preparation_cabasse!$J13,\"\")","v":"FFE"},null,"Dpt :             Arr :             Net :",null,{"$f":"IF(preparation_cabasse!$K$2>=2,preparation_cabasse!$J28,\"\")","v":""},null,"Dpt :             Arr :             Net :",null,{"$f":"IF(preparation_cabasse!$K$2>=2,preparation_cabasse!$J29,\"\")","v":""},null,"Dpt :             Arr :             Net :"]
[null,{"$f":"IF(preparation_cabasse!$K$2>=3,preparation_cabasse!$M12,\"\")","v":"FFM"},null,"Dpt :             Arr :             Net :",null,{"$f":"IF(preparation_cabasse!$K$2>=3,preparation_cabasse!$M13,\"\")","v":"EEU"},null,"Dpt :             Arr :             Net :",null,{"$f":"IF(preparation_cabasse!$K$2>=3,preparation_cabasse!$M28,\"\")","v":""},null,"Dpt :             Arr :             Net :",null,{"$f":"IF(preparation_cabasse!$K$2>=3,preparation_cabasse!$M29,\"\")","v":""},null,"Dpt :             Arr :             Net :"]
[null,{"$f":"IF(preparation_cabasse!$K$2>=4,preparation_cabasse!$P12,\"\")","v":"DDT"},null,"Dpt :             Arr :             Net :",null,{"$f":"IF(preparation_cabasse!$K$2>=4,preparation_cabasse!$P13,\"\")","v":"EET"},null,"Dpt :             Arr :             Net :",null,{"$f":"IF(preparation_cabasse!$K$2>=4,preparation_cabasse!$P28,\"\")","v":""},null,"Dpt :             Arr :             Net :",null,{"$f":"IF(preparation_cabasse!$K$2>=4,preparation_cabasse!$P29,\"\")","v":""},null,"Dpt :             Arr :             Net :"]
[null,{"$f":"IF(preparation_cabasse!$K$2>=5,preparation_cabasse!$S12,\"\")","v":"DDV"},null,"Dpt :             Arr :             Net :",null,{"$f":"IF(preparation_cabasse!$K$2>=5,preparation_cabasse!$S13,\"\")","v":"DW"},null,"Dpt :             Arr :             Net :",null,{"$f":"IF(preparation_cabasse!$K$2>=5,preparation_cabasse!$S28,\"\")","v":""},null,"Dpt :             Arr :             Net :",null,{"$f":"IF(preparation_cabasse!$K$2>=5,preparation_cabasse!$S29,\"\")","v":""},null,"Dpt :             Arr :             Net :"]
[null,{"$f":"IF(preparation_cabasse!$K$2>=6,preparation_cabasse!$V12,\"\")","v":""},null,"Dpt :             Arr :             Net :",null,{"$f":"IF(preparation_cabasse!$K$2>=6,preparation_cabasse!$V13,\"\")","v":""},null,"Dpt :             Arr :             Net :",null,{"$f":"IF(preparation_cabasse!$K$2>=6,preparation_cabasse!$V28,\"\")","v":""},null,"Dpt :             Arr :             Net :",null,{"$f":"IF(preparation_cabasse!$K$2>=6,preparation_cabasse!$V29,\"\")","v":""},null,"Dpt :             Arr :             Net :"]
[null,{"$f":"IF(preparation_cabasse!$K$2>=7,preparation_cabasse!$Y12,\"\")","v":""},null,"Dpt :             Arr :             Net :",null,{"$f":"IF(preparation_cabasse!$K$2>=7,preparation_cabasse!$Y13,\"\")","v":""},null,"Dpt :             Arr :             Net :",null,{"$f":"IF(preparation_cabasse!$K$2>=7,preparation_cabasse!$Y28,\"\")","v":""},null,"Dpt :             Arr :             Net :",null,{"$f":"IF(preparation_cabasse!$K$2>=7,preparation_cabasse!$Y29,\"\")","v":""},null,"Dpt :             Arr :             Net :"]
[null,{"$f":"IF(preparation_cabasse!$K$2>=8,preparation_cabasse!$AB12,\"\")","v":""},null,"Dpt :             Arr :             Net :",null,{"$f":"IF(preparation_cabasse!$K$2>=8,preparation_cabasse!$AB13,\"\")","v":""},null,"Dpt :             Arr :             Net :",null,{"$f":"IF(preparation_cabasse!$K$2>=8,preparation_cabasse!$AB28,\"\")","v":""},null,"Dpt :             Arr :             Net :",null,{"$f":"IF(preparation_cabasse!$K$2>=8,preparation_cabasse!$AB29,\"\")","v":""},null,"Dpt :             Arr :             Net :"]
[null,{"$f":"IF(preparation_cabasse!$K$2>=9,preparation_cabasse!$AE12,\"\")","v":""},null,"Dpt :             Arr :             Net :",null,{"$f":"IF(preparation_cabasse!$K$2>=9,preparation_cabasse!$AE13,\"\")","v":""},null,"Dpt :             Arr :             Net :",null,{"$f":"IF(preparation_cabasse!$K$2>=9,preparation_cabasse!$AE28,\"\")","v":""},null,"Dpt :             Arr :             Net :",null,{"$f":"IF(preparation_cabasse!$K$2>=9,preparation_cabasse!$AE29,\"\")","v":""},null,"Dpt :             Arr :             Net :"]
[null,{"$f":"IF(preparation_cabasse!$K$2>=10,preparation_cabasse!$AH12,\"\")","v":""},null,"Dpt :             Arr :             Net :",null,{"$f":"IF(preparation_cabasse!$K$2>=10,preparation_cabasse!$AH13,\"\")","v":""},null,"Dpt :             Arr :             Net :",null,{"$f":"IF(preparation_cabasse!$K$2>=10,preparation_cabasse!$AH28,\"\")","v":""},null,"Dpt :             Arr :             Net :",null,{"$f":"IF(preparation_cabasse!$K$2>=10,preparation_cabasse!$AH29,\"\")","v":""},null,"Dpt :             Arr :             Net :"]
[null,"Bilan",null,"Tps net :",null,"Bilan",null,"Tps net :",null,"Bilan",null,"Tps net :",null,"Bilan",null,"Tps net :"]
[null,"TEL. CLG : 04 90 58 11 32",null,null,null,"TEL. CLG : 04 90 58 11 32",null,null,null,"TEL. CLG : 04 90 58 11 32",null,null,null,"TEL. CLG : 04 90 58 11 32"]
[]
[]
[null,"DATE :",null,{"$f":"index_classe!$D13","v":"Carte N° : 10 - LOE Mickael"},null,"DATE :",null,{"$f":"index_classe!$D14","v":"Carte N° : 10 - MORET Alice"},null,"DATE :",null,{"$f":"index_classe!$D29","v":""},null,"DATE :",null,{"$f":"index_classe!$D30","v":""}]
[null,"CODE","Numéro BALISE","HEURE LIMITE:",null,"CODE","Numéro BALISE","HEURE LIMITE:",null,"CODE","Numéro BALISE","HEURE LIMITE:",null,"CODE","Numéro BALISE","HEURE LIMITE:"]
[]
[null,{"$f":"IF(preparation_cabasse!$K$2>=1,preparation_cabasse!$G14,\"\")","v":"FFH"},null,"Dpt :             Arr :             Net :",null,{"$f":"IF(preparation_cabasse!$K$2>=1,preparation_cabasse!$G15,\"\")","v":"FFV"},null,"Dpt :             Arr :             Net :",null,{"$f":"IF(preparation_cabasse!$K$2>=1,preparation_cabasse!$G30,\"\")","v":""},null,"Dpt :             Arr :             Net :",null,{"$f":"IF(preparation_cabasse!$K$2>=1,preparation_cabasse!$G31,\"\")","v":""},null,"Dpt :             Arr :             Net :"]
[null,{"$f":"IF(preparation_cabasse!$K$2>=2,preparation_cabasse!$J14,\"\")","v":"DDU"},null,"Dpt :             Arr :             Net :",null,{"$f":"IF(preparation_cabasse!$K$2>=2,preparation_cabasse!$J15,\"\")","v":"EEW"},null,"Dpt :             Arr :             Net :",null,{"$f":"IF(preparation_cabasse!$K$2>=2,preparation_cabasse!$J30,\"\")","v":""},null,"Dpt :             Arr :             Net :",null,{"$f":"IF(preparation_cabasse!$K$2>=2,preparation_cabasse!$J31,\"\")","v":""},null,"Dpt :             Arr :             Net :"]
[null,{"$f":"IF(preparation_cabasse!$K$2>=3,preparation_cabasse!$M14,\"\")","v":"GGT"},null,"Dpt :             Arr :             Net :",null,{"$f":"IF(preparation_cabasse!$K$2>=3,preparation_cabasse!$M15,\"\")","v":"EEF"},null,"Dpt :             Arr :             Net :",null,{"$f":"IF(preparation_cabasse!$K$2>=3,preparation_cabasse!$M30,\"\")","v":""},null,"Dpt :             Arr :             Net :",null,{"$f":"IF(preparation_cabasse!$K$2>=3,preparation_cabasse!$M31,\"\")","v":""},null,"Dpt :             Arr :             Net :"]
[null,{"$f":"IF(preparation_cabasse!$K$2>=4,preparation_cabasse!$P14,\"\")","v":"GGN"},null,"Dpt :             Arr :             Net :",null,{"$f":"IF(preparation_cabasse!$K$2>=4,preparation_cabasse!$P15,\"\")","v":"EEZ"},null,"Dpt :             Arr :             Net :",null,{"$f":"IF(preparation_cabasse!$K$2>=4,preparation_cabasse!$P30,\"\")","v":""},null,"Dpt :             Arr :             Net :",null,{"$f":"IF(preparation_cabasse!$K$2>=4,preparation_cabasse!$P31,\"\")","v":""},null,"Dpt :             Arr :             Net :"]
[null,{"$f":"IF(preparation_cabasse!$K$2>=5,preparation_cabasse!$S14,\"\")","v":"GGT"},null,"Dpt :             Arr :             Net :",null,{"$f":"IF(preparation_cabasse!$K$2>=5,preparation_cabasse!$S15,\"\")","v":"DDX"},null,"Dpt :             Arr :             Net :",null,{"$f":"IF(preparation_cabasse!$K$2>=5,preparation_cabasse!$S30,\"\")","v":""},null,"Dpt :             Arr :             Net :",null,{"$f":"IF(preparation_cabasse!$K$2>=5,preparation_cabasse!$S31,\"\")","v":""},null,"Dpt :             Arr :             Net :"]
[null,{"$f":"IF(preparation_cabasse!$K$2>=6,preparation_cabasse!$V14,\"\")","v":""},null,"Dpt :             Arr :             Net :",null,{"$f":"IF(preparation_cabasse!$K$2>=6,preparation_cabasse!$V15,\"\")","v":""},null,"Dpt :             Arr :             Net :",null,{"$f":"IF(preparation_cabasse!$K$2>=6,preparation_cabasse!$V30,\"\")","v":""},null,"Dpt :             Arr :             Net :",null,{"$f":"IF(preparation_cabasse!$K$2>=6,preparation_cabasse!$V31,\"\")","v":""},null,"Dpt :             Arr :             Net :"]
[null,{"$f":"IF(preparation_cabasse!$K$2>=7,preparation_cabasse!$Y14,\"\")","v":""},null,"Dpt :             Arr :             Net :",null,{"$f":"IF(preparation_cabasse!$K$2>=7,preparation_cabasse!$Y15,\"\")","v":""},null,"Dpt :             Arr :             Net :",null,{"$f":"IF(preparation_cabasse!$K$2>=7,preparation_cabasse!$Y30,\"\")","v":""},null,"Dpt :             Arr :             Net :",null,{"$f":"IF(preparation_cabasse!$K$2>=7,preparation_cabasse!$Y31,\"\")","v":""},null,"Dpt :             Arr :             Net :"]
[null,{"$f":"IF(preparation_cabasse!$K$2>=8,preparation_cabasse!$AB14,\"\")","v":""},null,"Dpt :             Arr :             Net :",null,{"$f":"IF(preparation_cabasse!$K$2>=8,preparation_cabasse!$AB15,\"\")","v":""},null,"Dpt :             Arr :             Net :",null,{"$f":"IF(preparation_cabasse!$K$2>=8,preparation_cabasse!$AB30,\"\")","v":""},null,"Dpt :             Arr :             Net :",null,{"$f":"IF(preparation_cabasse!$K$2>=8,preparation_cabasse!$AB31,\"\")","v":""},null,"Dpt :             Arr :             Net :"]
[null,{"$f":"IF(preparation_cabasse!$K$2>=9,preparation_cabasse!$AE14,\"\")","v":""},null,"Dpt :             Arr :             Net :",null,{"$f":"IF(preparation_cabasse!$K$2>=9,preparation_cabasse!$AE15,\"\")","v":""},null,"Dpt :             Arr :             Net :",null,{"$f":"IF(preparation_cabasse!$K$2>=9,preparation_cabasse!$AE30,\"\")","v":""},null,"Dpt :             Arr :             Net :",null,{"$f":"IF(preparation_cabasse!$K$2>=9,preparation_cabasse!$AE31,\"\")","v":""},null,"Dpt :             Arr :             Net :"]
[null,{"$f":"IF(preparation_cabasse!$K$2>=10,preparation_cabasse!$AH14,\"\")","v":""},null,"Dpt :             Arr :             Net :",null,{"$f":"IF(preparation_cabasse!$K$2>=10,preparation_cabasse!$AH15,\"\")","v":""},null,"Dpt :             Arr :             Net :",null,{"$f":"IF(preparation_cabasse!$K$2>=10,preparation_cabasse!$AH30,\"\")","v":""},null,"Dpt :             Arr :             Net :",null,{"$f":"IF(preparation_cabasse!$K$2>=10,preparation_cabasse!$AH31,\"\")","v":""},null,"Dpt :             Arr :             Net :"]
[null,"Bilan",null,"Tps net :",null,"Bilan",null,"Tps net :",null,"Bilan",null,"Tps net :",null,"Bilan",null,"Tps net :"]
[null,"TEL. CLG : 04 90 58 11 32",null,null,null,"TEL. CLG : 04 90 58 11 32",null,null,null,"TEL. CLG : 04 90 58 11 32",null,null,null,"TEL. CLG : 04 90 58 11 32"]
[]
[]
[null,"DATE :",null,{"$f":"index_classe!$D15","v":"Carte N° : 10 - NICAU Romain"},null,"DATE :",null,{"$f":"index_classe!$D16","v":"Carte N° : 10 - RUI Desiderio"},null,"DATE :",null,{"$f":"index_classe!$D31","v":""},null,"DATE :",null,{"$f":"index_classe!$D32","v":""}]
[null,"CODE","Numéro BALISE","HEURE LIMITE:",null,"CODE","Numéro BALISE","HEURE LIMITE:",null,"CODE","Numéro BALISE","HEURE LIMITE:",null,"CODE","Numéro BALISE","HEURE LIMITE:"]
[]
[null,{"$f":"IF(preparation_cabasse!$K$2>=1,preparation_cabasse!$G16,\"\")","v":"EEA"},null,"Dpt :             Arr :             Net :",null,{"$f":"IF(preparation_cabasse!$K$2>=1,preparation_cabasse!$G17,\"\")","v":"DDU"},null,"Dpt :             Arr :             Net :",null,{"$f":"IF(preparation_cabasse!$K$2>=1,preparation_cabasse!$G32,\"\")","v":""},null,"Dpt :             Arr :             Net :",null,{"$f":"IF(preparation_cabasse!$K$2>=1,preparation_cabasse!$G33,\"\")","v":""},null,"Dpt :             Arr :             Net :"]
[null,{"$f":"IF(preparation_cabasse!$K$2>=2,preparation_cabasse!$J16,\"\")","v":"EEB"},null,"Dpt :             Arr :             Net :",null,{"$f":"IF(preparation_cabasse!$K$2>=2,preparation_cabasse!$J17,\"\")","v":"DDX"},null,"Dpt :             Arr :             Net :",null,{"$f":"IF(preparation_cabasse!$K$2>=2,preparation_cabasse!$J32,\"\")","v":""},null,"Dpt :             Arr :             Net :",null,{"$f":"IF(preparation_cabasse!$K$2>=2,preparation_cabasse!$J33,\"\")","v":""},null,"Dpt :             Arr :             Net :"]
[null,{"$f":"IF(preparation_cabasse!$K$2>=3,preparation_cabasse!$M16,\"\")","v":"GGI"},null,"Dpt :             Arr :             Net :",null,{"$f":"IF(preparation_cabasse!$K$2>=3,preparation_cabasse!$M17,\"\")","v":"EEA"},null,"Dpt :             Arr :             Net :",null,{"$f":"IF(preparation_cabasse!$K$2>=3,preparation_cabasse!$M32,\"\")","v":""},null,"Dpt :             Arr :             Net :",null,{"$f":"IF(preparation_cabasse!$K$2>=3,preparation_cabasse!$M33,\"\")","v":""},null,"Dpt :             Arr :             Net :"]
[null,{"$f":"IF(preparation_cabasse!$K$2>=4,preparation_cabasse!$P16,\"\")","v":"FFQ"},null,"Dpt :             Arr :             Net :",null,{"$f":"IF(preparation_cabasse!$K$2>=4,preparation_cabasse!$P17,\"\")","v":"GGW"},null,"Dpt :             Arr :             Net :",null,{"$f":"IF(preparation_cabasse!$K$2>=4,preparation_cabasse!$P32,\"\")","v":""},null,"Dpt :             Arr :             Net :",null,{"$f":"IF(preparation_cabasse!$K$2>=4,preparation_cabasse!$P33,\"\")","v":""},null,"Dpt :             Arr :             Net :"]
[null,{"$f":"IF(preparation_cabasse!$K$2>=5,preparation_cabasse!$S16,\"\")","v":"GGI"},null,"Dpt :             Arr :             Net :",null,{"$f":"IF(preparation_cabasse!$K$2>=5,preparation_cabasse!$S17,\"\")","v":"FFG"},null,"Dpt :             Arr :             Net :",null,{"$f":"IF(preparation_cabasse!$K$2>=5,preparation_cabasse!$S32,\"\")","v":""},null,"Dpt :             Arr :             Net :",null,{"$f":"IF(preparation_cabasse!$K$2>=5,preparation_cabasse!$S33,\"\")","v":""},null,"Dpt :             Arr :             Net :"]
[null,{"$f":"IF(preparation_cabasse!$K$2>=6,preparation_cabasse!$V16,\"\")","v":""},null,"Dpt :             Arr :             Net :",null,{"$f":"IF(preparation_cabasse!$K$2>=6,preparation_cabasse!$V17,\"\")","v":""},null,"Dpt :             Arr :             Net :",null,{"$f":"IF(preparation_cabasse!$K$2>=6,preparation_cabasse!$V32,\"\")","v":""},null,"Dpt :             Arr :             Net :",null,{"$f":"IF(preparation_cabasse!$K$2>=6,preparation_cabasse!$V33,\"\")","v":""},null,"Dpt :             Arr :             Net :"]
[null,{"$f":"IF(preparation_cabasse!$K$2>=7,preparation_cabasse!$Y16,\"\")","v":""},null,"Dpt :             Arr :             Net :",null,{"$f":"IF(preparation_cabasse!$K$2>=7,preparation_cabasse!$Y17,\"\")","v":""},null,"Dpt :             Arr :             Net :",null,{"$f":"IF(preparation_cabasse!$K$2>=7,preparation_cabasse!$Y32,\"\")","v":""},null,"Dpt :             Arr :             Net :",null,{"$f":"IF(preparation_cabasse!$K$2>=7,preparation_cabasse!$Y33,\"\")","v":""},null,"Dpt :             Arr :             Net :"]
[null,{"$f":"IF(preparation_cabasse!$K$2>=8,preparation_cabasse!$AB16,\"\")","v":""},null,"Dpt :             Arr :             Net :",null,{"$f":"IF(preparation_cabasse!$K$2>=8,preparation_cabasse!$AB17,\"\")","v":""},null,"Dpt :             Arr :             Net :",null,{"$f":"IF(preparation_cabasse!$K$2>=8,preparation_cabasse!$AB32,\"\")","v":""},null,"Dpt :             Arr :             Net :",null,{"$f":"IF(preparation_cabasse!$K$2>=8,preparation_cabasse!$AB33,\"\")","v":""},null,"Dpt :             Arr :             Net :"]
[null,{"$f":"IF(preparation_cabasse!$K$2>=9,preparation_cabasse!$AE16,\"\")","v":""},null,"Dpt :             Arr :             Net :",null,{"$f":"IF(preparation_cabasse!$K$2>=9,preparation_cabasse!$AE17,\"\")","v":""},null,"Dpt :             Arr :             Net :",null,{"$f":"IF(preparation_cabasse!$K$2>=9,preparation_cabasse!$AE32,\"\")","v":""},null,"Dpt :             Arr :             Net :",null,{"$f":"IF(preparation_cabasse!$K$2>=9,preparation_cabasse!$AE33,\"\")","v":""},null,"Dpt :             Arr :             Net :"]
[null,{"$f":"IF(preparation_cabasse!$K$2>=10,preparation_cabasse!$AH16,\"\")","v":""},null,"Dpt :             Arr :             Net :",null,{"$f":"IF(preparation_cabasse!$K$2>=10,preparation_cabasse!$AH17,\"\")","v":""},null,"Dpt :             Arr :             Net :",null,{"$f":"IF(preparation_cabasse!$K$2>=10,preparation_cabasse!$AH32,\"\")","v":""},null,"Dpt :             Arr :             Net :",null,{"$f":"IF(preparation_cabasse!$K$2>=10,preparation_cabasse!$AH33,\"\")","v":""},null,"Dpt :             Arr :             Net :"]
[null,"Bilan",null,"Tps net :",null,"Bilan",null,"Tps net :",null,"Bilan",null,"Tps net :",null,"Bilan",null,"Tps net :"]
[null,"TEL. CLG : 04 90 58 11 32",null,null,null,"TEL. CLG : 04 90 58 11 32",null,null,null,"TEL. CLG : 04 90 58 11 32",null,null,null,"TEL. CLG : 04 90 58 11 32"]
[]
[]
[null,"DATE :",null,{"$f":"index_classe!$D17","v":"Carte N° : 10 - RI Niko"},null,"DATE :",null,{"$f":"index_classe!$D18","v":"Carte N° : 10 - SAL Calvin"},null,"DATE :",null,{"$f":"index_classe!$D33","v":""},null,"DATE :",null,{"$f":"index_classe!$D34","v":""}]
[null,"CODE","Numéro BALISE","HEURE LIMITE:",null,"CODE","Numéro BALISE","HEURE LIMITE:",null,"CODE","Numéro BALISE","HEURE LIMITE:",null,"CODE","Numéro BALISE","HEURE LIMITE:"]
[]
[null,{"$f":"IF(preparation_cabasse!$K$2>=1,preparation_cabasse!$G18,\"\")","v":"EES"},null,"Dpt :             Arr :             Net :",null,{"$f":"IF(preparation_cabasse!$K$2>=1,preparation_cabasse!$G19,\"\")","v":"FFT"},null,"Dpt :             Arr :             Net :",null,{"$f":"IF(preparation_cabasse!$K$2>=1,preparation_cabasse!$G34,\"\")","v":""},null,"Dpt :             Arr :             Net :",null,{"$f":"IF(preparation_cabasse!$K$2>=1,preparation_cabasse!$G35,\"\")","v":""},null,"Dpt :             Arr :             Net :"]
[null,{"$f":"IF(preparation_cabasse!$K$2>=2,preparation_cabasse!$J18,\"\")","v":"FFK"},null,"Dpt :             Arr :             Net :",null,{"$f":"IF(preparation_cabasse!$K$2>=2,preparation_cabasse!$J19,\"\")","v":"EEW"},null,"Dpt :             Arr :             Net :",null,{"$f":"IF(preparation_cabasse!$K$2>=2,preparation_cabasse!$J34,\"\")","v":""},null,"Dpt :             Arr :             Net :",null,{"$f":"IF(preparation_cabasse!$K$2>=2,preparation_cabasse!$J35,\"\")","v":""},null,"Dpt :             Arr :             Net :"]
[null,{"$f":"IF(preparation_cabasse!$K$2>=3,preparation_cabasse!$M18,\"\")","v":"FFQ"},null,"Dpt :             Arr :             Net :",null,{"$f":"IF(preparation_cabasse!$K$2>=3,preparation_cabasse!$M19,\"\")","v":"HHA"},null,"Dpt :             Arr :             Net :",null,{"$f":"IF(preparation_cabasse!$K$2>=3,preparation_cabasse!$M34,\"\")","v":""},null,"Dpt :             Arr :             Net :",null,{"$f":"IF(preparation_cabasse!$K$2>=3,preparation_cabasse!$M35,\"\")","v":""},null,"Dpt :             Arr :             Net :"]
[null,{"$f":"IF(preparation_cabasse!$K$2>=4,preparation_cabasse!$P18,\"\")","v":"EED"},null,"Dpt :             Arr :             Net :",null,{"$f":"IF(preparation_cabasse!$K$2>=4,preparation_cabasse!$P19,\"\")","v":"GGZ"},null,"Dpt :             Arr :             Net :",null,{"$f":"IF(preparation_cabasse!$K$2>=4,preparation_cabasse!$P34,\"\")","v":""},null,"Dpt :             Arr :             Net :",null,{"$f":"IF(preparation_cabasse!$K$2>=4,preparation_cabasse!$P35,\"\")","v":""},null,"Dpt :             Arr :             Net :"]
[null,{"$f":"IF(preparation_cabasse!$K$2>=5,preparation_cabasse!$S18,\"\")","v":"GGN"},null,"Dpt :             Arr :             Net :",null,{"$f":"IF(preparation_cabasse!$K$2>=5,preparation_cabasse!$S19,\"\")","v":"EEA"},null,"Dpt :             Arr :             Net :",null,{"$f":"IF(preparation_cabasse!$K$2>=5,preparation_cabasse!$S34,\"\")","v":""},null,"Dpt :             Arr :             Net :",null,{"$f":"IF(preparation_cabasse!$K$2>=5,preparation_cabasse!$S35,\"\")","v":""},null,"Dpt :             Arr :             Net :"]
[null,{"$f":"IF(preparation_cabasse!$K$2>=6,preparation_cabasse!$V18,\"\")","v":""},null,"Dpt :             Arr :             Net :",null,{"$f":"IF(preparation_cabasse!$K$2>=6,preparation_cabasse!$V19,\"\")","v":""},null,"Dpt :             Arr :             Net :",null,{"$f":"IF(preparation_cabasse!$K$2>=6,preparation_cabasse!$V34,\"\")","v":""},null,"Dpt :             Arr :             Net :",null,{"$f":"IF(preparation_cabasse!$K$2>=6,preparation_cabasse!$V35,\"\")","v":""},null,"Dpt :             Arr :             Net :"]
[null,{"$f":"IF(preparation_cabasse!$K$2>=7,preparation_cabasse!$Y18,\"\")","v":""},null,"Dpt :             Arr :             Net :",null,{"$f":"IF(preparation_cabasse!$K$2>=7,preparation_cabasse!$Y19,\"\")","v":""},null,"Dpt :             Arr :             Net :",null,{"$f":"IF(preparation_cabasse!$K$2>=7,preparation_cabasse!$Y34,\"\")","v":""},null,"Dpt :             Arr :             Net :",null,{"$f":"IF(preparation_cabasse!$K$2>=7,preparation_cabasse!$Y35,\"\")","v":""},null,"Dpt :             Arr :             Net :"]
[null,{"$f":"IF(preparation_cabasse!$K$2>=8,preparation_cabasse!$AB18,\"\")","v":""},null,"Dpt :             Arr :             Net :",null,{"$f":"IF(preparation_cabasse!$K$2>=8,preparation_cabasse!$AB19,\"\")","v":""},null,"Dpt :             Arr :             Net :",null,{"$f":"IF(preparation_cabasse!$K$2>=8,preparation_cabasse!$AB34,\"\")","v":""},null,"Dpt :             Arr :             Net :",null,{"$f":"IF(preparation_cabasse!$K$2>=8,preparation_cabasse!$AB35,\"\")","v":""},null,"Dpt :             Arr :             Net :"]
[null,{"$f":"IF(preparation_cabasse!$K$2>=9,preparation_cabasse!$AE18,\"\")","v":""},null,"Dpt :             Arr :             Net :",null,{"$f":"IF(preparation_cabasse!$K$2>=9,preparation_cabasse!$AE19,\"\")","v":""},null,"Dpt :             Arr :             Net :",null,{"$f":"IF(preparation_cabasse!$K$2>=9,preparation_cabasse!$AE34,\"\")","v":""},null,"Dpt :             Arr :             Net :",null,{"$f":"IF(preparation_cabasse!$K$2>=9,preparation_cabasse!$AE35,\"\")","v":""},null,"Dpt :             Arr :             Net :"]
[null,{"$f":"IF(preparation_cabasse!$K$2>=10,preparation_cabasse!$AH18,\"\")","v":""},null,"Dpt :             Arr :             Net :",null,{"$f":"IF(preparation_cabasse!$K$2>=10,preparation_cabasse!$AH19,\"\")","v":""},null,"Dpt :             Arr :             Net :",null,{"$f":"IF(preparation_cabasse!$K$2>=10,preparation_cabasse!$AH34,\"\")","v":""},null,"Dpt :             Arr :             Net :",null,{"$f":"IF(preparation_cabasse!$K$2>=10,preparation_cabasse!$AH35,\"\")","v":""},null,"Dpt :             Arr :             Net :"]
[null,"Bilan",null,"Tps net :",null,"Bilan",null,"Tps net :",null,"Bilan",null,"Tps net :",null,"Bilan",null,"Tps net :"]
[null,"TEL. CLG : 04 90 58 11 32",null,null,null,"TEL. CLG : 04 90 58 11 32",null,null,null,"TEL. CLG : 04 90 58 11 32",null,null,null,"TEL. CLG : 04 90 58 11 32"]

{"sheet":"coupons_cabasse_chiffres","index":5,"n_rows":135,"n_cols":16,"rows_kept":135,"cut":false,"hidden":false,"merged":[[117,1,117,3],[117,5,117,7],[117,9,117,11],[117,13,117,15],[134,1,134,3],[134,5,134,7],[134,9,134,11],[134,13,134,15],[100,1,100,3],[100,5,100,7],[100,9,100,11],[100,13,100,15],[102,3,102,4],[102,11,102,12],[83,13,83,15],[49,1,49,3],[49,5,49,7],[49,9,49,11],[49,13,49,15],[66,1,66,3],[66,5,66,7],[66,9,66,11],[66,13,66,15],[68,3,68,4],[68,11,68,12],[83,1,83,3],[83,5,83,7],[83,9,83,11],[32,1,32,3],[32,5,32,7],[32,9,32,11],[32,13,32,15],[34,3,34,4],[34,11,34,12],[15,13,15,15],[0,3,0,4],[0,11,0,12],[15,1,15,3],[15,5,15,7],[15,9,15,11]]}
[]
[null,"DATE :",null,{"$f":"index_classe!$D3","v":"Carte N° : 10 - BENZ Nawel"},null,"DATE :",null,{"$f":"index_classe!$D4","v":"Carte N° : 10 - BERNA Laurine"},null,"DATE :",null,{"$f":"index_classe!$D19","v":"Carte N° : 10 - SIOUI Salah"},null,"DATE :",null,{"$f":"index_classe!$D20","v":"Carte N° : 10 - TADEVA Khatmat"}]
[null,"CODE","Numéro BALISE","HEURE LIMITE:",null,"CODE","Numéro BALISE","HEURE LIMITE:",null,"CODE","Numéro BALISE","HEURE LIMITE:",null,"CODE","Numéro BALISE","HEURE LIMITE:"]
[]
[null,{"$f":"IF(preparation_cabasse!$K$2>=1,preparation_cabasse!$F4,\"\")","v":18},null,"Dpt :             Arr :             Net :",null,{"$f":"IF(preparation_cabasse!$K$2>=1,preparation_cabasse!$F5,\"\")","v":8},null,"Dpt :             Arr :             Net :",null,{"$f":"IF(preparation_cabasse!$K$2>=1,preparation_cabasse!$F20,\"\")","v":57},null,"Dpt :             Arr :             Net :",null,{"$f":"IF(preparation_cabasse!$K$2>=1,preparation_cabasse!$F21,\"\")","v":66},null,"Dpt :             Arr :             Net :"]
[null,{"$f":"IF(preparation_cabasse!$K$2>=2,preparation_cabasse!$I4,\"\")","v":43},null,"Dpt :             Arr :             Net :",null,{"$f":"IF(preparation_cabasse!$K$2>=2,preparation_cabasse!$I5,\"\")","v":68},null,"Dpt :             Arr :             Net :",null,{"$f":"IF(preparation_cabasse!$K$2>=2,preparation_cabasse!$I20,\"\")","v":42},null,"Dpt :             Arr :             Net :",null,{"$f":"IF(preparation_cabasse!$K$2>=2,preparation_cabasse!$I21,\"\")","v":29},null,"Dpt :             Arr :             Net :"]
[null,{"$f":"IF(preparation_cabasse!$K$2>=3,preparation_cabasse!$L4,\"\")","v":85},null,"Dpt :             Arr :             Net :",null,{"$f":"IF(preparation_cabasse!$K$2>=3,preparation_cabasse!$L5,\"\")","v":33},null,"Dpt :             Arr :             Net :",null,{"$f":"IF(preparation_cabasse!$K$2>=3,preparation_cabasse!$L20,\"\")","v":46},null,"Dpt :             Arr :             Net :",null,{"$f":"IF(preparation_cabasse!$K$2>=3,preparation_cabasse!$L21,\"\")","v":14},null,"Dpt :             Arr :             Net :"]
[null,{"$f":"IF(preparation_cabasse!$K$2>=4,preparation_cabasse!$O4,\"\")","v":22},null,"Dpt :             Arr :             Net :",null,{"$f":"IF(preparation_cabasse!$K$2>=4,preparation_cabasse!$O5,\"\")","v":29},null,"Dpt :             Arr :             Net :",null,{"$f":"IF(preparation_cabasse!$K$2>=4,preparation_cabasse!$O20,\"\")","v":1},null,"Dpt :             Arr :             Net :",null,{"$f":"IF(preparation_cabasse!$K$2>=4,preparation_cabasse!$O21,\"\")","v":76},null,"Dpt :             Arr :             Net :"]
[null,{"$f":"IF(preparation_cabasse!$K$2>=5,preparation_cabasse!$R4,\"\")","v":48},null,"Dpt :             Arr :             Net :",null,{"$f":"IF(preparation_cabasse!$K$2>=5,preparation_cabasse!$R5,\"\")","v":41},null,"Dpt :             Arr :             Net :",null,{"$f":"IF(preparation_cabasse!$K$2>=5,preparation_cabasse!$R20,\"\")","v":41},null,"Dpt :             Arr :             Net :",null,{"$f":"IF(preparation_cabasse!$K$2>=5,preparation_cabasse!$R21,\"\")","v":53},null,"Dpt :             Arr :             Net :"]
[null,{"$f":"IF(preparation_cabasse!$K$2>=6,preparation_cabasse!$U4,\"\")","v":""},null,"Dpt :             Arr :             Net :",null,{"$f":"IF(preparation_cabasse!$K$2>=6,preparation_cabasse!$U5,\"\")","v":""},null,"Dpt :             Arr :             Net :",null,{"$f":"IF(preparation_cabasse!$K$2>=6,preparation_cabasse!$U20,\"\")","v":""},null,"Dpt :             Arr :             Net :",null,{"$f":"IF(preparation_cabasse!$K$2>=6,preparation_cabasse!$U21,\"\")","v":""},null,"Dpt :             Arr :             Net :"]
[null,{"$f":"IF(preparation_cabasse!$K$2>=7,preparation_cabasse!$X4,\"\")","v":""},null,"Dpt :             Arr :             Net :",null,{"$f":"IF(preparation_cabasse!$K$2>=7,preparation_cabasse!$X5,\"\")","v":""},null,"Dpt :             Arr :             Net :",null,{"$f":"IF(preparation_cabasse!$K$2>=7,preparation_cabasse!$X20,\"\")","v":""},null,"Dpt :             Arr :             Net :",null,{"$f":"IF(preparation_cabasse!$K$2>=7,preparation_cabasse!$X21,\"\")","v":""},null,"Dpt :             Arr :             Net :"]
[null,{"$f":"IF(preparation_cabasse!$K$2>=8,preparation_cabasse!$AA4,\"\")","v":""},null,"Dpt :             Arr :             Net :",null,{"$f":"IF(preparation_cabasse!$K$2>=8,preparation_cabasse!$AA5,\"\")","v":""},null,"Dpt :             Arr :             Net :",null,{"$f":"IF(preparation_cabasse!$K$2>=8,preparation_cabasse!$AA20,\"\")","v":""},null,"Dpt :             Arr :             Net :",null,{"$f":"IF(preparation_cabasse!$K$2>=8,preparation_cabasse!$AA21,\"\")","v":""},null,"Dpt :             Arr :             Net :"]
[null,{"$f":"IF(preparation_cabasse!$K$2>=9,preparation_cabasse!$AD4,\"\")","v":""},null,"Dpt :             Arr :             Net :",null,{"$f":"IF(preparation_cabasse!$K$2>=9,preparation_cabasse!$AD5,\"\")","v":""},null,"Dpt :             Arr :             Net :",null,{"$f":"IF(preparation_cabasse!$K$2>=9,preparation_cabasse!$AD20,\"\")","v":""},null,"Dpt :             Arr :             Net :",null,{"$f":"IF(preparation_cabasse!$K$2>=9,preparation_cabasse!$AD21,\"\")","v":""},null,"Dpt :             Arr :             Net :"]
[null,{"$f":"IF(preparation_cabasse!$K$2>=10,preparation_cabasse!$AG4,\"\")","v":""},null,"Dpt :             Arr :             Net :",null,{"$f":"IF(preparation_cabasse!$K$2>=10,preparation_cabasse!$AG5,\"\")","v":""},null,"Dpt :             Arr :             Net :",null,{"$f":"IF(preparation_cabasse!$K$2>=10,preparation_cabasse!$AG20,\"\")","v":""},null,"Dpt :             Arr :             Net :",null,{"$f":"IF(preparation_cabasse!$K$2>=10,preparation_cabasse!$AG21,\"\")","v":""},null,"Dpt :             Arr :             Net :"]
[null,"Bilan",null,"Tps net :",null,"Bilan",null,"Tps net :",null,"Bilan",null,"Tps net :",null,"Bilan",null,"Tps net :"]
[null,"TEL. CLG : 04 90 58 11 32",null,null,null,"TEL. CLG : 04 90 58 11 32",null,null,null,"TEL. CLG : 04 90 58 11 32",null,null,null,"TEL. CLG : 04 90 58 11 32"]
[]
[]
[null,"DATE :",null,{"$f":"index_classe!$D5","v":"Carte N° : 10 - CHEL Sarah"},null,"DATE :",null,{"$f":"index_classe!$D6","v":"Carte N° : 10 - CLAUD Maxime"},null,"DATE :",null,{"$f":"index_classe!$D21","v":"Carte N° : 10 - TEEC Victor"},null,"DATE :",null,{"$f":"index_classe!$D22","v":"Carte N° : 10 - TEJOR Carla"}]
[null,"CODE","Numéro BALISE","HEURE LIMITE:",null,"CODE","Numéro BALISE","HEURE LIMITE:",null,"CODE","Numéro BALISE","HEURE LIMITE:",null,"CODE","Numéro BALISE","HEURE LIMITE:"]
[]
[null,{"$f":"IF(preparation_cabasse!$K$2>=1,preparation_cabasse!$F6,\"\")","v":54},null,"Dpt :             Arr :             Net :",null,{"$f":"IF(preparation_cabasse!$K$2>=1,preparation_cabasse!$F7,\"\")","v":71},null,"Dpt :             Arr :             Net :",null,{"$f":"IF(preparation_cabasse!$K$2>=1,preparation_cabasse!$F22,\"\")","v":54},null,"Dpt :             Arr :             Net :",null,{"$f":"IF(preparation_cabasse!$K$2>=1,preparation_cabasse!$F23,\"\")","v":25},null,"Dpt :             Arr :             Net :"]
[null,{"$f":"IF(preparation_cabasse!$K$2>=2,preparation_cabasse!$I6,\"\")","v":42},null,"Dpt :             Arr :             Net :",null,{"$f":"IF(preparation_cabasse!$K$2>=2,preparation_cabasse!$I7,\"\")","v":62},null,"Dpt :             Arr :             Net :",null,{"$f":"IF(preparation_cabasse!$K$2>=2,preparation_cabasse!$I22,\"\")","v":79},null,"Dpt :             Arr :             Net :",null,{"$f":"IF(preparation_cabasse!$K$2>=2,preparation_cabasse!$I23,\"\")","v":69},null,"Dpt :             Arr :             Net :"]
[null,{"$f":"IF(preparation_cabasse!$K$2>=3,preparation_cabasse!$L6,\"\")","v":71},null,"Dpt :             Arr :             Net :",null,{"$f":"IF(preparation_cabasse!$K$2>=3,preparation_cabasse!$L7,\"\")","v":20},null,"Dpt :             Arr :             Net :",null,{"$f":"IF(preparation_cabasse!$K$2>=3,preparation_cabasse!$L22,\"\")","v":51},null,"Dpt :             Arr :             Net :",null,{"$f":"IF(preparation_cabasse!$K$2>=3,preparation_cabasse!$L23,\"\")","v":65},null,"Dpt :             Arr :             Net :"]
[null,{"$f":"IF(preparation_cabasse!$K$2>=4,preparation_cabasse!$O6,\"\")","v":53},null,"Dpt :             Arr :             Net :",null,{"$f":"IF(preparation_cabasse!$K$2>=4,preparation_cabasse!$O7,\"\")","v":67},null,"Dpt :             Arr :             Net :",null,{"$f":"IF(preparation_cabasse!$K$2>=4,preparation_cabasse!$O22,\"\")","v":79},null,"Dpt :             Arr :             Net :",null,{"$f":"IF(preparation_cabasse!$K$2>=4,preparation_cabasse!$O23,\"\")","v":61},null,"Dpt :             Arr :             Net :"]
[null,{"$f":"IF(preparation_cabasse!$K$2>=5,preparation_cabasse!$R6,\"\")","v":9},null,"Dpt :             Arr :             Net :",null,{"$f":"IF(preparation_cabasse!$K$2>=5,preparation_cabasse!$R7,\"\")","v":56},null,"Dpt :             Arr :             Net :",null,{"$f":"IF(preparation_cabasse!$K$2>=5,preparation_cabasse!$R22,\"\")","v":48},null,"Dpt :             Arr :             Net :",null,{"$f":"IF(preparation_cabasse!$K$2>=5,preparation_cabasse!$R23,\"\")","v":46},null,"Dpt :             Arr :             Net :"]
[null,{"$f":"IF(preparation_cabasse!$K$2>=6,preparation_cabasse!$U6,\"\")","v":""},null,"Dpt :             Arr :             Net :",null,{"$f":"IF(preparation_cabasse!$K$2>=6,preparation_cabasse!$U7,\"\")","v":""},null,"Dpt :             Arr :             Net :",null,{"$f":"IF(preparation_cabasse!$K$2>=6,preparation_cabasse!$U22,\"\")","v":""},null,"Dpt :             Arr :             Net :",null,{"$f":"IF(preparation_cabasse!$K$2>=6,preparation_cabasse!$U23,\"\")","v":""},null,"Dpt :             Arr :             Net :"]
[null,{"$f":"IF(preparation_cabasse!$K$2>=7,preparation_cabasse!$X6,\"\")","v":""},null,"Dpt :             Arr :             Net :",null,{"$f":"IF(preparation_cabasse!$K$2>=7,preparation_cabasse!$X7,\"\")","v":""},null,"Dpt :             Arr :             Net :",null,{"$f":"IF(preparation_cabasse!$K$2>=7,preparation_cabasse!$X22,\"\")","v":""},null,"Dpt :             Arr :             Net :",null,{"$f":"IF(preparation_cabasse!$K$2>=7,preparation_cabasse!$X23,\"\")","v":""},null,"Dpt :             Arr :             Net :"]
[null,{"$f":"IF(preparation_cabasse!$K$2>=8,preparation_cabasse!$AA6,\"\")","v":""},null,"Dpt :             Arr :             Net :",null,{"$f":"IF(preparation_cabasse!$K$2>=8,preparation_cabasse!$AA7,\"\")","v":""},null,"Dpt :             Arr :             Net :",null,{"$f":"IF(preparation_cabasse!$K$2>=8,preparation_cabasse!$AA22,\"\")","v":""},null,"Dpt :             Arr :             Net :",null,{"$f":"IF(preparation_cabasse!$K$2>=8,preparation_cabasse!$AA23,\"\")","v":""},null,"Dpt :             Arr :             Net :"]
[null,{"$f":"IF(preparation_cabasse!$K$2>=9,preparation_cabasse!$AD6,\"\")","v":""},null,"Dpt :             Arr :             Net :",null,{"$f":"IF(preparation_cabasse!$K$2>=9,preparation_cabasse!$AD7,\"\")","v":""},null,"Dpt :             Arr :             Net :",null,{"$f":"IF(preparation_cabasse!$K$2>=9,preparation_cabasse!$AD22,\"\")","v":""},null,"Dpt :             Arr :             Net :",null,{"$f":"IF(preparation_cabasse!$K$2>=9,preparation_cabasse!$AD23,\"\")","v":""},null,"Dpt :             Arr :             Net :"]
[null,{"$f":"IF(preparation_cabasse!$K$2>=10,preparation_cabasse!$AG6,\"\")","v":""},null,"Dpt :             Arr :             Net :",null,{"$f":"IF(preparation_cabasse!$K$2>=10,preparation_cabasse!$AG7,\"\")","v":""},null,"Dpt :             Arr :             Net :",null,{"$f":"IF(preparation_cabasse!$K$2>=10,preparation_cabasse!$AG22,\"\")","v":""},null,"Dpt :             Arr :             Net :",null,{"$f":"IF(preparation_cabasse!$K$2>=10,preparation_cabasse!$AG23,\"\")","v":""},null,"Dpt :             Arr :             Net :"]
[null,"Bilan",null,"Tps net :",null,"Bilan",null,"Tps net :",null,"Bilan",null,"Tps net :",null,"Bilan",null,"Tps net :"]
[null,"TEL. CLG : 04 90 58 11 32",null,null,null,"TEL. CLG : 04 90 58 11 32",null,null,null,"TEL. CLG : 04 90 58 11 32",null,null,null,"TEL. CLG : 04 90 58 11 32"]
[]
[]
[null,"DATE :",null,{"$f":"index_classe!$D7","v":"Carte N° : 10 - NAISSA Estelle"},null,"DATE :",null,{"$f":"index_classe!$D8","v":"Carte N° : 10 - FA Dylan"},null,"DATE :",null,{"$f":"index_classe!$D23","v":"Carte N° : 10 - THIER Andrea"},null,"DATE :",null,{"$f":"index_classe!$D24","v":"Carte N° : 10 - YI William"}]
[null,"CODE","Numéro BALISE","HEURE LIMITE:",null,"CODE","Numéro BALISE","HEURE LIMITE:",null,"CODE","Numéro BALISE","HEURE LIMITE:",null,"CODE","Numéro BALISE","HEURE LIMITE:"]
[]
[null,{"$f":"IF(preparation_cabasse!$K$2>=1,preparation_cabasse!$F8,\"\")","v":73},null,"Dpt :             Arr :             Net :",null,{"$f":"IF(preparation_cabasse!$K$2>=1,preparation_cabasse!$F9,\"\")","v":67},null,"Dpt :             Arr :             Net :",null,{"$f":"IF(preparation_cabasse!$K$2>=1,preparation_cabasse!$F24,\"\")","v":71},null,"Dpt :             Arr :             Net :",null,{"$f":"IF(preparation_cabasse!$K$2>=1,preparation_cabasse!$F25,\"\")","v":8},null,"Dpt :             Arr :             Net :"]
[null,{"$f":"IF(preparation_cabasse!$K$2>=2,preparation_cabasse!$I8,\"\")","v":43},null,"Dpt :             Arr :             Net :",null,{"$f":"IF(preparation_cabasse!$K$2>=2,preparation_cabasse!$I9,\"\")","v":73},null,"Dpt :             Arr :             Net :",null,{"$f":"IF(preparation_cabasse!$K$2>=2,preparation_cabasse!$I24,\"\")","v":52},null,"Dpt :             Arr :             Net :",null,{"$f":"IF(preparation_cabasse!$K$2>=2,preparation_cabasse!$I25,\"\")","v":33},null,"Dpt :             Arr :             Net :"]
[null,{"$f":"IF(preparation_cabasse!$K$2>=3,preparation_cabasse!$L8,\"\")","v":16},null,"Dpt :             Arr :             Net :",null,{"$f":"IF(preparation_cabasse!$K$2>=3,preparation_cabasse!$L9,\"\")","v":78},null,"Dpt :             Arr :             Net :",null,{"$f":"IF(preparation_cabasse!$K$2>=3,preparation_cabasse!$L24,\"\")","v":12},null,"Dpt :             Arr :             Net :",null,{"$f":"IF(preparation_cabasse!$K$2>=3,preparation_cabasse!$L25,\"\")","v":69},null,"Dpt :             Arr :             Net :"]
[null,{"$f":"IF(preparation_cabasse!$K$2>=4,preparation_cabasse!$O8,\"\")","v":74},null,"Dpt :             Arr :             Net :",null,{"$f":"IF(preparation_cabasse!$K$2>=4,preparation_cabasse!$O9,\"\")","v":71},null,"Dpt :             Arr :             Net :",null,{"$f":"IF(preparation_cabasse!$K$2>=4,preparation_cabasse!$O24,\"\")","v":64},null,"Dpt :             Arr :             Net :",null,{"$f":"IF(preparation_cabasse!$K$2>=4,preparation_cabasse!$O25,\"\")","v":15},null,"Dpt :             Arr :             Net :"]
[null,{"$f":"IF(preparation_cabasse!$K$2>=5,preparation_cabasse!$R8,\"\")","v":55},null,"Dpt :             Arr :             Net :",null,{"$f":"IF(preparation_cabasse!$K$2>=5,preparation_cabasse!$R9,\"\")","v":12},null,"Dpt :             Arr :             Net :",null,{"$f":"IF(preparation_cabasse!$K$2>=5,preparation_cabasse!$R24,\"\")","v":26},null,"Dpt :             Arr :             Net :",null,{"$f":"IF(preparation_cabasse!$K$2>=5,preparation_cabasse!$R25,\"\")","v":44},null,"Dpt :             Arr :             Net :"]
[null,{"$f":"IF(preparation_cabasse!$K$2>=6,preparation_cabasse!$U8,\"\")","v":""},null,"Dpt :             Arr :             Net :",null,{"$f":"IF(preparation_cabasse!$K$2>=6,preparation_cabasse!$U9,\"\")","v":""},null,"Dpt :             Arr :             Net :",null,{"$f":"IF(preparation_cabasse!$K$2>=6,preparation_cabasse!$U24,\"\")","v":""},null,"Dpt :             Arr :             Net :",null,{"$f":"IF(preparation_cabasse!$K$2>=6,preparation_cabasse!$U25,\"\")","v":""},null,"Dpt :             Arr :             Net :"]
[null,{"$f":"IF(preparation_cabasse!$K$2>=7,preparation_cabasse!$X8,\"\")","v":""},null,"Dpt :             Arr :             Net :",null,{"$f":"IF(preparation_cabasse!$K$2>=7,preparation_cabasse!$X9,\"\")","v":""},null,"Dpt :             Arr :             Net :",null,{"$f":"IF(preparation_cabasse!$K$2>=7,preparation_cabasse!$X24,\"\")","v":""},null,"Dpt :             Arr :             Net :",null,{"$f":"IF(preparation_cabasse!$K$2>=7,preparation_cabasse!$X25,\"\")","v":""},null,"Dpt :             Arr :             Net :"]
[null,{"$f":"IF(preparation_cabasse!$K$2>=8,preparation_cabasse!$AA8,\"\")","v":""},null,"Dpt :             Arr :             Net :",null,{"$f":"IF(preparation_cabasse!$K$2>=8,preparation_cabasse!$AA9,\"\")","v":""},null,"Dpt :             Arr :             Net :",null,{"$f":"IF(preparation_cabasse!$K$2>=8,preparation_cabasse!$AA24,\"\")","v":""},null,"Dpt :             Arr :             Net :",null,{"$f":"IF(preparation_cabasse!$K$2>=8,preparation_cabasse!$AA25,\"\")","v":""},null,"Dpt :             Arr :             Net :"]
[null,{"$f":"IF(preparation_cabasse!$K$2>=9,preparation_cabasse!$AD8,\"\")","v":""},null,"Dpt :             Arr :             Net :",null,{"$f":"IF(preparation_cabasse!$K$2>=9,preparation_cabasse!$AD9,\"\")","v":""},null,"Dpt :             Arr :             Net :",null,{"$f":"IF(preparation_cabasse!$K$2>=9,preparation_cabasse!$AD24,\"\")","v":""},null,"Dpt :             Arr :             Net :",null,{"$f":"IF(preparation_cabasse!$K$2>=9,preparation_cabasse!$AD25,\"\")","v":""},null,"Dpt :             Arr :             Net :"]
[null,{"$f":"IF(preparation_cabasse!$K$2>=10,preparation_cabasse!$AG8,\"\")","v":""},null,"Dpt :             Arr :             Net :",null,{"$f":"IF(preparation_cabasse!$K$2>=10,preparation_cabasse!$AG9,\"\")","v":""},null,"Dpt :             Arr :             Net :",null,{"$f":"IF(preparation_cabasse!$K$2>=10,preparation_cabasse!$AG24,\"\")","v":""},null,"Dpt :             Arr :             Net :",null,{"$f":"IF(preparation_cabasse!$K$2>=10,preparation_cabasse!$AG25,\"\")","v":""},null,"Dpt :             Arr :             Net :"]
[null,"Bilan",null,"Tps net :",null,"Bilan",null,"Tps net :",null,"Bilan",null,"Tps net :",null,"Bilan",null,"Tps net :"]
[null,"TEL. CLG : 04 90 58 11 32",null,null,null,"TEL. CLG : 04 90 58 11 32",null,null,null,"TEL. CLG : 04 90 58 11 32",null,null,null,"TEL. CLG : 04 90 58 11 32"]
[]
[]
[null,"DATE :",null,{"$f":"index_classe!$D9","v":"Carte N° : 10 - FLEIN Theo"},null,"DATE :",null,{"$f":"index_classe!$D10","v":"Carte N° : 10 - JEAON Alexis"},null,"DATE :",null,{"$f":"index_classe!$D25","v":""},null,"DATE :",null,{"$f":"index_classe!$D26","v":""}]
[null,"CODE","Numéro BALISE","HEURE LIMITE:",null,"CODE","Numéro BALISE","HEURE LIMITE:",null,"CODE","Numéro BALISE","HEURE LIMITE:",null,"CODE","Numéro BALISE","HEURE LIMITE:"]
[]
[null,{"$f":"IF(preparation_cabasse!$K$2>=1,preparation_cabasse!$F10,\"\")","v":3},null,"Dpt :             Arr :             Net :",null,{"$f":"IF(preparation_cabasse!$K$2>=1,preparation_cabasse!$F11,\"\")","v":62},null,"Dpt :             Arr :             Net :",null,{"$f":"IF(preparation_cabasse!$K$2>=1,preparation_cabasse!$F26,\"\")","v":""},null,"Dpt :             Arr :             Net :",null,{"$f":"IF(preparation_cabasse!$K$2>=1,preparation_cabasse!$F27,\"\")","v":""},null,"Dpt :             Arr :             Net :"]
[null,{"$f":"IF(preparation_cabasse!$K$2>=2,preparation_cabasse!$I10,\"\")","v":20},null,"Dpt :             Arr :             Net :",null,{"$f":"IF(preparation_cabasse!$K$2>=2,preparation_cabasse!$I11,\"\")","v":1},null,"Dpt :             Arr :             Net :",null,{"$f":"IF(preparation_cabasse!$K$2>=2,preparation_cabasse!$I26,\"\")","v":""},null,"Dpt :             Arr :             Net :",null,{"$f":"IF(preparation_cabasse!$K$2>=2,preparation_cabasse!$I27,\"\")","v":""},null,"Dpt :             Arr :             Net :"]
[null,{"$f":"IF(preparation_cabasse!$K$2>=3,preparation_cabasse!$L10,\"\")","v":62},null,"Dpt :             Arr :             Net :",null,{"$f":"IF(preparation_cabasse!$K$2>=3,preparation_cabasse!$L11,\"\")","v":53},null,"Dpt :             Arr :             Net :",null,{"$f":"IF(preparation_cabasse!$K$2>=3,preparation_cabasse!$L26,\"\")","v":""},null,"Dpt :             Arr :             Net :",null,{"$f":"IF(preparation_cabasse!$K$2>=3,preparation_cabasse!$L27,\"\")","v":""},null,"Dpt :             Arr :             Net :"]
[null,{"$f":"IF(preparation_cabasse!$K$2>=4,preparation_cabasse!$O10,\"\")","v":64},null,"Dpt :             Arr :             Net :",null,{"$f":"IF(preparation_cabasse!$K$2>=4,preparation_cabasse!$O11,\"\")","v":52},null,"Dpt :             Arr :             Net :",null,{"$f":"IF(preparation_cabasse!$K$2>=4,preparation_cabasse!$O26,\"\")","v":""},null,"Dpt :             Arr :             Net :",null,{"$f":"IF(preparation_cabasse!$K$2>=4,preparation_cabasse!$O27,\"\")","v":""},null,"Dpt :             Arr :             Net :"]
[null,{"$f":"IF(preparation_cabasse!$K$2>=5,preparation_cabasse!$R10,\"\")","v":67},null,"Dpt :             Arr :             Net :",null,{"$f":"IF(preparation_cabasse!$K$2>=5,preparation_cabasse!$R11,\"\")","v":68},null,"Dpt :             Arr :             Net :",null,{"$f":"IF(preparation_cabasse!$K$2>=5,preparation_cabasse!$R26,\"\")","v":""},null,"Dpt :             Arr :             Net :",null,{"$f":"IF(preparation_cabasse!$K$2>=5,preparation_cabasse!$R27,\"\")","v":""},null,"Dpt :             Arr :             Net :"]
[null,{"$f":"IF(preparation_cabasse!$K$2>=6,preparation_cabasse!$U10,\"\")","v":""},null,"Dpt :             Arr :             Net :",null,{"$f":"IF(preparation_cabasse!$K$2>=6,preparation_cabasse!$U11,\"\")","v":""},null,"Dpt :             Arr :             Net :",null,{"$f":"IF(preparation_cabasse!$K$2>=6,preparation_cabasse!$U26,\"\")","v":""},null,"Dpt :             Arr :             Net :",null,{"$f":"IF(preparation_cabasse!$K$2>=6,preparation_cabasse!$U27,\"\")","v":""},null,"Dpt :             Arr :             Net :"]
[null,{"$f":"IF(preparation_cabasse!$K$2>=7,preparation_cabasse!$X10,\"\")","v":""},null,"Dpt :             Arr :             Net :",null,{"$f":"IF(preparation_cabasse!$K$2>=7,preparation_cabasse!$X11,\"\")","v":""},null,"Dpt :             Arr :             Net :",null,{"$f":"IF(preparation_cabasse!$K$2>=7,preparation_cabasse!$X26,\"\")","v":""},null,"Dpt :             Arr :             Net :",null,{"$f":"IF(preparation_cabasse!$K$2>=7,preparation_cabasse!$X27,\"\")","v":""},null,"Dpt :             Arr :             Net :"]
[null,{"$f":"IF(preparation_cabasse!$K$2>=8,preparation_cabasse!$AA10,\"\")","v":""},null,"Dpt :             Arr :             Net :",null,{"$f":"IF(preparation_cabasse!$K$2>=8,preparation_cabasse!$AA11,\"\")","v":""},null,"Dpt :             Arr :             Net :",null,{"$f":"IF(preparation_cabasse!$K$2>=8,preparation_cabasse!$AA26,\"\")","v":""},null,"Dpt :             Arr :             Net :",null,{"$f":"IF(preparation_cabasse!$K$2>=8,preparation_cabasse!$AA27,\"\")","v":""},null,"Dpt :             Arr :             Net :"]
[null,{"$f":"IF(preparation_cabasse!$K$2>=9,preparation_cabasse!$AD25,\"\")","v":""},null,"Dpt :             Arr :             Net :",null,{"$f":"IF(preparation_cabasse!$K$2>=9,preparation_cabasse!$AD11,\"\")","v":""},null,"Dpt :             Arr :             Net :",null,{"$f":"IF(preparation_cabasse!$K$2>=9,preparation_cabasse!$AD26,\"\")","v":""},null,"Dpt :             Arr :             Net :",null,{"$f":"IF(preparation_cabasse!$K$2>=9,preparation_cabasse!$AD27,\"\")","v":""},null,"Dpt :             Arr :             Net :"]
[null,{"$f":"IF(preparation_cabasse!$K$2>=10,preparation_cabasse!$AG10,\"\")","v":""},null,"Dpt :             Arr :             Net :",null,{"$f":"IF(preparation_cabasse!$K$2>=10,preparation_cabasse!$AG11,\"\")","v":""},null,"Dpt :             Arr :             Net :",null,{"$f":"IF(preparation_cabasse!$K$2>=10,preparation_cabasse!$AG26,\"\")","v":""},null,"Dpt :             Arr :             Net :",null,{"$f":"IF(preparation_cabasse!$K$2>=10,preparation_cabasse!$AG27,\"\")","v":""},null,"Dpt :             Arr :             Net :"]
[null,"Bilan",null,"Tps net :",null,"Bilan",null,"Tps net :",null,"Bilan",null,"Tps net :",null,"Bilan",null,"Tps net :"]
[null,"TEL. CLG : 04 90 58 11 32",null,null,null,"TEL. CLG : 04 90 58 11 32",null,null,null,"TEL. CLG : 04 90 58 11 32",null,null,null,"TEL. CLG : 04 90 58 11 32"]
[]
[]
[null,"DATE :",null,{"$f":"index_classe!$D11","v":"Carte N° : 10 - KOLA Alexandre"},null,"DATE :",null,{"$f":"index_classe!$D12","v":"Carte N° : 10 - LERHE Melvin"},null,"DATE :",null,{"$f":"index_classe!$D27","v":""},null,"DATE :",null,{"$f":"index_classe!$D28","v":""}]
[null,"CODE","Numéro BALISE","HEURE LIMITE:",null,"CODE","Numéro BALISE","HEURE LIMITE:",null,"CODE","Numéro BALISE","HEURE LIMITE:",null,"CODE","Numéro BALISE","HEURE LIMITE:"]
[]
[null,{"$f":"IF(preparation_cabasse!$K$2>=1,preparation_cabasse!$F12,\"\")","v":79},null,"Dpt :             Arr :             Net :",null,{"$f":"IF(preparation_cabasse!$K$2>=1,preparation_cabasse!$F13,\"\")","v":70},null,"Dpt :             Arr :             Net :",null,{"$f":"IF(preparation_cabasse!$K$2>=1,preparation_cabasse!$F28,\"\")","v":""},null,"Dpt :             Arr :             Net :",null,{"$f":"IF(preparation_cabasse!$K$2>=1,preparation_cabasse!$F29,\"\")","v":""},null,"Dpt :             Arr :             Net :"]
[null,{"$f":"IF(preparation_cabasse!$K$2>=2,preparation_cabasse!$I12,\"\")","v":22},null,"Dpt :             Arr :             Net :",null,{"$f":"IF(preparation_cabasse!$K$2>=2,preparation_cabasse!$I13,\"\")","v":38},null,"Dpt :             Arr :             Net :",null,{"$f":"IF(preparation_cabasse!$K$2>=2,preparation_cabasse!$I28,\"\")","v":""},null,"Dpt :             Arr :             Net :",null,{"$f":"IF(preparation_cabasse!$K$2>=2,preparation_cabasse!$I29,\"\")","v":""},null,"Dpt :             Arr :             Net :"]
[null,{"$f":"IF(preparation_cabasse!$K$2>=3,preparation_cabasse!$L12,\"\")","v":45},null,"Dpt :             Arr :             Net :",null,{"$f":"IF(preparation_cabasse!$K$2>=3,preparation_cabasse!$L13,\"\")","v":28},null,"Dpt :             Arr :             Net :",null,{"$f":"IF(preparation_cabasse!$K$2>=3,preparation_cabasse!$L28,\"\")","v":""},null,"Dpt :             Arr :             Net :",null,{"$f":"IF(preparation_cabasse!$K$2>=3,preparation_cabasse!$L29,\"\")","v":""},null,"Dpt :             Arr :             Net :"]
[null,{"$f":"IF(preparation_cabasse!$K$2>=4,preparation_cabasse!$O12,\"\")","v":2},null,"Dpt :             Arr :             Net :",null,{"$f":"IF(preparation_cabasse!$K$2>=4,preparation_cabasse!$O13,\"\")","v":27},null,"Dpt :             Arr :             Net :",null,{"$f":"IF(preparation_cabasse!$K$2>=4,preparation_cabasse!$O28,\"\")","v":""},null,"Dpt :             Arr :             Net :",null,{"$f":"IF(preparation_cabasse!$K$2>=4,preparation_cabasse!$O29,\"\")","v":""},null,"Dpt :             Arr :             Net :"]
[null,{"$f":"IF(preparation_cabasse!$K$2>=5,preparation_cabasse!$R12,\"\")","v":4},null,"Dpt :             Arr :             Net :",null,{"$f":"IF(preparation_cabasse!$K$2>=5,preparation_cabasse!$R13,\"\")","v":5},null,"Dpt :             Arr :             Net :",null,{"$f":"IF(preparation_cabasse!$K$2>=5,preparation_cabasse!$R28,\"\")","v":""},null,"Dpt :             Arr :             Net :",null,{"$f":"IF(preparation_cabasse!$K$2>=5,preparation_cabasse!$R29,\"\")","v":""},null,"Dpt :             Arr :             Net :"]
[null,{"$f":"IF(preparation_cabasse!$K$2>=6,preparation_cabasse!$U12,\"\")","v":""},null,"Dpt :             Arr :             Net :",null,{"$f":"IF(preparation_cabasse!$K$2>=6,preparation_cabasse!$U13,\"\")","v":""},null,"Dpt :             Arr :             Net :",null,{"$f":"IF(preparation_cabasse!$K$2>=6,preparation_cabasse!$U28,\"\")","v":""},null,"Dpt :             Arr :             Net :",null,{"$f":"IF(preparation_cabasse!$K$2>=6,preparation_cabasse!$U29,\"\")","v":""},null,"Dpt :             Arr :             Net :"]
[null,{"$f":"IF(preparation_cabasse!$K$2>=7,preparation_cabasse!$X12,\"\")","v":""},null,"Dpt :             Arr :             Net :",null,{"$f":"IF(preparation_cabasse!$K$2>=7,preparation_cabasse!$X13,\"\")","v":""},null,"Dpt :             Arr :             Net :",null,{"$f":"IF(preparation_cabasse!$K$2>=7,preparation_cabasse!$X28,\"\")","v":""},null,"Dpt :             Arr :             Net :",null,{"$f":"IF(preparation_cabasse!$K$2>=7,preparation_cabasse!$X29,\"\")","v":""},null,"Dpt :             Arr :             Net :"]
[null,{"$f":"IF(preparation_cabasse!$K$2>=8,preparation_cabasse!$AA12,\"\")","v":""},null,"Dpt :             Arr :             Net :",null,{"$f":"IF(preparation_cabasse!$K$2>=8,preparation_cabasse!$AA13,\"\")","v":""},null,"Dpt :             Arr :             Net :",null,{"$f":"IF(preparation_cabasse!$K$2>=8,preparation_cabasse!$AA28,\"\")","v":""},null,"Dpt :             Arr :             Net :",null,{"$f":"IF(preparation_cabasse!$K$2>=8,preparation_cabasse!$AA29,\"\")","v":""},null,"Dpt :             Arr :             Net :"]
[null,{"$f":"IF(preparation_cabasse!$K$2>=9,preparation_cabasse!$AD12,\"\")","v":""},null,"Dpt :             Arr :             Net :",null,{"$f":"IF(preparation_cabasse!$K$2>=9,preparation_cabasse!$AD13,\"\")","v":""},null,"Dpt :             Arr :             Net :",null,{"$f":"IF(preparation_cabasse!$K$2>=9,preparation_cabasse!$AD28,\"\")","v":""},null,"Dpt :             Arr :             Net :",null,{"$f":"IF(preparation_cabasse!$K$2>=9,preparation_cabasse!$AD29,\"\")","v":""},null,"Dpt :             Arr :             Net :"]
[null,{"$f":"IF(preparation_cabasse!$K$2>=10,preparation_cabasse!$AG12,\"\")","v":""},null,"Dpt :             Arr :             Net :",null,{"$f":"IF(preparation_cabasse!$K$2>=10,preparation_cabasse!$AG13,\"\")","v":""},null,"Dpt :             Arr :             Net :",null,{"$f":"IF(preparation_cabasse!$K$2>=10,preparation_cabasse!$AG28,\"\")","v":""},null,"Dpt :             Arr :             Net :",null,{"$f":"IF(preparation_cabasse!$K$2>=10,preparation_cabasse!$AG29,\"\")","v":""},null,"Dpt :             Arr :             Net :"]
[null,"Bilan",null,"Tps net :",null,"Bilan",null,"Tps net :",null,"Bilan",null,"Tps net :",null,"Bilan",null,"Tps net :"]
[null,"TEL. CLG : 04 90 58 11 32",null,null,null,"TEL. CLG : 04 90 58 11 32",null,null,null,"TEL. CLG : 04 90 58 11 32",null,null,null,"TEL. CLG : 04 90 58 11 32"]
[]
[]
[null,"DATE :",null,{"$f":"index_classe!$D13","v":"Carte N° : 10 - LOE Mickael"},null,"DATE :",null,{"$f":"index_classe!$D14","v":"Carte N° : 10 - MORET Alice"},null,"DATE :",null,{"$f":"index_classe!$D29","v":""},null,"DATE :",null,{"$f":"index_classe!$D30","v":""}]
[null,"CODE","Numéro BALISE","HEURE LIMITE:",null,"CODE","Numéro BALISE","HEURE LIMITE:",null,"CODE","Numéro BALISE","HEURE LIMITE:",null,"CODE","Numéro BALISE","HEURE LIMITE:"]
[]
[null,{"$f":"IF(preparation_cabasse!$K$2>=1,preparation_cabasse!$F14,\"\")","v":40},null,"Dpt :             Arr :             Net :",null,{"$f":"IF(preparation_cabasse!$K$2>=1,preparation_cabasse!$F15,\"\")","v":54},null,"Dpt :             Arr :             Net :",null,{"$f":"IF(preparation_cabasse!$K$2>=1,preparation_cabasse!$F30,\"\")","v":""},null,"Dpt :             Arr :             Net :",null,{"$f":"IF(preparation_cabasse!$K$2>=1,preparation_cabasse!$F31,\"\")","v":""},null,"Dpt :             Arr :             Net :"]
[null,{"$f":"IF(preparation_cabasse!$K$2>=2,preparation_cabasse!$I14,\"\")","v":3},null,"Dpt :             Arr :             Net :",null,{"$f":"IF(preparation_cabasse!$K$2>=2,preparation_cabasse!$I15,\"\")","v":30},null,"Dpt :             Arr :             Net :",null,{"$f":"IF(preparation_cabasse!$K$2>=2,preparation_cabasse!$I30,\"\")","v":""},null,"Dpt :             Arr :             Net :",null,{"$f":"IF(preparation_cabasse!$K$2>=2,preparation_cabasse!$I31,\"\")","v":""},null,"Dpt :             Arr :             Net :"]
[null,{"$f":"IF(preparation_cabasse!$K$2>=3,preparation_cabasse!$L14,\"\")","v":77},null,"Dpt :             Arr :             Net :",null,{"$f":"IF(preparation_cabasse!$K$2>=3,preparation_cabasse!$L15,\"\")","v":13},null,"Dpt :             Arr :             Net :",null,{"$f":"IF(preparation_cabasse!$K$2>=3,preparation_cabasse!$L30,\"\")","v":""},null,"Dpt :             Arr :             Net :",null,{"$f":"IF(preparation_cabasse!$K$2>=3,preparation_cabasse!$L31,\"\")","v":""},null,"Dpt :             Arr :             Net :"]
[null,{"$f":"IF(preparation_cabasse!$K$2>=4,preparation_cabasse!$O14,\"\")","v":71},null,"Dpt :             Arr :             Net :",null,{"$f":"IF(preparation_cabasse!$K$2>=4,preparation_cabasse!$O15,\"\")","v":33},null,"Dpt :             Arr :             Net :",null,{"$f":"IF(preparation_cabasse!$K$2>=4,preparation_cabasse!$O30,\"\")","v":""},null,"Dpt :             Arr :             Net :",null,{"$f":"IF(preparation_cabasse!$K$2>=4,preparation_cabasse!$O31,\"\")","v":""},null,"Dpt :             Arr :             Net :"]
[null,{"$f":"IF(preparation_cabasse!$K$2>=5,preparation_cabasse!$R14,\"\")","v":77},null,"Dpt :             Arr :             Net :",null,{"$f":"IF(preparation_cabasse!$K$2>=5,preparation_cabasse!$R15,\"\")","v":6},null,"Dpt :             Arr :             Net :",null,{"$f":"IF(preparation_cabasse!$K$2>=5,preparation_cabasse!$R30,\"\")","v":""},null,"Dpt :             Arr :             Net :",null,{"$f":"IF(preparation_cabasse!$K$2>=5,preparation_cabasse!$R31,\"\")","v":""},null,"Dpt :             Arr :             Net :"]
[null,{"$f":"IF(preparation_cabasse!$K$2>=6,preparation_cabasse!$U14,\"\")","v":""},null,"Dpt :             Arr :             Net :",null,{"$f":"IF(preparation_cabasse!$K$2>=6,preparation_cabasse!$U15,\"\")","v":""},null,"Dpt :             Arr :             Net :",null,{"$f":"IF(preparation_cabasse!$K$2>=6,preparation_cabasse!$U30,\"\")","v":""},null,"Dpt :             Arr :             Net :",null,{"$f":"IF(preparation_cabasse!$K$2>=6,preparation_cabasse!$U31,\"\")","v":""},null,"Dpt :             Arr :             Net :"]
[null,{"$f":"IF(preparation_cabasse!$K$2>=7,preparation_cabasse!$X14,\"\")","v":""},null,"Dpt :             Arr :             Net :",null,{"$f":"IF(preparation_cabasse!$K$2>=7,preparation_cabasse!$X15,\"\")","v":""},null,"Dpt :             Arr :             Net :",null,{"$f":"IF(preparation_cabasse!$K$2>=7,preparation_cabasse!$X30,\"\")","v":""},null,"Dpt :             Arr :             Net :",null,{"$f":"IF(preparation_cabasse!$K$2>=7,preparation_cabasse!$X31,\"\")","v":""},null,"Dpt :             Arr :             Net :"]
[null,{"$f":"IF(preparation_cabasse!$K$2>=8,preparation_cabasse!$AA14,\"\")","v":""},null,"Dpt :             Arr :             Net :",null,{"$f":"IF(preparation_cabasse!$K$2>=8,preparation_cabasse!$AA15,\"\")","v":""},null,"Dpt :             Arr :             Net :",null,{"$f":"IF(preparation_cabasse!$K$2>=8,preparation_cabasse!$AA30,\"\")","v":""},null,"Dpt :             Arr :             Net :",null,{"$f":"IF(preparation_cabasse!$K$2>=8,preparation_cabasse!$AA31,\"\")","v":""},null,"Dpt :             Arr :             Net :"]
[null,{"$f":"IF(preparation_cabasse!$K$2>=9,preparation_cabasse!$AD14,\"\")","v":""},null,"Dpt :             Arr :             Net :",null,{"$f":"IF(preparation_cabasse!$K$2>=9,preparation_cabasse!$AD15,\"\")","v":""},null,"Dpt :             Arr :             Net :",null,{"$f":"IF(preparation_cabasse!$K$2>=9,preparation_cabasse!$AD30,\"\")","v":""},null,"Dpt :             Arr :             Net :",null,{"$f":"IF(preparation_cabasse!$K$2>=9,preparation_cabasse!$AD31,\"\")","v":""},null,"Dpt :             Arr :             Net :"]
[null,{"$f":"IF(preparation_cabasse!$K$2>=10,preparation_cabasse!$AG14,\"\")","v":""},null,"Dpt :             Arr :             Net :",null,{"$f":"IF(preparation_cabasse!$K$2>=10,preparation_cabasse!$AG15,\"\")","v":""},null,"Dpt :             Arr :             Net :",null,{"$f":"IF(preparation_cabasse!$K$2>=10,preparation_cabasse!$AG30,\"\")","v":""},null,"Dpt :             Arr :             Net :",null,{"$f":"IF(preparation_cabasse!$K$2>=10,preparation_cabasse!$AG31,\"\")","v":""},null,"Dpt :             Arr :             Net :"]
[null,"Bilan",null,"Tps net :",null,"Bilan",null,"Tps net :",null,"Bilan",null,"Tps net :",null,"Bilan",null,"Tps net :"]
[null,"TEL. CLG : 04 90 58 11 32",null,null,null,"TEL. CLG : 04 90 58 11 32",null,null,null,"TEL. CLG : 04 90 58 11 32",null,null,null,"TEL. CLG : 04 90 58 11 32"]
[]
[]
[null,"DATE :",null,{"$f":"index_classe!$D15","v":"Carte N° : 10 - NICAU Romain"},null,"DATE :",null,{"$f":"index_classe!$D16","v":"Carte N° : 10 - RUI Desiderio"},null,"DATE :",null,{"$f":"index_classe!$D31","v":""},null,"DATE :",null,{"$f":"index_classe!$D32","v":""}]
[null,"CODE","Numéro BALISE","HEURE LIMITE:",null,"CODE","Numéro BALISE","HEURE LIMITE:",null,"CODE","Numéro BALISE","HEURE LIMITE:",null,"CODE","Numéro BALISE","HEURE LIMITE:"]
[]
[null,{"$f":"IF(preparation_cabasse!$K$2>=1,preparation_cabasse!$F16,\"\")","v":9},null,"Dpt :             Arr :             Net :",null,{"$f":"IF(preparation_cabasse!$K$2>=1,preparation_cabasse!$F17,\"\")","v":3},null,"Dpt :             Arr :             Net :",null,{"$f":"IF(preparation_cabasse!$K$2>=1,preparation_cabasse!$F32,\"\")","v":""},null,"Dpt :             Arr :             Net :",null,{"$f":"IF(preparation_cabasse!$K$2>=1,preparation_cabasse!$F33,\"\")","v":""},null,"Dpt :             Arr :             Net :"]
[null,{"$f":"IF(preparation_cabasse!$K$2>=2,preparation_cabasse!$I16,\"\")","v":10},null,"Dpt :             Arr :             Net :",null,{"$f":"IF(preparation_cabasse!$K$2>=2,preparation_cabasse!$I17,\"\")","v":6},null,"Dpt :             Arr :             Net :",null,{"$f":"IF(preparation_cabasse!$K$2>=2,preparation_cabasse!$I32,\"\")","v":""},null,"Dpt :             Arr :             Net :",null,{"$f":"IF(preparation_cabasse!$K$2>=2,preparation_cabasse!$I33,\"\")","v":""},null,"Dpt :             Arr :             Net :"]
[null,{"$f":"IF(preparation_cabasse!$K$2>=3,preparation_cabasse!$L16,\"\")","v":66},null,"Dpt :             Arr :             Net :",null,{"$f":"IF(preparation_cabasse!$K$2>=3,preparation_cabasse!$L17,\"\")","v":9},null,"Dpt :             Arr :             Net :",null,{"$f":"IF(preparation_cabasse!$K$2>=3,preparation_cabasse!$L32,\"\")","v":""},null,"Dpt :             Arr :             Net :",null,{"$f":"IF(preparation_cabasse!$K$2>=3,preparation_cabasse!$L33,\"\")","v":""},null,"Dpt :             Arr :             Net :"]
[null,{"$f":"IF(preparation_cabasse!$K$2>=4,preparation_cabasse!$O16,\"\")","v":49},null,"Dpt :             Arr :             Net :",null,{"$f":"IF(preparation_cabasse!$K$2>=4,preparation_cabasse!$O17,\"\")","v":80},null,"Dpt :             Arr :             Net :",null,{"$f":"IF(preparation_cabasse!$K$2>=4,preparation_cabasse!$O32,\"\")","v":""},null,"Dpt :             Arr :             Net :",null,{"$f":"IF(preparation_cabasse!$K$2>=4,preparation_cabasse!$O33,\"\")","v":""},null,"Dpt :             Arr :             Net :"]
[null,{"$f":"IF(preparation_cabasse!$K$2>=5,preparation_cabasse!$R16,\"\")","v":66},null,"Dpt :             Arr :             Net :",null,{"$f":"IF(preparation_cabasse!$K$2>=5,preparation_cabasse!$R17,\"\")","v":39},null,"Dpt :             Arr :             Net :",null,{"$f":"IF(preparation_cabasse!$K$2>=5,preparation_cabasse!$R32,\"\")","v":""},null,"Dpt :             Arr :             Net :",null,{"$f":"IF(preparation_cabasse!$K$2>=5,preparation_cabasse!$R33,\"\")","v":""},null,"Dpt :             Arr :             Net :"]
[null,{"$f":"IF(preparation_cabasse!$K$2>=6,preparation_cabasse!$U16,\"\")","v":""},null,"Dpt :             Arr :             Net :",null,{"$f":"IF(preparation_cabasse!$K$2>=6,preparation_cabasse!$U17,\"\")","v":""},null,"Dpt :             Arr :             Net :",null,{"$f":"IF(preparation_cabasse!$K$2>=6,preparation_cabasse!$U32,\"\")","v":""},null,"Dpt :             Arr :             Net :",null,{"$f":"IF(preparation_cabasse!$K$2>=6,preparation_cabasse!$U33,\"\")","v":""},null,"Dpt :             Arr :             Net :"]
[null,{"$f":"IF(preparation_cabasse!$K$2>=7,preparation_cabasse!$X16,\"\")","v":""},null,"Dpt :             Arr :             Net :",null,{"$f":"IF(preparation_cabasse!$K$2>=7,preparation_cabasse!$X17,\"\")","v":""},null,"Dpt :             Arr :             Net :",null,{"$f":"IF(preparation_cabasse!$K$2>=7,preparation_cabasse!$X32,\"\")","v":""},null,"Dpt :             Arr :             Net :",null,{"$f":"IF(preparation_cabasse!$K$2>=7,preparation_cabasse!$X33,\"\")","v":""},null,"Dpt :             Arr :             Net :"]
[null,{"$f":"IF(preparation_cabasse!$K$2>=8,preparation_cabasse!$AA16,\"\")","v":""},null,"Dpt :             Arr :             Net :",null,{"$f":"IF(preparation_cabasse!$K$2>=8,preparation_cabasse!$AA17,\"\")","v":""},null,"Dpt :             Arr :             Net :",null,{"$f":"IF(preparation_cabasse!$K$2>=8,preparation_cabasse!$AA32,\"\")","v":""},null,"Dpt :             Arr :             Net :",null,{"$f":"IF(preparation_cabasse!$K$2>=8,preparation_cabasse!$AA33,\"\")","v":""},null,"Dpt :             Arr :             Net :"]
[null,{"$f":"IF(preparation_cabasse!$K$2>=9,preparation_cabasse!$AD16,\"\")","v":""},null,"Dpt :             Arr :             Net :",null,{"$f":"IF(preparation_cabasse!$K$2>=9,preparation_cabasse!$AD17,\"\")","v":""},null,"Dpt :             Arr :             Net :",null,{"$f":"IF(preparation_cabasse!$K$2>=9,preparation_cabasse!$AD32,\"\")","v":""},null,"Dpt :             Arr :             Net :",null,{"$f":"IF(preparation_cabasse!$K$2>=9,preparation_cabasse!$AD33,\"\")","v":""},null,"Dpt :             Arr :             Net :"]
[null,{"$f":"IF(preparation_cabasse!$K$2>=10,preparation_cabasse!$AG16,\"\")","v":""},null,"Dpt :             Arr :             Net :",null,{"$f":"IF(preparation_cabasse!$K$2>=10,preparation_cabasse!$AG17,\"\")","v":""},null,"Dpt :             Arr :             Net :",null,{"$f":"IF(preparation_cabasse!$K$2>=10,preparation_cabasse!$AG32,\"\")","v":""},null,"Dpt :             Arr :             Net :",null,{"$f":"IF(preparation_cabasse!$K$2>=10,preparation_cabasse!$AG33,\"\")","v":""},null,"Dpt :             Arr :             Net :"]
[null,"Bilan",null,"Tps net :",null,"Bilan",null,"Tps net :",null,"Bilan",null,"Tps net :",null,"Bilan",null,"Tps net :"]
[null,"TEL. CLG : 04 90 58 11 32",null,null,null,"TEL. CLG : 04 90 58 11 32",null,null,null,"TEL. CLG : 04 90 58 11 32",null,null,null,"TEL. CLG : 04 90 58 11 32"]
[]
[]
[null,"DATE :",null,{"$f":"index_classe!$D17","v":"Carte N° : 10 - RI Niko"},null,"DATE :",null,{"$f":"index_classe!$D18","v":"Carte N° : 10 - SAL Calvin"},null,"DATE :",null,{"$f":"index_classe!$D33","v":""},null,"DATE :",null,{"$f":"index_classe!$D34","v":""}]
[null,"CODE","Numéro BALISE","HEURE LIMITE:",null,"CODE","Numéro BALISE","HEURE LIMITE:",null,"CODE","Numéro BALISE","HEURE LIMITE:",null,"CODE","Numéro BALISE","HEURE LIMITE:"]
[]
[null,{"$f":"IF(preparation_cabasse!$K$2>=1,preparation_cabasse!$F18,\"\")","v":26},null,"Dpt :             Arr :             Net :",null,{"$f":"IF(preparation_cabasse!$K$2>=1,preparation_cabasse!$F19,\"\")","v":52},null,"Dpt :             Arr :             Net :",null,{"$f":"IF(preparation_cabasse!$K$2>=1,preparation_cabasse!$F34,\"\")","v":""},null,"Dpt :             Arr :             Net :",null,{"$f":"IF(preparation_cabasse!$K$2>=1,preparation_cabasse!$F35,\"\")","v":""},null,"Dpt :             Arr :             Net :"]
[null,{"$f":"IF(preparation_cabasse!$K$2>=2,preparation_cabasse!$I18,\"\")","v":43},null,"Dpt :             Arr :             Net :",null,{"$f":"IF(preparation_cabasse!$K$2>=2,preparation_cabasse!$I19,\"\")","v":30},null,"Dpt :             Arr :             Net :",null,{"$f":"IF(preparation_cabasse!$K$2>=2,preparation_cabasse!$I34,\"\")","v":""},null,"Dpt :             Arr :             Net :",null,{"$f":"IF(preparation_cabasse!$K$2>=2,preparation_cabasse!$I35,\"\")","v":""},null,"Dpt :             Arr :             Net :"]
[null,{"$f":"IF(preparation_cabasse!$K$2>=3,preparation_cabasse!$L18,\"\")","v":49},null,"Dpt :             Arr :             Net :",null,{"$f":"IF(preparation_cabasse!$K$2>=3,preparation_cabasse!$L19,\"\")","v":84},null,"Dpt :             Arr :             Net :",null,{"$f":"IF(preparation_cabasse!$K$2>=3,preparation_cabasse!$L34,\"\")","v":""},null,"Dpt :             Arr :             Net :",null,{"$f":"IF(preparation_cabasse!$K$2>=3,preparation_cabasse!$L35,\"\")","v":""},null,"Dpt :             Arr :             Net :"]
[null,{"$f":"IF(preparation_cabasse!$K$2>=4,preparation_cabasse!$O18,\"\")","v":12},null,"Dpt :             Arr :             Net :",null,{"$f":"IF(preparation_cabasse!$K$2>=4,preparation_cabasse!$O19,\"\")","v":83},null,"Dpt :             Arr :             Net :",null,{"$f":"IF(preparation_cabasse!$K$2>=4,preparation_cabasse!$O34,\"\")","v":""},null,"Dpt :             Arr :             Net :",null,{"$f":"IF(preparation_cabasse!$K$2>=4,preparation_cabasse!$O35,\"\")","v":""},null,"Dpt :             Arr :             Net :"]
[null,{"$f":"IF(preparation_cabasse!$K$2>=5,preparation_cabasse!$R18,\"\")","v":71},null,"Dpt :             Arr :             Net :",null,{"$f":"IF(preparation_cabasse!$K$2>=5,preparation_cabasse!$R19,\"\")","v":9},null,"Dpt :             Arr :             Net :",null,{"$f":"IF(preparation_cabasse!$K$2>=5,preparation_cabasse!$R34,\"\")","v":""},null,"Dpt :             Arr :             Net :",null,{"$f":"IF(preparation_cabasse!$K$2>=5,preparation_cabasse!$R35,\"\")","v":""},null,"Dpt :             Arr :             Net :"]
[null,{"$f":"IF(preparation_cabasse!$K$2>=6,preparation_cabasse!$U18,\"\")","v":""},null,"Dpt :             Arr :             Net :",null,{"$f":"IF(preparation_cabasse!$K$2>=6,preparation_cabasse!$U19,\"\")","v":""},null,"Dpt :             Arr :             Net :",null,{"$f":"IF(preparation_cabasse!$K$2>=6,preparation_cabasse!$U34,\"\")","v":""},null,"Dpt :             Arr :             Net :",null,{"$f":"IF(preparation_cabasse!$K$2>=6,preparation_cabasse!$U35,\"\")","v":""},null,"Dpt :             Arr :             Net :"]
[null,{"$f":"IF(preparation_cabasse!$K$2>=7,preparation_cabasse!$X18,\"\")","v":""},null,"Dpt :             Arr :             Net :",null,{"$f":"IF(preparation_cabasse!$K$2>=7,preparation_cabasse!$X19,\"\")","v":""},null,"Dpt :             Arr :             Net :",null,{"$f":"IF(preparation_cabasse!$K$2>=7,preparation_cabasse!$X34,\"\")","v":""},null,"Dpt :             Arr :             Net :",null,{"$f":"IF(preparation_cabasse!$K$2>=7,preparation_cabasse!$X35,\"\")","v":""},null,"Dpt :             Arr :             Net :"]
[null,{"$f":"IF(preparation_cabasse!$K$2>=8,preparation_cabasse!$AA18,\"\")","v":""},null,"Dpt :             Arr :             Net :",null,{"$f":"IF(preparation_cabasse!$K$2>=8,preparation_cabasse!$AA19,\"\")","v":""},null,"Dpt :             Arr :             Net :",null,{"$f":"IF(preparation_cabasse!$K$2>=8,preparation_cabasse!$AA34,\"\")","v":""},null,"Dpt :             Arr :             Net :",null,{"$f":"IF(preparation_cabasse!$K$2>=8,preparation_cabasse!$AA35,\"\")","v":""},null,"Dpt :             Arr :             Net :"]
[null,{"$f":"IF(preparation_cabasse!$K$2>=9,preparation_cabasse!$AD18,\"\")","v":""},null,"Dpt :             Arr :             Net :",null,{"$f":"IF(preparation_cabasse!$K$2>=9,preparation_cabasse!$AD19,\"\")","v":""},null,"Dpt :             Arr :             Net :",null,{"$f":"IF(preparation_cabasse!$K$2>=9,preparation_cabasse!$AD34,\"\")","v":""},null,"Dpt :             Arr :             Net :",null,{"$f":"IF(preparation_cabasse!$K$2>=9,preparation_cabasse!$AD35,\"\")","v":""},null,"Dpt :             Arr :             Net :"]
[null,{"$f":"IF(preparation_cabasse!$K$2>=10,preparation_cabasse!$AG18,\"\")","v":""},null,"Dpt :             Arr :             Net :",null,{"$f":"IF(preparation_cabasse!$K$2>=10,preparation_cabasse!$AG19,\"\")","v":""},null,"Dpt :             Arr :             Net :",null,{"$f":"IF(preparation_cabasse!$K$2>=10,preparation_cabasse!$AG34,\"\")","v":""},null,"Dpt :             Arr :             Net :",null,{"$f":"IF(preparation_cabasse!$K$2>=10,preparation_cabasse!$AG35,\"\")","v":""},null,"Dpt :             Arr :             Net :"]
[null,"Bilan",null,"Tps net :",null,"Bilan",null,"Tps net :",null,"Bilan",null,"Tps net :",null,"Bilan",null,"Tps net :"]
[null,"TEL. CLG : 04 90 58 11 32",null,null,null,"TEL. CLG : 04 90 58 11 32",null,null,null,"TEL. CLG : 04 90 58 11 32",null,null,null,"TEL. CLG : 04 90 58 11 32"]

{"sheet":"prepa_alea_plateau","index":6,"n_rows":40,"n_cols":26,"rows_kept":40,"cut":false,"hidden":false,"merged":[[38,0,38,1]]}
[]
[">>>>>>>>  Appuyer sur F9 pour générer de nouvelles données"]
["NOM","PRENOM","Index\nbalise 1","N°\nbalise 1","Index\nbalise 2","N°\nBalise 2","Index\nbalise 3","N°\nBalise 3","Index\nbalise 4","N°\nBalise 4","Index\nbalise 5","N°\nBalise 5","Index\nbalise 6","N°\nBalise 6","Index\nbalise 7","N°\nBalise 7","Index\nbalise 8","N°\nBalise 8","Index\nbalise 9","N°\nBalise 9","Index\nbalise 10","N°\nBalise 10"]
[{"$f":"preparation_plateau!B4","v":"BENZ"},{"$f":"preparation_plateau!C4","v":"Nawel"},{"$f":"IF($A4=\"\",\"\",IF($A$40=\"PROCHES\",RANDBETWEEN(1,22),IF($A$40=\"MEDIANES\",RANDBETWEEN(23,44),IF($A$40=\"LOINTAINES\",RANDBETWEEN(45,65),IF($A$40=\"PROCHES+MEDIANES\",RANDBETWEEN(1,44),IF($A$40=\"MEDIANES+LOINTAINES\",RANDBETWEEN(23,65),IF($A$40=\"TOUTES\",RANDBETWEEN(1,65))))))))","v":5},{"$f":"IF(C4=\"\",\"\",VLOOKUP(C4,index_plateau!$A$5:$O$69,2,FALSE))","v":5},{"$f":"IF($A4=\"\",\"\",IF($A$40=\"PROCHES\",RANDBETWEEN(1,22),IF($A$40=\"MEDIANES\",RANDBETWEEN(23,44),IF($A$40=\"LOINTAINES\",RANDBETWEEN(45,65),IF($A$40=\"PROCHES+MEDIANES\",RANDBETWEEN(1,44),IF($A$40=\"MEDIANES+LOINTAINES\",RANDBETWEEN(23,65),IF($A$40=\"TOUTES\",RANDBETWEEN(1,65))))))))","v":48},{"$f":"IF(E4=\"\",\"\",VLOOKUP(E4,index_plateau!$A$5:$O$69,2,FALSE))","v":17},{"$f":"IF($A4=\"\",\"\",IF($A$40=\"PROCHES\",RANDBETWEEN(1,22),IF($A$40=\"MEDIANES\",RANDBETWEEN(23,44),IF($A$40=\"LOINTAINES\",RANDBETWEEN(45,65),IF($A$40=\"PROCHES+MEDIANES\",RANDBETWEEN(1,44),IF($A$40=\"MEDIANES+LOINTAINES\",RANDBETWEEN(23,65),IF($A$40=\"TOUTES\",RANDBETWEEN(1,65))))))))","v":31},{"$f":"IF(G4=\"\",\"\",VLOOKUP(G4,index_plateau!$A$5:$O$69,2,FALSE))","v":23},{"$f":"IF($A4=\"\",\"\",IF($A$40=\"PROCHES\",RANDBETWEEN(1,22),IF($A$40=\"MEDIANES\",RANDBETWEEN(23,44),IF($A$40=\"LOINTAINES\",RANDBETWEEN(45,65),IF($A$40=\"PROCHES+MEDIANES\",RANDBETWEEN(1,44),IF($A$40=\"MEDIANES+LOINTAINES\",RANDBETWEEN(23,65),IF($A$40=\"TOUTES\",RANDBETWEEN(1,65))))))))","v":34},{"$f":"IF(I4=\"\",\"\",VLOOKUP(I4,index_plateau!$A$5:$O$69,2,FALSE))","v":61},{"$f":"IF($A4=\"\",\"\",IF($A$40=\"PROCHES\",RANDBETWEEN(1,22),IF($A$40=\"MEDIANES\",RANDBETWEEN(23,44),IF($A$40=\"LOINTAINES\",RANDBETWEEN(45,65),IF($A$40=\"PROCHES+MEDIANES\",RANDBETWEEN(1,44),IF($A$40=\"MEDIANES+LOINTAINES\",RANDBETWEEN(23,65),IF($A$40=\"TOUTES\",RANDBETWEEN(1,65))))))))","v":52},{"$f":"IF(K4=\"\",\"\",VLOOKUP(K4,index_plateau!$A$5:$O$69,2,FALSE))","v":22},{"$f":"IF($A4=\"\",\"\",IF($A$40=\"PROCHES\",RANDBETWEEN(1,22),IF($A$40=\"MEDIANES\",RANDBETWEEN(23,44),IF($A$40=\"LOINTAINES\",RANDBETWEEN(45,65),IF($A$40=\"PROCHES+MEDIANES\",RANDBETWEEN(1,44),IF($A$40=\"MEDIANES+LOINTAINES\",RANDBETWEEN(23,65),IF($A$40=\"TOUTES\",RANDBETWEEN(1,65))))))))","v":44},{"$f":"IF(M4=\"\",\"\",VLOOKUP(M4,index_plateau!$A$5:$O$69,2,FALSE))","v":93},{"$f":"IF($A4=\"\",\"\",IF($A$40=\"PROCHES\",RANDBETWEEN(1,22),IF($A$40=\"MEDIANES\",RANDBETWEEN(23,44),IF($A$40=\"LOINTAINES\",RANDBETWEEN(45,65),IF($A$40=\"PROCHES+MEDIANES\",RANDBETWEEN(1,44),IF($A$40=\"MEDIANES+LOINTAINES\",RANDBETWEEN(23,65),IF($A$40=\"TOUTES\",RANDBETWEEN(1,65))))))))","v":33},{"$f":"IF(O4=\"\",\"\",VLOOKUP(O4,index_plateau!$A$5:$O$69,2,FALSE))","v":59},{"$f":"IF($A4=\"\",\"\",IF($A$40=\"PROCHES\",RANDBETWEEN(1,22),IF($A$40=\"MEDIANES\",RANDBETWEEN(23,44),IF($A$40=\"LOINTAINES\",RANDBETWEEN(45,65),IF($A$40=\"PROCHES+MEDIANES\",RANDBETWEEN(1,44),IF($A$40=\"MEDIANES+LOINTAINES\",RANDBETWEEN(23,65),IF($A$40=\"TOUTES\",RANDBETWEEN(1,65))))))))","v":39},{"$f":"IF(Q4=\"\",\"\",VLOOKUP(Q4,index_plateau!$A$5:$O$69,2,FALSE))","v":84},{"$f":"IF($A4=\"\",\"\",IF($A$40=\"PROCHES\",RANDBETWEEN(1,22),IF($A$40=\"MEDIANES\",RANDBETWEEN(23,44),IF($A$40=\"LOINTAINES\",RANDBETWEEN(45,65),IF($A$40=\"PROCHES+MEDIANES\",RANDBETWEEN(1,44),IF($A$40=\"MEDIANES+LOINTAINES\",RANDBETWEEN(23,65),IF($A$40=\"TOUTES\",RANDBETWEEN(1,65))))))))","v":30},{"$f":"IF(S4=\"\",\"\",VLOOKUP(S4,index_plateau!$A$5:$O$69,2,FALSE))","v":21},{"$f":"IF($A4=\"\",\"\",IF($A$40=\"PROCHES\",RANDBETWEEN(1,22),IF($A$40=\"MEDIANES\",RANDBETWEEN(23,44),IF($A$40=\"LOINTAINES\",RANDBETWEEN(45,65),IF($A$40=\"PROCHES+MEDIANES\",RANDBETWEEN(1,44),IF($A$40=\"MEDIANES+LOINTAINES\",RANDBETWEEN(23,65),IF($A$40=\"TOUTES\",RANDBETWEEN(1,65))))))))","v":17},{"$f":"IF(U4=\"\",\"\",VLOOKUP(U4,index_plateau!$A$5:$O$69,2,FALSE))","v":67}]
[{"$f":"preparation_plateau!B5","v":"BERNA"},{"$f":"preparation_plateau!C5","v":"Laurine"},{"$f":"IF($A5=\"\",\"\",IF($A$40=\"PROCHES\",RANDBETWEEN(1,22),IF($A$40=\"MEDIANES\",RANDBETWEEN(23,44),IF($A$40=\"LOINTAINES\",RANDBETWEEN(45,65),IF($A$40=\"PROCHES+MEDIANES\",RANDBETWEEN(1,44),IF($A$40=\"MEDIANES+LOINTAINES\",RANDBETWEEN(23,65),IF($A$40=\"TOUTES\",RANDBETWEEN(1,65))))))))","v":51},{"$f":"IF(C5=\"\",\"\",VLOOKUP(C5,index_plateau!$A$5:$O$69,2,FALSE))","v":20},43,{"$f":"IF(E5=\"\",\"\",VLOOKUP(E5,index_plateau!$A$5:$O$69,2,FALSE))","v":92},6,{"$f":"IF(G5=\"\",\"\",VLOOKUP(G5,index_plateau!$A$5:$O$69,2,FALSE))","v":8},8,{"$f":"IF(I5=\"\",\"\",VLOOKUP(I5,index_plateau!$A$5:$O$69,2,FALSE))","v":27},39,{"$f":"IF(K5=\"\",\"\",VLOOKUP(K5,index_plateau!$A$5:$O$69,2,FALSE))","v":84},55,{"$f":"IF(M5=\"\",\"\",VLOOKUP(M5,index_plateau!$A$5:$O$69,2,FALSE))","v":53},62,{"$f":"IF(O5=\"\",\"\",VLOOKUP(O5,index_plateau!$A$5:$O$69,2,FALSE))","v":85},3,{"$f":"IF(Q5=\"\",\"\",VLOOKUP(Q5,index_plateau!$A$5:$O$69,2,FALSE))","v":3},{"$f":"IF($A5=\"\",\"\",IF($A$40=\"PROCHES\",RANDBETWEEN(1,22),IF($A$40=\"MEDIANES\",RANDBETWEEN(23,44),IF($A$40=\"LOINTAINES\",RANDBETWEEN(45,65),IF($A$40=\"PROCHES+MEDIANES\",RANDBETWEEN(1,44),IF($A$40=\"MEDIANES+LOINTAINES\",RANDBETWEEN(23,65),IF($A$40=\"TOUTES\",RANDBETWEEN(1,65))))))))","v":3},{"$f":"IF(S5=\"\",\"\",VLOOKUP(S5,index_plateau!$A$5:$O$69,2,FALSE))","v":3},{"$f":"IF($A5=\"\",\"\",IF($A$40=\"PROCHES\",RANDBETWEEN(1,22),IF($A$40=\"MEDIANES\",RANDBETWEEN(23,44),IF($A$40=\"LOINTAINES\",RANDBETWEEN(45,65),IF($A$40=\"PROCHES+MEDIANES\",RANDBETWEEN(1,44),IF($A$40=\"MEDIANES+LOINTAINES\",RANDBETWEEN(23,65),IF($A$40=\"TOUTES\",RANDBETWEEN(1,65))))))))","v":26},{"$f":"IF(U5=\"\",\"\",VLOOKUP(U5,index_plateau!$A$5:$O$69,2,FALSE))","v":10},null,null,null,"PROCHES"]
[{"$f":"preparation_plateau!B6","v":"CHEL"},{"$f":"preparation_plateau!C6","v":"Sarah"},35,{"$f":"IF(C6=\"\",\"\",VLOOKUP(C6,index_plateau!$A$5:$O$69,2,FALSE))","v":62},59,{"$f":"IF(E6=\"\",\"\",VLOOKUP(E6,index_plateau!$A$5:$O$69,2,FALSE))","v":57},44,{"$f":"IF(G6=\"\",\"\",VLOOKUP(G6,index_plateau!$A$5:$O$69,2,FALSE))","v":93},37,{"$f":"IF(I6=\"\",\"\",VLOOKUP(I6,index_plateau!$A$5:$O$69,2,FALSE))","v":70},1,{"$f":"IF(K6=\"\",\"\",VLOOKUP(K6,index_plateau!$A$5:$O$69,2,FALSE))","v":1},48,{"$f":"IF(M6=\"\",\"\",VLOOKUP(M6,index_plateau!$A$5:$O$69,2,FALSE))","v":17},47,{"$f":"IF(O6=\"\",\"\",VLOOKUP(O6,index_plateau!$A$5:$O$69,2,FALSE))","v":16},52,{"$f":"IF(Q6=\"\",\"\",VLOOKUP(Q6,index_plateau!$A$5:$O$69,2,FALSE))","v":22},46,{"$f":"IF(S6=\"\",\"\",VLOOKUP(S6,index_plateau!$A$5:$O$69,2,FALSE))","v":15},47,{"$f":"IF(U6=\"\",\"\",VLOOKUP(U6,index_plateau!$A$5:$O$69,2,FALSE))","v":16},null,null,null,"MEDIANES"]
[{"$f":"preparation_plateau!B7","v":"CLAUD"},{"$f":"preparation_plateau!C7","v":"Maxime"},60,{"$f":"IF(C7=\"\",\"\",VLOOKUP(C7,index_plateau!$A$5:$O$69,2,FALSE))","v":58},35,{"$f":"IF(E7=\"\",\"\",VLOOKUP(E7,index_plateau!$A$5:$O$69,2,FALSE))","v":62},5,{"$f":"IF(G7=\"\",\"\",VLOOKUP(G7,index_plateau!$A$5:$O$69,2,FALSE))","v":5},56,{"$f":"IF(I7=\"\",\"\",VLOOKUP(I7,index_plateau!$A$5:$O$69,2,FALSE))","v":54},44,{"$f":"IF(K7=\"\",\"\",VLOOKUP(K7,index_plateau!$A$5:$O$69,2,FALSE))","v":93},35,{"$f":"IF(M7=\"\",\"\",VLOOKUP(M7,index_plateau!$A$5:$O$69,2,FALSE))","v":62},30,{"$f":"IF(O7=\"\",\"\",VLOOKUP(O7,index_plateau!$A$5:$O$69,2,FALSE))","v":21},58,{"$f":"IF(Q7=\"\",\"\",VLOOKUP(Q7,index_plateau!$A$5:$O$69,2,FALSE))","v":56},29,{"$f":"IF(S7=\"\",\"\",VLOOKUP(S7,index_plateau!$A$5:$O$69,2,FALSE))","v":13},29,{"$f":"IF(U7=\"\",\"\",VLOOKUP(U7,index_plateau!$A$5:$O$69,2,FALSE))","v":13},null,null,null,"LOINTAINES"]
[{"$f":"preparation_plateau!B8","v":"NAISSA"},{"$f":"preparation_plateau!C8","v":"Estelle"},47,{"$f":"IF(C8=\"\",\"\",VLOOKUP(C8,index_plateau!$A$5:$O$69,2,FALSE))","v":16},46,{"$f":"IF(E8=\"\",\"\",VLOOKUP(E8,index_plateau!$A$5:$O$69,2,FALSE))","v":15},5,{"$f":"IF(G8=\"\",\"\",VLOOKUP(G8,index_plateau!$A$5:$O$69,2,FALSE))","v":5},8,{"$f":"IF(I8=\"\",\"\",VLOOKUP(I8,index_plateau!$A$5:$O$69,2,FALSE))","v":27},43,{"$f":"IF(K8=\"\",\"\",VLOOKUP(K8,index_plateau!$A$5:$O$69,2,FALSE))","v":92},27,{"$f":"IF(M8=\"\",\"\",VLOOKUP(M8,index_plateau!$A$5:$O$69,2,FALSE))","v":11},13,{"$f":"IF(O8=\"\",\"\",VLOOKUP(O8,index_plateau!$A$5:$O$69,2,FALSE))","v":32},15,{"$f":"IF(Q8=\"\",\"\",VLOOKUP(Q8,index_plateau!$A$5:$O$69,2,FALSE))","v":65},37,{"$f":"IF(S8=\"\",\"\",VLOOKUP(S8,index_plateau!$A$5:$O$69,2,FALSE))","v":70},45,{"$f":"IF(U8=\"\",\"\",VLOOKUP(U8,index_plateau!$A$5:$O$69,2,FALSE))","v":14},null,null,null,"PROCHES+MEDIANES"]
[{"$f":"preparation_plateau!B9","v":"FA"},{"$f":"preparation_plateau!C9","v":"Dylan"},48,{"$f":"IF(C9=\"\",\"\",VLOOKUP(C9,index_plateau!$A$5:$O$69,2,FALSE))","v":17},40,{"$f":"IF(E9=\"\",\"\",VLOOKUP(E9,index_plateau!$A$5:$O$69,2,FALSE))","v":86},25,{"$f":"IF(G9=\"\",\"\",VLOOKUP(G9,index_plateau!$A$5:$O$69,2,FALSE))","v":9},60,{"$f":"IF(I9=\"\",\"\",VLOOKUP(I9,index_plateau!$A$5:$O$69,2,FALSE))","v":58},6,{"$f":"IF(K9=\"\",\"\",VLOOKUP(K9,index_plateau!$A$5:$O$69,2,FALSE))","v":8},34,{"$f":"IF(M9=\"\",\"\",VLOOKUP(M9,index_plateau!$A$5:$O$69,2,FALSE))","v":61},51,{"$f":"IF(O9=\"\",\"\",VLOOKUP(O9,index_plateau!$A$5:$O$69,2,FALSE))","v":20},62,{"$f":"IF(Q9=\"\",\"\",VLOOKUP(Q9,index_plateau!$A$5:$O$69,2,FALSE))","v":85},63,{"$f":"IF(S9=\"\",\"\",VLOOKUP(S9,index_plateau!$A$5:$O$69,2,FALSE))","v":89},15,{"$f":"IF(U9=\"\",\"\",VLOOKUP(U9,index_plateau!$A$5:$O$69,2,FALSE))","v":65},null,null,null,"MEDIANES+LOINTAINES"]
[{"$f":"preparation_plateau!B10","v":"FLEIN"},{"$f":"preparation_plateau!C10","v":"Theo"},46,{"$f":"IF(C10=\"\",\"\",VLOOKUP(C10,index_plateau!$A$5:$O$69,2,FALSE))","v":15},17,{"$f":"IF(E10=\"\",\"\",VLOOKUP(E10,index_plateau!$A$5:$O$69,2,FALSE))","v":67},44,{"$f":"IF(G10=\"\",\"\",VLOOKUP(G10,index_plateau!$A$5:$O$69,2,FALSE))","v":93},36,{"$f":"IF(I10=\"\",\"\",VLOOKUP(I10,index_plateau!$A$5:$O$69,2,FALSE))","v":63},42,{"$f":"IF(K10=\"\",\"\",VLOOKUP(K10,index_plateau!$A$5:$O$69,2,FALSE))","v":88},24,{"$f":"IF(M10=\"\",\"\",VLOOKUP(M10,index_plateau!$A$5:$O$69,2,FALSE))","v":7},24,{"$f":"IF(O10=\"\",\"\",VLOOKUP(O10,index_plateau!$A$5:$O$69,2,FALSE))","v":7},19,{"$f":"IF(Q10=\"\",\"\",VLOOKUP(Q10,index_plateau!$A$5:$O$69,2,FALSE))","v":69},58,{"$f":"IF(S10=\"\",\"\",VLOOKUP(S10,index_plateau!$A$5:$O$69,2,FALSE))","v":56},61,{"$f":"IF(U10=\"\",\"\",VLOOKUP(U10,index_plateau!$A$5:$O$69,2,FALSE))","v":60},null,null,null,"TOUTES"]
[{"$f":"preparation_plateau!B11","v":"JEAON"},{"$f":"preparation_plateau!C11","v":"Alexis"},17,{"$f":"IF(C11=\"\",\"\",VLOOKUP(C11,index_plateau!$A$5:$O$69,2,FALSE))","v":67},41,{"$f":"IF(E11=\"\",\"\",VLOOKUP(E11,index_plateau!$A$5:$O$69,2,FALSE))","v":87},29,{"$f":"IF(G11=\"\",\"\",VLOOKUP(G11,index_plateau!$A$5:$O$69,2,FALSE))","v":13},33,{"$f":"IF(I11=\"\",\"\",VLOOKUP(I11,index_plateau!$A$5:$O$69,2,FALSE))","v":59},43,{"$f":"IF(K11=\"\",\"\",VLOOKUP(K11,index_plateau!$A$5:$O$69,2,FALSE))","v":92},65,{"$f":"IF(M11=\"\",\"\",VLOOKUP(M11,index_plateau!$A$5:$O$69,2,FALSE))","v":91},48,{"$f":"IF(O11=\"\",\"\",VLOOKUP(O11,index_plateau!$A$5:$O$69,2,FALSE))","v":17},12,{"$f":"IF(Q11=\"\",\"\",VLOOKUP(Q11,index_plateau!$A$5:$O$69,2,FALSE))","v":31},30,{"$f":"IF(S11=\"\",\"\",VLOOKUP(S11,index_plateau!$A$5:$O$69,2,FALSE))","v":21},26,{"$f":"IF(U11=\"\",\"\",VLOOKUP(U11,index_plateau!$A$5:$O$69,2,FALSE))","v":10}]
[{"$f":"preparation_plateau!B12","v":"KOLA"},{"$f":"preparation_plateau!C12","v":"Alexandre"},11,{"$f":"IF(C12=\"\",\"\",VLOOKUP(C12,index_plateau!$A$5:$O$69,2,FALSE))","v":30},9,{"$f":"IF(E12=\"\",\"\",VLOOKUP(E12,index_plateau!$A$5:$O$69,2,FALSE))","v":28},32,{"$f":"IF(G12=\"\",\"\",VLOOKUP(G12,index_plateau!$A$5:$O$69,2,FALSE))","v":24},28,{"$f":"IF(I12=\"\",\"\",VLOOKUP(I12,index_plateau!$A$5:$O$69,2,FALSE))","v":12},16,{"$f":"IF(K12=\"\",\"\",VLOOKUP(K12,index_plateau!$A$5:$O$69,2,FALSE))","v":66},28,{"$f":"IF(M12=\"\",\"\",VLOOKUP(M12,index_plateau!$A$5:$O$69,2,FALSE))","v":12},56,{"$f":"IF(O12=\"\",\"\",VLOOKUP(O12,index_plateau!$A$5:$O$69,2,FALSE))","v":54},57,{"$f":"IF(Q12=\"\",\"\",VLOOKUP(Q12,index_plateau!$A$5:$O$69,2,FALSE))","v":55},63,{"$f":"IF(S12=\"\",\"\",VLOOKUP(S12,index_plateau!$A$5:$O$69,2,FALSE))","v":89},49,{"$f":"IF(U12=\"\",\"\",VLOOKUP(U12,index_plateau!$A$5:$O$69,2,FALSE))","v":18}]
[{"$f":"preparation_plateau!B13","v":"LERHE"},{"$f":"preparation_plateau!C13","v":"Melvin"},23,{"$f":"IF(C13=\"\",\"\",VLOOKUP(C13,index_plateau!$A$5:$O$69,2,FALSE))","v":6},44,{"$f":"IF(E13=\"\",\"\",VLOOKUP(E13,index_plateau!$A$5:$O$69,2,FALSE))","v":93},26,{"$f":"IF(G13=\"\",\"\",VLOOKUP(G13,index_plateau!$A$5:$O$69,2,FALSE))","v":10},60,{"$f":"IF(I13=\"\",\"\",VLOOKUP(I13,index_plateau!$A$5:$O$69,2,FALSE))","v":58},3,{"$f":"IF(K13=\"\",\"\",VLOOKUP(K13,index_plateau!$A$5:$O$69,2,FALSE))","v":3},9,{"$f":"IF(M13=\"\",\"\",VLOOKUP(M13,index_plateau!$A$5:$O$69,2,FALSE))","v":28},59,{"$f":"IF(O13=\"\",\"\",VLOOKUP(O13,index_plateau!$A$5:$O$69,2,FALSE))","v":57},7,{"$f":"IF(Q13=\"\",\"\",VLOOKUP(Q13,index_plateau!$A$5:$O$69,2,FALSE))","v":25},44,{"$f":"IF(S13=\"\",\"\",VLOOKUP(S13,index_plateau!$A$5:$O$69,2,FALSE))","v":93},19,{"$f":"IF(U13=\"\",\"\",VLOOKUP(U13,index_plateau!$A$5:$O$69,2,FALSE))","v":69}]
[{"$f":"preparation_plateau!B14","v":"LOE"},{"$f":"preparation_plateau!C14","v":"Mickael"},49,{"$f":"IF(C14=\"\",\"\",VLOOKUP(C14,index_plateau!$A$5:$O$69,2,FALSE))","v":18},19,{"$f":"IF(E14=\"\",\"\",VLOOKUP(E14,index_plateau!$A$5:$O$69,2,FALSE))","v":69},48,{"$f":"IF(G14=\"\",\"\",VLOOKUP(G14,index_plateau!$A$5:$O$69,2,FALSE))","v":17},54,{"$f":"IF(I14=\"\",\"\",VLOOKUP(I14,index_plateau!$A$5:$O$69,2,FALSE))","v":52},47,{"$f":"IF(K14=\"\",\"\",VLOOKUP(K14,index_plateau!$A$5:$O$69,2,FALSE))","v":16},52,{"$f":"IF(M14=\"\",\"\",VLOOKUP(M14,index_plateau!$A$5:$O$69,2,FALSE))","v":22},59,{"$f":"IF(O14=\"\",\"\",VLOOKUP(O14,index_plateau!$A$5:$O$69,2,FALSE))","v":57},11,{"$f":"IF(Q14=\"\",\"\",VLOOKUP(Q14,index_plateau!$A$5:$O$69,2,FALSE))","v":30},47,{"$f":"IF(S14=\"\",\"\",VLOOKUP(S14,index_plateau!$A$5:$O$69,2,FALSE))","v":16},20,{"$f":"IF(U14=\"\",\"\",VLOOKUP(U14,index_plateau!$A$5:$O$69,2,FALSE))","v":94}]
[{"$f":"preparation_plateau!B15","v":"MORET"},{"$f":"preparation_plateau!C15","v":"Alice"},63,{"$f":"IF(C15=\"\",\"\",VLOOKUP(C15,index_plateau!$A$5:$O$69,2,FALSE))","v":89},60,{"$f":"IF(E15=\"\",\"\",VLOOKUP(E15,index_plateau!$A$5:$O$69,2,FALSE))","v":58},43,{"$f":"IF(G15=\"\",\"\",VLOOKUP(G15,index_plateau!$A$5:$O$69,2,FALSE))","v":92},54,{"$f":"IF(I15=\"\",\"\",VLOOKUP(I15,index_plateau!$A$5:$O$69,2,FALSE))","v":52},25,{"$f":"IF(K15=\"\",\"\",VLOOKUP(K15,index_plateau!$A$5:$O$69,2,FALSE))","v":9},52,{"$f":"IF(M15=\"\",\"\",VLOOKUP(M15,index_plateau!$A$5:$O$69,2,FALSE))","v":22},40,{"$f":"IF(O15=\"\",\"\",VLOOKUP(O15,index_plateau!$A$5:$O$69,2,FALSE))","v":86},51,{"$f":"IF(Q15=\"\",\"\",VLOOKUP(Q15,index_plateau!$A$5:$O$69,2,FALSE))","v":20},25,{"$f":"IF(S15=\"\",\"\",VLOOKUP(S15,index_plateau!$A$5:$O$69,2,FALSE))","v":9},47,{"$f":"IF(U15=\"\",\"\",VLOOKUP(U15,index_plateau!$A$5:$O$69,2,FALSE))","v":16}]
[{"$f":"preparation_plateau!B16","v":"NICAU"},{"$f":"preparation_plateau!C16","v":"Romain"},60,{"$f":"IF(C16=\"\",\"\",VLOOKUP(C16,index_plateau!$A$5:$O$69,2,FALSE))","v":58},11,{"$f":"IF(E16=\"\",\"\",VLOOKUP(E16,index_plateau!$A$5:$O$69,2,FALSE))","v":30},32,{"$f":"IF(G16=\"\",\"\",VLOOKUP(G16,index_plateau!$A$5:$O$69,2,FALSE))","v":24},45,{"$f":"IF(I16=\"\",\"\",VLOOKUP(I16,index_plateau!$A$5:$O$69,2,FALSE))","v":14},54,{"$f":"IF(K16=\"\",\"\",VLOOKUP(K16,index_plateau!$A$5:$O$69,2,FALSE))","v":52},57,{"$f":"IF(M16=\"\",\"\",VLOOKUP(M16,index_plateau!$A$5:$O$69,2,FALSE))","v":55},31,{"$f":"IF(O16=\"\",\"\",VLOOKUP(O16,index_plateau!$A$5:$O$69,2,FALSE))","v":23},58,{"$f":"IF(Q16=\"\",\"\",VLOOKUP(Q16,index_plateau!$A$5:$O$69,2,FALSE))","v":56},29,{"$f":"IF(S16=\"\",\"\",VLOOKUP(S16,index_plateau!$A$5:$O$69,2,FALSE))","v":13},48,{"$f":"IF(U16=\"\",\"\",VLOOKUP(U16,index_plateau!$A$5:$O$69,2,FALSE))","v":17}]
[{"$f":"preparation_plateau!B17","v":"RUI"},{"$f":"preparation_plateau!C17","v":"Desiderio"},55,{"$f":"IF(C17=\"\",\"\",VLOOKUP(C17,index_plateau!$A$5:$O$69,2,FALSE))","v":53},33,{"$f":"IF(E17=\"\",\"\",VLOOKUP(E17,index_plateau!$A$5:$O$69,2,FALSE))","v":59},19,{"$f":"IF(G17=\"\",\"\",VLOOKUP(G17,index_plateau!$A$5:$O$69,2,FALSE))","v":69},54,{"$f":"IF(I17=\"\",\"\",VLOOKUP(I17,index_plateau!$A$5:$O$69,2,FALSE))","v":52},21,{"$f":"IF(K17=\"\",\"\",VLOOKUP(K17,index_plateau!$A$5:$O$69,2,FALSE))","v":95},6,{"$f":"IF(M17=\"\",\"\",VLOOKUP(M17,index_plateau!$A$5:$O$69,2,FALSE))","v":8},19,{"$f":"IF(O17=\"\",\"\",VLOOKUP(O17,index_plateau!$A$5:$O$69,2,FALSE))","v":69},60,{"$f":"IF(Q17=\"\",\"\",VLOOKUP(Q17,index_plateau!$A$5:$O$69,2,FALSE))","v":58},10,{"$f":"IF(S17=\"\",\"\",VLOOKUP(S17,index_plateau!$A$5:$O$69,2,FALSE))","v":29},11,{"$f":"IF(U17=\"\",\"\",VLOOKUP(U17,index_plateau!$A$5:$O$69,2,FALSE))","v":30}]
[{"$f":"preparation_plateau!B18","v":"RI"},{"$f":"preparation_plateau!C18","v":"Niko"},54,{"$f":"IF(C18=\"\",\"\",VLOOKUP(C18,index_plateau!$A$5:$O$69,2,FALSE))","v":52},21,{"$f":"IF(E18=\"\",\"\",VLOOKUP(E18,index_plateau!$A$5:$O$69,2,FALSE))","v":95},57,{"$f":"IF(G18=\"\",\"\",VLOOKUP(G18,index_plateau!$A$5:$O$69,2,FALSE))","v":55},35,{"$f":"IF(I18=\"\",\"\",VLOOKUP(I18,index_plateau!$A$5:$O$69,2,FALSE))","v":62},52,{"$f":"IF(K18=\"\",\"\",VLOOKUP(K18,index_plateau!$A$5:$O$69,2,FALSE))","v":22},45,{"$f":"IF(M18=\"\",\"\",VLOOKUP(M18,index_plateau!$A$5:$O$69,2,FALSE))","v":14},33,{"$f":"IF(O18=\"\",\"\",VLOOKUP(O18,index_plateau!$A$5:$O$69,2,FALSE))","v":59},29,{"$f":"IF(Q18=\"\",\"\",VLOOKUP(Q18,index_plateau!$A$5:$O$69,2,FALSE))","v":13},63,{"$f":"IF(S18=\"\",\"\",VLOOKUP(S18,index_plateau!$A$5:$O$69,2,FALSE))","v":89},6,{"$f":"IF(U18=\"\",\"\",VLOOKUP(U18,index_plateau!$A$5:$O$69,2,FALSE))","v":8}]
[{"$f":"preparation_plateau!B19","v":"SAL"},{"$f":"preparation_plateau!C19","v":"Calvin"},54,{"$f":"IF(C19=\"\",\"\",VLOOKUP(C19,index_plateau!$A$5:$O$69,2,FALSE))","v":52},44,{"$f":"IF(E19=\"\",\"\",VLOOKUP(E19,index_plateau!$A$5:$O$69,2,FALSE))","v":93},24,{"$f":"IF(G19=\"\",\"\",VLOOKUP(G19,index_plateau!$A$5:$O$69,2,FALSE))","v":7},3,{"$f":"IF(I19=\"\",\"\",VLOOKUP(I19,index_plateau!$A$5:$O$69,2,FALSE))","v":3},6,{"$f":"IF(K19=\"\",\"\",VLOOKUP(K19,index_plateau!$A$5:$O$69,2,FALSE))","v":8},31,{"$f":"IF(M19=\"\",\"\",VLOOKUP(M19,index_plateau!$A$5:$O$69,2,FALSE))","v":23},63,{"$f":"IF(O19=\"\",\"\",VLOOKUP(O19,index_plateau!$A$5:$O$69,2,FALSE))","v":89},44,{"$f":"IF(Q19=\"\",\"\",VLOOKUP(Q19,index_plateau!$A$5:$O$69,2,FALSE))","v":93},58,{"$f":"IF(S19=\"\",\"\",VLOOKUP(S19,index_plateau!$A$5:$O$69,2,FALSE))","v":56},49,{"$f":"IF(U19=\"\",\"\",VLOOKUP(U19,index_plateau!$A$5:$O$69,2,FALSE))","v":18}]
[{"$f":"preparation_plateau!B20","v":"SIOUI"},{"$f":"preparation_plateau!C20","v":"Salah"},65,{"$f":"IF(C20=\"\",\"\",VLOOKUP(C20,index_plateau!$A$5:$O$69,2,FALSE))","v":91},34,{"$f":"IF(E20=\"\",\"\",VLOOKUP(E20,index_plateau!$A$5:$O$69,2,FALSE))","v":61},11,{"$f":"IF(G20=\"\",\"\",VLOOKUP(G20,index_plateau!$A$5:$O$69,2,FALSE))","v":30},24,{"$f":"IF(I20=\"\",\"\",VLOOKUP(I20,index_plateau!$A$5:$O$69,2,FALSE))","v":7},44,{"$f":"IF(K20=\"\",\"\",VLOOKUP(K20,index_plateau!$A$5:$O$69,2,FALSE))","v":93},12,{"$f":"IF(M20=\"\",\"\",VLOOKUP(M20,index_plateau!$A$5:$O$69,2,FALSE))","v":31},46,{"$f":"IF(O20=\"\",\"\",VLOOKUP(O20,index_plateau!$A$5:$O$69,2,FALSE))","v":15},41,{"$f":"IF(Q20=\"\",\"\",VLOOKUP(Q20,index_plateau!$A$5:$O$69,2,FALSE))","v":87},32,{"$f":"IF(S20=\"\",\"\",VLOOKUP(S20,index_plateau!$A$5:$O$69,2,FALSE))","v":24},42,{"$f":"IF(U20=\"\",\"\",VLOOKUP(U20,index_plateau!$A$5:$O$69,2,FALSE))","v":88}]
[{"$f":"preparation_plateau!B21","v":"TADEVA"},{"$f":"preparation_plateau!C21","v":"Khatmat"},8,{"$f":"IF(C21=\"\",\"\",VLOOKUP(C21,index_plateau!$A$5:$O$69,2,FALSE))","v":27},24,{"$f":"IF(E21=\"\",\"\",VLOOKUP(E21,index_plateau!$A$5:$O$69,2,FALSE))","v":7},6,{"$f":"IF(G21=\"\",\"\",VLOOKUP(G21,index_plateau!$A$5:$O$69,2,FALSE))","v":8},23,{"$f":"IF(I21=\"\",\"\",VLOOKUP(I21,index_plateau!$A$5:$O$69,2,FALSE))","v":6},34,{"$f":"IF(K21=\"\",\"\",VLOOKUP(K21,index_plateau!$A$5:$O$69,2,FALSE))","v":61},64,{"$f":"IF(M21=\"\",\"\",VLOOKUP(M21,index_plateau!$A$5:$O$69,2,FALSE))","v":90},38,{"$f":"IF(O21=\"\",\"\",VLOOKUP(O21,index_plateau!$A$5:$O$69,2,FALSE))","v":83},22,{"$f":"IF(Q21=\"\",\"\",VLOOKUP(Q21,index_plateau!$A$5:$O$69,2,FALSE))","v":96},10,{"$f":"IF(S21=\"\",\"\",VLOOKUP(S21,index_plateau!$A$5:$O$69,2,FALSE))","v":29},38,{"$f":"IF(U21=\"\",\"\",VLOOKUP(U21,index_plateau!$A$5:$O$69,2,FALSE))","v":83}]
[{"$f":"preparation_plateau!B22","v":"TEEC"},{"$f":"preparation_plateau!C22","v":"Victor"},61,{"$f":"IF(C22=\"\",\"\",VLOOKUP(C22,index_plateau!$A$5:$O$69,2,FALSE))","v":60},48,{"$f":"IF(E22=\"\",\"\",VLOOKUP(E22,index_plateau!$A$5:$O$69,2,FALSE))","v":17},40,{"$f":"IF(G22=\"\",\"\",VLOOKUP(G22,index_plateau!$A$5:$O$69,2,FALSE))","v":86},41,{"$f":"IF(I22=\"\",\"\",VLOOKUP(I22,index_plateau!$A$5:$O$69,2,FALSE))","v":87},55,{"$f":"IF(K22=\"\",\"\",VLOOKUP(K22,index_plateau!$A$5:$O$69,2,FALSE))","v":53},39,{"$f":"IF(M22=\"\",\"\",VLOOKUP(M22,index_plateau!$A$5:$O$69,2,FALSE))","v":84},58,{"$f":"IF(O22=\"\",\"\",VLOOKUP(O22,index_plateau!$A$5:$O$69,2,FALSE))","v":56},{"$f":"IF($A22=\"\",\"\",IF($A$40=\"PROCHES\",RANDBETWEEN(1,22),IF($A$40=\"MEDIANES\",RANDBETWEEN(23,44),IF($A$40=\"LOINTAINES\",RANDBETWEEN(45,65),IF($A$40=\"PROCHES+MEDIANES\",RANDBETWEEN(1,44),IF($A$40=\"MEDIANES+LOINTAINES\",RANDBETWEEN(23,65),IF($A$40=\"TOUTES\",RANDBETWEEN(1,65))))))))","v":37},{"$f":"IF(Q22=\"\",\"\",VLOOKUP(Q22,index_plateau!$A$5:$O$69,2,FALSE))","v":70},50,{"$f":"IF(S22=\"\",\"\",VLOOKUP(S22,index_plateau!$A$5:$O$69,2,FALSE))","v":19},48,{"$f":"IF(U22=\"\",\"\",VLOOKUP(U22,index_plateau!$A$5:$O$69,2,FALSE))","v":17}]
[{"$f":"preparation_plateau!B23","v":"TEJOR"},{"$f":"preparation_plateau!C23","v":"Carla"},1,{"$f":"IF(C23=\"\",\"\",VLOOKUP(C23,index_plateau!$A$5:$O$69,2,FALSE))","v":1},27,{"$f":"IF(E23=\"\",\"\",VLOOKUP(E23,index_plateau!$A$5:$O$69,2,FALSE))","v":11},27,{"$f":"IF(G23=\"\",\"\",VLOOKUP(G23,index_plateau!$A$5:$O$69,2,FALSE))","v":11},20,{"$f":"IF(I23=\"\",\"\",VLOOKUP(I23,index_plateau!$A$5:$O$69,2,FALSE))","v":94},1,{"$f":"IF(K23=\"\",\"\",VLOOKUP(K23,index_plateau!$A$5:$O$69,2,FALSE))","v":1},49,{"$f":"IF(M23=\"\",\"\",VLOOKUP(M23,index_plateau!$A$5:$O$69,2,FALSE))","v":18},34,{"$f":"IF(O23=\"\",\"\",VLOOKUP(O23,index_plateau!$A$5:$O$69,2,FALSE))","v":61},58,{"$f":"IF(Q23=\"\",\"\",VLOOKUP(Q23,index_plateau!$A$5:$O$69,2,FALSE))","v":56},59,{"$f":"IF(S23=\"\",\"\",VLOOKUP(S23,index_plateau!$A$5:$O$69,2,FALSE))","v":57},55,{"$f":"IF(U23=\"\",\"\",VLOOKUP(U23,index_plateau!$A$5:$O$69,2,FALSE))","v":53}]
[{"$f":"preparation_plateau!B24","v":"THIER"},{"$f":"preparation_plateau!C24","v":"Andrea"},14,{"$f":"IF(C24=\"\",\"\",VLOOKUP(C24,index_plateau!$A$5:$O$69,2,FALSE))","v":64},10,{"$f":"IF(E24=\"\",\"\",VLOOKUP(E24,index_plateau!$A$5:$O$69,2,FALSE))","v":29},8,{"$f":"IF(G24=\"\",\"\",VLOOKUP(G24,index_plateau!$A$5:$O$69,2,FALSE))","v":27},25,{"$f":"IF(I24=\"\",\"\",VLOOKUP(I24,index_plateau!$A$5:$O$69,2,FALSE))","v":9},50,{"$f":"IF(K24=\"\",\"\",VLOOKUP(K24,index_plateau!$A$5:$O$69,2,FALSE))","v":19},53,{"$f":"IF(M24=\"\",\"\",VLOOKUP(M24,index_plateau!$A$5:$O$69,2,FALSE))","v":26},52,{"$f":"IF(O24=\"\",\"\",VLOOKUP(O24,index_plateau!$A$5:$O$69,2,FALSE))","v":22},34,{"$f":"IF(Q24=\"\",\"\",VLOOKUP(Q24,index_plateau!$A$5:$O$69,2,FALSE))","v":61},39,{"$f":"IF(S24=\"\",\"\",VLOOKUP(S24,index_plateau!$A$5:$O$69,2,FALSE))","v":84},14,{"$f":"IF(U24=\"\",\"\",VLOOKUP(U24,index_plateau!$A$5:$O$69,2,FALSE))","v":64}]
[{"$f":"preparation_plateau!B25","v":"YI"},{"$f":"preparation_plateau!C25","v":"William"},52,{"$f":"IF(C25=\"\",\"\",VLOOKUP(C25,index_plateau!$A$5:$O$69,2,FALSE))","v":22},1,{"$f":"IF(E25=\"\",\"\",VLOOKUP(E25,index_plateau!$A$5:$O$69,2,FALSE))","v":1},64,{"$f":"IF(G25=\"\",\"\",VLOOKUP(G25,index_plateau!$A$5:$O$69,2,FALSE))","v":90},36,{"$f":"IF(I25=\"\",\"\",VLOOKUP(I25,index_plateau!$A$5:$O$69,2,FALSE))","v":63},59,{"$f":"IF(K25=\"\",\"\",VLOOKUP(K25,index_plateau!$A$5:$O$69,2,FALSE))","v":57},27,{"$f":"IF(M25=\"\",\"\",VLOOKUP(M25,index_plateau!$A$5:$O$69,2,FALSE))","v":11},54,{"$f":"IF(O25=\"\",\"\",VLOOKUP(O25,index_plateau!$A$5:$O$69,2,FALSE))","v":52},51,{"$f":"IF(Q25=\"\",\"\",VLOOKUP(Q25,index_plateau!$A$5:$O$69,2,FALSE))","v":20},35,{"$f":"IF(S25=\"\",\"\",VLOOKUP(S25,index_plateau!$A$5:$O$69,2,FALSE))","v":62},55,{"$f":"IF(U25=\"\",\"\",VLOOKUP(U25,index_plateau!$A$5:$O$69,2,FALSE))","v":53}]
[{"$f":"preparation_plateau!B26","v":""},{"$f":"preparation_plateau!C26","v":""},"",{"$f":"IF(C26=\"\",\"\",VLOOKUP(C26,index_plateau!$A$5:$O$69,2,FALSE))","v":""},"",{"$f":"IF(E26=\"\",\"\",VLOOKUP(E26,index_plateau!$A$5:$O$69,2,FALSE))","v":""},"",{"$f":"IF(G26=\"\",\"\",VLOOKUP(G26,index_plateau!$A$5:$O$69,2,FALSE))","v":""},"",{"$f":"IF(I26=\"\",\"\",VLOOKUP(I26,index_plateau!$A$5:$O$69,2,FALSE))","v":""},"",{"$f":"IF(K26=\"\",\"\",VLOOKUP(K26,index_plateau!$A$5:$O$69,2,FALSE))","v":""},"",{"$f":"IF(M26=\"\",\"\",VLOOKUP(M26,index_plateau!$A$5:$O$69,2,FALSE))","v":""},"",{"$f":"IF(O26=\"\",\"\",VLOOKUP(O26,index_plateau!$A$5:$O$69,2,FALSE))","v":""},"",{"$f":"IF(Q26=\"\",\"\",VLOOKUP(Q26,index_plateau!$A$5:$O$69,2,FALSE))","v":""},"",{"$f":"IF(S26=\"\",\"\",VLOOKUP(S26,index_plateau!$A$5:$O$69,2,FALSE))","v":""},"",{"$f":"IF(U26=\"\",\"\",VLOOKUP(U26,index_plateau!$A$5:$O$69,2,FALSE))","v":""}]
[{"$f":"preparation_plateau!B27","v":""},{"$f":"preparation_plateau!C27","v":""},"",{"$f":"IF(C27=\"\",\"\",VLOOKUP(C27,index_plateau!$A$5:$O$69,2,FALSE))","v":""},"",{"$f":"IF(E27=\"\",\"\",VLOOKUP(E27,index_plateau!$A$5:$O$69,2,FALSE))","v":""},"",{"$f":"IF(G27=\"\",\"\",VLOOKUP(G27,index_plateau!$A$5:$O$69,2,FALSE))","v":""},"",{"$f":"IF(I27=\"\",\"\",VLOOKUP(I27,index_plateau!$A$5:$O$69,2,FALSE))","v":""},"",{"$f":"IF(K27=\"\",\"\",VLOOKUP(K27,index_plateau!$A$5:$O$69,2,FALSE))","v":""},"",{"$f":"IF(M27=\"\",\"\",VLOOKUP(M27,index_plateau!$A$5:$O$69,2,FALSE))","v":""},"",{"$f":"IF(O27=\"\",\"\",VLOOKUP(O27,index_plateau!$A$5:$O$69,2,FALSE))","v":""},"",{"$f":"IF(Q27=\"\",\"\",VLOOKUP(Q27,index_plateau!$A$5:$O$69,2,FALSE))","v":""},"",{"$f":"IF(S27=\"\",\"\",VLOOKUP(S27,index_plateau!$A$5:$O$69,2,FALSE))","v":""},"",{"$f":"IF(U27=\"\",\"\",VLOOKUP(U27,index_plateau!$A$5:$O$69,2,FALSE))","v":""}]
[{"$f":"preparation_plateau!B28","v":""},{"$f":"preparation_plateau!C28","v":""},"",{"$f":"IF(C28=\"\",\"\",VLOOKUP(C28,index_plateau!$A$5:$O$69,2,FALSE))","v":""},"",{"$f":"IF(E28=\"\",\"\",VLOOKUP(E28,index_plateau!$A$5:$O$69,2,FALSE))","v":""},"",{"$f":"IF(G28=\"\",\"\",VLOOKUP(G28,index_plateau!$A$5:$O$69,2,FALSE))","v":""},"",{"$f":"IF(I28=\"\",\"\",VLOOKUP(I28,index_plateau!$A$5:$O$69,2,FALSE))","v":""},"",{"$f":"IF(K28=\"\",\"\",VLOOKUP(K28,index_plateau!$A$5:$O$69,2,FALSE))","v":""},"",{"$f":"IF(M28=\"\",\"\",VLOOKUP(M28,index_plateau!$A$5:$O$69,2,FALSE))","v":""},"",{"$f":"IF(O28=\"\",\"\",VLOOKUP(O28,index_plateau!$A$5:$O$69,2,FALSE))","v":""},"",{"$f":"IF(Q28=\"\",\"\",VLOOKUP(Q28,index_plateau!$A$5:$O$69,2,FALSE))","v":""},"",{"$f":"IF(S28=\"\",\"\",VLOOKUP(S28,index_plateau!$A$5:$O$69,2,FALSE))","v":""},"",{"$f":"IF(U28=\"\",\"\",VLOOKUP(U28,index_plateau!$A$5:$O$69,2,FALSE))","v":""}]
[{"$f":"preparation_plateau!B29","v":""},{"$f":"preparation_plateau!C29","v":""},"",{"$f":"IF(C29=\"\",\"\",VLOOKUP(C29,index_plateau!$A$5:$O$69,2,FALSE))","v":""},"",{"$f":"IF(E29=\"\",\"\",VLOOKUP(E29,index_plateau!$A$5:$O$69,2,FALSE))","v":""},"",{"$f":"IF(G29=\"\",\"\",VLOOKUP(G29,index_plateau!$A$5:$O$69,2,FALSE))","v":""},"",{"$f":"IF(I29=\"\",\"\",VLOOKUP(I29,index_plateau!$A$5:$O$69,2,FALSE))","v":""},"",{"$f":"IF(K29=\"\",\"\",VLOOKUP(K29,index_plateau!$A$5:$O$69,2,FALSE))","v":""},"",{"$f":"IF(M29=\"\",\"\",VLOOKUP(M29,index_plateau!$A$5:$O$69,2,FALSE))","v":""},"",{"$f":"IF(O29=\"\",\"\",VLOOKUP(O29,index_plateau!$A$5:$O$69,2,FALSE))","v":""},"",{"$f":"IF(Q29=\"\",\"\",VLOOKUP(Q29,index_plateau!$A$5:$O$69,2,FALSE))","v":""},"",{"$f":"IF(S29=\"\",\"\",VLOOKUP(S29,index_plateau!$A$5:$O$69,2,FALSE))","v":""},"",{"$f":"IF(U29=\"\",\"\",VLOOKUP(U29,index_plateau!$A$5:$O$69,2,FALSE))","v":""}]
[{"$f":"preparation_plateau!B30","v":""},{"$f":"preparation_plateau!C30","v":""},"",{"$f":"IF(C30=\"\",\"\",VLOOKUP(C30,index_plateau!$A$5:$O$69,2,FALSE))","v":""},"",{"$f":"IF(E30=\"\",\"\",VLOOKUP(E30,index_plateau!$A$5:$O$69,2,FALSE))","v":""},"",{"$f":"IF(G30=\"\",\"\",VLOOKUP(G30,index_plateau!$A$5:$O$69,2,FALSE))","v":""},"",{"$f":"IF(I30=\"\",\"\",VLOOKUP(I30,index_plateau!$A$5:$O$69,2,FALSE))","v":""},"",{"$f":"IF(K30=\"\",\"\",VLOOKUP(K30,index_plateau!$A$5:$O$69,2,FALSE))","v":""},"",{"$f":"IF(M30=\"\",\"\",VLOOKUP(M30,index_plateau!$A$5:$O$69,2,FALSE))","v":""},"",{"$f":"IF(O30=\"\",\"\",VLOOKUP(O30,index_plateau!$A$5:$O$69,2,FALSE))","v":""},"",{"$f":"IF(Q30=\"\",\"\",VLOOKUP(Q30,index_plateau!$A$5:$O$69,2,FALSE))","v":""},"",{"$f":"IF(S30=\"\",\"\",VLOOKUP(S30,index_plateau!$A$5:$O$69,2,FALSE))","v":""},"",{"$f":"IF(U30=\"\",\"\",VLOOKUP(U30,index_plateau!$A$5:$O$69,2,FALSE))","v":""}]
[{"$f":"preparation_plateau!B31","v":""},{"$f":"preparation_plateau!C31","v":""},"",{"$f":"IF(C31=\"\",\"\",VLOOKUP(C31,index_plateau!$A$5:$O$69,2,FALSE))","v":""},"",{"$f":"IF(E31=\"\",\"\",VLOOKUP(E31,index_plateau!$A$5:$O$69,2,FALSE))","v":""},"",{"$f":"IF(G31=\"\",\"\",VLOOKUP(G31,index_plateau!$A$5:$O$69,2,FALSE))","v":""},"",{"$f":"IF(I31=\"\",\"\",VLOOKUP(I31,index_plateau!$A$5:$O$69,2,FALSE))","v":""},"",{"$f":"IF(K31=\"\",\"\",VLOOKUP(K31,index_plateau!$A$5:$O$69,2,FALSE))","v":""},"",{"$f":"IF(M31=\"\",\"\",VLOOKUP(M31,index_plateau!$A$5:$O$69,2,FALSE))","v":""},"",{"$f":"IF(O31=\"\",\"\",VLOOKUP(O31,index_plateau!$A$5:$O$69,2,FALSE))","v":""},"",{"$f":"IF(Q31=\"\",\"\",VLOOKUP(Q31,index_plateau!$A$5:$O$69,2,FALSE))","v":""},"",{"$f":"IF(S31=\"\",\"\",VLOOKUP(S31,index_plateau!$A$5:$O$69,2,FALSE))","v":""},"",{"$f":"IF(U31=\"\",\"\",VLOOKUP(U31,index_plateau!$A$5:$O$69,2,FALSE))","v":""}]
[{"$f":"preparation_plateau!B32","v":""},{"$f":"preparation_plateau!C32","v":""},"",{"$f":"IF(C32=\"\",\"\",VLOOKUP(C32,index_plateau!$A$5:$O$69,2,FALSE))","v":""},"",{"$f":"IF(E32=\"\",\"\",VLOOKUP(E32,index_plateau!$A$5:$O$69,2,FALSE))","v":""},"",{"$f":"IF(G32=\"\",\"\",VLOOKUP(G32,index_plateau!$A$5:$O$69,2,FALSE))","v":""},"",{"$f":"IF(I32=\"\",\"\",VLOOKUP(I32,index_plateau!$A$5:$O$69,2,FALSE))","v":""},"",{"$f":"IF(K32=\"\",\"\",VLOOKUP(K32,index_plateau!$A$5:$O$69,2,FALSE))","v":""},"",{"$f":"IF(M32=\"\",\"\",VLOOKUP(M32,index_plateau!$A$5:$O$69,2,FALSE))","v":""},"",{"$f":"IF(O32=\"\",\"\",VLOOKUP(O32,index_plateau!$A$5:$O$69,2,FALSE))","v":""},"",{"$f":"IF(Q32=\"\",\"\",VLOOKUP(Q32,index_plateau!$A$5:$O$69,2,FALSE))","v":""},"",{"$f":"IF(S32=\"\",\"\",VLOOKUP(S32,index_plateau!$A$5:$O$69,2,FALSE))","v":""},"",{"$f":"IF(U32=\"\",\"\",VLOOKUP(U32,index_plateau!$A$5:$O$69,2,FALSE))","v":""}]
[{"$f":"preparation_plateau!B33","v":""},{"$f":"preparation_plateau!C33","v":""},"",{"$f":"IF(C33=\"\",\"\",VLOOKUP(C33,index_plateau!$A$5:$O$69,2,FALSE))","v":""},"",{"$f":"IF(E33=\"\",\"\",VLOOKUP(E33,index_plateau!$A$5:$O$69,2,FALSE))","v":""},"",{"$f":"IF(G33=\"\",\"\",VLOOKUP(G33,index_plateau!$A$5:$O$69,2,FALSE))","v":""},"",{"$f":"IF(I33=\"\",\"\",VLOOKUP(I33,index_plateau!$A$5:$O$69,2,FALSE))","v":""},"",{"$f":"IF(K33=\"\",\"\",VLOOKUP(K33,index_plateau!$A$5:$O$69,2,FALSE))","v":""},"",{"$f":"IF(M33=\"\",\"\",VLOOKUP(M33,index_plateau!$A$5:$O$69,2,FALSE))","v":""},"",{"$f":"IF(O33=\"\",\"\",VLOOKUP(O33,index_plateau!$A$5:$O$69,2,FALSE))","v":""},"",{"$f":"IF(Q33=\"\",\"\",VLOOKUP(Q33,index_plateau!$A$5:$O$69,2,FALSE))","v":""},"",{"$f":"IF(S33=\"\",\"\",VLOOKUP(S33,index_plateau!$A$5:$O$69,2,FALSE))","v":""},"",{"$f":"IF(U33=\"\",\"\",VLOOKUP(U33,index_plateau!$A$5:$O$69,2,FALSE))","v":""}]
[{"$f":"preparation_plateau!B34","v":""},{"$f":"preparation_plateau!C34","v":""},"",{"$f":"IF(C34=\"\",\"\",VLOOKUP(C34,index_plateau!$A$5:$O$69,2,FALSE))","v":""},"",{"$f":"IF(E34=\"\",\"\",VLOOKUP(E34,index_plateau!$A$5:$O$69,2,FALSE))","v":""},"",{"$f":"IF(G34=\"\",\"\",VLOOKUP(G34,index_plateau!$A$5:$O$69,2,FALSE))","v":""},"",{"$f":"IF(I34=\"\",\"\",VLOOKUP(I34,index_plateau!$A$5:$O$69,2,FALSE))","v":""},"",{"$f":"IF(K34=\"\",\"\",VLOOKUP(K34,index_plateau!$A$5:$O$69,2,FALSE))","v":""},"",{"$f":"IF(M34=\"\",\"\",VLOOKUP(M34,index_plateau!$A$5:$O$69,2,FALSE))","v":""},"",{"$f":"IF(O34=\"\",\"\",VLOOKUP(O34,index_plateau!$A$5:$O$69,2,FALSE))","v":""},"",{"$f":"IF(Q34=\"\",\"\",VLOOKUP(Q34,index_plateau!$A$5:$O$69,2,FALSE))","v":""},"",{"$f":"IF(S34=\"\",\"\",VLOOKUP(S34,index_plateau!$A$5:$O$69,2,FALSE))","v":""},"",{"$f":"IF(U34=\"\",\"\",VLOOKUP(U34,index_plateau!$A$5:$O$69,2,FALSE))","v":""}]
[{"$f":"preparation_plateau!B35","v":""},{"$f":"preparation_plateau!C35","v":""},"",{"$f":"IF(C35=\"\",\"\",VLOOKUP(C35,index_plateau!$A$5:$O$69,2,FALSE))","v":""},"",{"$f":"IF(E35=\"\",\"\",VLOOKUP(E35,index_plateau!$A$5:$O$69,2,FALSE))","v":""},"",{"$f":"IF(G35=\"\",\"\",VLOOKUP(G35,index_plateau!$A$5:$O$69,2,FALSE))","v":""},"",{"$f":"IF(I35=\"\",\"\",VLOOKUP(I35,index_plateau!$A$5:$O$69,2,FALSE))","v":""},"",{"$f":"IF(K35=\"\",\"\",VLOOKUP(K35,index_plateau!$A$5:$O$69,2,FALSE))","v":""},"",{"$f":"IF(M35=\"\",\"\",VLOOKUP(M35,index_plateau!$A$5:$O$69,2,FALSE))","v":""},"",{"$f":"IF(O35=\"\",\"\",VLOOKUP(O35,index_plateau!$A$5:$O$69,2,FALSE))","v":""},"",{"$f":"IF(Q35=\"\",\"\",VLOOKUP(Q35,index_plateau!$A$5:$O$69,2,FALSE))","v":""},"",{"$f":"IF(S35=\"\",\"\",VLOOKUP(S35,index_plateau!$A$5:$O$69,2,FALSE))","v":""},"",{"$f":"IF(U35=\"\",\"\",VLOOKUP(U35,index_plateau!$A$5:$O$69,2,FALSE))","v":""}]
[{"$f":"preparation_plateau!B36","v":""},{"$f":"preparation_plateau!C36","v":""},"",{"$f":"IF(C36=\"\",\"\",VLOOKUP(C36,index_plateau!$A$5:$O$69,2,FALSE))","v":""},"",{"$f":"IF(E36=\"\",\"\",VLOOKUP(E36,index_plateau!$A$5:$O$69,2,FALSE))","v":""},"",{"$f":"IF(G36=\"\",\"\",VLOOKUP(G36,index_plateau!$A$5:$O$69,2,FALSE))","v":""},"",{"$f":"IF(I36=\"\",\"\",VLOOKUP(I36,index_plateau!$A$5:$O$69,2,FALSE))","v":""},"",{"$f":"IF(K36=\"\",\"\",VLOOKUP(K36,index_plateau!$A$5:$O$69,2,FALSE))","v":""},"",{"$f":"IF(M36=\"\",\"\",VLOOKUP(M36,index_plateau!$A$5:$O$69,2,FALSE))","v":""},"",{"$f":"IF(O36=\"\",\"\",VLOOKUP(O36,index_plateau!$A$5:$O$69,2,FALSE))","v":""},"",{"$f":"IF(Q36=\"\",\"\",VLOOKUP(Q36,index_plateau!$A$5:$O$69,2,FALSE))","v":""},"",{"$f":"IF(S36=\"\",\"\",VLOOKUP(S36,index_plateau!$A$5:$O$69,2,FALSE))","v":""},"",{"$f":"IF(U36=\"\",\"\",VLOOKUP(U36,index_plateau!$A$5:$O$69,2,FALSE))","v":""}]
[{"$f":"preparation_plateau!B37","v":""},{"$f":"preparation_plateau!C37","v":""},"",{"$f":"IF(C37=\"\",\"\",VLOOKUP(C37,index_plateau!$A$5:$O$69,2,FALSE))","v":""},"",{"$f":"IF(E37=\"\",\"\",VLOOKUP(E37,index_plateau!$A$5:$O$69,2,FALSE))","v":""},"",{"$f":"IF(G37=\"\",\"\",VLOOKUP(G37,index_plateau!$A$5:$O$69,2,FALSE))","v":""},"",{"$f":"IF(I37=\"\",\"\",VLOOKUP(I37,index_plateau!$A$5:$O$69,2,FALSE))","v":""},"",{"$f":"IF(K37=\"\",\"\",VLOOKUP(K37,index_plateau!$A$5:$O$69,2,FALSE))","v":""},"",{"$f":"IF(M37=\"\",\"\",VLOOKUP(M37,index_plateau!$A$5:$O$69,2,FALSE))","v":""},"",{"$f":"IF(O37=\"\",\"\",VLOOKUP(O37,index_plateau!$A$5:$O$69,2,FALSE))","v":""},"",{"$f":"IF(Q37=\"\",\"\",VLOOKUP(Q37,index_plateau!$A$5:$O$69,2,FALSE))","v":""},"",{"$f":"IF(S37=\"\",\"\",VLOOKUP(S37,index_plateau!$A$5:$O$69,2,FALSE))","v":""},"",{"$f":"IF(U37=\"\",\"\",VLOOKUP(U37,index_plateau!$A$5:$O$69,2,FALSE))","v":""}]
[{"$f":"preparation_plateau!B38","v":""},{"$f":"preparation_plateau!C38","v":""},"",{"$f":"IF(C38=\"\",\"\",VLOOKUP(C38,index_plateau!$A$5:$O$69,2,FALSE))","v":""},"",{"$f":"IF(E38=\"\",\"\",VLOOKUP(E38,index_plateau!$A$5:$O$69,2,FALSE))","v":""},"",{"$f":"IF(G38=\"\",\"\",VLOOKUP(G38,index_plateau!$A$5:$O$69,2,FALSE))","v":""},"",{"$f":"IF(I38=\"\",\"\",VLOOKUP(I38,index_plateau!$A$5:$O$69,2,FALSE))","v":""},"",{"$f":"IF(K38=\"\",\"\",VLOOKUP(K38,index_plateau!$A$5:$O$69,2,FALSE))","v":""},"",{"$f":"IF(M38=\"\",\"\",VLOOKUP(M38,index_plateau!$A$5:$O$69,2,FALSE))","v":""},"",{"$f":"IF(O38=\"\",\"\",VLOOKUP(O38,index_plateau!$A$5:$O$69,2,FALSE))","v":""},"",{"$f":"IF(Q38=\"\",\"\",VLOOKUP(Q38,index_plateau!$A$5:$O$69,2,FALSE))","v":""},"",{"$f":"IF(S38=\"\",\"\",VLOOKUP(S38,index_plateau!$A$5:$O$69,2,FALSE))","v":""},"",{"$f":"IF(U38=\"\",\"\",VLOOKUP(U38,index_plateau!$A$5:$O$69,2,FALSE))","v":""}]
["CHOIX DES BALISES"]
["TOUTES","<<<<<<<<<<"]

{"sheet":"preparation_plateau","index":7,"n_rows":38,"n_cols":39,"rows_kept":38,"cut":false,"hidden":false,"merged":[]}
[null,"PLATEAU",null,null,null,"Cellule \"N° CARTE\" prioritaire par rapport à la colonne \"N° CARTE\" (si cellule \"C2\"vide alors la colonne est prise en compte).","Cellule \"N° CARTE\" prioritaire par rapport à la colonne \"N° CARTE\" (si cellule \"C2\"vide alors la colonne est prise en compte).",null,null,null,null,null,null,null,null,null,null,null,null,null,null,null,null,null,null,null,null,null,null,null,null,null,null,null,null,null,null,0]
[null,"N° CARTE  ",null,null,null,"Combien de code(s) sur chaque coupon ?",null,null,null,null,null,5,null,"SEANCE N° :",null,3,null,null,"DATE :","2011-03-04",null,null,null,null,null,null,null,null,null,null,null,null,null,null,null,null,null,1]
[null,"NOM","PRENOM","N° CARTE","N° CARTE","N° BALISE 1","CODE 1","Solution 1","N° BALISE 2","CODE 2","Solution 2","N° BALISE 3","CODE 3","Solution 3","N° BALISE 4","CODE 4","Solution 4","N° BALISE 5","CODE 5","Solution 5","N° BALISE 6","CODE 6","Solution 6","N° BALISE 7","CODE 7","Solution 7","N° BALISE 8","CODE 8","Solution 8","N° BALISE 9","CODE 9","Solution 9","N° BALISE 10","CODE 10","Solution 10",null,null,2]
[1,{"$f":"IF(index_classe!F3=\"\",\"\",IF(index_classe!$K$1=\"NON\",index_classe!F3,\"Groupe 1\"))","v":"BENZ"},{"$f":"IF(index_classe!G3=\"\",\"\",IF(index_classe!$K$1=\"NON\",index_classe!G3,\">>>>>\"))","v":"Nawel"},{"$f":"IF($C$2<>\"\",$C$2,E4)","v":1},1,62,{"$f":"IF(F4=\"\",\"\",IF($C$2<>\"\",VLOOKUP(F4,index_plateau!$B$5:$O$69,$C$2+2,FALSE),VLOOKUP(F4,index_plateau!$B$5:$O$69,$D4+2,FALSE)))","v":"AM"},{"$f":"IF(G4=\"\",\"\",VLOOKUP(F4,index_plateau!$B$5:$O$69,2,FALSE))","v":4945},84,{"$f":"IF(I4=\"\",\"\",IF($C$2<>\"\",VLOOKUP(I4,index_plateau!$B$5:$O$69,$C$2+2,FALSE),VLOOKUP(I4,index_plateau!$B$5:$O$69,$D4+2,FALSE)))","v":"CBL"},{"$f":"IF(J4=\"\",\"\",VLOOKUP(I4,index_plateau!$B$5:$O$69,2,FALSE))","v":4313},84,{"$f":"IF(L4=\"\",\"\",IF($C$2<>\"\",VLOOKUP(L4,index_plateau!$B$5:$O$69,$C$2+2,FALSE),VLOOKUP(L4,index_plateau!$B$5:$O$69,$D4+2,FALSE)))","v":"CBL"},{"$f":"IF(M4=\"\",\"\",VLOOKUP(L4,index_plateau!$B$5:$O$69,2,FALSE))","v":4313},9,{"$f":"IF(O4=\"\",\"\",IF($C$2<>\"\",VLOOKUP(O4,index_plateau!$B$5:$O$69,$C$2+2,FALSE),VLOOKUP(O4,index_plateau!$B$5:$O$69,$D4+2,FALSE)))","v":"BAK"},{"$f":"IF(P4=\"\",\"\",VLOOKUP(O4,index_plateau!$B$5:$O$69,2,FALSE))","v":6525},87,{"$f":"IF(R4=\"\",\"\",IF($C$2<>\"\",VLOOKUP(R4,index_plateau!$B$5:$O$69,$C$2+2,FALSE),VLOOKUP(R4,index_plateau!$B$5:$O$69,$D4+2,FALSE)))","v":"CBO"},{"$f":"IF(S4=\"\",\"\",VLOOKUP(R4,index_plateau!$B$5:$O$69,2,FALSE))","v":3997},62,{"$f":"IF(U4=\"\",\"\",IF($C$2<>\"\",VLOOKUP(U4,index_plateau!$B$5:$O$69,$C$2+2,FALSE),VLOOKUP(U4,index_plateau!$B$5:$O$69,$D4+2,FALSE)))","v":"AM"},{"$f":"IF(V4=\"\",\"\",VLOOKUP(U4,index_plateau!$B$5:$O$69,2,FALSE))","v":4945},30,{"$f":"IF(X4=\"\",\"\",IF($C$2<>\"\",VLOOKUP(X4,index_plateau!$B$5:$O$69,$C$2+2,FALSE),VLOOKUP(X4,index_plateau!$B$5:$O$69,$D4+2,FALSE)))","v":"CBI"},{"$f":"IF(Y4=\"\",\"\",VLOOKUP(X4,index_plateau!$B$5:$O$69,2,FALSE))","v":5878},83,{"$f":"IF(AA4=\"\",\"\",IF($C$2<>\"\",VLOOKUP(AA4,index_plateau!$B$5:$O$69,$C$2+2,FALSE),VLOOKUP(AA4,index_plateau!$B$5:$O$69,$D4+2,FALSE)))","v":"BJ"},{"$f":"IF(AB4=\"\",\"\",VLOOKUP(AA4,index_plateau!$B$5:$O$69,2,FALSE))","v":4471},66,{"$f":"IF(AD4=\"\",\"\",IF($C$2<>\"\",VLOOKUP(AD4,index_plateau!$B$5:$O$69,$C$2+2,FALSE),VLOOKUP(AD4,index_plateau!$B$5:$O$69,$D4+2,FALSE)))","v":"AQ"},{"$f":"IF(AE4=\"\",\"\",VLOOKUP(AD4,index_plateau!$B$5:$O$69,2,FALSE))","v":6553},95,{"$f":"IF(AG4=\"\",\"\",IF($C$2<>\"\",VLOOKUP(AG4,index_plateau!$B$5:$O$69,$C$2+2,FALSE),VLOOKUP(AG4,index_plateau!$B$5:$O$69,$D4+2,FALSE)))","v":"CBW"},{"$f":"IF(AH4=\"\",\"\",VLOOKUP(AG4,index_plateau!$B$5:$O$69,2,FALSE))","v":7228},null,null,3]
[2,{"$f":"IF(index_classe!F4=\"\",\"\",IF(index_classe!$K$1=\"NON\",index_classe!F4,IF(A5>index_classe!$P$1,\"\",\"Groupe 2\")))","v":"BERNA"},{"$f":"IF(index_classe!G4=\"\",\"\",IF(index_classe!$K$1=\"NON\",index_classe!G4,IF(A5>index_classe!$P$1,\"\",\">>>>>\")))","v":"Laurine"},{"$f":"IF($C$2<>\"\",$C$2,E5)","v":2},2,84,{"$f":"IF(F5=\"\",\"\",IF($C$2<>\"\",VLOOKUP(F5,index_plateau!$B$5:$O$69,$C$2+2,FALSE),VLOOKUP(F5,index_plateau!$B$5:$O$69,$D5+2,FALSE)))","v":"UPJ"},{"$f":"IF(G5=\"\",\"\",VLOOKUP(F5,index_plateau!$B$5:$O$69,2,FALSE))","v":4313},86,{"$f":"IF(I5=\"\",\"\",IF($C$2<>\"\",VLOOKUP(I5,index_plateau!$B$5:$O$69,$C$2+2,FALSE),VLOOKUP(I5,index_plateau!$B$5:$O$69,$D5+2,FALSE)))","v":"UPL"},{"$f":"IF(J5=\"\",\"\",VLOOKUP(I5,index_plateau!$B$5:$O$69,2,FALSE))","v":4155},65,{"$f":"IF(L5=\"\",\"\",IF($C$2<>\"\",VLOOKUP(L5,index_plateau!$B$5:$O$69,$C$2+2,FALSE),VLOOKUP(L5,index_plateau!$B$5:$O$69,$D5+2,FALSE)))","v":"EA"},{"$f":"IF(M5=\"\",\"\",VLOOKUP(L5,index_plateau!$B$5:$O$69,2,FALSE))","v":6418},66,{"$f":"IF(O5=\"\",\"\",IF($C$2<>\"\",VLOOKUP(O5,index_plateau!$B$5:$O$69,$C$2+2,FALSE),VLOOKUP(O5,index_plateau!$B$5:$O$69,$D5+2,FALSE)))","v":"EB"},{"$f":"IF(P5=\"\",\"\",VLOOKUP(O5,index_plateau!$B$5:$O$69,2,FALSE))","v":6553},86,{"$f":"IF(R5=\"\",\"\",IF($C$2<>\"\",VLOOKUP(R5,index_plateau!$B$5:$O$69,$C$2+2,FALSE),VLOOKUP(R5,index_plateau!$B$5:$O$69,$D5+2,FALSE)))","v":"UPL"},{"$f":"IF(S5=\"\",\"\",VLOOKUP(R5,index_plateau!$B$5:$O$69,2,FALSE))","v":4155},23,{"$f":"IF(U5=\"\",\"\",IF($C$2<>\"\",VLOOKUP(U5,index_plateau!$B$5:$O$69,$C$2+2,FALSE),VLOOKUP(U5,index_plateau!$B$5:$O$69,$D5+2,FALSE)))","v":"TOZ"},{"$f":"IF(V5=\"\",\"\",VLOOKUP(U5,index_plateau!$B$5:$O$69,2,FALSE))","v":5577},61,{"$f":"IF(X5=\"\",\"\",IF($C$2<>\"\",VLOOKUP(X5,index_plateau!$B$5:$O$69,$C$2+2,FALSE),VLOOKUP(X5,index_plateau!$B$5:$O$69,$D5+2,FALSE)))","v":"DW"},{"$f":"IF(Y5=\"\",\"\",VLOOKUP(X5,index_plateau!$B$5:$O$69,2,FALSE))","v":5103},84,{"$f":"IF(AA5=\"\",\"\",IF($C$2<>\"\",VLOOKUP(AA5,index_plateau!$B$5:$O$69,$C$2+2,FALSE),VLOOKUP(AA5,index_plateau!$B$5:$O$69,$D5+2,FALSE)))","v":"UPJ"},{"$f":"IF(AB5=\"\",\"\",VLOOKUP(AA5,index_plateau!$B$5:$O$69,2,FALSE))","v":4313},7,{"$f":"IF(AD5=\"\",\"\",IF($C$2<>\"\",VLOOKUP(AD5,index_plateau!$B$5:$O$69,$C$2+2,FALSE),VLOOKUP(AD5,index_plateau!$B$5:$O$69,$D5+2,FALSE)))","v":"TOI"},{"$f":"IF(AE5=\"\",\"\",VLOOKUP(AD5,index_plateau!$B$5:$O$69,2,FALSE))","v":6683},27,{"$f":"IF(AG5=\"\",\"\",IF($C$2<>\"\",VLOOKUP(AG5,index_plateau!$B$5:$O$69,$C$2+2,FALSE),VLOOKUP(AG5,index_plateau!$B$5:$O$69,$D5+2,FALSE)))","v":"UPD"},{"$f":"IF(AH5=\"\",\"\",VLOOKUP(AG5,index_plateau!$B$5:$O$69,2,FALSE))","v":5473},null,null,4]
[3,{"$f":"IF(index_classe!F5=\"\",\"\",IF(index_classe!$K$1=\"NON\",index_classe!F5,IF(A6>index_classe!$P$1,\"\",\"Groupe 3\")))","v":"CHEL"},{"$f":"IF(index_classe!G5=\"\",\"\",IF(index_classe!$K$1=\"NON\",index_classe!G5,IF(A6>index_classe!$P$1,\"\",\">>>>>\")))","v":"Sarah"},3,3,70,{"$f":"IF(F6=\"\",\"\",IF($C$2<>\"\",VLOOKUP(F6,index_plateau!$B$5:$O$69,$C$2+2,FALSE),VLOOKUP(F6,index_plateau!$B$5:$O$69,$D6+2,FALSE)))","v":"GQ"},{"$f":"IF(G6=\"\",\"\",VLOOKUP(F6,index_plateau!$B$5:$O$69,2,FALSE))","v":4629},59,{"$f":"IF(I6=\"\",\"\",IF($C$2<>\"\",VLOOKUP(I6,index_plateau!$B$5:$O$69,$C$2+2,FALSE),VLOOKUP(I6,index_plateau!$B$5:$O$69,$D6+2,FALSE)))","v":"GE"},{"$f":"IF(J6=\"\",\"\",VLOOKUP(I6,index_plateau!$B$5:$O$69,2,FALSE))","v":5261},68,{"$f":"IF(L6=\"\",\"\",IF($C$2<>\"\",VLOOKUP(L6,index_plateau!$B$5:$O$69,$C$2+2,FALSE),VLOOKUP(L6,index_plateau!$B$5:$O$69,$D6+2,FALSE)))","v":"GO"},{"$f":"IF(M6=\"\",\"\",VLOOKUP(L6,index_plateau!$B$5:$O$69,2,FALSE))","v":6823},2,{"$f":"IF(O6=\"\",\"\",IF($C$2<>\"\",VLOOKUP(O6,index_plateau!$B$5:$O$69,$C$2+2,FALSE),VLOOKUP(O6,index_plateau!$B$5:$O$69,$D6+2,FALSE)))","v":"FIQ"},{"$f":"IF(P6=\"\",\"\",VLOOKUP(O6,index_plateau!$B$5:$O$69,2,FALSE))","v":4663},93,{"$f":"IF(R6=\"\",\"\",IF($C$2<>\"\",VLOOKUP(R6,index_plateau!$B$5:$O$69,$C$2+2,FALSE),VLOOKUP(R6,index_plateau!$B$5:$O$69,$D6+2,FALSE)))","v":"IHE"},{"$f":"IF(S6=\"\",\"\",VLOOKUP(R6,index_plateau!$B$5:$O$69,2,FALSE))","v":3523},13,{"$f":"IF(U6=\"\",\"\",IF($C$2<>\"\",VLOOKUP(U6,index_plateau!$B$5:$O$69,$C$2+2,FALSE),VLOOKUP(U6,index_plateau!$B$5:$O$69,$D6+2,FALSE)))","v":"FJB"},{"$f":"IF(V6=\"\",\"\",VLOOKUP(U6,index_plateau!$B$5:$O$69,2,FALSE))","v":5893},96,{"$f":"IF(X6=\"\",\"\",IF($C$2<>\"\",VLOOKUP(X6,index_plateau!$B$5:$O$69,$C$2+2,FALSE),VLOOKUP(X6,index_plateau!$B$5:$O$69,$D6+2,FALSE)))","v":"IHH"},{"$f":"IF(Y6=\"\",\"\",VLOOKUP(X6,index_plateau!$B$5:$O$69,2,FALSE))","v":7363},3,{"$f":"IF(AA6=\"\",\"\",IF($C$2<>\"\",VLOOKUP(AA6,index_plateau!$B$5:$O$69,$C$2+2,FALSE),VLOOKUP(AA6,index_plateau!$B$5:$O$69,$D6+2,FALSE)))","v":"FIR"},{"$f":"IF(AB6=\"\",\"\",VLOOKUP(AA6,index_plateau!$B$5:$O$69,2,FALSE))","v":4798},86,{"$f":"IF(AD6=\"\",\"\",IF($C$2<>\"\",VLOOKUP(AD6,index_plateau!$B$5:$O$69,$C$2+2,FALSE),VLOOKUP(AD6,index_plateau!$B$5:$O$69,$D6+2,FALSE)))","v":"FJX"},{"$f":"IF(AE6=\"\",\"\",VLOOKUP(AD6,index_plateau!$B$5:$O$69,2,FALSE))","v":4155},84,{"$f":"IF(AG6=\"\",\"\",IF($C$2<>\"\",VLOOKUP(AG6,index_plateau!$B$5:$O$69,$C$2+2,FALSE),VLOOKUP(AG6,index_plateau!$B$5:$O$69,$D6+2,FALSE)))","v":"FJV"},{"$f":"IF(AH6=\"\",\"\",VLOOKUP(AG6,index_plateau!$B$5:$O$69,2,FALSE))","v":4313},null,null,5]
[4,{"$f":"IF(index_classe!F6=\"\",\"\",IF(index_classe!$K$1=\"NON\",index_classe!F6,IF(A7>index_classe!$P$1,\"\",\"Groupe 4\")))","v":"CLAUD"},{"$f":"IF(index_classe!G6=\"\",\"\",IF(index_classe!$K$1=\"NON\",index_classe!G6,IF(A7>index_classe!$P$1,\"\",\">>>>>\")))","v":"Maxime"},4,4,66,{"$f":"IF(F7=\"\",\"\",IF($C$2<>\"\",VLOOKUP(F7,index_plateau!$B$5:$O$69,$C$2+2,FALSE),VLOOKUP(F7,index_plateau!$B$5:$O$69,$D7+2,FALSE)))","v":"IX"},{"$f":"IF(G7=\"\",\"\",VLOOKUP(F7,index_plateau!$B$5:$O$69,2,FALSE))","v":6553},59,{"$f":"IF(I7=\"\",\"\",IF($C$2<>\"\",VLOOKUP(I7,index_plateau!$B$5:$O$69,$C$2+2,FALSE),VLOOKUP(I7,index_plateau!$B$5:$O$69,$D7+2,FALSE)))","v":"IQ"},{"$f":"IF(J7=\"\",\"\",VLOOKUP(I7,index_plateau!$B$5:$O$69,2,FALSE))","v":5261},66,{"$f":"IF(L7=\"\",\"\",IF($C$2<>\"\",VLOOKUP(L7,index_plateau!$B$5:$O$69,$C$2+2,FALSE),VLOOKUP(L7,index_plateau!$B$5:$O$69,$D7+2,FALSE)))","v":"IX"},{"$f":"IF(M7=\"\",\"\",VLOOKUP(L7,index_plateau!$B$5:$O$69,2,FALSE))","v":6553},95,{"$f":"IF(O7=\"\",\"\",IF($C$2<>\"\",VLOOKUP(O7,index_plateau!$B$5:$O$69,$C$2+2,FALSE),VLOOKUP(O7,index_plateau!$B$5:$O$69,$D7+2,FALSE)))","v":"MBI"},{"$f":"IF(P7=\"\",\"\",VLOOKUP(O7,index_plateau!$B$5:$O$69,2,FALSE))","v":7228},11,{"$f":"IF(R7=\"\",\"\",IF($C$2<>\"\",VLOOKUP(R7,index_plateau!$B$5:$O$69,$C$2+2,FALSE),VLOOKUP(R7,index_plateau!$B$5:$O$69,$D7+2,FALSE)))","v":"NAB"},{"$f":"IF(S7=\"\",\"\",VLOOKUP(R7,index_plateau!$B$5:$O$69,2,FALSE))","v":6209},1,{"$f":"IF(U7=\"\",\"\",IF($C$2<>\"\",VLOOKUP(U7,index_plateau!$B$5:$O$69,$C$2+2,FALSE),VLOOKUP(U7,index_plateau!$B$5:$O$69,$D7+2,FALSE)))","v":"MER"},{"$f":"IF(V7=\"\",\"\",VLOOKUP(U7,index_plateau!$B$5:$O$69,2,FALSE))","v":4528},66,{"$f":"IF(X7=\"\",\"\",IF($C$2<>\"\",VLOOKUP(X7,index_plateau!$B$5:$O$69,$C$2+2,FALSE),VLOOKUP(X7,index_plateau!$B$5:$O$69,$D7+2,FALSE)))","v":"IX"},{"$f":"IF(Y7=\"\",\"\",VLOOKUP(X7,index_plateau!$B$5:$O$69,2,FALSE))","v":6553},7,{"$f":"IF(AA7=\"\",\"\",IF($C$2<>\"\",VLOOKUP(AA7,index_plateau!$B$5:$O$69,$C$2+2,FALSE),VLOOKUP(AA7,index_plateau!$B$5:$O$69,$D7+2,FALSE)))","v":"MEX"},{"$f":"IF(AB7=\"\",\"\",VLOOKUP(AA7,index_plateau!$B$5:$O$69,2,FALSE))","v":6683},13,{"$f":"IF(AD7=\"\",\"\",IF($C$2<>\"\",VLOOKUP(AD7,index_plateau!$B$5:$O$69,$C$2+2,FALSE),VLOOKUP(AD7,index_plateau!$B$5:$O$69,$D7+2,FALSE)))","v":"NAD"},{"$f":"IF(AE7=\"\",\"\",VLOOKUP(AD7,index_plateau!$B$5:$O$69,2,FALSE))","v":5893},25,{"$f":"IF(AG7=\"\",\"\",IF($C$2<>\"\",VLOOKUP(AG7,index_plateau!$B$5:$O$69,$C$2+2,FALSE),VLOOKUP(AG7,index_plateau!$B$5:$O$69,$D7+2,FALSE)))","v":"NAP"},{"$f":"IF(AH7=\"\",\"\",VLOOKUP(AG7,index_plateau!$B$5:$O$69,2,FALSE))","v":5338},null,null,6]
[5,{"$f":"IF(index_classe!F7=\"\",\"\",IF(index_classe!$K$1=\"NON\",index_classe!F7,IF(A8>index_classe!$P$1,\"\",\"Groupe 5\")))","v":"NAISSA"},{"$f":"IF(index_classe!G7=\"\",\"\",IF(index_classe!$K$1=\"NON\",index_classe!G7,IF(A8>index_classe!$P$1,\"\",\">>>>>\")))","v":"Estelle"},5,5,27,{"$f":"IF(F8=\"\",\"\",IF($C$2<>\"\",VLOOKUP(F8,index_plateau!$B$5:$O$69,$C$2+2,FALSE),VLOOKUP(F8,index_plateau!$B$5:$O$69,$D8+2,FALSE)))","v":"DSJ"},{"$f":"IF(G8=\"\",\"\",VLOOKUP(F8,index_plateau!$B$5:$O$69,2,FALSE))","v":5473},62,{"$f":"IF(I8=\"\",\"\",IF($C$2<>\"\",VLOOKUP(I8,index_plateau!$B$5:$O$69,$C$2+2,FALSE),VLOOKUP(I8,index_plateau!$B$5:$O$69,$D8+2,FALSE)))","v":"OD"},{"$f":"IF(J8=\"\",\"\",VLOOKUP(I8,index_plateau!$B$5:$O$69,2,FALSE))","v":4945},67,{"$f":"IF(L8=\"\",\"\",IF($C$2<>\"\",VLOOKUP(L8,index_plateau!$B$5:$O$69,$C$2+2,FALSE),VLOOKUP(L8,index_plateau!$B$5:$O$69,$D8+2,FALSE)))","v":"OI"},{"$f":"IF(M8=\"\",\"\",VLOOKUP(L8,index_plateau!$B$5:$O$69,2,FALSE))","v":6688},66,{"$f":"IF(O8=\"\",\"\",IF($C$2<>\"\",VLOOKUP(O8,index_plateau!$B$5:$O$69,$C$2+2,FALSE),VLOOKUP(O8,index_plateau!$B$5:$O$69,$D8+2,FALSE)))","v":"OH"},{"$f":"IF(P8=\"\",\"\",VLOOKUP(O8,index_plateau!$B$5:$O$69,2,FALSE))","v":6553},88,{"$f":"IF(R8=\"\",\"\",IF($C$2<>\"\",VLOOKUP(R8,index_plateau!$B$5:$O$69,$C$2+2,FALSE),VLOOKUP(R8,index_plateau!$B$5:$O$69,$D8+2,FALSE)))","v":"DSS"},{"$f":"IF(S8=\"\",\"\",VLOOKUP(R8,index_plateau!$B$5:$O$69,2,FALSE))","v":3839},3,{"$f":"IF(U8=\"\",\"\",IF($C$2<>\"\",VLOOKUP(U8,index_plateau!$B$5:$O$69,$C$2+2,FALSE),VLOOKUP(U8,index_plateau!$B$5:$O$69,$D8+2,FALSE)))","v":"DRG"},{"$f":"IF(V8=\"\",\"\",VLOOKUP(U8,index_plateau!$B$5:$O$69,2,FALSE))","v":4798},25,{"$f":"IF(X8=\"\",\"\",IF($C$2<>\"\",VLOOKUP(X8,index_plateau!$B$5:$O$69,$C$2+2,FALSE),VLOOKUP(X8,index_plateau!$B$5:$O$69,$D8+2,FALSE)))","v":"DSH"},{"$f":"IF(Y8=\"\",\"\",VLOOKUP(X8,index_plateau!$B$5:$O$69,2,FALSE))","v":5338},12,{"$f":"IF(AA8=\"\",\"\",IF($C$2<>\"\",VLOOKUP(AA8,index_plateau!$B$5:$O$69,$C$2+2,FALSE),VLOOKUP(AA8,index_plateau!$B$5:$O$69,$D8+2,FALSE)))","v":"DRQ"},{"$f":"IF(AB8=\"\",\"\",VLOOKUP(AA8,index_plateau!$B$5:$O$69,2,FALSE))","v":6051},2,{"$f":"IF(AD8=\"\",\"\",IF($C$2<>\"\",VLOOKUP(AD8,index_plateau!$B$5:$O$69,$C$2+2,FALSE),VLOOKUP(AD8,index_plateau!$B$5:$O$69,$D8+2,FALSE)))","v":"DRF"},{"$f":"IF(AE8=\"\",\"\",VLOOKUP(AD8,index_plateau!$B$5:$O$69,2,FALSE))","v":4663},70,{"$f":"IF(AG8=\"\",\"\",IF($C$2<>\"\",VLOOKUP(AG8,index_plateau!$B$5:$O$69,$C$2+2,FALSE),VLOOKUP(AG8,index_plateau!$B$5:$O$69,$D8+2,FALSE)))","v":"OL"},{"$f":"IF(AH8=\"\",\"\",VLOOKUP(AG8,index_plateau!$B$5:$O$69,2,FALSE))","v":4629},null,null,7]
[6,{"$f":"IF(index_classe!F8=\"\",\"\",IF(index_classe!$K$1=\"NON\",index_classe!F8,IF(A9>index_classe!$P$1,\"\",\"Groupe 6\")))","v":"FA"},{"$f":"IF(index_classe!G8=\"\",\"\",IF(index_classe!$K$1=\"NON\",index_classe!G8,IF(A9>index_classe!$P$1,\"\",\">>>>>\")))","v":"Dylan"},6,6,30,{"$f":"IF(F9=\"\",\"\",IF($C$2<>\"\",VLOOKUP(F9,index_plateau!$B$5:$O$69,$C$2+2,FALSE),VLOOKUP(F9,index_plateau!$B$5:$O$69,$D9+2,FALSE)))","v":"ZOI"},{"$f":"IF(G9=\"\",\"\",VLOOKUP(F9,index_plateau!$B$5:$O$69,2,FALSE))","v":5878},87,{"$f":"IF(I9=\"\",\"\",IF($C$2<>\"\",VLOOKUP(I9,index_plateau!$B$5:$O$69,$C$2+2,FALSE),VLOOKUP(I9,index_plateau!$B$5:$O$69,$D9+2,FALSE)))","v":"ZOP"},{"$f":"IF(J9=\"\",\"\",VLOOKUP(I9,index_plateau!$B$5:$O$69,2,FALSE))","v":3997},86,{"$f":"IF(L9=\"\",\"\",IF($C$2<>\"\",VLOOKUP(L9,index_plateau!$B$5:$O$69,$C$2+2,FALSE),VLOOKUP(L9,index_plateau!$B$5:$O$69,$D9+2,FALSE)))","v":"ZON"},{"$f":"IF(M9=\"\",\"\",VLOOKUP(L9,index_plateau!$B$5:$O$69,2,FALSE))","v":4155},63,{"$f":"IF(O9=\"\",\"\",IF($C$2<>\"\",VLOOKUP(O9,index_plateau!$B$5:$O$69,$C$2+2,FALSE),VLOOKUP(O9,index_plateau!$B$5:$O$69,$D9+2,FALSE)))","v":"RP"},{"$f":"IF(P9=\"\",\"\",VLOOKUP(O9,index_plateau!$B$5:$O$69,2,FALSE))","v":4787},87,{"$f":"IF(R9=\"\",\"\",IF($C$2<>\"\",VLOOKUP(R9,index_plateau!$B$5:$O$69,$C$2+2,FALSE),VLOOKUP(R9,index_plateau!$B$5:$O$69,$D9+2,FALSE)))","v":"ZOP"},{"$f":"IF(S9=\"\",\"\",VLOOKUP(R9,index_plateau!$B$5:$O$69,2,FALSE))","v":3997},66,{"$f":"IF(U9=\"\",\"\",IF($C$2<>\"\",VLOOKUP(U9,index_plateau!$B$5:$O$69,$C$2+2,FALSE),VLOOKUP(U9,index_plateau!$B$5:$O$69,$D9+2,FALSE)))","v":"RS"},{"$f":"IF(V9=\"\",\"\",VLOOKUP(U9,index_plateau!$B$5:$O$69,2,FALSE))","v":6553},62,{"$f":"IF(X9=\"\",\"\",IF($C$2<>\"\",VLOOKUP(X9,index_plateau!$B$5:$O$69,$C$2+2,FALSE),VLOOKUP(X9,index_plateau!$B$5:$O$69,$D9+2,FALSE)))","v":"RO"},{"$f":"IF(Y9=\"\",\"\",VLOOKUP(X9,index_plateau!$B$5:$O$69,2,FALSE))","v":4945},30,{"$f":"IF(AA9=\"\",\"\",IF($C$2<>\"\",VLOOKUP(AA9,index_plateau!$B$5:$O$69,$C$2+2,FALSE),VLOOKUP(AA9,index_plateau!$B$5:$O$69,$D9+2,FALSE)))","v":"ZOI"},{"$f":"IF(AB9=\"\",\"\",VLOOKUP(AA9,index_plateau!$B$5:$O$69,2,FALSE))","v":5878},93,{"$f":"IF(AD9=\"\",\"\",IF($C$2<>\"\",VLOOKUP(AD9,index_plateau!$B$5:$O$69,$C$2+2,FALSE),VLOOKUP(AD9,index_plateau!$B$5:$O$69,$D9+2,FALSE)))","v":"ZOV"},{"$f":"IF(AE9=\"\",\"\",VLOOKUP(AD9,index_plateau!$B$5:$O$69,2,FALSE))","v":3523},6,{"$f":"IF(AG9=\"\",\"\",IF($C$2<>\"\",VLOOKUP(AG9,index_plateau!$B$5:$O$69,$C$2+2,FALSE),VLOOKUP(AG9,index_plateau!$B$5:$O$69,$D9+2,FALSE)))","v":"YON"},{"$f":"IF(AH9=\"\",\"\",VLOOKUP(AG9,index_plateau!$B$5:$O$69,2,FALSE))","v":6841},null,null,8]
[7,{"$f":"IF(index_classe!F9=\"\",\"\",IF(index_classe!$K$1=\"NON\",index_classe!F9,IF(A10>index_classe!$P$1,\"\",\"Groupe 7\")))","v":"FLEIN"},{"$f":"IF(index_classe!G9=\"\",\"\",IF(index_classe!$K$1=\"NON\",index_classe!G9,IF(A10>index_classe!$P$1,\"\",\">>>>>\")))","v":"Theo"},7,7,65,{"$f":"IF(F10=\"\",\"\",IF($C$2<>\"\",VLOOKUP(F10,index_plateau!$B$5:$O$69,$C$2+2,FALSE),VLOOKUP(F10,index_plateau!$B$5:$O$69,$D10+2,FALSE)))","v":"WB"},{"$f":"IF(G10=\"\",\"\",VLOOKUP(F10,index_plateau!$B$5:$O$69,2,FALSE))","v":6418},93,{"$f":"IF(I10=\"\",\"\",IF($C$2<>\"\",VLOOKUP(I10,index_plateau!$B$5:$O$69,$C$2+2,FALSE),VLOOKUP(I10,index_plateau!$B$5:$O$69,$D10+2,FALSE)))","v":"MNB"},{"$f":"IF(J10=\"\",\"\",VLOOKUP(I10,index_plateau!$B$5:$O$69,2,FALSE))","v":3523},7,{"$f":"IF(L10=\"\",\"\",IF($C$2<>\"\",VLOOKUP(L10,index_plateau!$B$5:$O$69,$C$2+2,FALSE),VLOOKUP(L10,index_plateau!$B$5:$O$69,$D10+2,FALSE)))","v":"KLS"},{"$f":"IF(M10=\"\",\"\",VLOOKUP(L10,index_plateau!$B$5:$O$69,2,FALSE))","v":6683},25,{"$f":"IF(O10=\"\",\"\",IF($C$2<>\"\",VLOOKUP(O10,index_plateau!$B$5:$O$69,$C$2+2,FALSE),VLOOKUP(O10,index_plateau!$B$5:$O$69,$D10+2,FALSE)))","v":"KMX"},{"$f":"IF(P10=\"\",\"\",VLOOKUP(O10,index_plateau!$B$5:$O$69,2,FALSE))","v":5338},86,{"$f":"IF(R10=\"\",\"\",IF($C$2<>\"\",VLOOKUP(R10,index_plateau!$B$5:$O$69,$C$2+2,FALSE),VLOOKUP(R10,index_plateau!$B$5:$O$69,$D10+2,FALSE)))","v":"LMU"},{"$f":"IF(S10=\"\",\"\",VLOOKUP(R10,index_plateau!$B$5:$O$69,2,FALSE))","v":4155},92,{"$f":"IF(U10=\"\",\"\",IF($C$2<>\"\",VLOOKUP(U10,index_plateau!$B$5:$O$69,$C$2+2,FALSE),VLOOKUP(U10,index_plateau!$B$5:$O$69,$D10+2,FALSE)))","v":"MNA"},{"$f":"IF(V10=\"\",\"\",VLOOKUP(U10,index_plateau!$B$5:$O$69,2,FALSE))","v":3681},3,{"$f":"IF(X10=\"\",\"\",IF($C$2<>\"\",VLOOKUP(X10,index_plateau!$B$5:$O$69,$C$2+2,FALSE),VLOOKUP(X10,index_plateau!$B$5:$O$69,$D10+2,FALSE)))","v":"KLO"},{"$f":"IF(Y10=\"\",\"\",VLOOKUP(X10,index_plateau!$B$5:$O$69,2,FALSE))","v":4798},5,{"$f":"IF(AA10=\"\",\"\",IF($C$2<>\"\",VLOOKUP(AA10,index_plateau!$B$5:$O$69,$C$2+2,FALSE),VLOOKUP(AA10,index_plateau!$B$5:$O$69,$D10+2,FALSE)))","v":"KLQ"},{"$f":"IF(AB10=\"\",\"\",VLOOKUP(AA10,index_plateau!$B$5:$O$69,2,FALSE))","v":5068},94,{"$f":"IF(AD10=\"\",\"\",IF($C$2<>\"\",VLOOKUP(AD10,index_plateau!$B$5:$O$69,$C$2+2,FALSE),VLOOKUP(AD10,index_plateau!$B$5:$O$69,$D10+2,FALSE)))","v":"MNC"},{"$f":"IF(AE10=\"\",\"\",VLOOKUP(AD10,index_plateau!$B$5:$O$69,2,FALSE))","v":7093},84,{"$f":"IF(AG10=\"\",\"\",IF($C$2<>\"\",VLOOKUP(AG10,index_plateau!$B$5:$O$69,$C$2+2,FALSE),VLOOKUP(AG10,index_plateau!$B$5:$O$69,$D10+2,FALSE)))","v":"LMS"},{"$f":"IF(AH10=\"\",\"\",VLOOKUP(AG10,index_plateau!$B$5:$O$69,2,FALSE))","v":4313},null,null,9]
[8,{"$f":"IF(index_classe!F10=\"\",\"\",IF(index_classe!$K$1=\"NON\",index_classe!F10,IF(A11>index_classe!$P$1,\"\",\"Groupe 8\")))","v":"JEAON"},{"$f":"IF(index_classe!G10=\"\",\"\",IF(index_classe!$K$1=\"NON\",index_classe!G10,IF(A11>index_classe!$P$1,\"\",\">>>>>\")))","v":"Alexis"},8,8,24,{"$f":"IF(F11=\"\",\"\",IF($C$2<>\"\",VLOOKUP(F11,index_plateau!$B$5:$O$69,$C$2+2,FALSE),VLOOKUP(F11,index_plateau!$B$5:$O$69,$D11+2,FALSE)))","v":"PNC"},{"$f":"IF(G11=\"\",\"\",VLOOKUP(F11,index_plateau!$B$5:$O$69,2,FALSE))","v":5419},70,{"$f":"IF(I11=\"\",\"\",IF($C$2<>\"\",VLOOKUP(I11,index_plateau!$B$5:$O$69,$C$2+2,FALSE),VLOOKUP(I11,index_plateau!$B$5:$O$69,$D11+2,FALSE)))","v":"ZQ"},{"$f":"IF(J11=\"\",\"\",VLOOKUP(I11,index_plateau!$B$5:$O$69,2,FALSE))","v":4629},24,{"$f":"IF(L11=\"\",\"\",IF($C$2<>\"\",VLOOKUP(L11,index_plateau!$B$5:$O$69,$C$2+2,FALSE),VLOOKUP(L11,index_plateau!$B$5:$O$69,$D11+2,FALSE)))","v":"PNC"},{"$f":"IF(M11=\"\",\"\",VLOOKUP(L11,index_plateau!$B$5:$O$69,2,FALSE))","v":5419},61,{"$f":"IF(O11=\"\",\"\",IF($C$2<>\"\",VLOOKUP(O11,index_plateau!$B$5:$O$69,$C$2+2,FALSE),VLOOKUP(O11,index_plateau!$B$5:$O$69,$D11+2,FALSE)))","v":"ZH"},{"$f":"IF(P11=\"\",\"\",VLOOKUP(O11,index_plateau!$B$5:$O$69,2,FALSE))","v":5103},88,{"$f":"IF(R11=\"\",\"\",IF($C$2<>\"\",VLOOKUP(R11,index_plateau!$B$5:$O$69,$C$2+2,FALSE),VLOOKUP(R11,index_plateau!$B$5:$O$69,$D11+2,FALSE)))","v":"PNP"},{"$f":"IF(S11=\"\",\"\",VLOOKUP(R11,index_plateau!$B$5:$O$69,2,FALSE))","v":3839},24,{"$f":"IF(U11=\"\",\"\",IF($C$2<>\"\",VLOOKUP(U11,index_plateau!$B$5:$O$69,$C$2+2,FALSE),VLOOKUP(U11,index_plateau!$B$5:$O$69,$D11+2,FALSE)))","v":"PNC"},{"$f":"IF(V11=\"\",\"\",VLOOKUP(U11,index_plateau!$B$5:$O$69,2,FALSE))","v":5419},88,{"$f":"IF(X11=\"\",\"\",IF($C$2<>\"\",VLOOKUP(X11,index_plateau!$B$5:$O$69,$C$2+2,FALSE),VLOOKUP(X11,index_plateau!$B$5:$O$69,$D11+2,FALSE)))","v":"PNP"},{"$f":"IF(Y11=\"\",\"\",VLOOKUP(X11,index_plateau!$B$5:$O$69,2,FALSE))","v":3839},8,{"$f":"IF(AA11=\"\",\"\",IF($C$2<>\"\",VLOOKUP(AA11,index_plateau!$B$5:$O$69,$C$2+2,FALSE),VLOOKUP(AA11,index_plateau!$B$5:$O$69,$D11+2,FALSE)))","v":"POM"},{"$f":"IF(AB11=\"\",\"\",VLOOKUP(AA11,index_plateau!$B$5:$O$69,2,FALSE))","v":5203},2,{"$f":"IF(AD11=\"\",\"\",IF($C$2<>\"\",VLOOKUP(AD11,index_plateau!$B$5:$O$69,$C$2+2,FALSE),VLOOKUP(AD11,index_plateau!$B$5:$O$69,$D11+2,FALSE)))","v":"POG"},{"$f":"IF(AE11=\"\",\"\",VLOOKUP(AD11,index_plateau!$B$5:$O$69,2,FALSE))","v":4663},25,{"$f":"IF(AG11=\"\",\"\",IF($C$2<>\"\",VLOOKUP(AG11,index_plateau!$B$5:$O$69,$C$2+2,FALSE),VLOOKUP(AG11,index_plateau!$B$5:$O$69,$D11+2,FALSE)))","v":"PND"},{"$f":"IF(AH11=\"\",\"\",VLOOKUP(AG11,index_plateau!$B$5:$O$69,2,FALSE))","v":5338},null,null,10]
[9,{"$f":"IF(index_classe!F11=\"\",\"\",IF(index_classe!$K$1=\"NON\",index_classe!F11,IF(A12>index_classe!$P$1,\"\",\"Groupe 9\")))","v":"KOLA"},{"$f":"IF(index_classe!G11=\"\",\"\",IF(index_classe!$K$1=\"NON\",index_classe!G11,IF(A12>index_classe!$P$1,\"\",\">>>>>\")))","v":"Alexandre"},9,9,87,{"$f":"IF(F12=\"\",\"\",IF($C$2<>\"\",VLOOKUP(F12,index_plateau!$B$5:$O$69,$C$2+2,FALSE),VLOOKUP(F12,index_plateau!$B$5:$O$69,$D12+2,FALSE)))","v":"WFX"},{"$f":"IF(G12=\"\",\"\",VLOOKUP(F12,index_plateau!$B$5:$O$69,2,FALSE))","v":3997},87,{"$f":"IF(I12=\"\",\"\",IF($C$2<>\"\",VLOOKUP(I12,index_plateau!$B$5:$O$69,$C$2+2,FALSE),VLOOKUP(I12,index_plateau!$B$5:$O$69,$D12+2,FALSE)))","v":"WFX"},{"$f":"IF(J12=\"\",\"\",VLOOKUP(I12,index_plateau!$B$5:$O$69,2,FALSE))","v":3997},95,{"$f":"IF(L12=\"\",\"\",IF($C$2<>\"\",VLOOKUP(L12,index_plateau!$B$5:$O$69,$C$2+2,FALSE),VLOOKUP(L12,index_plateau!$B$5:$O$69,$D12+2,FALSE)))","v":"XGF"},{"$f":"IF(M12=\"\",\"\",VLOOKUP(L12,index_plateau!$B$5:$O$69,2,FALSE))","v":7228},21,{"$f":"IF(O12=\"\",\"\",IF($C$2<>\"\",VLOOKUP(O12,index_plateau!$B$5:$O$69,$C$2+2,FALSE),VLOOKUP(O12,index_plateau!$B$5:$O$69,$D12+2,FALSE)))","v":"WFH"},{"$f":"IF(P12=\"\",\"\",VLOOKUP(O12,index_plateau!$B$5:$O$69,2,FALSE))","v":5735},87,{"$f":"IF(R12=\"\",\"\",IF($C$2<>\"\",VLOOKUP(R12,index_plateau!$B$5:$O$69,$C$2+2,FALSE),VLOOKUP(R12,index_plateau!$B$5:$O$69,$D12+2,FALSE)))","v":"WFX"},{"$f":"IF(S12=\"\",\"\",VLOOKUP(R12,index_plateau!$B$5:$O$69,2,FALSE))","v":3997},29,{"$f":"IF(U12=\"\",\"\",IF($C$2<>\"\",VLOOKUP(U12,index_plateau!$B$5:$O$69,$C$2+2,FALSE),VLOOKUP(U12,index_plateau!$B$5:$O$69,$D12+2,FALSE)))","v":"WFQ"},{"$f":"IF(V12=\"\",\"\",VLOOKUP(U12,index_plateau!$B$5:$O$69,2,FALSE))","v":5743},67,{"$f":"IF(X12=\"\",\"\",IF($C$2<>\"\",VLOOKUP(X12,index_plateau!$B$5:$O$69,$C$2+2,FALSE),VLOOKUP(X12,index_plateau!$B$5:$O$69,$D12+2,FALSE)))","v":"CCY"},{"$f":"IF(Y12=\"\",\"\",VLOOKUP(X12,index_plateau!$B$5:$O$69,2,FALSE))","v":6688},13,{"$f":"IF(AA12=\"\",\"\",IF($C$2<>\"\",VLOOKUP(AA12,index_plateau!$B$5:$O$69,$C$2+2,FALSE),VLOOKUP(AA12,index_plateau!$B$5:$O$69,$D12+2,FALSE)))","v":"VEZ"},{"$f":"IF(AB12=\"\",\"\",VLOOKUP(AA12,index_plateau!$B$5:$O$69,2,FALSE))","v":5893},93,{"$f":"IF(AD12=\"\",\"\",IF($C$2<>\"\",VLOOKUP(AD12,index_plateau!$B$5:$O$69,$C$2+2,FALSE),VLOOKUP(AD12,index_plateau!$B$5:$O$69,$D12+2,FALSE)))","v":"XGD"},{"$f":"IF(AE12=\"\",\"\",VLOOKUP(AD12,index_plateau!$B$5:$O$69,2,FALSE))","v":3523},6,{"$f":"IF(AG12=\"\",\"\",IF($C$2<>\"\",VLOOKUP(AG12,index_plateau!$B$5:$O$69,$C$2+2,FALSE),VLOOKUP(AG12,index_plateau!$B$5:$O$69,$D12+2,FALSE)))","v":"VES"},{"$f":"IF(AH12=\"\",\"\",VLOOKUP(AG12,index_plateau!$B$5:$O$69,2,FALSE))","v":6841},null,null,11]
[10,{"$f":"IF(index_classe!F12=\"\",\"\",IF(index_classe!$K$1=\"NON\",index_classe!F12,IF(A13>index_classe!$P$1,\"\",\"Groupe 10\")))","v":"LERHE"},{"$f":"IF(index_classe!G12=\"\",\"\",IF(index_classe!$K$1=\"NON\",index_classe!G12,IF(A13>index_classe!$P$1,\"\",\">>>>>\")))","v":"Melvin"},10,10,62,{"$f":"IF(F13=\"\",\"\",IF($C$2<>\"\",VLOOKUP(F13,index_plateau!$B$5:$O$69,$C$2+2,FALSE),VLOOKUP(F13,index_plateau!$B$5:$O$69,$D13+2,FALSE)))","v":"GGD"},{"$f":"IF(G13=\"\",\"\",VLOOKUP(F13,index_plateau!$B$5:$O$69,2,FALSE))","v":4945},62,{"$f":"IF(I13=\"\",\"\",IF($C$2<>\"\",VLOOKUP(I13,index_plateau!$B$5:$O$69,$C$2+2,FALSE),VLOOKUP(I13,index_plateau!$B$5:$O$69,$D13+2,FALSE)))","v":"GGD"},{"$f":"IF(J13=\"\",\"\",VLOOKUP(I13,index_plateau!$B$5:$O$69,2,FALSE))","v":4945},1,{"$f":"IF(L13=\"\",\"\",IF($C$2<>\"\",VLOOKUP(L13,index_plateau!$B$5:$O$69,$C$2+2,FALSE),VLOOKUP(L13,index_plateau!$B$5:$O$69,$D13+2,FALSE)))","v":"SAJ"},{"$f":"IF(M13=\"\",\"\",VLOOKUP(L13,index_plateau!$B$5:$O$69,2,FALSE))","v":4528},69,{"$f":"IF(O13=\"\",\"\",IF($C$2<>\"\",VLOOKUP(O13,index_plateau!$B$5:$O$69,$C$2+2,FALSE),VLOOKUP(O13,index_plateau!$B$5:$O$69,$D13+2,FALSE)))","v":"GGL"},{"$f":"IF(P13=\"\",\"\",VLOOKUP(O13,index_plateau!$B$5:$O$69,2,FALSE))","v":6958},59,{"$f":"IF(R13=\"\",\"\",IF($C$2<>\"\",VLOOKUP(R13,index_plateau!$B$5:$O$69,$C$2+2,FALSE),VLOOKUP(R13,index_plateau!$B$5:$O$69,$D13+2,FALSE)))","v":"GGA"},{"$f":"IF(S13=\"\",\"\",VLOOKUP(R13,index_plateau!$B$5:$O$69,2,FALSE))","v":5261},2,{"$f":"IF(U13=\"\",\"\",IF($C$2<>\"\",VLOOKUP(U13,index_plateau!$B$5:$O$69,$C$2+2,FALSE),VLOOKUP(U13,index_plateau!$B$5:$O$69,$D13+2,FALSE)))","v":"SAK"},{"$f":"IF(V13=\"\",\"\",VLOOKUP(U13,index_plateau!$B$5:$O$69,2,FALSE))","v":4663},8,{"$f":"IF(X13=\"\",\"\",IF($C$2<>\"\",VLOOKUP(X13,index_plateau!$B$5:$O$69,$C$2+2,FALSE),VLOOKUP(X13,index_plateau!$B$5:$O$69,$D13+2,FALSE)))","v":"SAQ"},{"$f":"IF(Y13=\"\",\"\",VLOOKUP(X13,index_plateau!$B$5:$O$69,2,FALSE))","v":5203},12,{"$f":"IF(AA13=\"\",\"\",IF($C$2<>\"\",VLOOKUP(AA13,index_plateau!$B$5:$O$69,$C$2+2,FALSE),VLOOKUP(AA13,index_plateau!$B$5:$O$69,$D13+2,FALSE)))","v":"SAU"},{"$f":"IF(AB13=\"\",\"\",VLOOKUP(AA13,index_plateau!$B$5:$O$69,2,FALSE))","v":6051},4,{"$f":"IF(AD13=\"\",\"\",IF($C$2<>\"\",VLOOKUP(AD13,index_plateau!$B$5:$O$69,$C$2+2,FALSE),VLOOKUP(AD13,index_plateau!$B$5:$O$69,$D13+2,FALSE)))","v":"SAM"},{"$f":"IF(AE13=\"\",\"\",VLOOKUP(AD13,index_plateau!$B$5:$O$69,2,FALSE))","v":4933},59,{"$f":"IF(AG13=\"\",\"\",IF($C$2<>\"\",VLOOKUP(AG13,index_plateau!$B$5:$O$69,$C$2+2,FALSE),VLOOKUP(AG13,index_plateau!$B$5:$O$69,$D13+2,FALSE)))","v":"GGA"},{"$f":"IF(AH13=\"\",\"\",VLOOKUP(AG13,index_plateau!$B$5:$O$69,2,FALSE))","v":5261},null,null,12]
[11,{"$f":"IF(index_classe!F13=\"\",\"\",IF(index_classe!$K$1=\"NON\",index_classe!F13,IF(A14>index_classe!$P$1,\"\",\"Groupe 11\")))","v":"LOE"},{"$f":"IF(index_classe!G13=\"\",\"\",IF(index_classe!$K$1=\"NON\",index_classe!G13,IF(A14>index_classe!$P$1,\"\",\">>>>>\")))","v":"Mickael"},11,11,87,{"$f":"IF(F14=\"\",\"\",IF($C$2<>\"\",VLOOKUP(F14,index_plateau!$B$5:$O$69,$C$2+2,FALSE),VLOOKUP(F14,index_plateau!$B$5:$O$69,$D14+2,FALSE)))","v":"ESA"},{"$f":"IF(G14=\"\",\"\",VLOOKUP(F14,index_plateau!$B$5:$O$69,2,FALSE))","v":3997},87,{"$f":"IF(I14=\"\",\"\",IF($C$2<>\"\",VLOOKUP(I14,index_plateau!$B$5:$O$69,$C$2+2,FALSE),VLOOKUP(I14,index_plateau!$B$5:$O$69,$D14+2,FALSE)))","v":"ESA"},{"$f":"IF(J14=\"\",\"\",VLOOKUP(I14,index_plateau!$B$5:$O$69,2,FALSE))","v":3997},92,{"$f":"IF(L14=\"\",\"\",IF($C$2<>\"\",VLOOKUP(L14,index_plateau!$B$5:$O$69,$C$2+2,FALSE),VLOOKUP(L14,index_plateau!$B$5:$O$69,$D14+2,FALSE)))","v":"ESF"},{"$f":"IF(M14=\"\",\"\",VLOOKUP(L14,index_plateau!$B$5:$O$69,2,FALSE))","v":3681},10,{"$f":"IF(O14=\"\",\"\",IF($C$2<>\"\",VLOOKUP(O14,index_plateau!$B$5:$O$69,$C$2+2,FALSE),VLOOKUP(O14,index_plateau!$B$5:$O$69,$D14+2,FALSE)))","v":"DRA"},{"$f":"IF(P14=\"\",\"\",VLOOKUP(O14,index_plateau!$B$5:$O$69,2,FALSE))","v":6367},61,{"$f":"IF(R14=\"\",\"\",IF($C$2<>\"\",VLOOKUP(R14,index_plateau!$B$5:$O$69,$C$2+2,FALSE),VLOOKUP(R14,index_plateau!$B$5:$O$69,$D14+2,FALSE)))","v":"LLM"},{"$f":"IF(S14=\"\",\"\",VLOOKUP(R14,index_plateau!$B$5:$O$69,2,FALSE))","v":5103},86,{"$f":"IF(U14=\"\",\"\",IF($C$2<>\"\",VLOOKUP(U14,index_plateau!$B$5:$O$69,$C$2+2,FALSE),VLOOKUP(U14,index_plateau!$B$5:$O$69,$D14+2,FALSE)))","v":"DRZ"},{"$f":"IF(V14=\"\",\"\",VLOOKUP(U14,index_plateau!$B$5:$O$69,2,FALSE))","v":4155},32,{"$f":"IF(X14=\"\",\"\",IF($C$2<>\"\",VLOOKUP(X14,index_plateau!$B$5:$O$69,$C$2+2,FALSE),VLOOKUP(X14,index_plateau!$B$5:$O$69,$D14+2,FALSE)))","v":"DRW"},{"$f":"IF(Y14=\"\",\"\",VLOOKUP(X14,index_plateau!$B$5:$O$69,2,FALSE))","v":6148},9,{"$f":"IF(AA14=\"\",\"\",IF($C$2<>\"\",VLOOKUP(AA14,index_plateau!$B$5:$O$69,$C$2+2,FALSE),VLOOKUP(AA14,index_plateau!$B$5:$O$69,$D14+2,FALSE)))","v":"CSZ"},{"$f":"IF(AB14=\"\",\"\",VLOOKUP(AA14,index_plateau!$B$5:$O$69,2,FALSE))","v":6525},63,{"$f":"IF(AD14=\"\",\"\",IF($C$2<>\"\",VLOOKUP(AD14,index_plateau!$B$5:$O$69,$C$2+2,FALSE),VLOOKUP(AD14,index_plateau!$B$5:$O$69,$D14+2,FALSE)))","v":"LLO"},{"$f":"IF(AE14=\"\",\"\",VLOOKUP(AD14,index_plateau!$B$5:$O$69,2,FALSE))","v":4787},86,{"$f":"IF(AG14=\"\",\"\",IF($C$2<>\"\",VLOOKUP(AG14,index_plateau!$B$5:$O$69,$C$2+2,FALSE),VLOOKUP(AG14,index_plateau!$B$5:$O$69,$D14+2,FALSE)))","v":"DRZ"},{"$f":"IF(AH14=\"\",\"\",VLOOKUP(AG14,index_plateau!$B$5:$O$69,2,FALSE))","v":4155}]
[12,{"$f":"IF(index_classe!F14=\"\",\"\",IF(index_classe!$K$1=\"NON\",index_classe!F14,IF(A15>index_classe!$P$1,\"\",\"Groupe 12\")))","v":"MORET"},{"$f":"IF(index_classe!G14=\"\",\"\",IF(index_classe!$K$1=\"NON\",index_classe!G14,IF(A15>index_classe!$P$1,\"\",\">>>>>\")))","v":"Alice"},1,1,11,{"$f":"IF(F15=\"\",\"\",IF($C$2<>\"\",VLOOKUP(F15,index_plateau!$B$5:$O$69,$C$2+2,FALSE),VLOOKUP(F15,index_plateau!$B$5:$O$69,$D15+2,FALSE)))","v":"BAM"},{"$f":"IF(G15=\"\",\"\",VLOOKUP(F15,index_plateau!$B$5:$O$69,2,FALSE))","v":6209},10,{"$f":"IF(I15=\"\",\"\",IF($C$2<>\"\",VLOOKUP(I15,index_plateau!$B$5:$O$69,$C$2+2,FALSE),VLOOKUP(I15,index_plateau!$B$5:$O$69,$D15+2,FALSE)))","v":"BAL"},{"$f":"IF(J15=\"\",\"\",VLOOKUP(I15,index_plateau!$B$5:$O$69,2,FALSE))","v":6367},4,{"$f":"IF(L15=\"\",\"\",IF($C$2<>\"\",VLOOKUP(L15,index_plateau!$B$5:$O$69,$C$2+2,FALSE),VLOOKUP(L15,index_plateau!$B$5:$O$69,$D15+2,FALSE)))","v":"BAF"},{"$f":"IF(M15=\"\",\"\",VLOOKUP(L15,index_plateau!$B$5:$O$69,2,FALSE))","v":4933},12,{"$f":"IF(O15=\"\",\"\",IF($C$2<>\"\",VLOOKUP(O15,index_plateau!$B$5:$O$69,$C$2+2,FALSE),VLOOKUP(O15,index_plateau!$B$5:$O$69,$D15+2,FALSE)))","v":"BAN"},{"$f":"IF(P15=\"\",\"\",VLOOKUP(O15,index_plateau!$B$5:$O$69,2,FALSE))","v":6051},66,{"$f":"IF(R15=\"\",\"\",IF($C$2<>\"\",VLOOKUP(R15,index_plateau!$B$5:$O$69,$C$2+2,FALSE),VLOOKUP(R15,index_plateau!$B$5:$O$69,$D15+2,FALSE)))","v":"AQ"},{"$f":"IF(S15=\"\",\"\",VLOOKUP(R15,index_plateau!$B$5:$O$69,2,FALSE))","v":6553},67,{"$f":"IF(U15=\"\",\"\",IF($C$2<>\"\",VLOOKUP(U15,index_plateau!$B$5:$O$69,$C$2+2,FALSE),VLOOKUP(U15,index_plateau!$B$5:$O$69,$D15+2,FALSE)))","v":"AR"},{"$f":"IF(V15=\"\",\"\",VLOOKUP(U15,index_plateau!$B$5:$O$69,2,FALSE))","v":6688},25,{"$f":"IF(X15=\"\",\"\",IF($C$2<>\"\",VLOOKUP(X15,index_plateau!$B$5:$O$69,$C$2+2,FALSE),VLOOKUP(X15,index_plateau!$B$5:$O$69,$D15+2,FALSE)))","v":"CBD"},{"$f":"IF(Y15=\"\",\"\",VLOOKUP(X15,index_plateau!$B$5:$O$69,2,FALSE))","v":5338},92,{"$f":"IF(AA15=\"\",\"\",IF($C$2<>\"\",VLOOKUP(AA15,index_plateau!$B$5:$O$69,$C$2+2,FALSE),VLOOKUP(AA15,index_plateau!$B$5:$O$69,$D15+2,FALSE)))","v":"CBT"},{"$f":"IF(AB15=\"\",\"\",VLOOKUP(AA15,index_plateau!$B$5:$O$69,2,FALSE))","v":3681},32,{"$f":"IF(AD15=\"\",\"\",IF($C$2<>\"\",VLOOKUP(AD15,index_plateau!$B$5:$O$69,$C$2+2,FALSE),VLOOKUP(AD15,index_plateau!$B$5:$O$69,$D15+2,FALSE)))","v":"CBK"},{"$f":"IF(AE15=\"\",\"\",VLOOKUP(AD15,index_plateau!$B$5:$O$69,2,FALSE))","v":6148},96,{"$f":"IF(AG15=\"\",\"\",IF($C$2<>\"\",VLOOKUP(AG15,index_plateau!$B$5:$O$69,$C$2+2,FALSE),VLOOKUP(AG15,index_plateau!$B$5:$O$69,$D15+2,FALSE)))","v":"CBX"},{"$f":"IF(AH15=\"\",\"\",VLOOKUP(AG15,index_plateau!$B$5:$O$69,2,FALSE))","v":7363}]
[13,{"$f":"IF(index_classe!F15=\"\",\"\",IF(index_classe!$K$1=\"NON\",index_classe!F15,IF(A16>index_classe!$P$1,\"\",\"Groupe 13\")))","v":"NICAU"},{"$f":"IF(index_classe!G15=\"\",\"\",IF(index_classe!$K$1=\"NON\",index_classe!G15,IF(A16>index_classe!$P$1,\"\",\">>>>>\")))","v":"Romain"},2,2,93,{"$f":"IF(F16=\"\",\"\",IF($C$2<>\"\",VLOOKUP(F16,index_plateau!$B$5:$O$69,$C$2+2,FALSE),VLOOKUP(F16,index_plateau!$B$5:$O$69,$D16+2,FALSE)))","v":"UPS"},{"$f":"IF(G16=\"\",\"\",VLOOKUP(F16,index_plateau!$B$5:$O$69,2,FALSE))","v":3523},12,{"$f":"IF(I16=\"\",\"\",IF($C$2<>\"\",VLOOKUP(I16,index_plateau!$B$5:$O$69,$C$2+2,FALSE),VLOOKUP(I16,index_plateau!$B$5:$O$69,$D16+2,FALSE)))","v":"TON"},{"$f":"IF(J16=\"\",\"\",VLOOKUP(I16,index_plateau!$B$5:$O$69,2,FALSE))","v":6051},64,{"$f":"IF(L16=\"\",\"\",IF($C$2<>\"\",VLOOKUP(L16,index_plateau!$B$5:$O$69,$C$2+2,FALSE),VLOOKUP(L16,index_plateau!$B$5:$O$69,$D16+2,FALSE)))","v":"DZ"},{"$f":"IF(M16=\"\",\"\",VLOOKUP(L16,index_plateau!$B$5:$O$69,2,FALSE))","v":6283},2,{"$f":"IF(O16=\"\",\"\",IF($C$2<>\"\",VLOOKUP(O16,index_plateau!$B$5:$O$69,$C$2+2,FALSE),VLOOKUP(O16,index_plateau!$B$5:$O$69,$D16+2,FALSE)))","v":"TOD"},{"$f":"IF(P16=\"\",\"\",VLOOKUP(O16,index_plateau!$B$5:$O$69,2,FALSE))","v":4663},23,{"$f":"IF(R16=\"\",\"\",IF($C$2<>\"\",VLOOKUP(R16,index_plateau!$B$5:$O$69,$C$2+2,FALSE),VLOOKUP(R16,index_plateau!$B$5:$O$69,$D16+2,FALSE)))","v":"TOZ"},{"$f":"IF(S16=\"\",\"\",VLOOKUP(R16,index_plateau!$B$5:$O$69,2,FALSE))","v":5577},66,{"$f":"IF(U16=\"\",\"\",IF($C$2<>\"\",VLOOKUP(U16,index_plateau!$B$5:$O$69,$C$2+2,FALSE),VLOOKUP(U16,index_plateau!$B$5:$O$69,$D16+2,FALSE)))","v":"EB"},{"$f":"IF(V16=\"\",\"\",VLOOKUP(U16,index_plateau!$B$5:$O$69,2,FALSE))","v":6553},29,{"$f":"IF(X16=\"\",\"\",IF($C$2<>\"\",VLOOKUP(X16,index_plateau!$B$5:$O$69,$C$2+2,FALSE),VLOOKUP(X16,index_plateau!$B$5:$O$69,$D16+2,FALSE)))","v":"UPF"},{"$f":"IF(Y16=\"\",\"\",VLOOKUP(X16,index_plateau!$B$5:$O$69,2,FALSE))","v":5743},30,{"$f":"IF(AA16=\"\",\"\",IF($C$2<>\"\",VLOOKUP(AA16,index_plateau!$B$5:$O$69,$C$2+2,FALSE),VLOOKUP(AA16,index_plateau!$B$5:$O$69,$D16+2,FALSE)))","v":"UPG"},{"$f":"IF(AB16=\"\",\"\",VLOOKUP(AA16,index_plateau!$B$5:$O$69,2,FALSE))","v":5878},12,{"$f":"IF(AD16=\"\",\"\",IF($C$2<>\"\",VLOOKUP(AD16,index_plateau!$B$5:$O$69,$C$2+2,FALSE),VLOOKUP(AD16,index_plateau!$B$5:$O$69,$D16+2,FALSE)))","v":"TON"},{"$f":"IF(AE16=\"\",\"\",VLOOKUP(AD16,index_plateau!$B$5:$O$69,2,FALSE))","v":6051},65,{"$f":"IF(AG16=\"\",\"\",IF($C$2<>\"\",VLOOKUP(AG16,index_plateau!$B$5:$O$69,$C$2+2,FALSE),VLOOKUP(AG16,index_plateau!$B$5:$O$69,$D16+2,FALSE)))","v":"EA"},{"$f":"IF(AH16=\"\",\"\",VLOOKUP(AG16,index_plateau!$B$5:$O$69,2,FALSE))","v":6418}]
[14,{"$f":"IF(index_classe!F16=\"\",\"\",IF(index_classe!$K$1=\"NON\",index_classe!F16,IF(A17>index_classe!$P$1,\"\",\"Groupe 14\")))","v":"RUI"},{"$f":"IF(index_classe!G16=\"\",\"\",IF(index_classe!$K$1=\"NON\",index_classe!G16,IF(A17>index_classe!$P$1,\"\",\">>>>>\")))","v":"Desiderio"},3,3,4,{"$f":"IF(F17=\"\",\"\",IF($C$2<>\"\",VLOOKUP(F17,index_plateau!$B$5:$O$69,$C$2+2,FALSE),VLOOKUP(F17,index_plateau!$B$5:$O$69,$D17+2,FALSE)))","v":"FIS"},{"$f":"IF(G17=\"\",\"\",VLOOKUP(F17,index_plateau!$B$5:$O$69,2,FALSE))","v":4933},21,{"$f":"IF(I17=\"\",\"\",IF($C$2<>\"\",VLOOKUP(I17,index_plateau!$B$5:$O$69,$C$2+2,FALSE),VLOOKUP(I17,index_plateau!$B$5:$O$69,$D17+2,FALSE)))","v":"FJH"},{"$f":"IF(J17=\"\",\"\",VLOOKUP(I17,index_plateau!$B$5:$O$69,2,FALSE))","v":5735},64,{"$f":"IF(L17=\"\",\"\",IF($C$2<>\"\",VLOOKUP(L17,index_plateau!$B$5:$O$69,$C$2+2,FALSE),VLOOKUP(L17,index_plateau!$B$5:$O$69,$D17+2,FALSE)))","v":"GK"},{"$f":"IF(M17=\"\",\"\",VLOOKUP(L17,index_plateau!$B$5:$O$69,2,FALSE))","v":6283},84,{"$f":"IF(O17=\"\",\"\",IF($C$2<>\"\",VLOOKUP(O17,index_plateau!$B$5:$O$69,$C$2+2,FALSE),VLOOKUP(O17,index_plateau!$B$5:$O$69,$D17+2,FALSE)))","v":"FJV"},{"$f":"IF(P17=\"\",\"\",VLOOKUP(O17,index_plateau!$B$5:$O$69,2,FALSE))","v":4313},32,{"$f":"IF(R17=\"\",\"\",IF($C$2<>\"\",VLOOKUP(R17,index_plateau!$B$5:$O$69,$C$2+2,FALSE),VLOOKUP(R17,index_plateau!$B$5:$O$69,$D17+2,FALSE)))","v":"FJU"},{"$f":"IF(S17=\"\",\"\",VLOOKUP(R17,index_plateau!$B$5:$O$69,2,FALSE))","v":6148},12,{"$f":"IF(U17=\"\",\"\",IF($C$2<>\"\",VLOOKUP(U17,index_plateau!$B$5:$O$69,$C$2+2,FALSE),VLOOKUP(U17,index_plateau!$B$5:$O$69,$D17+2,FALSE)))","v":"FJA"},{"$f":"IF(V17=\"\",\"\",VLOOKUP(U17,index_plateau!$B$5:$O$69,2,FALSE))","v":6051},25,{"$f":"IF(X17=\"\",\"\",IF($C$2<>\"\",VLOOKUP(X17,index_plateau!$B$5:$O$69,$C$2+2,FALSE),VLOOKUP(X17,index_plateau!$B$5:$O$69,$D17+2,FALSE)))","v":"FJN"},{"$f":"IF(Y17=\"\",\"\",VLOOKUP(X17,index_plateau!$B$5:$O$69,2,FALSE))","v":5338},87,{"$f":"IF(AA17=\"\",\"\",IF($C$2<>\"\",VLOOKUP(AA17,index_plateau!$B$5:$O$69,$C$2+2,FALSE),VLOOKUP(AA17,index_plateau!$B$5:$O$69,$D17+2,FALSE)))","v":"FJY"},{"$f":"IF(AB17=\"\",\"\",VLOOKUP(AA17,index_plateau!$B$5:$O$69,2,FALSE))","v":3997},2,{"$f":"IF(AD17=\"\",\"\",IF($C$2<>\"\",VLOOKUP(AD17,index_plateau!$B$5:$O$69,$C$2+2,FALSE),VLOOKUP(AD17,index_plateau!$B$5:$O$69,$D17+2,FALSE)))","v":"FIQ"},{"$f":"IF(AE17=\"\",\"\",VLOOKUP(AD17,index_plateau!$B$5:$O$69,2,FALSE))","v":4663},65,{"$f":"IF(AG17=\"\",\"\",IF($C$2<>\"\",VLOOKUP(AG17,index_plateau!$B$5:$O$69,$C$2+2,FALSE),VLOOKUP(AG17,index_plateau!$B$5:$O$69,$D17+2,FALSE)))","v":"GL"},{"$f":"IF(AH17=\"\",\"\",VLOOKUP(AG17,index_plateau!$B$5:$O$69,2,FALSE))","v":6418}]
[15,{"$f":"IF(index_classe!F17=\"\",\"\",IF(index_classe!$K$1=\"NON\",index_classe!F17,IF(A18>index_classe!$P$1,\"\",\"Groupe 15\")))","v":"RI"},{"$f":"IF(index_classe!G17=\"\",\"\",IF(index_classe!$K$1=\"NON\",index_classe!G17,IF(A18>index_classe!$P$1,\"\",\">>>>>\")))","v":"Niko"},4,4,30,{"$f":"IF(F18=\"\",\"\",IF($C$2<>\"\",VLOOKUP(F18,index_plateau!$B$5:$O$69,$C$2+2,FALSE),VLOOKUP(F18,index_plateau!$B$5:$O$69,$D18+2,FALSE)))","v":"NAU"},{"$f":"IF(G18=\"\",\"\",VLOOKUP(F18,index_plateau!$B$5:$O$69,2,FALSE))","v":5878},30,{"$f":"IF(I18=\"\",\"\",IF($C$2<>\"\",VLOOKUP(I18,index_plateau!$B$5:$O$69,$C$2+2,FALSE),VLOOKUP(I18,index_plateau!$B$5:$O$69,$D18+2,FALSE)))","v":"NAU"},{"$f":"IF(J18=\"\",\"\",VLOOKUP(I18,index_plateau!$B$5:$O$69,2,FALSE))","v":5878},3,{"$f":"IF(L18=\"\",\"\",IF($C$2<>\"\",VLOOKUP(L18,index_plateau!$B$5:$O$69,$C$2+2,FALSE),VLOOKUP(L18,index_plateau!$B$5:$O$69,$D18+2,FALSE)))","v":"MET"},{"$f":"IF(M18=\"\",\"\",VLOOKUP(L18,index_plateau!$B$5:$O$69,2,FALSE))","v":4798},31,{"$f":"IF(O18=\"\",\"\",IF($C$2<>\"\",VLOOKUP(O18,index_plateau!$B$5:$O$69,$C$2+2,FALSE),VLOOKUP(O18,index_plateau!$B$5:$O$69,$D18+2,FALSE)))","v":"NAV"},{"$f":"IF(P18=\"\",\"\",VLOOKUP(O18,index_plateau!$B$5:$O$69,2,FALSE))","v":6013},67,{"$f":"IF(R18=\"\",\"\",IF($C$2<>\"\",VLOOKUP(R18,index_plateau!$B$5:$O$69,$C$2+2,FALSE),VLOOKUP(R18,index_plateau!$B$5:$O$69,$D18+2,FALSE)))","v":"IY"},{"$f":"IF(S18=\"\",\"\",VLOOKUP(R18,index_plateau!$B$5:$O$69,2,FALSE))","v":6688},25,{"$f":"IF(U18=\"\",\"\",IF($C$2<>\"\",VLOOKUP(U18,index_plateau!$B$5:$O$69,$C$2+2,FALSE),VLOOKUP(U18,index_plateau!$B$5:$O$69,$D18+2,FALSE)))","v":"NAP"},{"$f":"IF(V18=\"\",\"\",VLOOKUP(U18,index_plateau!$B$5:$O$69,2,FALSE))","v":5338},86,{"$f":"IF(X18=\"\",\"\",IF($C$2<>\"\",VLOOKUP(X18,index_plateau!$B$5:$O$69,$C$2+2,FALSE),VLOOKUP(X18,index_plateau!$B$5:$O$69,$D18+2,FALSE)))","v":"NAZ"},{"$f":"IF(Y18=\"\",\"\",VLOOKUP(X18,index_plateau!$B$5:$O$69,2,FALSE))","v":4155},1,{"$f":"IF(AA18=\"\",\"\",IF($C$2<>\"\",VLOOKUP(AA18,index_plateau!$B$5:$O$69,$C$2+2,FALSE),VLOOKUP(AA18,index_plateau!$B$5:$O$69,$D18+2,FALSE)))","v":"MER"},{"$f":"IF(AB18=\"\",\"\",VLOOKUP(AA18,index_plateau!$B$5:$O$69,2,FALSE))","v":4528},95,{"$f":"IF(AD18=\"\",\"\",IF($C$2<>\"\",VLOOKUP(AD18,index_plateau!$B$5:$O$69,$C$2+2,FALSE),VLOOKUP(AD18,index_plateau!$B$5:$O$69,$D18+2,FALSE)))","v":"MBI"},{"$f":"IF(AE18=\"\",\"\",VLOOKUP(AD18,index_plateau!$B$5:$O$69,2,FALSE))","v":7228},31,{"$f":"IF(AG18=\"\",\"\",IF($C$2<>\"\",VLOOKUP(AG18,index_plateau!$B$5:$O$69,$C$2+2,FALSE),VLOOKUP(AG18,index_plateau!$B$5:$O$69,$D18+2,FALSE)))","v":"NAV"},{"$f":"IF(AH18=\"\",\"\",VLOOKUP(AG18,index_plateau!$B$5:$O$69,2,FALSE))","v":6013}]
[16,{"$f":"IF(index_classe!F18=\"\",\"\",IF(index_classe!$K$1=\"NON\",index_classe!F18,IF(A19>index_classe!$P$1,\"\",\"Groupe 16\")))","v":"SAL"},{"$f":"IF(index_classe!G18=\"\",\"\",IF(index_classe!$K$1=\"NON\",index_classe!G18,IF(A19>index_classe!$P$1,\"\",\">>>>>\")))","v":"Calvin"},5,5,86,{"$f":"IF(F19=\"\",\"\",IF($C$2<>\"\",VLOOKUP(F19,index_plateau!$B$5:$O$69,$C$2+2,FALSE),VLOOKUP(F19,index_plateau!$B$5:$O$69,$D19+2,FALSE)))","v":"DSR"},{"$f":"IF(G19=\"\",\"\",VLOOKUP(F19,index_plateau!$B$5:$O$69,2,FALSE))","v":4155},21,{"$f":"IF(I19=\"\",\"\",IF($C$2<>\"\",VLOOKUP(I19,index_plateau!$B$5:$O$69,$C$2+2,FALSE),VLOOKUP(I19,index_plateau!$B$5:$O$69,$D19+2,FALSE)))","v":"DRZ"},{"$f":"IF(J19=\"\",\"\",VLOOKUP(I19,index_plateau!$B$5:$O$69,2,FALSE))","v":5735},7,{"$f":"IF(L19=\"\",\"\",IF($C$2<>\"\",VLOOKUP(L19,index_plateau!$B$5:$O$69,$C$2+2,FALSE),VLOOKUP(L19,index_plateau!$B$5:$O$69,$D19+2,FALSE)))","v":"DRL"},{"$f":"IF(M19=\"\",\"\",VLOOKUP(L19,index_plateau!$B$5:$O$69,2,FALSE))","v":6683},11,{"$f":"IF(O19=\"\",\"\",IF($C$2<>\"\",VLOOKUP(O19,index_plateau!$B$5:$O$69,$C$2+2,FALSE),VLOOKUP(O19,index_plateau!$B$5:$O$69,$D19+2,FALSE)))","v":"DRP"},{"$f":"IF(P19=\"\",\"\",VLOOKUP(O19,index_plateau!$B$5:$O$69,2,FALSE))","v":6209},96,{"$f":"IF(R19=\"\",\"\",IF($C$2<>\"\",VLOOKUP(R19,index_plateau!$B$5:$O$69,$C$2+2,FALSE),VLOOKUP(R19,index_plateau!$B$5:$O$69,$D19+2,FALSE)))","v":"ERB"},{"$f":"IF(S19=\"\",\"\",VLOOKUP(R19,index_plateau!$B$5:$O$69,2,FALSE))","v":7363},96,{"$f":"IF(U19=\"\",\"\",IF($C$2<>\"\",VLOOKUP(U19,index_plateau!$B$5:$O$69,$C$2+2,FALSE),VLOOKUP(U19,index_plateau!$B$5:$O$69,$D19+2,FALSE)))","v":"ERB"},{"$f":"IF(V19=\"\",\"\",VLOOKUP(U19,index_plateau!$B$5:$O$69,2,FALSE))","v":7363},94,{"$f":"IF(X19=\"\",\"\",IF($C$2<>\"\",VLOOKUP(X19,index_plateau!$B$5:$O$69,$C$2+2,FALSE),VLOOKUP(X19,index_plateau!$B$5:$O$69,$D19+2,FALSE)))","v":"DSZ"},{"$f":"IF(Y19=\"\",\"\",VLOOKUP(X19,index_plateau!$B$5:$O$69,2,FALSE))","v":7093},61,{"$f":"IF(AA19=\"\",\"\",IF($C$2<>\"\",VLOOKUP(AA19,index_plateau!$B$5:$O$69,$C$2+2,FALSE),VLOOKUP(AA19,index_plateau!$B$5:$O$69,$D19+2,FALSE)))","v":"OC"},{"$f":"IF(AB19=\"\",\"\",VLOOKUP(AA19,index_plateau!$B$5:$O$69,2,FALSE))","v":5103},32,{"$f":"IF(AD19=\"\",\"\",IF($C$2<>\"\",VLOOKUP(AD19,index_plateau!$B$5:$O$69,$C$2+2,FALSE),VLOOKUP(AD19,index_plateau!$B$5:$O$69,$D19+2,FALSE)))","v":"DSO"},{"$f":"IF(AE19=\"\",\"\",VLOOKUP(AD19,index_plateau!$B$5:$O$69,2,FALSE))","v":6148},69,{"$f":"IF(AG19=\"\",\"\",IF($C$2<>\"\",VLOOKUP(AG19,index_plateau!$B$5:$O$69,$C$2+2,FALSE),VLOOKUP(AG19,index_plateau!$B$5:$O$69,$D19+2,FALSE)))","v":"OK"},{"$f":"IF(AH19=\"\",\"\",VLOOKUP(AG19,index_plateau!$B$5:$O$69,2,FALSE))","v":6958}]
[17,{"$f":"IF(index_classe!F19=\"\",\"\",IF(index_classe!$K$1=\"NON\",index_classe!F19,IF(A20>index_classe!$P$1,\"\",\"Groupe 17\")))","v":"SIOUI"},{"$f":"IF(index_classe!G19=\"\",\"\",IF(index_classe!$K$1=\"NON\",index_classe!G19,IF(A20>index_classe!$P$1,\"\",\">>>>>\")))","v":"Salah"},6,6,62,{"$f":"IF(F20=\"\",\"\",IF($C$2<>\"\",VLOOKUP(F20,index_plateau!$B$5:$O$69,$C$2+2,FALSE),VLOOKUP(F20,index_plateau!$B$5:$O$69,$D20+2,FALSE)))","v":"RO"},{"$f":"IF(G20=\"\",\"\",VLOOKUP(F20,index_plateau!$B$5:$O$69,2,FALSE))","v":4945},25,{"$f":"IF(I20=\"\",\"\",IF($C$2<>\"\",VLOOKUP(I20,index_plateau!$B$5:$O$69,$C$2+2,FALSE),VLOOKUP(I20,index_plateau!$B$5:$O$69,$D20+2,FALSE)))","v":"YVI"},{"$f":"IF(J20=\"\",\"\",VLOOKUP(I20,index_plateau!$B$5:$O$69,2,FALSE))","v":5338},8,{"$f":"IF(L20=\"\",\"\",IF($C$2<>\"\",VLOOKUP(L20,index_plateau!$B$5:$O$69,$C$2+2,FALSE),VLOOKUP(L20,index_plateau!$B$5:$O$69,$D20+2,FALSE)))","v":"YOP"},{"$f":"IF(M20=\"\",\"\",VLOOKUP(L20,index_plateau!$B$5:$O$69,2,FALSE))","v":5203},68,{"$f":"IF(O20=\"\",\"\",IF($C$2<>\"\",VLOOKUP(O20,index_plateau!$B$5:$O$69,$C$2+2,FALSE),VLOOKUP(O20,index_plateau!$B$5:$O$69,$D20+2,FALSE)))","v":"RU"},{"$f":"IF(P20=\"\",\"\",VLOOKUP(O20,index_plateau!$B$5:$O$69,2,FALSE))","v":6823},28,{"$f":"IF(R20=\"\",\"\",IF($C$2<>\"\",VLOOKUP(R20,index_plateau!$B$5:$O$69,$C$2+2,FALSE),VLOOKUP(R20,index_plateau!$B$5:$O$69,$D20+2,FALSE)))","v":"YYI"},{"$f":"IF(S20=\"\",\"\",VLOOKUP(R20,index_plateau!$B$5:$O$69,2,FALSE))","v":5608},13,{"$f":"IF(U20=\"\",\"\",IF($C$2<>\"\",VLOOKUP(U20,index_plateau!$B$5:$O$69,$C$2+2,FALSE),VLOOKUP(U20,index_plateau!$B$5:$O$69,$D20+2,FALSE)))","v":"YOU"},{"$f":"IF(V20=\"\",\"\",VLOOKUP(U20,index_plateau!$B$5:$O$69,2,FALSE))","v":5893},93,{"$f":"IF(X20=\"\",\"\",IF($C$2<>\"\",VLOOKUP(X20,index_plateau!$B$5:$O$69,$C$2+2,FALSE),VLOOKUP(X20,index_plateau!$B$5:$O$69,$D20+2,FALSE)))","v":"ZOV"},{"$f":"IF(Y20=\"\",\"\",VLOOKUP(X20,index_plateau!$B$5:$O$69,2,FALSE))","v":3523},30,{"$f":"IF(AA20=\"\",\"\",IF($C$2<>\"\",VLOOKUP(AA20,index_plateau!$B$5:$O$69,$C$2+2,FALSE),VLOOKUP(AA20,index_plateau!$B$5:$O$69,$D20+2,FALSE)))","v":"ZOI"},{"$f":"IF(AB20=\"\",\"\",VLOOKUP(AA20,index_plateau!$B$5:$O$69,2,FALSE))","v":5878},1,{"$f":"IF(AD20=\"\",\"\",IF($C$2<>\"\",VLOOKUP(AD20,index_plateau!$B$5:$O$69,$C$2+2,FALSE),VLOOKUP(AD20,index_plateau!$B$5:$O$69,$D20+2,FALSE)))","v":"YOI"},{"$f":"IF(AE20=\"\",\"\",VLOOKUP(AD20,index_plateau!$B$5:$O$69,2,FALSE))","v":4528},95,{"$f":"IF(AG20=\"\",\"\",IF($C$2<>\"\",VLOOKUP(AG20,index_plateau!$B$5:$O$69,$C$2+2,FALSE),VLOOKUP(AG20,index_plateau!$B$5:$O$69,$D20+2,FALSE)))","v":"ZOX"},{"$f":"IF(AH20=\"\",\"\",VLOOKUP(AG20,index_plateau!$B$5:$O$69,2,FALSE))","v":7228}]
[18,{"$f":"IF(index_classe!F20=\"\",\"\",IF(index_classe!$K$1=\"NON\",index_classe!F20,IF(A21>index_classe!$P$1,\"\",\"Groupe 18\")))","v":"TADEVA"},{"$f":"IF(index_classe!G20=\"\",\"\",IF(index_classe!$K$1=\"NON\",index_classe!G20,IF(A21>index_classe!$P$1,\"\",\">>>>>\")))","v":"Khatmat"},7,7,83,{"$f":"IF(F21=\"\",\"\",IF($C$2<>\"\",VLOOKUP(F21,index_plateau!$B$5:$O$69,$C$2+2,FALSE),VLOOKUP(F21,index_plateau!$B$5:$O$69,$D21+2,FALSE)))","v":"WT"},{"$f":"IF(G21=\"\",\"\",VLOOKUP(F21,index_plateau!$B$5:$O$69,2,FALSE))","v":4471},65,{"$f":"IF(I21=\"\",\"\",IF($C$2<>\"\",VLOOKUP(I21,index_plateau!$B$5:$O$69,$C$2+2,FALSE),VLOOKUP(I21,index_plateau!$B$5:$O$69,$D21+2,FALSE)))","v":"WB"},{"$f":"IF(J21=\"\",\"\",VLOOKUP(I21,index_plateau!$B$5:$O$69,2,FALSE))","v":6418},8,{"$f":"IF(L21=\"\",\"\",IF($C$2<>\"\",VLOOKUP(L21,index_plateau!$B$5:$O$69,$C$2+2,FALSE),VLOOKUP(L21,index_plateau!$B$5:$O$69,$D21+2,FALSE)))","v":"KLT"},{"$f":"IF(M21=\"\",\"\",VLOOKUP(L21,index_plateau!$B$5:$O$69,2,FALSE))","v":5203},13,{"$f":"IF(O21=\"\",\"\",IF($C$2<>\"\",VLOOKUP(O21,index_plateau!$B$5:$O$69,$C$2+2,FALSE),VLOOKUP(O21,index_plateau!$B$5:$O$69,$D21+2,FALSE)))","v":"KY"},{"$f":"IF(P21=\"\",\"\",VLOOKUP(O21,index_plateau!$B$5:$O$69,2,FALSE))","v":5893},32,{"$f":"IF(R21=\"\",\"\",IF($C$2<>\"\",VLOOKUP(R21,index_plateau!$B$5:$O$69,$C$2+2,FALSE),VLOOKUP(R21,index_plateau!$B$5:$O$69,$D21+2,FALSE)))","v":"LMR"},{"$f":"IF(S21=\"\",\"\",VLOOKUP(R21,index_plateau!$B$5:$O$69,2,FALSE))","v":6148},59,{"$f":"IF(U21=\"\",\"\",IF($C$2<>\"\",VLOOKUP(U21,index_plateau!$B$5:$O$69,$C$2+2,FALSE),VLOOKUP(U21,index_plateau!$B$5:$O$69,$D21+2,FALSE)))","v":"UV"},{"$f":"IF(V21=\"\",\"\",VLOOKUP(U21,index_plateau!$B$5:$O$69,2,FALSE))","v":5261},12,{"$f":"IF(X21=\"\",\"\",IF($C$2<>\"\",VLOOKUP(X21,index_plateau!$B$5:$O$69,$C$2+2,FALSE),VLOOKUP(X21,index_plateau!$B$5:$O$69,$D21+2,FALSE)))","v":"KLX"},{"$f":"IF(Y21=\"\",\"\",VLOOKUP(X21,index_plateau!$B$5:$O$69,2,FALSE))","v":6051},9,{"$f":"IF(AA21=\"\",\"\",IF($C$2<>\"\",VLOOKUP(AA21,index_plateau!$B$5:$O$69,$C$2+2,FALSE),VLOOKUP(AA21,index_plateau!$B$5:$O$69,$D21+2,FALSE)))","v":"KLU"},{"$f":"IF(AB21=\"\",\"\",VLOOKUP(AA21,index_plateau!$B$5:$O$69,2,FALSE))","v":6525},94,{"$f":"IF(AD21=\"\",\"\",IF($C$2<>\"\",VLOOKUP(AD21,index_plateau!$B$5:$O$69,$C$2+2,FALSE),VLOOKUP(AD21,index_plateau!$B$5:$O$69,$D21+2,FALSE)))","v":"MNC"},{"$f":"IF(AE21=\"\",\"\",VLOOKUP(AD21,index_plateau!$B$5:$O$69,2,FALSE))","v":7093},61,{"$f":"IF(AG21=\"\",\"\",IF($C$2<>\"\",VLOOKUP(AG21,index_plateau!$B$5:$O$69,$C$2+2,FALSE),VLOOKUP(AG21,index_plateau!$B$5:$O$69,$D21+2,FALSE)))","v":"UX"},{"$f":"IF(AH21=\"\",\"\",VLOOKUP(AG21,index_plateau!$B$5:$O$69,2,FALSE))","v":5103}]
[19,{"$f":"IF(index_classe!F21=\"\",\"\",IF(index_classe!$K$1=\"NON\",index_classe!F21,IF(A22>index_classe!$P$1,\"\",\"Groupe 19\")))","v":"TEEC"},{"$f":"IF(index_classe!G21=\"\",\"\",IF(index_classe!$K$1=\"NON\",index_classe!G21,IF(A22>index_classe!$P$1,\"\",\">>>>>\")))","v":"Victor"},8,8,27,{"$f":"IF(F22=\"\",\"\",IF($C$2<>\"\",VLOOKUP(F22,index_plateau!$B$5:$O$69,$C$2+2,FALSE),VLOOKUP(F22,index_plateau!$B$5:$O$69,$D22+2,FALSE)))","v":"PNF"},{"$f":"IF(G22=\"\",\"\",VLOOKUP(F22,index_plateau!$B$5:$O$69,2,FALSE))","v":5473},6,{"$f":"IF(I22=\"\",\"\",IF($C$2<>\"\",VLOOKUP(I22,index_plateau!$B$5:$O$69,$C$2+2,FALSE),VLOOKUP(I22,index_plateau!$B$5:$O$69,$D22+2,FALSE)))","v":"POK"},{"$f":"IF(J22=\"\",\"\",VLOOKUP(I22,index_plateau!$B$5:$O$69,2,FALSE))","v":6841},2,{"$f":"IF(L22=\"\",\"\",IF($C$2<>\"\",VLOOKUP(L22,index_plateau!$B$5:$O$69,$C$2+2,FALSE),VLOOKUP(L22,index_plateau!$B$5:$O$69,$D22+2,FALSE)))","v":"POG"},{"$f":"IF(M22=\"\",\"\",VLOOKUP(L22,index_plateau!$B$5:$O$69,2,FALSE))","v":4663},67,{"$f":"IF(O22=\"\",\"\",IF($C$2<>\"\",VLOOKUP(O22,index_plateau!$B$5:$O$69,$C$2+2,FALSE),VLOOKUP(O22,index_plateau!$B$5:$O$69,$D22+2,FALSE)))","v":"ZN"},{"$f":"IF(P22=\"\",\"\",VLOOKUP(O22,index_plateau!$B$5:$O$69,2,FALSE))","v":6688},13,{"$f":"IF(R22=\"\",\"\",IF($C$2<>\"\",VLOOKUP(R22,index_plateau!$B$5:$O$69,$C$2+2,FALSE),VLOOKUP(R22,index_plateau!$B$5:$O$69,$D22+2,FALSE)))","v":"POR"},{"$f":"IF(S22=\"\",\"\",VLOOKUP(R22,index_plateau!$B$5:$O$69,2,FALSE))","v":5893},28,{"$f":"IF(U22=\"\",\"\",IF($C$2<>\"\",VLOOKUP(U22,index_plateau!$B$5:$O$69,$C$2+2,FALSE),VLOOKUP(U22,index_plateau!$B$5:$O$69,$D22+2,FALSE)))","v":"PNG"},{"$f":"IF(V22=\"\",\"\",VLOOKUP(U22,index_plateau!$B$5:$O$69,2,FALSE))","v":5608},96,{"$f":"IF(X22=\"\",\"\",IF($C$2<>\"\",VLOOKUP(X22,index_plateau!$B$5:$O$69,$C$2+2,FALSE),VLOOKUP(X22,index_plateau!$B$5:$O$69,$D22+2,FALSE)))","v":"PNX"},{"$f":"IF(Y22=\"\",\"\",VLOOKUP(X22,index_plateau!$B$5:$O$69,2,FALSE))","v":7363},8,{"$f":"IF(AA22=\"\",\"\",IF($C$2<>\"\",VLOOKUP(AA22,index_plateau!$B$5:$O$69,$C$2+2,FALSE),VLOOKUP(AA22,index_plateau!$B$5:$O$69,$D22+2,FALSE)))","v":"POM"},{"$f":"IF(AB22=\"\",\"\",VLOOKUP(AA22,index_plateau!$B$5:$O$69,2,FALSE))","v":5203},11,{"$f":"IF(AD22=\"\",\"\",IF($C$2<>\"\",VLOOKUP(AD22,index_plateau!$B$5:$O$69,$C$2+2,FALSE),VLOOKUP(AD22,index_plateau!$B$5:$O$69,$D22+2,FALSE)))","v":"POP"},{"$f":"IF(AE22=\"\",\"\",VLOOKUP(AD22,index_plateau!$B$5:$O$69,2,FALSE))","v":6209},25,{"$f":"IF(AG22=\"\",\"\",IF($C$2<>\"\",VLOOKUP(AG22,index_plateau!$B$5:$O$69,$C$2+2,FALSE),VLOOKUP(AG22,index_plateau!$B$5:$O$69,$D22+2,FALSE)))","v":"PND"},{"$f":"IF(AH22=\"\",\"\",VLOOKUP(AG22,index_plateau!$B$5:$O$69,2,FALSE))","v":5338}]
[20,{"$f":"IF(index_classe!F22=\"\",\"\",IF(index_classe!$K$1=\"NON\",index_classe!F22,IF(A23>index_classe!$P$1,\"\",\"Groupe 20\")))","v":"TEJOR"},{"$f":"IF(index_classe!G22=\"\",\"\",IF(index_classe!$K$1=\"NON\",index_classe!G22,IF(A23>index_classe!$P$1,\"\",\">>>>>\")))","v":"Carla"},9,9,32,{"$f":"IF(F23=\"\",\"\",IF($C$2<>\"\",VLOOKUP(F23,index_plateau!$B$5:$O$69,$C$2+2,FALSE),VLOOKUP(F23,index_plateau!$B$5:$O$69,$D23+2,FALSE)))","v":"WFT"},{"$f":"IF(G23=\"\",\"\",VLOOKUP(F23,index_plateau!$B$5:$O$69,2,FALSE))","v":6148},68,{"$f":"IF(I23=\"\",\"\",IF($C$2<>\"\",VLOOKUP(I23,index_plateau!$B$5:$O$69,$C$2+2,FALSE),VLOOKUP(I23,index_plateau!$B$5:$O$69,$D23+2,FALSE)))","v":"CCZ"},{"$f":"IF(J23=\"\",\"\",VLOOKUP(I23,index_plateau!$B$5:$O$69,2,FALSE))","v":6823},65,{"$f":"IF(L23=\"\",\"\",IF($C$2<>\"\",VLOOKUP(L23,index_plateau!$B$5:$O$69,$C$2+2,FALSE),VLOOKUP(L23,index_plateau!$B$5:$O$69,$D23+2,FALSE)))","v":"CCW"},{"$f":"IF(M23=\"\",\"\",VLOOKUP(L23,index_plateau!$B$5:$O$69,2,FALSE))","v":6418},5,{"$f":"IF(O23=\"\",\"\",IF($C$2<>\"\",VLOOKUP(O23,index_plateau!$B$5:$O$69,$C$2+2,FALSE),VLOOKUP(O23,index_plateau!$B$5:$O$69,$D23+2,FALSE)))","v":"VER"},{"$f":"IF(P23=\"\",\"\",VLOOKUP(O23,index_plateau!$B$5:$O$69,2,FALSE))","v":5068},10,{"$f":"IF(R23=\"\",\"\",IF($C$2<>\"\",VLOOKUP(R23,index_plateau!$B$5:$O$69,$C$2+2,FALSE),VLOOKUP(R23,index_plateau!$B$5:$O$69,$D23+2,FALSE)))","v":"VEW"},{"$f":"IF(S23=\"\",\"\",VLOOKUP(R23,index_plateau!$B$5:$O$69,2,FALSE))","v":6367},94,{"$f":"IF(U23=\"\",\"\",IF($C$2<>\"\",VLOOKUP(U23,index_plateau!$B$5:$O$69,$C$2+2,FALSE),VLOOKUP(U23,index_plateau!$B$5:$O$69,$D23+2,FALSE)))","v":"XGE"},{"$f":"IF(V23=\"\",\"\",VLOOKUP(U23,index_plateau!$B$5:$O$69,2,FALSE))","v":7093},65,{"$f":"IF(X23=\"\",\"\",IF($C$2<>\"\",VLOOKUP(X23,index_plateau!$B$5:$O$69,$C$2+2,FALSE),VLOOKUP(X23,index_plateau!$B$5:$O$69,$D23+2,FALSE)))","v":"CCW"},{"$f":"IF(Y23=\"\",\"\",VLOOKUP(X23,index_plateau!$B$5:$O$69,2,FALSE))","v":6418},21,{"$f":"IF(AA23=\"\",\"\",IF($C$2<>\"\",VLOOKUP(AA23,index_plateau!$B$5:$O$69,$C$2+2,FALSE),VLOOKUP(AA23,index_plateau!$B$5:$O$69,$D23+2,FALSE)))","v":"WFH"},{"$f":"IF(AB23=\"\",\"\",VLOOKUP(AA23,index_plateau!$B$5:$O$69,2,FALSE))","v":5735},93,{"$f":"IF(AD23=\"\",\"\",IF($C$2<>\"\",VLOOKUP(AD23,index_plateau!$B$5:$O$69,$C$2+2,FALSE),VLOOKUP(AD23,index_plateau!$B$5:$O$69,$D23+2,FALSE)))","v":"XGD"},{"$f":"IF(AE23=\"\",\"\",VLOOKUP(AD23,index_plateau!$B$5:$O$69,2,FALSE))","v":3523},59,{"$f":"IF(AG23=\"\",\"\",IF($C$2<>\"\",VLOOKUP(AG23,index_plateau!$B$5:$O$69,$C$2+2,FALSE),VLOOKUP(AG23,index_plateau!$B$5:$O$69,$D23+2,FALSE)))","v":"CCQ"},{"$f":"IF(AH23=\"\",\"\",VLOOKUP(AG23,index_plateau!$B$5:$O$69,2,FALSE))","v":5261}]
[21,{"$f":"IF(index_classe!F23=\"\",\"\",IF(index_classe!$K$1=\"NON\",index_classe!F23,IF(A24>index_classe!$P$1,\"\",\"Groupe 21\")))","v":"THIER"},{"$f":"IF(index_classe!G23=\"\",\"\",IF(index_classe!$K$1=\"NON\",index_classe!G23,IF(A24>index_classe!$P$1,\"\",\">>>>>\")))","v":"Andrea"},10,10,27,{"$f":"IF(F24=\"\",\"\",IF($C$2<>\"\",VLOOKUP(F24,index_plateau!$B$5:$O$69,$C$2+2,FALSE),VLOOKUP(F24,index_plateau!$B$5:$O$69,$D24+2,FALSE)))","v":"RBK"},{"$f":"IF(G24=\"\",\"\",VLOOKUP(F24,index_plateau!$B$5:$O$69,2,FALSE))","v":5473},5,{"$f":"IF(I24=\"\",\"\",IF($C$2<>\"\",VLOOKUP(I24,index_plateau!$B$5:$O$69,$C$2+2,FALSE),VLOOKUP(I24,index_plateau!$B$5:$O$69,$D24+2,FALSE)))","v":"SAN"},{"$f":"IF(J24=\"\",\"\",VLOOKUP(I24,index_plateau!$B$5:$O$69,2,FALSE))","v":5068},87,{"$f":"IF(L24=\"\",\"\",IF($C$2<>\"\",VLOOKUP(L24,index_plateau!$B$5:$O$69,$C$2+2,FALSE),VLOOKUP(L24,index_plateau!$B$5:$O$69,$D24+2,FALSE)))","v":"RBT"},{"$f":"IF(M24=\"\",\"\",VLOOKUP(L24,index_plateau!$B$5:$O$69,2,FALSE))","v":3997},94,{"$f":"IF(O24=\"\",\"\",IF($C$2<>\"\",VLOOKUP(O24,index_plateau!$B$5:$O$69,$C$2+2,FALSE),VLOOKUP(O24,index_plateau!$B$5:$O$69,$D24+2,FALSE)))","v":"SCA"},{"$f":"IF(P24=\"\",\"\",VLOOKUP(O24,index_plateau!$B$5:$O$69,2,FALSE))","v":7093},67,{"$f":"IF(R24=\"\",\"\",IF($C$2<>\"\",VLOOKUP(R24,index_plateau!$B$5:$O$69,$C$2+2,FALSE),VLOOKUP(R24,index_plateau!$B$5:$O$69,$D24+2,FALSE)))","v":"GGJ"},{"$f":"IF(S24=\"\",\"\",VLOOKUP(R24,index_plateau!$B$5:$O$69,2,FALSE))","v":6688},5,{"$f":"IF(U24=\"\",\"\",IF($C$2<>\"\",VLOOKUP(U24,index_plateau!$B$5:$O$69,$C$2+2,FALSE),VLOOKUP(U24,index_plateau!$B$5:$O$69,$D24+2,FALSE)))","v":"SAN"},{"$f":"IF(V24=\"\",\"\",VLOOKUP(U24,index_plateau!$B$5:$O$69,2,FALSE))","v":5068},68,{"$f":"IF(X24=\"\",\"\",IF($C$2<>\"\",VLOOKUP(X24,index_plateau!$B$5:$O$69,$C$2+2,FALSE),VLOOKUP(X24,index_plateau!$B$5:$O$69,$D24+2,FALSE)))","v":"GGK"},{"$f":"IF(Y24=\"\",\"\",VLOOKUP(X24,index_plateau!$B$5:$O$69,2,FALSE))","v":6823},61,{"$f":"IF(AA24=\"\",\"\",IF($C$2<>\"\",VLOOKUP(AA24,index_plateau!$B$5:$O$69,$C$2+2,FALSE),VLOOKUP(AA24,index_plateau!$B$5:$O$69,$D24+2,FALSE)))","v":"GGC"},{"$f":"IF(AB24=\"\",\"\",VLOOKUP(AA24,index_plateau!$B$5:$O$69,2,FALSE))","v":5103},24,{"$f":"IF(AD24=\"\",\"\",IF($C$2<>\"\",VLOOKUP(AD24,index_plateau!$B$5:$O$69,$C$2+2,FALSE),VLOOKUP(AD24,index_plateau!$B$5:$O$69,$D24+2,FALSE)))","v":"RBH"},{"$f":"IF(AE24=\"\",\"\",VLOOKUP(AD24,index_plateau!$B$5:$O$69,2,FALSE))","v":5419},9,{"$f":"IF(AG24=\"\",\"\",IF($C$2<>\"\",VLOOKUP(AG24,index_plateau!$B$5:$O$69,$C$2+2,FALSE),VLOOKUP(AG24,index_plateau!$B$5:$O$69,$D24+2,FALSE)))","v":"SAR"},{"$f":"IF(AH24=\"\",\"\",VLOOKUP(AG24,index_plateau!$B$5:$O$69,2,FALSE))","v":6525}]
[22,{"$f":"IF(index_classe!F24=\"\",\"\",IF(index_classe!$K$1=\"NON\",index_classe!F24,IF(A25>index_classe!$P$1,\"\",\"Groupe 22\")))","v":"YI"},{"$f":"IF(index_classe!G24=\"\",\"\",IF(index_classe!$K$1=\"NON\",index_classe!G24,IF(A25>index_classe!$P$1,\"\",\">>>>>\")))","v":"William"},12,12,31,{"$f":"IF(F25=\"\",\"\",IF($C$2<>\"\",VLOOKUP(F25,index_plateau!$B$5:$O$69,$C$2+2,FALSE),VLOOKUP(F25,index_plateau!$B$5:$O$69,$D25+2,FALSE)))","v":"HIM"},{"$f":"IF(G25=\"\",\"\",VLOOKUP(F25,index_plateau!$B$5:$O$69,2,FALSE))","v":6013},65,{"$f":"IF(I25=\"\",\"\",IF($C$2<>\"\",VLOOKUP(I25,index_plateau!$B$5:$O$69,$C$2+2,FALSE),VLOOKUP(I25,index_plateau!$B$5:$O$69,$D25+2,FALSE)))","v":"RRA"},{"$f":"IF(J25=\"\",\"\",VLOOKUP(I25,index_plateau!$B$5:$O$69,2,FALSE))","v":6418},96,{"$f":"IF(L25=\"\",\"\",IF($C$2<>\"\",VLOOKUP(L25,index_plateau!$B$5:$O$69,$C$2+2,FALSE),VLOOKUP(L25,index_plateau!$B$5:$O$69,$D25+2,FALSE)))","v":"IJA"},{"$f":"IF(M25=\"\",\"\",VLOOKUP(L25,index_plateau!$B$5:$O$69,2,FALSE))","v":7363},23,{"$f":"IF(O25=\"\",\"\",IF($C$2<>\"\",VLOOKUP(O25,index_plateau!$B$5:$O$69,$C$2+2,FALSE),VLOOKUP(O25,index_plateau!$B$5:$O$69,$D25+2,FALSE)))","v":"HIE"},{"$f":"IF(P25=\"\",\"\",VLOOKUP(O25,index_plateau!$B$5:$O$69,2,FALSE))","v":5577},29,{"$f":"IF(R25=\"\",\"\",IF($C$2<>\"\",VLOOKUP(R25,index_plateau!$B$5:$O$69,$C$2+2,FALSE),VLOOKUP(R25,index_plateau!$B$5:$O$69,$D25+2,FALSE)))","v":"HIK"},{"$f":"IF(S25=\"\",\"\",VLOOKUP(R25,index_plateau!$B$5:$O$69,2,FALSE))","v":5743},27,{"$f":"IF(U25=\"\",\"\",IF($C$2<>\"\",VLOOKUP(U25,index_plateau!$B$5:$O$69,$C$2+2,FALSE),VLOOKUP(U25,index_plateau!$B$5:$O$69,$D25+2,FALSE)))","v":"HII"},{"$f":"IF(V25=\"\",\"\",VLOOKUP(U25,index_plateau!$B$5:$O$69,2,FALSE))","v":5473},11,{"$f":"IF(X25=\"\",\"\",IF($C$2<>\"\",VLOOKUP(X25,index_plateau!$B$5:$O$69,$C$2+2,FALSE),VLOOKUP(X25,index_plateau!$B$5:$O$69,$D25+2,FALSE)))","v":"GHS"},{"$f":"IF(Y25=\"\",\"\",VLOOKUP(X25,index_plateau!$B$5:$O$69,2,FALSE))","v":6209},67,{"$f":"IF(AA25=\"\",\"\",IF($C$2<>\"\",VLOOKUP(AA25,index_plateau!$B$5:$O$69,$C$2+2,FALSE),VLOOKUP(AA25,index_plateau!$B$5:$O$69,$D25+2,FALSE)))","v":"RRC"},{"$f":"IF(AB25=\"\",\"\",VLOOKUP(AA25,index_plateau!$B$5:$O$69,2,FALSE))","v":6688},6,{"$f":"IF(AD25=\"\",\"\",IF($C$2<>\"\",VLOOKUP(AD25,index_plateau!$B$5:$O$69,$C$2+2,FALSE),VLOOKUP(AD25,index_plateau!$B$5:$O$69,$D25+2,FALSE)))","v":"GHN"},{"$f":"IF(AE25=\"\",\"\",VLOOKUP(AD25,index_plateau!$B$5:$O$69,2,FALSE))","v":6841},62,{"$f":"IF(AG25=\"\",\"\",IF($C$2<>\"\",VLOOKUP(AG25,index_plateau!$B$5:$O$69,$C$2+2,FALSE),VLOOKUP(AG25,index_plateau!$B$5:$O$69,$D25+2,FALSE)))","v":"PPX"},{"$f":"IF(AH25=\"\",\"\",VLOOKUP(AG25,index_plateau!$B$5:$O$69,2,FALSE))","v":4945}]
[23,{"$f":"IF(index_classe!F25=\"\",\"\",IF(index_classe!$K$1=\"NON\",index_classe!F25,IF(A26>index_classe!$P$1,\"\",\"Groupe 23\")))","v":""},{"$f":"IF(index_classe!G25=\"\",\"\",IF(index_classe!$K$1=\"NON\",index_classe!G25,IF(A26>index_classe!$P$1,\"\",\">>>>>\")))","v":""},0,null,"",{"$f":"IF(F26=\"\",\"\",IF($C$2<>\"\",VLOOKUP(F26,index_plateau!$B$5:$O$69,$C$2+2,FALSE),VLOOKUP(F26,index_plateau!$B$5:$O$69,$D26+2,FALSE)))","v":""},{"$f":"IF(G26=\"\",\"\",VLOOKUP(F26,index_plateau!$B$5:$O$69,2,FALSE))","v":""},"",{"$f":"IF(I26=\"\",\"\",IF($C$2<>\"\",VLOOKUP(I26,index_plateau!$B$5:$O$69,$C$2+2,FALSE),VLOOKUP(I26,index_plateau!$B$5:$O$69,$D26+2,FALSE)))","v":""},{"$f":"IF(J26=\"\",\"\",VLOOKUP(I26,index_plateau!$B$5:$O$69,2,FALSE))","v":""},"",{"$f":"IF(L26=\"\",\"\",IF($C$2<>\"\",VLOOKUP(L26,index_plateau!$B$5:$O$69,$C$2+2,FALSE),VLOOKUP(L26,index_plateau!$B$5:$O$69,$D26+2,FALSE)))","v":""},{"$f":"IF(M26=\"\",\"\",VLOOKUP(L26,index_plateau!$B$5:$O$69,2,FALSE))","v":""},"",{"$f":"IF(O26=\"\",\"\",IF($C$2<>\"\",VLOOKUP(O26,index_plateau!$B$5:$O$69,$C$2+2,FALSE),VLOOKUP(O26,index_plateau!$B$5:$O$69,$D26+2,FALSE)))","v":""},{"$f":"IF(P26=\"\",\"\",VLOOKUP(O26,index_plateau!$B$5:$O$69,2,FALSE))","v":""},"",{"$f":"IF(R26=\"\",\"\",IF($C$2<>\"\",VLOOKUP(R26,index_plateau!$B$5:$O$69,$C$2+2,FALSE),VLOOKUP(R26,index_plateau!$B$5:$O$69,$D26+2,FALSE)))","v":""},{"$f":"IF(S26=\"\",\"\",VLOOKUP(R26,index_plateau!$B$5:$O$69,2,FALSE))","v":""},"",{"$f":"IF(U26=\"\",\"\",IF($C$2<>\"\",VLOOKUP(U26,index_plateau!$B$5:$O$69,$C$2+2,FALSE),VLOOKUP(U26,index_plateau!$B$5:$O$69,$D26+2,FALSE)))","v":""},{"$f":"IF(V26=\"\",\"\",VLOOKUP(U26,index_plateau!$B$5:$O$69,2,FALSE))","v":""},"",{"$f":"IF(X26=\"\",\"\",IF($C$2<>\"\",VLOOKUP(X26,index_plateau!$B$5:$O$69,$C$2+2,FALSE),VLOOKUP(X26,index_plateau!$B$5:$O$69,$D26+2,FALSE)))","v":""},{"$f":"IF(Y26=\"\",\"\",VLOOKUP(X26,index_plateau!$B$5:$O$69,2,FALSE))","v":""},"",{"$f":"IF(AA26=\"\",\"\",IF($C$2<>\"\",VLOOKUP(AA26,index_plateau!$B$5:$O$69,$C$2+2,FALSE),VLOOKUP(AA26,index_plateau!$B$5:$O$69,$D26+2,FALSE)))","v":""},{"$f":"IF(AB26=\"\",\"\",VLOOKUP(AA26,index_plateau!$B$5:$O$69,2,FALSE))","v":""},"",{"$f":"IF(AD26=\"\",\"\",IF($C$2<>\"\",VLOOKUP(AD26,index_plateau!$B$5:$O$69,$C$2+2,FALSE),VLOOKUP(AD26,index_plateau!$B$5:$O$69,$D26+2,FALSE)))","v":""},{"$f":"IF(AE26=\"\",\"\",VLOOKUP(AD26,index_plateau!$B$5:$O$69,2,FALSE))","v":""},"",{"$f":"IF(AG26=\"\",\"\",IF($C$2<>\"\",VLOOKUP(AG26,index_plateau!$B$5:$O$69,$C$2+2,FALSE),VLOOKUP(AG26,index_plateau!$B$5:$O$69,$D26+2,FALSE)))","v":""},{"$f":"IF(AH26=\"\",\"\",VLOOKUP(AG26,index_plateau!$B$5:$O$69,2,FALSE))","v":""}]
[24,{"$f":"IF(index_classe!F26=\"\",\"\",IF(index_classe!$K$1=\"NON\",index_classe!F26,IF(A27>index_classe!$P$1,\"\",\"Groupe 24\")))","v":""},{"$f":"IF(index_classe!G26=\"\",\"\",IF(index_classe!$K$1=\"NON\",index_classe!G26,IF(A27>index_classe!$P$1,\"\",\">>>>>\")))","v":""},0,null,"",{"$f":"IF(F27=\"\",\"\",IF($C$2<>\"\",VLOOKUP(F27,index_plateau!$B$5:$O$69,$C$2+2,FALSE),VLOOKUP(F27,index_plateau!$B$5:$O$69,$D27+2,FALSE)))","v":""},{"$f":"IF(G27=\"\",\"\",VLOOKUP(F27,index_plateau!$B$5:$O$69,2,FALSE))","v":""},"",{"$f":"IF(I27=\"\",\"\",IF($C$2<>\"\",VLOOKUP(I27,index_plateau!$B$5:$O$69,$C$2+2,FALSE),VLOOKUP(I27,index_plateau!$B$5:$O$69,$D27+2,FALSE)))","v":""},{"$f":"IF(J27=\"\",\"\",VLOOKUP(I27,index_plateau!$B$5:$O$69,2,FALSE))","v":""},"",{"$f":"IF(L27=\"\",\"\",IF($C$2<>\"\",VLOOKUP(L27,index_plateau!$B$5:$O$69,$C$2+2,FALSE),VLOOKUP(L27,index_plateau!$B$5:$O$69,$D27+2,FALSE)))","v":""},{"$f":"IF(M27=\"\",\"\",VLOOKUP(L27,index_plateau!$B$5:$O$69,2,FALSE))","v":""},"",{"$f":"IF(O27=\"\",\"\",IF($C$2<>\"\",VLOOKUP(O27,index_plateau!$B$5:$O$69,$C$2+2,FALSE),VLOOKUP(O27,index_plateau!$B$5:$O$69,$D27+2,FALSE)))","v":""},{"$f":"IF(P27=\"\",\"\",VLOOKUP(O27,index_plateau!$B$5:$O$69,2,FALSE))","v":""},"",{"$f":"IF(R27=\"\",\"\",IF($C$2<>\"\",VLOOKUP(R27,index_plateau!$B$5:$O$69,$C$2+2,FALSE),VLOOKUP(R27,index_plateau!$B$5:$O$69,$D27+2,FALSE)))","v":""},{"$f":"IF(S27=\"\",\"\",VLOOKUP(R27,index_plateau!$B$5:$O$69,2,FALSE))","v":""},"",{"$f":"IF(U27=\"\",\"\",IF($C$2<>\"\",VLOOKUP(U27,index_plateau!$B$5:$O$69,$C$2+2,FALSE),VLOOKUP(U27,index_plateau!$B$5:$O$69,$D27+2,FALSE)))","v":""},{"$f":"IF(V27=\"\",\"\",VLOOKUP(U27,index_plateau!$B$5:$O$69,2,FALSE))","v":""},"",{"$f":"IF(X27=\"\",\"\",IF($C$2<>\"\",VLOOKUP(X27,index_plateau!$B$5:$O$69,$C$2+2,FALSE),VLOOKUP(X27,index_plateau!$B$5:$O$69,$D27+2,FALSE)))","v":""},{"$f":"IF(Y27=\"\",\"\",VLOOKUP(X27,index_plateau!$B$5:$O$69,2,FALSE))","v":""},"",{"$f":"IF(AA27=\"\",\"\",IF($C$2<>\"\",VLOOKUP(AA27,index_plateau!$B$5:$O$69,$C$2+2,FALSE),VLOOKUP(AA27,index_plateau!$B$5:$O$69,$D27+2,FALSE)))","v":""},{"$f":"IF(AB27=\"\",\"\",VLOOKUP(AA27,index_plateau!$B$5:$O$69,2,FALSE))","v":""},"",{"$f":"IF(AD27=\"\",\"\",IF($C$2<>\"\",VLOOKUP(AD27,index_plateau!$B$5:$O$69,$C$2+2,FALSE),VLOOKUP(AD27,index_plateau!$B$5:$O$69,$D27+2,FALSE)))","v":""},{"$f":"IF(AE27=\"\",\"\",VLOOKUP(AD27,index_plateau!$B$5:$O$69,2,FALSE))","v":""},"",{"$f":"IF(AG27=\"\",\"\",IF($C$2<>\"\",VLOOKUP(AG27,index_plateau!$B$5:$O$69,$C$2+2,FALSE),VLOOKUP(AG27,index_plateau!$B$5:$O$69,$D27+2,FALSE)))","v":""},{"$f":"IF(AH27=\"\",\"\",VLOOKUP(AG27,index_plateau!$B$5:$O$69,2,FALSE))","v":""}]
[25,{"$f":"IF(index_classe!F27=\"\",\"\",IF(index_classe!$K$1=\"NON\",index_classe!F27,IF(A28>index_classe!$P$1,\"\",\"Groupe 25\")))","v":""},{"$f":"IF(index_classe!G27=\"\",\"\",IF(index_classe!$K$1=\"NON\",index_classe!G27,IF(A28>index_classe!$P$1,\"\",\">>>>>\")))","v":""},0,null,"",{"$f":"IF(F28=\"\",\"\",IF($C$2<>\"\",VLOOKUP(F28,index_plateau!$B$5:$O$69,$C$2+2,FALSE),VLOOKUP(F28,index_plateau!$B$5:$O$69,$D28+2,FALSE)))","v":""},{"$f":"IF(G28=\"\",\"\",VLOOKUP(F28,index_plateau!$B$5:$O$69,2,FALSE))","v":""},"",{"$f":"IF(I28=\"\",\"\",IF($C$2<>\"\",VLOOKUP(I28,index_plateau!$B$5:$O$69,$C$2+2,FALSE),VLOOKUP(I28,index_plateau!$B$5:$O$69,$D28+2,FALSE)))","v":""},{"$f":"IF(J28=\"\",\"\",VLOOKUP(I28,index_plateau!$B$5:$O$69,2,FALSE))","v":""},"",{"$f":"IF(L28=\"\",\"\",IF($C$2<>\"\",VLOOKUP(L28,index_plateau!$B$5:$O$69,$C$2+2,FALSE),VLOOKUP(L28,index_plateau!$B$5:$O$69,$D28+2,FALSE)))","v":""},{"$f":"IF(M28=\"\",\"\",VLOOKUP(L28,index_plateau!$B$5:$O$69,2,FALSE))","v":""},"",{"$f":"IF(O28=\"\",\"\",IF($C$2<>\"\",VLOOKUP(O28,index_plateau!$B$5:$O$69,$C$2+2,FALSE),VLOOKUP(O28,index_plateau!$B$5:$O$69,$D28+2,FALSE)))","v":""},{"$f":"IF(P28=\"\",\"\",VLOOKUP(O28,index_plateau!$B$5:$O$69,2,FALSE))","v":""},"",{"$f":"IF(R28=\"\",\"\",IF($C$2<>\"\",VLOOKUP(R28,index_plateau!$B$5:$O$69,$C$2+2,FALSE),VLOOKUP(R28,index_plateau!$B$5:$O$69,$D28+2,FALSE)))","v":""},{"$f":"IF(S28=\"\",\"\",VLOOKUP(R28,index_plateau!$B$5:$O$69,2,FALSE))","v":""},"",{"$f":"IF(U28=\"\",\"\",IF($C$2<>\"\",VLOOKUP(U28,index_plateau!$B$5:$O$69,$C$2+2,FALSE),VLOOKUP(U28,index_plateau!$B$5:$O$69,$D28+2,FALSE)))","v":""},{"$f":"IF(V28=\"\",\"\",VLOOKUP(U28,index_plateau!$B$5:$O$69,2,FALSE))","v":""},"",{"$f":"IF(X28=\"\",\"\",IF($C$2<>\"\",VLOOKUP(X28,index_plateau!$B$5:$O$69,$C$2+2,FALSE),VLOOKUP(X28,index_plateau!$B$5:$O$69,$D28+2,FALSE)))","v":""},{"$f":"IF(Y28=\"\",\"\",VLOOKUP(X28,index_plateau!$B$5:$O$69,2,FALSE))","v":""},"",{"$f":"IF(AA28=\"\",\"\",IF($C$2<>\"\",VLOOKUP(AA28,index_plateau!$B$5:$O$69,$C$2+2,FALSE),VLOOKUP(AA28,index_plateau!$B$5:$O$69,$D28+2,FALSE)))","v":""},{"$f":"IF(AB28=\"\",\"\",VLOOKUP(AA28,index_plateau!$B$5:$O$69,2,FALSE))","v":""},"",{"$f":"IF(AD28=\"\",\"\",IF($C$2<>\"\",VLOOKUP(AD28,index_plateau!$B$5:$O$69,$C$2+2,FALSE),VLOOKUP(AD28,index_plateau!$B$5:$O$69,$D28+2,FALSE)))","v":""},{"$f":"IF(AE28=\"\",\"\",VLOOKUP(AD28,index_plateau!$B$5:$O$69,2,FALSE))","v":""},"",{"$f":"IF(AG28=\"\",\"\",IF($C$2<>\"\",VLOOKUP(AG28,index_plateau!$B$5:$O$69,$C$2+2,FALSE),VLOOKUP(AG28,index_plateau!$B$5:$O$69,$D28+2,FALSE)))","v":""},{"$f":"IF(AH28=\"\",\"\",VLOOKUP(AG28,index_plateau!$B$5:$O$69,2,FALSE))","v":""}]
[26,{"$f":"IF(index_classe!F28=\"\",\"\",IF(index_classe!$K$1=\"NON\",index_classe!F28,IF(A29>index_classe!$P$1,\"\",\"Groupe 26\")))","v":""},{"$f":"IF(index_classe!G28=\"\",\"\",IF(index_classe!$K$1=\"NON\",index_classe!G28,IF(A29>index_classe!$P$1,\"\",\">>>>>\")))","v":""},0,null,"",{"$f":"IF(F29=\"\",\"\",IF($C$2<>\"\",VLOOKUP(F29,index_plateau!$B$5:$O$69,$C$2+2,FALSE),VLOOKUP(F29,index_plateau!$B$5:$O$69,$D29+2,FALSE)))","v":""},{"$f":"IF(G29=\"\",\"\",VLOOKUP(F29,index_plateau!$B$5:$O$69,2,FALSE))","v":""},"",{"$f":"IF(I29=\"\",\"\",IF($C$2<>\"\",VLOOKUP(I29,index_plateau!$B$5:$O$69,$C$2+2,FALSE),VLOOKUP(I29,index_plateau!$B$5:$O$69,$D29+2,FALSE)))","v":""},{"$f":"IF(J29=\"\",\"\",VLOOKUP(I29,index_plateau!$B$5:$O$69,2,FALSE))","v":""},"",{"$f":"IF(L29=\"\",\"\",IF($C$2<>\"\",VLOOKUP(L29,index_plateau!$B$5:$O$69,$C$2+2,FALSE),VLOOKUP(L29,index_plateau!$B$5:$O$69,$D29+2,FALSE)))","v":""},{"$f":"IF(M29=\"\",\"\",VLOOKUP(L29,index_plateau!$B$5:$O$69,2,FALSE))","v":""},"",{"$f":"IF(O29=\"\",\"\",IF($C$2<>\"\",VLOOKUP(O29,index_plateau!$B$5:$O$69,$C$2+2,FALSE),VLOOKUP(O29,index_plateau!$B$5:$O$69,$D29+2,FALSE)))","v":""},{"$f":"IF(P29=\"\",\"\",VLOOKUP(O29,index_plateau!$B$5:$O$69,2,FALSE))","v":""},"",{"$f":"IF(R29=\"\",\"\",IF($C$2<>\"\",VLOOKUP(R29,index_plateau!$B$5:$O$69,$C$2+2,FALSE),VLOOKUP(R29,index_plateau!$B$5:$O$69,$D29+2,FALSE)))","v":""},{"$f":"IF(S29=\"\",\"\",VLOOKUP(R29,index_plateau!$B$5:$O$69,2,FALSE))","v":""},"",{"$f":"IF(U29=\"\",\"\",IF($C$2<>\"\",VLOOKUP(U29,index_plateau!$B$5:$O$69,$C$2+2,FALSE),VLOOKUP(U29,index_plateau!$B$5:$O$69,$D29+2,FALSE)))","v":""},{"$f":"IF(V29=\"\",\"\",VLOOKUP(U29,index_plateau!$B$5:$O$69,2,FALSE))","v":""},"",{"$f":"IF(X29=\"\",\"\",IF($C$2<>\"\",VLOOKUP(X29,index_plateau!$B$5:$O$69,$C$2+2,FALSE),VLOOKUP(X29,index_plateau!$B$5:$O$69,$D29+2,FALSE)))","v":""},{"$f":"IF(Y29=\"\",\"\",VLOOKUP(X29,index_plateau!$B$5:$O$69,2,FALSE))","v":""},"",{"$f":"IF(AA29=\"\",\"\",IF($C$2<>\"\",VLOOKUP(AA29,index_plateau!$B$5:$O$69,$C$2+2,FALSE),VLOOKUP(AA29,index_plateau!$B$5:$O$69,$D29+2,FALSE)))","v":""},{"$f":"IF(AB29=\"\",\"\",VLOOKUP(AA29,index_plateau!$B$5:$O$69,2,FALSE))","v":""},"",{"$f":"IF(AD29=\"\",\"\",IF($C$2<>\"\",VLOOKUP(AD29,index_plateau!$B$5:$O$69,$C$2+2,FALSE),VLOOKUP(AD29,index_plateau!$B$5:$O$69,$D29+2,FALSE)))","v":""},{"$f":"IF(AE29=\"\",\"\",VLOOKUP(AD29,index_plateau!$B$5:$O$69,2,FALSE))","v":""},"",{"$f":"IF(AG29=\"\",\"\",IF($C$2<>\"\",VLOOKUP(AG29,index_plateau!$B$5:$O$69,$C$2+2,FALSE),VLOOKUP(AG29,index_plateau!$B$5:$O$69,$D29+2,FALSE)))","v":""},{"$f":"IF(AH29=\"\",\"\",VLOOKUP(AG29,index_plateau!$B$5:$O$69,2,FALSE))","v":""}]
[27,{"$f":"IF(index_classe!F29=\"\",\"\",IF(index_classe!$K$1=\"NON\",index_classe!F29,IF(A30>index_classe!$P$1,\"\",\"Groupe 27\")))","v":""},{"$f":"IF(index_classe!G29=\"\",\"\",IF(index_classe!$K$1=\"NON\",index_classe!G29,IF(A30>index_classe!$P$1,\"\",\">>>>>\")))","v":""},0,null,"",{"$f":"IF(F30=\"\",\"\",IF($C$2<>\"\",VLOOKUP(F30,index_plateau!$B$5:$O$69,$C$2+2,FALSE),VLOOKUP(F30,index_plateau!$B$5:$O$69,$D30+2,FALSE)))","v":""},{"$f":"IF(G30=\"\",\"\",VLOOKUP(F30,index_plateau!$B$5:$O$69,2,FALSE))","v":""},"",{"$f":"IF(I30=\"\",\"\",IF($C$2<>\"\",VLOOKUP(I30,index_plateau!$B$5:$O$69,$C$2+2,FALSE),VLOOKUP(I30,index_plateau!$B$5:$O$69,$D30+2,FALSE)))","v":""},{"$f":"IF(J30=\"\",\"\",VLOOKUP(I30,index_plateau!$B$5:$O$69,2,FALSE))","v":""},"",{"$f":"IF(L30=\"\",\"\",IF($C$2<>\"\",VLOOKUP(L30,index_plateau!$B$5:$O$69,$C$2+2,FALSE),VLOOKUP(L30,index_plateau!$B$5:$O$69,$D30+2,FALSE)))","v":""},{"$f":"IF(M30=\"\",\"\",VLOOKUP(L30,index_plateau!$B$5:$O$69,2,FALSE))","v":""},"",{"$f":"IF(O30=\"\",\"\",IF($C$2<>\"\",VLOOKUP(O30,index_plateau!$B$5:$O$69,$C$2+2,FALSE),VLOOKUP(O30,index_plateau!$B$5:$O$69,$D30+2,FALSE)))","v":""},{"$f":"IF(P30=\"\",\"\",VLOOKUP(O30,index_plateau!$B$5:$O$69,2,FALSE))","v":""},"",{"$f":"IF(R30=\"\",\"\",IF($C$2<>\"\",VLOOKUP(R30,index_plateau!$B$5:$O$69,$C$2+2,FALSE),VLOOKUP(R30,index_plateau!$B$5:$O$69,$D30+2,FALSE)))","v":""},{"$f":"IF(S30=\"\",\"\",VLOOKUP(R30,index_plateau!$B$5:$O$69,2,FALSE))","v":""},"",{"$f":"IF(U30=\"\",\"\",IF($C$2<>\"\",VLOOKUP(U30,index_plateau!$B$5:$O$69,$C$2+2,FALSE),VLOOKUP(U30,index_plateau!$B$5:$O$69,$D30+2,FALSE)))","v":""},{"$f":"IF(V30=\"\",\"\",VLOOKUP(U30,index_plateau!$B$5:$O$69,2,FALSE))","v":""},"",{"$f":"IF(X30=\"\",\"\",IF($C$2<>\"\",VLOOKUP(X30,index_plateau!$B$5:$O$69,$C$2+2,FALSE),VLOOKUP(X30,index_plateau!$B$5:$O$69,$D30+2,FALSE)))","v":""},{"$f":"IF(Y30=\"\",\"\",VLOOKUP(X30,index_plateau!$B$5:$O$69,2,FALSE))","v":""},"",{"$f":"IF(AA30=\"\",\"\",IF($C$2<>\"\",VLOOKUP(AA30,index_plateau!$B$5:$O$69,$C$2+2,FALSE),VLOOKUP(AA30,index_plateau!$B$5:$O$69,$D30+2,FALSE)))","v":""},{"$f":"IF(AB30=\"\",\"\",VLOOKUP(AA30,index_plateau!$B$5:$O$69,2,FALSE))","v":""},"",{"$f":"IF(AD30=\"\",\"\",IF($C$2<>\"\",VLOOKUP(AD30,index_plateau!$B$5:$O$69,$C$2+2,FALSE),VLOOKUP(AD30,index_plateau!$B$5:$O$69,$D30+2,FALSE)))","v":""},{"$f":"IF(AE30=\"\",\"\",VLOOKUP(AD30,index_plateau!$B$5:$O$69,2,FALSE))","v":""},"",{"$f":"IF(AG30=\"\",\"\",IF($C$2<>\"\",VLOOKUP(AG30,index_plateau!$B$5:$O$69,$C$2+2,FALSE),VLOOKUP(AG30,index_plateau!$B$5:$O$69,$D30+2,FALSE)))","v":""},{"$f":"IF(AH30=\"\",\"\",VLOOKUP(AG30,index_plateau!$B$5:$O$69,2,FALSE))","v":""},"","","",""]
[28,{"$f":"IF(index_classe!F30=\"\",\"\",IF(index_classe!$K$1=\"NON\",index_classe!F30,IF(A31>index_classe!$P$1,\"\",\"Groupe x\")))","v":""},{"$f":"IF(index_classe!G30=\"\",\"\",IF(index_classe!$K$1=\"NON\",index_classe!G30,IF(A31>index_classe!$P$1,\"\",\">>>>>\")))","v":""},0,null,"",{"$f":"IF(F31=\"\",\"\",IF($C$2<>\"\",VLOOKUP(F31,index_plateau!$B$5:$O$69,$C$2+2,FALSE),VLOOKUP(F31,index_plateau!$B$5:$O$69,$D31+2,FALSE)))","v":""},{"$f":"IF(G31=\"\",\"\",VLOOKUP(F31,index_plateau!$B$5:$O$69,2,FALSE))","v":""},"",{"$f":"IF(I31=\"\",\"\",IF($C$2<>\"\",VLOOKUP(I31,index_plateau!$B$5:$O$69,$C$2+2,FALSE),VLOOKUP(I31,index_plateau!$B$5:$O$69,$D31+2,FALSE)))","v":""},{"$f":"IF(J31=\"\",\"\",VLOOKUP(I31,index_plateau!$B$5:$O$69,2,FALSE))","v":""},"",{"$f":"IF(L31=\"\",\"\",IF($C$2<>\"\",VLOOKUP(L31,index_plateau!$B$5:$O$69,$C$2+2,FALSE),VLOOKUP(L31,index_plateau!$B$5:$O$69,$D31+2,FALSE)))","v":""},{"$f":"IF(M31=\"\",\"\",VLOOKUP(L31,index_plateau!$B$5:$O$69,2,FALSE))","v":""},"",{"$f":"IF(O31=\"\",\"\",IF($C$2<>\"\",VLOOKUP(O31,index_plateau!$B$5:$O$69,$C$2+2,FALSE),VLOOKUP(O31,index_plateau!$B$5:$O$69,$D31+2,FALSE)))","v":""},{"$f":"IF(P31=\"\",\"\",VLOOKUP(O31,index_plateau!$B$5:$O$69,2,FALSE))","v":""},"",{"$f":"IF(R31=\"\",\"\",IF($C$2<>\"\",VLOOKUP(R31,index_plateau!$B$5:$O$69,$C$2+2,FALSE),VLOOKUP(R31,index_plateau!$B$5:$O$69,$D31+2,FALSE)))","v":""},{"$f":"IF(S31=\"\",\"\",VLOOKUP(R31,index_plateau!$B$5:$O$69,2,FALSE))","v":""},"",{"$f":"IF(U31=\"\",\"\",IF($C$2<>\"\",VLOOKUP(U31,index_plateau!$B$5:$O$69,$C$2+2,FALSE),VLOOKUP(U31,index_plateau!$B$5:$O$69,$D31+2,FALSE)))","v":""},{"$f":"IF(V31=\"\",\"\",VLOOKUP(U31,index_plateau!$B$5:$O$69,2,FALSE))","v":""},"",{"$f":"IF(X31=\"\",\"\",IF($C$2<>\"\",VLOOKUP(X31,index_plateau!$B$5:$O$69,$C$2+2,FALSE),VLOOKUP(X31,index_plateau!$B$5:$O$69,$D31+2,FALSE)))","v":""},{"$f":"IF(Y31=\"\",\"\",VLOOKUP(X31,index_plateau!$B$5:$O$69,2,FALSE))","v":""},"",{"$f":"IF(AA31=\"\",\"\",IF($C$2<>\"\",VLOOKUP(AA31,index_plateau!$B$5:$O$69,$C$2+2,FALSE),VLOOKUP(AA31,index_plateau!$B$5:$O$69,$D31+2,FALSE)))","v":""},{"$f":"IF(AB31=\"\",\"\",VLOOKUP(AA31,index_plateau!$B$5:$O$69,2,FALSE))","v":""},"",{"$f":"IF(AD31=\"\",\"\",IF($C$2<>\"\",VLOOKUP(AD31,index_plateau!$B$5:$O$69,$C$2+2,FALSE),VLOOKUP(AD31,index_plateau!$B$5:$O$69,$D31+2,FALSE)))","v":""},{"$f":"IF(AE31=\"\",\"\",VLOOKUP(AD31,index_plateau!$B$5:$O$69,2,FALSE))","v":""},"",{"$f":"IF(AG31=\"\",\"\",IF($C$2<>\"\",VLOOKUP(AG31,index_plateau!$B$5:$O$69,$C$2+2,FALSE),VLOOKUP(AG31,index_plateau!$B$5:$O$69,$D31+2,FALSE)))","v":""},{"$f":"IF(AH31=\"\",\"\",VLOOKUP(AG31,index_plateau!$B$5:$O$69,2,FALSE))","v":""},"","","",""]
[29,{"$f":"IF(index_classe!F31=\"\",\"\",IF(index_classe!$K$1=\"NON\",index_classe!F31,IF(A32>index_classe!$P$1,\"\",\"Groupe x\")))","v":""},{"$f":"IF(index_classe!G31=\"\",\"\",IF(index_classe!$K$1=\"NON\",index_classe!G31,IF(A32>index_classe!$P$1,\"\",\">>>>>\")))","v":""},0,null,"",{"$f":"IF(F32=\"\",\"\",IF($C$2<>\"\",VLOOKUP(F32,index_plateau!$B$5:$O$69,$C$2+2,FALSE),VLOOKUP(F32,index_plateau!$B$5:$O$69,$D32+2,FALSE)))","v":""},{"$f":"IF(G32=\"\",\"\",VLOOKUP(F32,index_plateau!$B$5:$O$69,2,FALSE))","v":""},"",{"$f":"IF(I32=\"\",\"\",IF($C$2<>\"\",VLOOKUP(I32,index_plateau!$B$5:$O$69,$C$2+2,FALSE),VLOOKUP(I32,index_plateau!$B$5:$O$69,$D32+2,FALSE)))","v":""},{"$f":"IF(J32=\"\",\"\",VLOOKUP(I32,index_plateau!$B$5:$O$69,2,FALSE))","v":""},"",{"$f":"IF(L32=\"\",\"\",IF($C$2<>\"\",VLOOKUP(L32,index_plateau!$B$5:$O$69,$C$2+2,FALSE),VLOOKUP(L32,index_plateau!$B$5:$O$69,$D32+2,FALSE)))","v":""},{"$f":"IF(M32=\"\",\"\",VLOOKUP(L32,index_plateau!$B$5:$O$69,2,FALSE))","v":""},"",{"$f":"IF(O32=\"\",\"\",IF($C$2<>\"\",VLOOKUP(O32,index_plateau!$B$5:$O$69,$C$2+2,FALSE),VLOOKUP(O32,index_plateau!$B$5:$O$69,$D32+2,FALSE)))","v":""},{"$f":"IF(P32=\"\",\"\",VLOOKUP(O32,index_plateau!$B$5:$O$69,2,FALSE))","v":""},"",{"$f":"IF(R32=\"\",\"\",IF($C$2<>\"\",VLOOKUP(R32,index_plateau!$B$5:$O$69,$C$2+2,FALSE),VLOOKUP(R32,index_plateau!$B$5:$O$69,$D32+2,FALSE)))","v":""},{"$f":"IF(S32=\"\",\"\",VLOOKUP(R32,index_plateau!$B$5:$O$69,2,FALSE))","v":""},"",{"$f":"IF(U32=\"\",\"\",IF($C$2<>\"\",VLOOKUP(U32,index_plateau!$B$5:$O$69,$C$2+2,FALSE),VLOOKUP(U32,index_plateau!$B$5:$O$69,$D32+2,FALSE)))","v":""},{"$f":"IF(V32=\"\",\"\",VLOOKUP(U32,index_plateau!$B$5:$O$69,2,FALSE))","v":""},"",{"$f":"IF(X32=\"\",\"\",IF($C$2<>\"\",VLOOKUP(X32,index_plateau!$B$5:$O$69,$C$2+2,FALSE),VLOOKUP(X32,index_plateau!$B$5:$O$69,$D32+2,FALSE)))","v":""},{"$f":"IF(Y32=\"\",\"\",VLOOKUP(X32,index_plateau!$B$5:$O$69,2,FALSE))","v":""},"",{"$f":"IF(AA32=\"\",\"\",IF($C$2<>\"\",VLOOKUP(AA32,index_plateau!$B$5:$O$69,$C$2+2,FALSE),VLOOKUP(AA32,index_plateau!$B$5:$O$69,$D32+2,FALSE)))","v":""},{"$f":"IF(AB32=\"\",\"\",VLOOKUP(AA32,index_plateau!$B$5:$O$69,2,FALSE))","v":""},"",{"$f":"IF(AD32=\"\",\"\",IF($C$2<>\"\",VLOOKUP(AD32,index_plateau!$B$5:$O$69,$C$2+2,FALSE),VLOOKUP(AD32,index_plateau!$B$5:$O$69,$D32+2,FALSE)))","v":""},{"$f":"IF(AE32=\"\",\"\",VLOOKUP(AD32,index_plateau!$B$5:$O$69,2,FALSE))","v":""},"",{"$f":"IF(AG32=\"\",\"\",IF($C$2<>\"\",VLOOKUP(AG32,index_plateau!$B$5:$O$69,$C$2+2,FALSE),VLOOKUP(AG32,index_plateau!$B$5:$O$69,$D32+2,FALSE)))","v":""},{"$f":"IF(AH32=\"\",\"\",VLOOKUP(AG32,index_plateau!$B$5:$O$69,2,FALSE))","v":""},"","","",""]
[30,{"$f":"IF(index_classe!F32=\"\",\"\",IF(index_classe!$K$1=\"NON\",index_classe!F32,IF(A33>index_classe!$P$1,\"\",\"Groupe x\")))","v":""},{"$f":"IF(index_classe!G32=\"\",\"\",IF(index_classe!$K$1=\"NON\",index_classe!G32,IF(A33>index_classe!$P$1,\"\",\">>>>>\")))","v":""},0,null,"",{"$f":"IF(F33=\"\",\"\",IF($C$2<>\"\",VLOOKUP(F33,index_plateau!$B$5:$O$69,$C$2+2,FALSE),VLOOKUP(F33,index_plateau!$B$5:$O$69,$D33+2,FALSE)))","v":""},{"$f":"IF(G33=\"\",\"\",VLOOKUP(F33,index_plateau!$B$5:$O$69,2,FALSE))","v":""},"",{"$f":"IF(I33=\"\",\"\",IF($C$2<>\"\",VLOOKUP(I33,index_plateau!$B$5:$O$69,$C$2+2,FALSE),VLOOKUP(I33,index_plateau!$B$5:$O$69,$D33+2,FALSE)))","v":""},{"$f":"IF(J33=\"\",\"\",VLOOKUP(I33,index_plateau!$B$5:$O$69,2,FALSE))","v":""},"",{"$f":"IF(L33=\"\",\"\",IF($C$2<>\"\",VLOOKUP(L33,index_plateau!$B$5:$O$69,$C$2+2,FALSE),VLOOKUP(L33,index_plateau!$B$5:$O$69,$D33+2,FALSE)))","v":""},{"$f":"IF(M33=\"\",\"\",VLOOKUP(L33,index_plateau!$B$5:$O$69,2,FALSE))","v":""},"",{"$f":"IF(O33=\"\",\"\",IF($C$2<>\"\",VLOOKUP(O33,index_plateau!$B$5:$O$69,$C$2+2,FALSE),VLOOKUP(O33,index_plateau!$B$5:$O$69,$D33+2,FALSE)))","v":""},{"$f":"IF(P33=\"\",\"\",VLOOKUP(O33,index_plateau!$B$5:$O$69,2,FALSE))","v":""},"",{"$f":"IF(R33=\"\",\"\",IF($C$2<>\"\",VLOOKUP(R33,index_plateau!$B$5:$O$69,$C$2+2,FALSE),VLOOKUP(R33,index_plateau!$B$5:$O$69,$D33+2,FALSE)))","v":""},{"$f":"IF(S33=\"\",\"\",VLOOKUP(R33,index_plateau!$B$5:$O$69,2,FALSE))","v":""},"",{"$f":"IF(U33=\"\",\"\",IF($C$2<>\"\",VLOOKUP(U33,index_plateau!$B$5:$O$69,$C$2+2,FALSE),VLOOKUP(U33,index_plateau!$B$5:$O$69,$D33+2,FALSE)))","v":""},{"$f":"IF(V33=\"\",\"\",VLOOKUP(U33,index_plateau!$B$5:$O$69,2,FALSE))","v":""},"",{"$f":"IF(X33=\"\",\"\",IF($C$2<>\"\",VLOOKUP(X33,index_plateau!$B$5:$O$69,$C$2+2,FALSE),VLOOKUP(X33,index_plateau!$B$5:$O$69,$D33+2,FALSE)))","v":""},{"$f":"IF(Y33=\"\",\"\",VLOOKUP(X33,index_plateau!$B$5:$O$69,2,FALSE))","v":""},"",{"$f":"IF(AA33=\"\",\"\",IF($C$2<>\"\",VLOOKUP(AA33,index_plateau!$B$5:$O$69,$C$2+2,FALSE),VLOOKUP(AA33,index_plateau!$B$5:$O$69,$D33+2,FALSE)))","v":""},{"$f":"IF(AB33=\"\",\"\",VLOOKUP(AA33,index_plateau!$B$5:$O$69,2,FALSE))","v":""},"",{"$f":"IF(AD33=\"\",\"\",IF($C$2<>\"\",VLOOKUP(AD33,index_plateau!$B$5:$O$69,$C$2+2,FALSE),VLOOKUP(AD33,index_plateau!$B$5:$O$69,$D33+2,FALSE)))","v":""},{"$f":"IF(AE33=\"\",\"\",VLOOKUP(AD33,index_plateau!$B$5:$O$69,2,FALSE))","v":""},"",{"$f":"IF(AG33=\"\",\"\",IF($C$2<>\"\",VLOOKUP(AG33,index_plateau!$B$5:$O$69,$C$2+2,FALSE),VLOOKUP(AG33,index_plateau!$B$5:$O$69,$D33+2,FALSE)))","v":""},{"$f":"IF(AH33=\"\",\"\",VLOOKUP(AG33,index_plateau!$B$5:$O$69,2,FALSE))","v":""},"","","",""]
[31,{"$f":"IF(index_classe!F33=\"\",\"\",IF(index_classe!$K$1=\"NON\",index_classe!F33,IF(A34>index_classe!$P$1,\"\",\"Groupe x\")))","v":""},{"$f":"IF(index_classe!G33=\"\",\"\",IF(index_classe!$K$1=\"NON\",index_classe!G33,IF(A34>index_classe!$P$1,\"\",\">>>>>\")))","v":""},0,null,"",{"$f":"IF(F34=\"\",\"\",IF($C$2<>\"\",VLOOKUP(F34,index_plateau!$B$5:$O$69,$C$2+2,FALSE),VLOOKUP(F34,index_plateau!$B$5:$O$69,$D34+2,FALSE)))","v":""},{"$f":"IF(G34=\"\",\"\",VLOOKUP(F34,index_plateau!$B$5:$O$69,2,FALSE))","v":""},"",{"$f":"IF(I34=\"\",\"\",IF($C$2<>\"\",VLOOKUP(I34,index_plateau!$B$5:$O$69,$C$2+2,FALSE),VLOOKUP(I34,index_plateau!$B$5:$O$69,$D34+2,FALSE)))","v":""},{"$f":"IF(J34=\"\",\"\",VLOOKUP(I34,index_plateau!$B$5:$O$69,2,FALSE))","v":""},"",{"$f":"IF(L34=\"\",\"\",IF($C$2<>\"\",VLOOKUP(L34,index_plateau!$B$5:$O$69,$C$2+2,FALSE),VLOOKUP(L34,index_plateau!$B$5:$O$69,$D34+2,FALSE)))","v":""},{"$f":"IF(M34=\"\",\"\",VLOOKUP(L34,index_plateau!$B$5:$O$69,2,FALSE))","v":""},"",{"$f":"IF(O34=\"\",\"\",IF($C$2<>\"\",VLOOKUP(O34,index_plateau!$B$5:$O$69,$C$2+2,FALSE),VLOOKUP(O34,index_plateau!$B$5:$O$69,$D34+2,FALSE)))","v":""},{"$f":"IF(P34=\"\",\"\",VLOOKUP(O34,index_plateau!$B$5:$O$69,2,FALSE))","v":""},"",{"$f":"IF(R34=\"\",\"\",IF($C$2<>\"\",VLOOKUP(R34,index_plateau!$B$5:$O$69,$C$2+2,FALSE),VLOOKUP(R34,index_plateau!$B$5:$O$69,$D34+2,FALSE)))","v":""},{"$f":"IF(S34=\"\",\"\",VLOOKUP(R34,index_plateau!$B$5:$O$69,2,FALSE))","v":""},"",{"$f":"IF(U34=\"\",\"\",IF($C$2<>\"\",VLOOKUP(U34,index_plateau!$B$5:$O$69,$C$2+2,FALSE),VLOOKUP(U34,index_plateau!$B$5:$O$69,$D34+2,FALSE)))","v":""},{"$f":"IF(V34=\"\",\"\",VLOOKUP(U34,index_plateau!$B$5:$O$69,2,FALSE))","v":""},"",{"$f":"IF(X34=\"\",\"\",IF($C$2<>\"\",VLOOKUP(X34,index_plateau!$B$5:$O$69,$C$2+2,FALSE),VLOOKUP(X34,index_plateau!$B$5:$O$69,$D34+2,FALSE)))","v":""},{"$f":"IF(Y34=\"\",\"\",VLOOKUP(X34,index_plateau!$B$5:$O$69,2,FALSE))","v":""},"",{"$f":"IF(AA34=\"\",\"\",IF($C$2<>\"\",VLOOKUP(AA34,index_plateau!$B$5:$O$69,$C$2+2,FALSE),VLOOKUP(AA34,index_plateau!$B$5:$O$69,$D34+2,FALSE)))","v":""},{"$f":"IF(AB34=\"\",\"\",VLOOKUP(AA34,index_plateau!$B$5:$O$69,2,FALSE))","v":""},"",{"$f":"IF(AD34=\"\",\"\",IF($C$2<>\"\",VLOOKUP(AD34,index_plateau!$B$5:$O$69,$C$2+2,FALSE),VLOOKUP(AD34,index_plateau!$B$5:$O$69,$D34+2,FALSE)))","v":""},{"$f":"IF(AE34=\"\",\"\",VLOOKUP(AD34,index_plateau!$B$5:$O$69,2,FALSE))","v":""},"",{"$f":"IF(AG34=\"\",\"\",IF($C$2<>\"\",VLOOKUP(AG34,index_plateau!$B$5:$O$69,$C$2+2,FALSE),VLOOKUP(AG34,index_plateau!$B$5:$O$69,$D34+2,FALSE)))","v":""},{"$f":"IF(AH34=\"\",\"\",VLOOKUP(AG34,index_plateau!$B$5:$O$69,2,FALSE))","v":""},"","","",""]
[32,{"$f":"IF(index_classe!F34=\"\",\"\",IF(index_classe!$K$1=\"NON\",index_classe!F34,IF(A35>index_classe!$P$1,\"\",\"Groupe x\")))","v":""},{"$f":"IF(index_classe!G34=\"\",\"\",IF(index_classe!$K$1=\"NON\",index_classe!G34,IF(A35>index_classe!$P$1,\"\",\">>>>>\")))","v":""},0,null,"",{"$f":"IF(F35=\"\",\"\",IF($C$2<>\"\",VLOOKUP(F35,index_plateau!$B$5:$O$69,$C$2+2,FALSE),VLOOKUP(F35,index_plateau!$B$5:$O$69,$D35+2,FALSE)))","v":""},{"$f":"IF(G35=\"\",\"\",VLOOKUP(F35,index_plateau!$B$5:$O$69,2,FALSE))","v":""},"",{"$f":"IF(I35=\"\",\"\",IF($C$2<>\"\",VLOOKUP(I35,index_plateau!$B$5:$O$69,$C$2+2,FALSE),VLOOKUP(I35,index_plateau!$B$5:$O$69,$D35+2,FALSE)))","v":""},{"$f":"IF(J35=\"\",\"\",VLOOKUP(I35,index_plateau!$B$5:$O$69,2,FALSE))","v":""},"",{"$f":"IF(L35=\"\",\"\",IF($C$2<>\"\",VLOOKUP(L35,index_plateau!$B$5:$O$69,$C$2+2,FALSE),VLOOKUP(L35,index_plateau!$B$5:$O$69,$D35+2,FALSE)))","v":""},{"$f":"IF(M35=\"\",\"\",VLOOKUP(L35,index_plateau!$B$5:$O$69,2,FALSE))","v":""},"",{"$f":"IF(O35=\"\",\"\",IF($C$2<>\"\",VLOOKUP(O35,index_plateau!$B$5:$O$69,$C$2+2,FALSE),VLOOKUP(O35,index_plateau!$B$5:$O$69,$D35+2,FALSE)))","v":""},{"$f":"IF(P35=\"\",\"\",VLOOKUP(O35,index_plateau!$B$5:$O$69,2,FALSE))","v":""},"",{"$f":"IF(R35=\"\",\"\",IF($C$2<>\"\",VLOOKUP(R35,index_plateau!$B$5:$O$69,$C$2+2,FALSE),VLOOKUP(R35,index_plateau!$B$5:$O$69,$D35+2,FALSE)))","v":""},{"$f":"IF(S35=\"\",\"\",VLOOKUP(R35,index_plateau!$B$5:$O$69,2,FALSE))","v":""},"",{"$f":"IF(U35=\"\",\"\",IF($C$2<>\"\",VLOOKUP(U35,index_plateau!$B$5:$O$69,$C$2+2,FALSE),VLOOKUP(U35,index_plateau!$B$5:$O$69,$D35+2,FALSE)))","v":""},{"$f":"IF(V35=\"\",\"\",VLOOKUP(U35,index_plateau!$B$5:$O$69,2,FALSE))","v":""},"",{"$f":"IF(X35=\"\",\"\",IF($C$2<>\"\",VLOOKUP(X35,index_plateau!$B$5:$O$69,$C$2+2,FALSE),VLOOKUP(X35,index_plateau!$B$5:$O$69,$D35+2,FALSE)))","v":""},{"$f":"IF(Y35=\"\",\"\",VLOOKUP(X35,index_plateau!$B$5:$O$69,2,FALSE))","v":""},"",{"$f":"IF(AA35=\"\",\"\",IF($C$2<>\"\",VLOOKUP(AA35,index_plateau!$B$5:$O$69,$C$2+2,FALSE),VLOOKUP(AA35,index_plateau!$B$5:$O$69,$D35+2,FALSE)))","v":""},{"$f":"IF(AB35=\"\",\"\",VLOOKUP(AA35,index_plateau!$B$5:$O$69,2,FALSE))","v":""},"",{"$f":"IF(AD35=\"\",\"\",IF($C$2<>\"\",VLOOKUP(AD35,index_plateau!$B$5:$O$69,$C$2+2,FALSE),VLOOKUP(AD35,index_plateau!$B$5:$O$69,$D35+2,FALSE)))","v":""},{"$f":"IF(AE35=\"\",\"\",VLOOKUP(AD35,index_plateau!$B$5:$O$69,2,FALSE))","v":""},"",{"$f":"IF(AG35=\"\",\"\",IF($C$2<>\"\",VLOOKUP(AG35,index_plateau!$B$5:$O$69,$C$2+2,FALSE),VLOOKUP(AG35,index_plateau!$B$5:$O$69,$D35+2,FALSE)))","v":""},{"$f":"IF(AH35=\"\",\"\",VLOOKUP(AG35,index_plateau!$B$5:$O$69,2,FALSE))","v":""},"","","",""]
[33,{"$f":"IF(index_classe!F35=\"\",\"\",IF(index_classe!$K$1=\"NON\",index_classe!F35,IF(A36>index_classe!$P$1,\"\",\"Groupe x\")))","v":""},{"$f":"IF(index_classe!G35=\"\",\"\",IF(index_classe!$K$1=\"NON\",index_classe!G35,IF(A36>index_classe!$P$1,\"\",\">>>>>\")))","v":""},0,null,"",{"$f":"IF(F36=\"\",\"\",IF($C$2<>\"\",VLOOKUP(F36,index_plateau!$B$5:$O$69,$C$2+2,FALSE),VLOOKUP(F36,index_plateau!$B$5:$O$69,$D36+2,FALSE)))","v":""},{"$f":"IF(G36=\"\",\"\",VLOOKUP(F36,index_plateau!$B$5:$O$69,2,FALSE))","v":""},"",{"$f":"IF(I36=\"\",\"\",IF($C$2<>\"\",VLOOKUP(I36,index_plateau!$B$5:$O$69,$C$2+2,FALSE),VLOOKUP(I36,index_plateau!$B$5:$O$69,$D36+2,FALSE)))","v":""},{"$f":"IF(J36=\"\",\"\",VLOOKUP(I36,index_plateau!$B$5:$O$69,2,FALSE))","v":""},"",{"$f":"IF(L36=\"\",\"\",IF($C$2<>\"\",VLOOKUP(L36,index_plateau!$B$5:$O$69,$C$2+2,FALSE),VLOOKUP(L36,index_plateau!$B$5:$O$69,$D36+2,FALSE)))","v":""},{"$f":"IF(M36=\"\",\"\",VLOOKUP(L36,index_plateau!$B$5:$O$69,2,FALSE))","v":""},"",{"$f":"IF(O36=\"\",\"\",IF($C$2<>\"\",VLOOKUP(O36,index_plateau!$B$5:$O$69,$C$2+2,FALSE),VLOOKUP(O36,index_plateau!$B$5:$O$69,$D36+2,FALSE)))","v":""},{"$f":"IF(P36=\"\",\"\",VLOOKUP(O36,index_plateau!$B$5:$O$69,2,FALSE))","v":""},"",{"$f":"IF(R36=\"\",\"\",IF($C$2<>\"\",VLOOKUP(R36,index_plateau!$B$5:$O$69,$C$2+2,FALSE),VLOOKUP(R36,index_plateau!$B$5:$O$69,$D36+2,FALSE)))","v":""},{"$f":"IF(S36=\"\",\"\",VLOOKUP(R36,index_plateau!$B$5:$O$69,2,FALSE))","v":""},"",{"$f":"IF(U36=\"\",\"\",IF($C$2<>\"\",VLOOKUP(U36,index_plateau!$B$5:$O$69,$C$2+2,FALSE),VLOOKUP(U36,index_plateau!$B$5:$O$69,$D36+2,FALSE)))","v":""},{"$f":"IF(V36=\"\",\"\",VLOOKUP(U36,index_plateau!$B$5:$O$69,2,FALSE))","v":""},"",{"$f":"IF(X36=\"\",\"\",IF($C$2<>\"\",VLOOKUP(X36,index_plateau!$B$5:$O$69,$C$2+2,FALSE),VLOOKUP(X36,index_plateau!$B$5:$O$69,$D36+2,FALSE)))","v":""},{"$f":"IF(Y36=\"\",\"\",VLOOKUP(X36,index_plateau!$B$5:$O$69,2,FALSE))","v":""},"",{"$f":"IF(AA36=\"\",\"\",IF($C$2<>\"\",VLOOKUP(AA36,index_plateau!$B$5:$O$69,$C$2+2,FALSE),VLOOKUP(AA36,index_plateau!$B$5:$O$69,$D36+2,FALSE)))","v":""},{"$f":"IF(AB36=\"\",\"\",VLOOKUP(AA36,index_plateau!$B$5:$O$69,2,FALSE))","v":""},"",{"$f":"IF(AD36=\"\",\"\",IF($C$2<>\"\",VLOOKUP(AD36,index_plateau!$B$5:$O$69,$C$2+2,FALSE),VLOOKUP(AD36,index_plateau!$B$5:$O$69,$D36+2,FALSE)))","v":""},{"$f":"IF(AE36=\"\",\"\",VLOOKUP(AD36,index_plateau!$B$5:$O$69,2,FALSE))","v":""},"",{"$f":"IF(AG36=\"\",\"\",IF($C$2<>\"\",VLOOKUP(AG36,index_plateau!$B$5:$O$69,$C$2+2,FALSE),VLOOKUP(AG36,index_plateau!$B$5:$O$69,$D36+2,FALSE)))","v":""},{"$f":"IF(AH36=\"\",\"\",VLOOKUP(AG36,index_plateau!$B$5:$O$69,2,FALSE))","v":""},"","","",""]
[34,{"$f":"IF(index_classe!F36=\"\",\"\",IF(index_classe!$K$1=\"NON\",index_classe!F36,IF(A37>index_classe!$P$1,\"\",\"Groupe x\")))","v":""},{"$f":"IF(index_classe!G36=\"\",\"\",IF(index_classe!$K$1=\"NON\",index_classe!G36,IF(A37>index_classe!$P$1,\"\",\">>>>>\")))","v":""},0,null,"",{"$f":"IF(F37=\"\",\"\",IF($C$2<>\"\",VLOOKUP(F37,index_plateau!$B$5:$O$69,$C$2+2,FALSE),VLOOKUP(F37,index_plateau!$B$5:$O$69,$D37+2,FALSE)))","v":""},{"$f":"IF(G37=\"\",\"\",VLOOKUP(F37,index_plateau!$B$5:$O$69,2,FALSE))","v":""},"",{"$f":"IF(I37=\"\",\"\",IF($C$2<>\"\",VLOOKUP(I37,index_plateau!$B$5:$O$69,$C$2+2,FALSE),VLOOKUP(I37,index_plateau!$B$5:$O$69,$D37+2,FALSE)))","v":""},{"$f":"IF(J37=\"\",\"\",VLOOKUP(I37,index_plateau!$B$5:$O$69,2,FALSE))","v":""},"",{"$f":"IF(L37=\"\",\"\",IF($C$2<>\"\",VLOOKUP(L37,index_plateau!$B$5:$O$69,$C$2+2,FALSE),VLOOKUP(L37,index_plateau!$B$5:$O$69,$D37+2,FALSE)))","v":""},{"$f":"IF(M37=\"\",\"\",VLOOKUP(L37,index_plateau!$B$5:$O$69,2,FALSE))","v":""},"",{"$f":"IF(O37=\"\",\"\",IF($C$2<>\"\",VLOOKUP(O37,index_plateau!$B$5:$O$69,$C$2+2,FALSE),VLOOKUP(O37,index_plateau!$B$5:$O$69,$D37+2,FALSE)))","v":""},{"$f":"IF(P37=\"\",\"\",VLOOKUP(O37,index_plateau!$B$5:$O$69,2,FALSE))","v":""},"",{"$f":"IF(R37=\"\",\"\",IF($C$2<>\"\",VLOOKUP(R37,index_plateau!$B$5:$O$69,$C$2+2,FALSE),VLOOKUP(R37,index_plateau!$B$5:$O$69,$D37+2,FALSE)))","v":""},{"$f":"IF(S37=\"\",\"\",VLOOKUP(R37,index_plateau!$B$5:$O$69,2,FALSE))","v":""},"",{"$f":"IF(U37=\"\",\"\",IF($C$2<>\"\",VLOOKUP(U37,index_plateau!$B$5:$O$69,$C$2+2,FALSE),VLOOKUP(U37,index_plateau!$B$5:$O$69,$D37+2,FALSE)))","v":""},{"$f":"IF(V37=\"\",\"\",VLOOKUP(U37,index_plateau!$B$5:$O$69,2,FALSE))","v":""},"",{"$f":"IF(X37=\"\",\"\",IF($C$2<>\"\",VLOOKUP(X37,index_plateau!$B$5:$O$69,$C$2+2,FALSE),VLOOKUP(X37,index_plateau!$B$5:$O$69,$D37+2,FALSE)))","v":""},{"$f":"IF(Y37=\"\",\"\",VLOOKUP(X37,index_plateau!$B$5:$O$69,2,FALSE))","v":""},"",{"$f":"IF(AA37=\"\",\"\",IF($C$2<>\"\",VLOOKUP(AA37,index_plateau!$B$5:$O$69,$C$2+2,FALSE),VLOOKUP(AA37,index_plateau!$B$5:$O$69,$D37+2,FALSE)))","v":""},{"$f":"IF(AB37=\"\",\"\",VLOOKUP(AA37,index_plateau!$B$5:$O$69,2,FALSE))","v":""},"",{"$f":"IF(AD37=\"\",\"\",IF($C$2<>\"\",VLOOKUP(AD37,index_plateau!$B$5:$O$69,$C$2+2,FALSE),VLOOKUP(AD37,index_plateau!$B$5:$O$69,$D37+2,FALSE)))","v":""},{"$f":"IF(AE37=\"\",\"\",VLOOKUP(AD37,index_plateau!$B$5:$O$69,2,FALSE))","v":""},"",{"$f":"IF(AG37=\"\",\"\",IF($C$2<>\"\",VLOOKUP(AG37,index_plateau!$B$5:$O$69,$C$2+2,FALSE),VLOOKUP(AG37,index_plateau!$B$5:$O$69,$D37+2,FALSE)))","v":""},{"$f":"IF(AH37=\"\",\"\",VLOOKUP(AG37,index_plateau!$B$5:$O$69,2,FALSE))","v":""},"","","",""]
[35,{"$f":"IF(index_classe!F37=\"\",\"\",IF(index_classe!$K$1=\"NON\",index_classe!F37,IF(A38>index_classe!$P$1,\"\",\"Groupe x\")))","v":""},{"$f":"IF(index_classe!G37=\"\",\"\",IF(index_classe!$K$1=\"NON\",index_classe!G37,IF(A38>index_classe!$P$1,\"\",\">>>>>\")))","v":""},0,null,"",{"$f":"IF(F38=\"\",\"\",IF($C$2<>\"\",VLOOKUP(F38,index_plateau!$B$5:$O$69,$C$2+2,FALSE),VLOOKUP(F38,index_plateau!$B$5:$O$69,$D38+2,FALSE)))","v":""},{"$f":"IF(G38=\"\",\"\",VLOOKUP(F38,index_plateau!$B$5:$O$69,2,FALSE))","v":""},"",{"$f":"IF(I38=\"\",\"\",IF($C$2<>\"\",VLOOKUP(I38,index_plateau!$B$5:$O$69,$C$2+2,FALSE),VLOOKUP(I38,index_plateau!$B$5:$O$69,$D38+2,FALSE)))","v":""},{"$f":"IF(J38=\"\",\"\",VLOOKUP(I38,index_plateau!$B$5:$O$69,2,FALSE))","v":""},"",{"$f":"IF(L38=\"\",\"\",IF($C$2<>\"\",VLOOKUP(L38,index_plateau!$B$5:$O$69,$C$2+2,FALSE),VLOOKUP(L38,index_plateau!$B$5:$O$69,$D38+2,FALSE)))","v":""},{"$f":"IF(M38=\"\",\"\",VLOOKUP(L38,index_plateau!$B$5:$O$69,2,FALSE))","v":""},"",{"$f":"IF(O38=\"\",\"\",IF($C$2<>\"\",VLOOKUP(O38,index_plateau!$B$5:$O$69,$C$2+2,FALSE),VLOOKUP(O38,index_plateau!$B$5:$O$69,$D38+2,FALSE)))","v":""},{"$f":"IF(P38=\"\",\"\",VLOOKUP(O38,index_plateau!$B$5:$O$69,2,FALSE))","v":""},"",{"$f":"IF(R38=\"\",\"\",IF($C$2<>\"\",VLOOKUP(R38,index_plateau!$B$5:$O$69,$C$2+2,FALSE),VLOOKUP(R38,index_plateau!$B$5:$O$69,$D38+2,FALSE)))","v":""},{"$f":"IF(S38=\"\",\"\",VLOOKUP(R38,index_plateau!$B$5:$O$69,2,FALSE))","v":""},"",{"$f":"IF(U38=\"\",\"\",IF($C$2<>\"\",VLOOKUP(U38,index_plateau!$B$5:$O$69,$C$2+2,FALSE),VLOOKUP(U38,index_plateau!$B$5:$O$69,$D38+2,FALSE)))","v":""},{"$f":"IF(V38=\"\",\"\",VLOOKUP(U38,index_plateau!$B$5:$O$69,2,FALSE))","v":""},"",{"$f":"IF(X38=\"\",\"\",IF($C$2<>\"\",VLOOKUP(X38,index_plateau!$B$5:$O$69,$C$2+2,FALSE),VLOOKUP(X38,index_plateau!$B$5:$O$69,$D38+2,FALSE)))","v":""},{"$f":"IF(Y38=\"\",\"\",VLOOKUP(X38,index_plateau!$B$5:$O$69,2,FALSE))","v":""},"",{"$f":"IF(AA38=\"\",\"\",IF($C$2<>\"\",VLOOKUP(AA38,index_plateau!$B$5:$O$69,$C$2+2,FALSE),VLOOKUP(AA38,index_plateau!$B$5:$O$69,$D38+2,FALSE)))","v":""},{"$f":"IF(AB38=\"\",\"\",VLOOKUP(AA38,index_plateau!$B$5:$O$69,2,FALSE))","v":""},"",{"$f":"IF(AD38=\"\",\"\",IF($C$2<>\"\",VLOOKUP(AD38,index_plateau!$B$5:$O$69,$C$2+2,FALSE),VLOOKUP(AD38,index_plateau!$B$5:$O$69,$D38+2,FALSE)))","v":""},{"$f":"IF(AE38=\"\",\"\",VLOOKUP(AD38,index_plateau!$B$5:$O$69,2,FALSE))","v":""},"",{"$f":"IF(AG38=\"\",\"\",IF($C$2<>\"\",VLOOKUP(AG38,index_plateau!$B$5:$O$69,$C$2+2,FALSE),VLOOKUP(AG38,index_plateau!$B$5:$O$69,$D38+2,FALSE)))","v":""},{"$f":"IF(AH38=\"\",\"\",VLOOKUP(AG38,index_plateau!$B$5:$O$69,2,FALSE))","v":""},"","","",""]

{"sheet":"coupons_plateau","index":8,"n_rows":135,"n_cols":16,"rows_kept":135,"cut":false,"hidden":false,"merged":[[15,13,15,15],[0,3,0,4],[0,11,0,12],[15,1,15,3],[15,5,15,7],[15,9,15,11],[32,1,32,3],[32,5,32,7],[32,9,32,11],[32,13,32,15],[34,3,34,4],[34,11,34,12],[83,13,83,15],[49,1,49,3],[49,5,49,7],[49,9,49,11],[49,13,49,15],[66,1,66,3],[66,5,66,7],[66,9,66,11],[66,13,66,15],[68,3,68,4],[68,11,68,12],[83,1,83,3],[83,5,83,7],[83,9,83,11],[100,1,100,3],[100,5,100,7],[100,9,100,11],[100,13,100,15],[102,3,102,4],[102,11,102,12],[117,1,117,3],[117,5,117,7],[117,9,117,11],[117,13,117,15],[134,1,134,3],[134,5,134,7],[134,9,134,11],[134,13,134,15]]}
[]
[null,"DATE :",null,{"$f":"index_classe!$E3","v":"Carte N° : 1 - BENZ Nawel"},null,"DATE :",null,{"$f":"index_classe!$E4","v":"Carte N° : 2 - BERNA Laurine"},null,"DATE :",null,{"$f":"index_classe!$E19","v":"Carte N° : 6 - SIOUI Salah"},null,"DATE :",null,{"$f":"index_classe!$E20","v":"Carte N° : 7 - TADEVA Khatmat"}]
[null,"CODE","Numéro BALISE","HEURE LIMITE:",null,"CODE","Numéro BALISE","HEURE LIMITE:",null,"CODE","Numéro BALISE","HEURE LIMITE:",null,"CODE","Numéro BALISE","HEURE LIMITE:"]
[]
[null,{"$f":"IF(preparation_plateau!$L$2>=1,preparation_plateau!$G4,\"\")","v":"AM"},null,"Dpt :             Arr :             Net :",null,{"$f":"IF(preparation_plateau!$L$2>=1,preparation_plateau!$G5,\"\")","v":"UPJ"},null,"Dpt :             Arr :             Net :",null,{"$f":"IF(preparation_plateau!$L$2>=1,preparation_plateau!$G20,\"\")","v":"RO"},null,"Dpt :             Arr :             Net :",null,{"$f":"IF(preparation_plateau!$L$2>=1,preparation_plateau!$G21,\"\")","v":"WT"},null,"Dpt :             Arr :             Net :"]
[null,{"$f":"IF(preparation_plateau!$L$2>=2,preparation_plateau!$J4,\"\")","v":"CBL"},null,"Dpt :             Arr :             Net :",null,{"$f":"IF(preparation_plateau!$L$2>=2,preparation_plateau!$J5,\"\")","v":"UPL"},null,"Dpt :             Arr :             Net :",null,{"$f":"IF(preparation_plateau!$L$2>=2,preparation_plateau!$J20,\"\")","v":"YVI"},null,"Dpt :             Arr :             Net :",null,{"$f":"IF(preparation_plateau!$L$2>=2,preparation_plateau!$J21,\"\")","v":"WB"},null,"Dpt :             Arr :             Net :"]
[null,{"$f":"IF(preparation_plateau!$L$2>=3,preparation_plateau!$M4,\"\")","v":"CBL"},null,"Dpt :             Arr :             Net :",null,{"$f":"IF(preparation_plateau!$L$2>=3,preparation_plateau!$M5,\"\")","v":"EA"},null,"Dpt :             Arr :             Net :",null,{"$f":"IF(preparation_plateau!$L$2>=3,preparation_plateau!$M20,\"\")","v":"YOP"},null,"Dpt :             Arr :             Net :",null,{"$f":"IF(preparation_plateau!$L$2>=3,preparation_plateau!$M21,\"\")","v":"KLT"},null,"Dpt :             Arr :             Net :"]
[null,{"$f":"IF(preparation_plateau!$L$2>=4,preparation_plateau!$P4,\"\")","v":"BAK"},null,"Dpt :             Arr :             Net :",null,{"$f":"IF(preparation_plateau!$L$2>=4,preparation_plateau!$P5,\"\")","v":"EB"},null,"Dpt :             Arr :             Net :",null,{"$f":"IF(preparation_plateau!$L$2>=4,preparation_plateau!$P20,\"\")","v":"RU"},null,"Dpt :             Arr :             Net :",null,{"$f":"IF(preparation_plateau!$L$2>=4,preparation_plateau!$P21,\"\")","v":"KY"},null,"Dpt :             Arr :             Net :"]
[null,{"$f":"IF(preparation_plateau!$L$2>=5,preparation_plateau!$S4,\"\")","v":"CBO"},null,"Dpt :             Arr :             Net :",null,{"$f":"IF(preparation_plateau!$L$2>=5,preparation_plateau!$S5,\"\")","v":"UPL"},null,"Dpt :             Arr :             Net :",null,{"$f":"IF(preparation_plateau!$L$2>=5,preparation_plateau!$S20,\"\")","v":"YYI"},null,"Dpt :             Arr :             Net :",null,{"$f":"IF(preparation_plateau!$L$2>=5,preparation_plateau!$S21,\"\")","v":"LMR"},null,"Dpt :             Arr :             Net :"]
[null,{"$f":"IF(preparation_plateau!$L$2>=6,preparation_plateau!$V4,\"\")","v":""},null,"Dpt :             Arr :             Net :",null,{"$f":"IF(preparation_plateau!$L$2>=6,preparation_plateau!$V5,\"\")","v":""},null,"Dpt :             Arr :             Net :",null,{"$f":"IF(preparation_plateau!$L$2>=6,preparation_plateau!$V20,\"\")","v":""},null,"Dpt :             Arr :             Net :",null,{"$f":"IF(preparation_plateau!$L$2>=6,preparation_plateau!$V21,\"\")","v":""},null,"Dpt :             Arr :             Net :"]
[null,{"$f":"IF(preparation_plateau!$L$2>=7,preparation_plateau!$Y4,\"\")","v":""},null,"Dpt :             Arr :             Net :",null,{"$f":"IF(preparation_plateau!$L$2>=7,preparation_plateau!$Y5,\"\")","v":""},null,"Dpt :             Arr :             Net :",null,{"$f":"IF(preparation_plateau!$L$2>=7,preparation_plateau!$Y20,\"\")","v":""},null,"Dpt :             Arr :             Net :",null,{"$f":"IF(preparation_plateau!$L$2>=7,preparation_plateau!$Y21,\"\")","v":""},null,"Dpt :             Arr :             Net :"]
[null,{"$f":"IF(preparation_plateau!$L$2>=8,preparation_plateau!$AB4,\"\")","v":""},null,"Dpt :             Arr :             Net :",null,{"$f":"IF(preparation_plateau!$L$2>=8,preparation_plateau!$AB5,\"\")","v":""},null,"Dpt :             Arr :             Net :",null,{"$f":"IF(preparation_plateau!$L$2>=8,preparation_plateau!$AB20,\"\")","v":""},null,"Dpt :             Arr :             Net :",null,{"$f":"IF(preparation_plateau!$L$2>=8,preparation_plateau!$AB21,\"\")","v":""},null,"Dpt :             Arr :             Net :"]
[null,{"$f":"IF(preparation_plateau!$L$2>=9,preparation_plateau!$AE4,\"\")","v":""},null,"Dpt :             Arr :             Net :",null,{"$f":"IF(preparation_plateau!$L$2>=9,preparation_plateau!$AE5,\"\")","v":""},null,"Dpt :             Arr :             Net :",null,{"$f":"IF(preparation_plateau!$L$2>=9,preparation_plateau!$AE20,\"\")","v":""},null,"Dpt :             Arr :             Net :",null,{"$f":"IF(preparation_plateau!$L$2>=9,preparation_plateau!$AE21,\"\")","v":""},null,"Dpt :             Arr :             Net :"]
[null,{"$f":"IF(preparation_plateau!$L$2>=10,preparation_plateau!$AH4,\"\")","v":""},null,"Dpt :             Arr :             Net :",null,{"$f":"IF(preparation_plateau!$L$2>=10,preparation_plateau!$AH5,\"\")","v":""},null,"Dpt :             Arr :             Net :",null,{"$f":"IF(preparation_plateau!$L$2>=10,preparation_plateau!$AH20,\"\")","v":""},null,"Dpt :             Arr :             Net :",null,{"$f":"IF(preparation_plateau!$L$2>=10,preparation_plateau!$AH21,\"\")","v":""},null,"Dpt :             Arr :             Net :"]
[null,"Bilan",null,"Tps net :",null,"Bilan",null,"Tps net :",null,"Bilan",null,"Tps net :",null,"Bilan",null,"Tps net :"]
[null,"TEL. CLG : 04 90 58 11 32",null,null,null,"TEL. CLG : 04 90 58 11 32",null,null,null,"TEL. CLG : 04 90 58 11 32",null,null,null,"TEL. CLG : 04 90 58 11 32"]
[]
[]
[null,"DATE :",null,{"$f":"index_classe!$E5","v":"Carte N° : 3 - CHEL Sarah"},null,"DATE :",null,{"$f":"index_classe!$E6","v":"Carte N° : 4 - CLAUD Maxime"},null,"DATE :",null,{"$f":"index_classe!$E21","v":"Carte N° : 8 - TEEC Victor"},null,"DATE :",null,{"$f":"index_classe!$E22","v":"Carte N° : 9 - TEJOR Carla"}]
[null,"CODE","Numéro BALISE","HEURE LIMITE:",null,"CODE","Numéro BALISE","HEURE LIMITE:",null,"CODE","Numéro BALISE","HEURE LIMITE:",null,"CODE","Numéro BALISE","HEURE LIMITE:"]
[]
[null,{"$f":"IF(preparation_plateau!$L$2>=1,preparation_plateau!$G6,\"\")","v":"GQ"},null,"Dpt :             Arr :             Net :",null,{"$f":"IF(preparation_plateau!$L$2>=1,preparation_plateau!$G7,\"\")","v":"IX"},null,"Dpt :             Arr :             Net :",null,{"$f":"IF(preparation_plateau!$L$2>=1,preparation_plateau!$G22,\"\")","v":"PNF"},null,"Dpt :             Arr :             Net :",null,{"$f":"IF(preparation_plateau!$L$2>=1,preparation_plateau!$G23,\"\")","v":"WFT"},null,"Dpt :             Arr :             Net :"]
[null,{"$f":"IF(preparation_plateau!$L$2>=2,preparation_plateau!$J6,\"\")","v":"GE"},null,"Dpt :             Arr :             Net :",null,{"$f":"IF(preparation_plateau!$L$2>=2,preparation_plateau!$J7,\"\")","v":"IQ"},null,"Dpt :             Arr :             Net :",null,{"$f":"IF(preparation_plateau!$L$2>=2,preparation_plateau!$J22,\"\")","v":"POK"},null,"Dpt :             Arr :             Net :",null,{"$f":"IF(preparation_plateau!$L$2>=2,preparation_plateau!$J23,\"\")","v":"CCZ"},null,"Dpt :             Arr :             Net :"]
[null,{"$f":"IF(preparation_plateau!$L$2>=3,preparation_plateau!$M6,\"\")","v":"GO"},null,"Dpt :             Arr :             Net :",null,{"$f":"IF(preparation_plateau!$L$2>=3,preparation_plateau!$M7,\"\")","v":"IX"},null,"Dpt :             Arr :             Net :",null,{"$f":"IF(preparation_plateau!$L$2>=3,preparation_plateau!$M22,\"\")","v":"POG"},null,"Dpt :             Arr :             Net :",null,{"$f":"IF(preparation_plateau!$L$2>=3,preparation_plateau!$M23,\"\")","v":"CCW"},null,"Dpt :             Arr :             Net :"]
[null,{"$f":"IF(preparation_plateau!$L$2>=4,preparation_plateau!$P6,\"\")","v":"FIQ"},null,"Dpt :             Arr :             Net :",null,{"$f":"IF(preparation_plateau!$L$2>=4,preparation_plateau!$P7,\"\")","v":"MBI"},null,"Dpt :             Arr :             Net :",null,{"$f":"IF(preparation_plateau!$L$2>=4,preparation_plateau!$P22,\"\")","v":"ZN"},null,"Dpt :             Arr :             Net :",null,{"$f":"IF(preparation_plateau!$L$2>=4,preparation_plateau!$P23,\"\")","v":"VER"},null,"Dpt :             Arr :             Net :"]
[null,{"$f":"IF(preparation_plateau!$L$2>=5,preparation_plateau!$S6,\"\")","v":"IHE"},null,"Dpt :             Arr :             Net :",null,{"$f":"IF(preparation_plateau!$L$2>=5,preparation_plateau!$S7,\"\")","v":"NAB"},null,"Dpt :             Arr :             Net :",null,{"$f":"IF(preparation_plateau!$L$2>=5,preparation_plateau!$S22,\"\")","v":"POR"},null,"Dpt :             Arr :             Net :",null,{"$f":"IF(preparation_plateau!$L$2>=5,preparation_plateau!$S23,\"\")","v":"VEW"},null,"Dpt :             Arr :             Net :"]
[null,{"$f":"IF(preparation_plateau!$L$2>=6,preparation_plateau!$V6,\"\")","v":""},null,"Dpt :             Arr :             Net :",null,{"$f":"IF(preparation_plateau!$L$2>=6,preparation_plateau!$V7,\"\")","v":""},null,"Dpt :             Arr :             Net :",null,{"$f":"IF(preparation_plateau!$L$2>=6,preparation_plateau!$V22,\"\")","v":""},null,"Dpt :             Arr :             Net :",null,{"$f":"IF(preparation_plateau!$L$2>=6,preparation_plateau!$V23,\"\")","v":""},null,"Dpt :             Arr :             Net :"]
[null,{"$f":"IF(preparation_plateau!$L$2>=7,preparation_plateau!$Y6,\"\")","v":""},null,"Dpt :             Arr :             Net :",null,{"$f":"IF(preparation_plateau!$L$2>=7,preparation_plateau!$Y7,\"\")","v":""},null,"Dpt :             Arr :             Net :",null,{"$f":"IF(preparation_plateau!$L$2>=7,preparation_plateau!$Y22,\"\")","v":""},null,"Dpt :             Arr :             Net :",null,{"$f":"IF(preparation_plateau!$L$2>=7,preparation_plateau!$Y23,\"\")","v":""},null,"Dpt :             Arr :             Net :"]
[null,{"$f":"IF(preparation_plateau!$L$2>=8,preparation_plateau!$AB6,\"\")","v":""},null,"Dpt :             Arr :             Net :",null,{"$f":"IF(preparation_plateau!$L$2>=8,preparation_plateau!$AB7,\"\")","v":""},null,"Dpt :             Arr :             Net :",null,{"$f":"IF(preparation_plateau!$L$2>=8,preparation_plateau!$AB22,\"\")","v":""},null,"Dpt :             Arr :             Net :",null,{"$f":"IF(preparation_plateau!$L$2>=8,preparation_plateau!$AB23,\"\")","v":""},null,"Dpt :             Arr :             Net :"]
[null,{"$f":"IF(preparation_plateau!$L$2>=9,preparation_plateau!$AE6,\"\")","v":""},null,"Dpt :             Arr :             Net :",null,{"$f":"IF(preparation_plateau!$L$2>=9,preparation_plateau!$AE7,\"\")","v":""},null,"Dpt :             Arr :             Net :",null,{"$f":"IF(preparation_plateau!$L$2>=9,preparation_plateau!$AE22,\"\")","v":""},null,"Dpt :             Arr :             Net :",null,{"$f":"IF(preparation_plateau!$L$2>=9,preparation_plateau!$AE23,\"\")","v":""},null,"Dpt :             Arr :             Net :"]
[null,{"$f":"IF(preparation_plateau!$L$2>=10,preparation_plateau!$AH6,\"\")","v":""},null,"Dpt :             Arr :             Net :",null,{"$f":"IF(preparation_plateau!$L$2>=10,preparation_plateau!$AH7,\"\")","v":""},null,"Dpt :             Arr :             Net :",null,{"$f":"IF(preparation_plateau!$L$2>=10,preparation_plateau!$AH22,\"\")","v":""},null,"Dpt :             Arr :             Net :",null,{"$f":"IF(preparation_plateau!$L$2>=10,preparation_plateau!$AH23,\"\")","v":""},null,"Dpt :             Arr :             Net :"]
[null,"Bilan",null,"Tps net :",null,"Bilan",null,"Tps net :",null,"Bilan",null,"Tps net :",null,"Bilan",null,"Tps net :"]
[null,"TEL. CLG : 04 90 58 11 32",null,null,null,"TEL. CLG : 04 90 58 11 32",null,null,null,"TEL. CLG : 04 90 58 11 32",null,null,null,"TEL. CLG : 04 90 58 11 32"]
[]
[]
[null,"DATE :",null,{"$f":"index_classe!$E7","v":"Carte N° : 5 - NAISSA Estelle"},null,"DATE :",null,{"$f":"index_classe!$E8","v":"Carte N° : 6 - FA Dylan"},null,"DATE :",null,{"$f":"index_classe!$E23","v":"Carte N° : 10 - THIER Andrea"},null,"DATE :",null,{"$f":"index_classe!$E24","v":"Carte N° : 12 - YI William"}]
[null,"CODE","Numéro BALISE","HEURE LIMITE:",null,"CODE","Numéro BALISE","HEURE LIMITE:",null,"CODE","Numéro BALISE","HEURE LIMITE:",null,"CODE","Numéro BALISE","HEURE LIMITE:"]
[]
[null,{"$f":"IF(preparation_plateau!$L$2>=1,preparation_plateau!$G8,\"\")","v":"DSJ"},null,"Dpt :             Arr :             Net :",null,{"$f":"IF(preparation_plateau!$L$2>=1,preparation_plateau!$G9,\"\")","v":"ZOI"},null,"Dpt :             Arr :             Net :",null,{"$f":"IF(preparation_plateau!$L$2>=1,preparation_plateau!$G24,\"\")","v":"RBK"},null,"Dpt :             Arr :             Net :",null,{"$f":"IF(preparation_plateau!$L$2>=1,preparation_plateau!$G25,\"\")","v":"HIM"},null,"Dpt :             Arr :             Net :"]
[null,{"$f":"IF(preparation_plateau!$L$2>=2,preparation_plateau!$J8,\"\")","v":"OD"},null,"Dpt :             Arr :             Net :",null,{"$f":"IF(preparation_plateau!$L$2>=2,preparation_plateau!$J9,\"\")","v":"ZOP"},null,"Dpt :             Arr :             Net :",null,{"$f":"IF(preparation_plateau!$L$2>=2,preparation_plateau!$J24,\"\")","v":"SAN"},null,"Dpt :             Arr :             Net :",null,{"$f":"IF(preparation_plateau!$L$2>=2,preparation_plateau!$J25,\"\")","v":"RRA"},null,"Dpt :             Arr :             Net :"]
[null,{"$f":"IF(preparation_plateau!$L$2>=3,preparation_plateau!$M8,\"\")","v":"OI"},null,"Dpt :             Arr :             Net :",null,{"$f":"IF(preparation_plateau!$L$2>=3,preparation_plateau!$M9,\"\")","v":"ZON"},null,"Dpt :             Arr :             Net :",null,{"$f":"IF(preparation_plateau!$L$2>=3,preparation_plateau!$M24,\"\")","v":"RBT"},null,"Dpt :             Arr :             Net :",null,{"$f":"IF(preparation_plateau!$L$2>=3,preparation_plateau!$M25,\"\")","v":"IJA"},null,"Dpt :             Arr :             Net :"]
[null,{"$f":"IF(preparation_plateau!$L$2>=4,preparation_plateau!$P8,\"\")","v":"OH"},null,"Dpt :             Arr :             Net :",null,{"$f":"IF(preparation_plateau!$L$2>=4,preparation_plateau!$P9,\"\")","v":"RP"},null,"Dpt :             Arr :             Net :",null,{"$f":"IF(preparation_plateau!$L$2>=4,preparation_plateau!$P24,\"\")","v":"SCA"},null,"Dpt :             Arr :             Net :",null,{"$f":"IF(preparation_plateau!$L$2>=4,preparation_plateau!$P25,\"\")","v":"HIE"},null,"Dpt :             Arr :             Net :"]
[null,{"$f":"IF(preparation_plateau!$L$2>=5,preparation_plateau!$S8,\"\")","v":"DSS"},null,"Dpt :             Arr :             Net :",null,{"$f":"IF(preparation_plateau!$L$2>=5,preparation_plateau!$S9,\"\")","v":"ZOP"},null,"Dpt :             Arr :             Net :",null,{"$f":"IF(preparation_plateau!$L$2>=5,preparation_plateau!$S24,\"\")","v":"GGJ"},null,"Dpt :             Arr :             Net :",null,{"$f":"IF(preparation_plateau!$L$2>=5,preparation_plateau!$S25,\"\")","v":"HIK"},null,"Dpt :             Arr :             Net :"]
[null,{"$f":"IF(preparation_plateau!$L$2>=6,preparation_plateau!$V8,\"\")","v":""},null,"Dpt :             Arr :             Net :",null,{"$f":"IF(preparation_plateau!$L$2>=6,preparation_plateau!$V9,\"\")","v":""},null,"Dpt :             Arr :             Net :",null,{"$f":"IF(preparation_plateau!$L$2>=6,preparation_plateau!$V24,\"\")","v":""},null,"Dpt :             Arr :             Net :",null,{"$f":"IF(preparation_plateau!$L$2>=6,preparation_plateau!$V25,\"\")","v":""},null,"Dpt :             Arr :             Net :"]
[null,{"$f":"IF(preparation_plateau!$L$2>=7,preparation_plateau!$Y8,\"\")","v":""},null,"Dpt :             Arr :             Net :",null,{"$f":"IF(preparation_plateau!$L$2>=7,preparation_plateau!$Y9,\"\")","v":""},null,"Dpt :             Arr :             Net :",null,{"$f":"IF(preparation_plateau!$L$2>=7,preparation_plateau!$Y24,\"\")","v":""},null,"Dpt :             Arr :             Net :",null,{"$f":"IF(preparation_plateau!$L$2>=7,preparation_plateau!$Y25,\"\")","v":""},null,"Dpt :             Arr :             Net :"]
[null,{"$f":"IF(preparation_plateau!$L$2>=8,preparation_plateau!$AB8,\"\")","v":""},null,"Dpt :             Arr :             Net :",null,{"$f":"IF(preparation_plateau!$L$2>=8,preparation_plateau!$AB9,\"\")","v":""},null,"Dpt :             Arr :             Net :",null,{"$f":"IF(preparation_plateau!$L$2>=8,preparation_plateau!$AB24,\"\")","v":""},null,"Dpt :             Arr :             Net :",null,{"$f":"IF(preparation_plateau!$L$2>=8,preparation_plateau!$AB25,\"\")","v":""},null,"Dpt :             Arr :             Net :"]
[null,{"$f":"IF(preparation_plateau!$L$2>=9,preparation_plateau!$AE8,\"\")","v":""},null,"Dpt :             Arr :             Net :",null,{"$f":"IF(preparation_plateau!$L$2>=9,preparation_plateau!$AE9,\"\")","v":""},null,"Dpt :             Arr :             Net :",null,{"$f":"IF(preparation_plateau!$L$2>=9,preparation_plateau!$AE24,\"\")","v":""},null,"Dpt :             Arr :             Net :",null,{"$f":"IF(preparation_plateau!$L$2>=9,preparation_plateau!$AE25,\"\")","v":""},null,"Dpt :             Arr :             Net :"]
[null,{"$f":"IF(preparation_plateau!$L$2>=10,preparation_plateau!$AH8,\"\")","v":""},null,"Dpt :             Arr :             Net :",null,{"$f":"IF(preparation_plateau!$L$2>=10,preparation_plateau!$AH9,\"\")","v":""},null,"Dpt :             Arr :             Net :",null,{"$f":"IF(preparation_plateau!$L$2>=10,preparation_plateau!$AH24,\"\")","v":""},null,"Dpt :             Arr :             Net :",null,{"$f":"IF(preparation_plateau!$L$2>=10,preparation_plateau!$AH25,\"\")","v":""},null,"Dpt :             Arr :             Net :"]
[null,"Bilan",null,"Tps net :",null,"Bilan",null,"Tps net :",null,"Bilan",null,"Tps net :",null,"Bilan",null,"Tps net :"]
[null,"TEL. CLG : 04 90 58 11 32",null,null,null,"TEL. CLG : 04 90 58 11 32",null,null,null,"TEL. CLG : 04 90 58 11 32",null,null,null,"TEL. CLG : 04 90 58 11 32"]
[]
[]
[null,"DATE :",null,{"$f":"index_classe!$E9","v":"Carte N° : 7 - FLEIN Theo"},null,"DATE :",null,{"$f":"index_classe!$E10","v":"Carte N° : 8 - JEAON Alexis"},null,"DATE :",null,{"$f":"index_classe!$E25","v":""},null,"DATE :",null,{"$f":"index_classe!$E26","v":""}]
[null,"CODE","Numéro BALISE","HEURE LIMITE:",null,"CODE","Numéro BALISE","HEURE LIMITE:",null,"CODE","Numéro BALISE","HEURE LIMITE:",null,"CODE","Numéro BALISE","HEURE LIMITE:"]
[]
[null,{"$f":"IF(preparation_plateau!$L$2>=1,preparation_plateau!$G10,\"\")","v":"WB"},null,"Dpt :             Arr :             Net :",null,{"$f":"IF(preparation_plateau!$L$2>=1,preparation_plateau!$G11,\"\")","v":"PNC"},null,"Dpt :             Arr :             Net :",null,{"$f":"IF(preparation_plateau!$L$2>=1,preparation_plateau!$G26,\"\")","v":""},null,"Dpt :             Arr :             Net :",null,{"$f":"IF(preparation_plateau!$L$2>=1,preparation_plateau!$G27,\"\")","v":""},null,"Dpt :             Arr :             Net :"]
[null,{"$f":"IF(preparation_plateau!$L$2>=2,preparation_plateau!$J10,\"\")","v":"MNB"},null,"Dpt :             Arr :             Net :",null,{"$f":"IF(preparation_plateau!$L$2>=2,preparation_plateau!$J11,\"\")","v":"ZQ"},null,"Dpt :             Arr :             Net :",null,{"$f":"IF(preparation_plateau!$L$2>=2,preparation_plateau!$J26,\"\")","v":""},null,"Dpt :             Arr :             Net :",null,{"$f":"IF(preparation_plateau!$L$2>=2,preparation_plateau!$J27,\"\")","v":""},null,"Dpt :             Arr :             Net :"]
[null,{"$f":"IF(preparation_plateau!$L$2>=3,preparation_plateau!$M10,\"\")","v":"KLS"},null,"Dpt :             Arr :             Net :",null,{"$f":"IF(preparation_plateau!$L$2>=3,preparation_plateau!$M11,\"\")","v":"PNC"},null,"Dpt :             Arr :             Net :",null,{"$f":"IF(preparation_plateau!$L$2>=3,preparation_plateau!$M26,\"\")","v":""},null,"Dpt :             Arr :             Net :",null,{"$f":"IF(preparation_plateau!$L$2>=3,preparation_plateau!$M27,\"\")","v":""},null,"Dpt :             Arr :             Net :"]
[null,{"$f":"IF(preparation_plateau!$L$2>=4,preparation_plateau!$P10,\"\")","v":"KMX"},null,"Dpt :             Arr :             Net :",null,{"$f":"IF(preparation_plateau!$L$2>=4,preparation_plateau!$P11,\"\")","v":"ZH"},null,"Dpt :             Arr :             Net :",null,{"$f":"IF(preparation_plateau!$L$2>=4,preparation_plateau!$P26,\"\")","v":""},null,"Dpt :             Arr :             Net :",null,{"$f":"IF(preparation_plateau!$L$2>=4,preparation_plateau!$P27,\"\")","v":""},null,"Dpt :             Arr :             Net :"]
[null,{"$f":"IF(preparation_plateau!$L$2>=5,preparation_plateau!$S10,\"\")","v":"LMU"},null,"Dpt :             Arr :             Net :",null,{"$f":"IF(preparation_plateau!$L$2>=5,preparation_plateau!$S11,\"\")","v":"PNP"},null,"Dpt :             Arr :             Net :",null,{"$f":"IF(preparation_plateau!$L$2>=5,preparation_plateau!$S26,\"\")","v":""},null,"Dpt :             Arr :             Net :",null,{"$f":"IF(preparation_plateau!$L$2>=5,preparation_plateau!$S27,\"\")","v":""},null,"Dpt :             Arr :             Net :"]
[null,{"$f":"IF(preparation_plateau!$L$2>=6,preparation_plateau!$V10,\"\")","v":""},null,"Dpt :             Arr :             Net :",null,{"$f":"IF(preparation_plateau!$L$2>=6,preparation_plateau!$V11,\"\")","v":""},null,"Dpt :             Arr :             Net :",null,{"$f":"IF(preparation_plateau!$L$2>=6,preparation_plateau!$V26,\"\")","v":""},null,"Dpt :             Arr :             Net :",null,{"$f":"IF(preparation_plateau!$L$2>=6,preparation_plateau!$V27,\"\")","v":""},null,"Dpt :             Arr :             Net :"]
[null,{"$f":"IF(preparation_plateau!$L$2>=7,preparation_plateau!$Y10,\"\")","v":""},null,"Dpt :             Arr :             Net :",null,{"$f":"IF(preparation_plateau!$L$2>=7,preparation_plateau!$Y11,\"\")","v":""},null,"Dpt :             Arr :             Net :",null,{"$f":"IF(preparation_plateau!$L$2>=7,preparation_plateau!$Y26,\"\")","v":""},null,"Dpt :             Arr :             Net :",null,{"$f":"IF(preparation_plateau!$L$2>=7,preparation_plateau!$Y27,\"\")","v":""},null,"Dpt :             Arr :             Net :"]
[null,{"$f":"IF(preparation_plateau!$L$2>=8,preparation_plateau!$AB10,\"\")","v":""},null,"Dpt :             Arr :             Net :",null,{"$f":"IF(preparation_plateau!$L$2>=8,preparation_plateau!$AB11,\"\")","v":""},null,"Dpt :             Arr :             Net :",null,{"$f":"IF(preparation_plateau!$L$2>=8,preparation_plateau!$AB26,\"\")","v":""},null,"Dpt :             Arr :             Net :",null,{"$f":"IF(preparation_plateau!$L$2>=8,preparation_plateau!$AB27,\"\")","v":""},null,"Dpt :             Arr :             Net :"]
[null,{"$f":"IF(preparation_plateau!$L$2>=9,preparation_plateau!$AE25,\"\")","v":""},null,"Dpt :             Arr :             Net :",null,{"$f":"IF(preparation_plateau!$L$2>=9,preparation_plateau!$AE11,\"\")","v":""},null,"Dpt :             Arr :             Net :",null,{"$f":"IF(preparation_plateau!$L$2>=9,preparation_plateau!$AE26,\"\")","v":""},null,"Dpt :             Arr :             Net :",null,{"$f":"IF(preparation_plateau!$L$2>=9,preparation_plateau!$AE27,\"\")","v":""},null,"Dpt :             Arr :             Net :"]
[null,{"$f":"IF(preparation_plateau!$L$2>=10,preparation_plateau!$AH10,\"\")","v":""},null,"Dpt :             Arr :             Net :",null,{"$f":"IF(preparation_plateau!$L$2>=10,preparation_plateau!$AH11,\"\")","v":""},null,"Dpt :             Arr :             Net :",null,{"$f":"IF(preparation_plateau!$L$2>=10,preparation_plateau!$AH26,\"\")","v":""},null,"Dpt :             Arr :             Net :",null,{"$f":"IF(preparation_plateau!$L$2>=10,preparation_plateau!$AH27,\"\")","v":""},null,"Dpt :             Arr :             Net :"]
[null,"Bilan",null,"Tps net :",null,"Bilan",null,"Tps net :",null,"Bilan",null,"Tps net :",null,"Bilan",null,"Tps net :"]
[null,"TEL. CLG : 04 90 58 11 32",null,null,null,"TEL. CLG : 04 90 58 11 32",null,null,null,"TEL. CLG : 04 90 58 11 32",null,null,null,"TEL. CLG : 04 90 58 11 32"]
[]
[]
[null,"DATE :",null,{"$f":"index_classe!$E11","v":"Carte N° : 9 - KOLA Alexandre"},null,"DATE :",null,{"$f":"index_classe!$E12","v":"Carte N° : 10 - LERHE Melvin"},null,"DATE :",null,{"$f":"index_classe!$E27","v":""},null,"DATE :",null,{"$f":"index_classe!$E28","v":""}]
[null,"CODE","Numéro BALISE","HEURE LIMITE:",null,"CODE","Numéro BALISE","HEURE LIMITE:",null,"CODE","Numéro BALISE","HEURE LIMITE:",null,"CODE","Numéro BALISE","HEURE LIMITE:"]
[]
[null,{"$f":"IF(preparation_plateau!$L$2>=1,preparation_plateau!$G12,\"\")","v":"WFX"},null,"Dpt :             Arr :             Net :",null,{"$f":"IF(preparation_plateau!$L$2>=1,preparation_plateau!$G13,\"\")","v":"GGD"},null,"Dpt :             Arr :             Net :",null,{"$f":"IF(preparation_plateau!$L$2>=1,preparation_plateau!$G28,\"\")","v":""},null,"Dpt :             Arr :             Net :",null,{"$f":"IF(preparation_plateau!$L$2>=1,preparation_plateau!$G29,\"\")","v":""},null,"Dpt :             Arr :             Net :"]
[null,{"$f":"IF(preparation_plateau!$L$2>=2,preparation_plateau!$J12,\"\")","v":"WFX"},null,"Dpt :             Arr :             Net :",null,{"$f":"IF(preparation_plateau!$L$2>=2,preparation_plateau!$J13,\"\")","v":"GGD"},null,"Dpt :             Arr :             Net :",null,{"$f":"IF(preparation_plateau!$L$2>=2,preparation_plateau!$J28,\"\")","v":""},null,"Dpt :             Arr :             Net :",null,{"$f":"IF(preparation_plateau!$L$2>=2,preparation_plateau!$J29,\"\")","v":""},null,"Dpt :             Arr :             Net :"]
[null,{"$f":"IF(preparation_plateau!$L$2>=3,preparation_plateau!$M12,\"\")","v":"XGF"},null,"Dpt :             Arr :             Net :",null,{"$f":"IF(preparation_plateau!$L$2>=3,preparation_plateau!$M13,\"\")","v":"SAJ"},null,"Dpt :             Arr :             Net :",null,{"$f":"IF(preparation_plateau!$L$2>=3,preparation_plateau!$M28,\"\")","v":""},null,"Dpt :             Arr :             Net :",null,{"$f":"IF(preparation_plateau!$L$2>=3,preparation_plateau!$M29,\"\")","v":""},null,"Dpt :             Arr :             Net :"]
[null,{"$f":"IF(preparation_plateau!$L$2>=4,preparation_plateau!$P12,\"\")","v":"WFH"},null,"Dpt :             Arr :             Net :",null,{"$f":"IF(preparation_plateau!$L$2>=4,preparation_plateau!$P13,\"\")","v":"GGL"},null,"Dpt :             Arr :             Net :",null,{"$f":"IF(preparation_plateau!$L$2>=4,preparation_plateau!$P28,\"\")","v":""},null,"Dpt :             Arr :             Net :",null,{"$f":"IF(preparation_plateau!$L$2>=4,preparation_plateau!$P29,\"\")","v":""},null,"Dpt :             Arr :             Net :"]
[null,{"$f":"IF(preparation_plateau!$L$2>=5,preparation_plateau!$S12,\"\")","v":"WFX"},null,"Dpt :             Arr :             Net :",null,{"$f":"IF(preparation_plateau!$L$2>=5,preparation_plateau!$S13,\"\")","v":"GGA"},null,"Dpt :             Arr :             Net :",null,{"$f":"IF(preparation_plateau!$L$2>=5,preparation_plateau!$S28,\"\")","v":""},null,"Dpt :             Arr :             Net :",null,{"$f":"IF(preparation_plateau!$L$2>=5,preparation_plateau!$S29,\"\")","v":""},null,"Dpt :             Arr :             Net :"]
[null,{"$f":"IF(preparation_plateau!$L$2>=6,preparation_plateau!$V12,\"\")","v":""},null,"Dpt :             Arr :             Net :",null,{"$f":"IF(preparation_plateau!$L$2>=6,preparation_plateau!$V13,\"\")","v":""},null,"Dpt :             Arr :             Net :",null,{"$f":"IF(preparation_plateau!$L$2>=6,preparation_plateau!$V28,\"\")","v":""},null,"Dpt :             Arr :             Net :",null,{"$f":"IF(preparation_plateau!$L$2>=6,preparation_plateau!$V29,\"\")","v":""},null,"Dpt :             Arr :             Net :"]
[null,{"$f":"IF(preparation_plateau!$L$2>=7,preparation_plateau!$Y12,\"\")","v":""},null,"Dpt :             Arr :             Net :",null,{"$f":"IF(preparation_plateau!$L$2>=7,preparation_plateau!$Y13,\"\")","v":""},null,"Dpt :             Arr :             Net :",null,{"$f":"IF(preparation_plateau!$L$2>=7,preparation_plateau!$Y28,\"\")","v":""},null,"Dpt :             Arr :             Net :",null,{"$f":"IF(preparation_plateau!$L$2>=7,preparation_plateau!$Y29,\"\")","v":""},null,"Dpt :             Arr :             Net :"]
[null,{"$f":"IF(preparation_plateau!$L$2>=8,preparation_plateau!$AB12,\"\")","v":""},null,"Dpt :             Arr :             Net :",null,{"$f":"IF(preparation_plateau!$L$2>=8,preparation_plateau!$AB13,\"\")","v":""},null,"Dpt :             Arr :             Net :",null,{"$f":"IF(preparation_plateau!$L$2>=8,preparation_plateau!$AB28,\"\")","v":""},null,"Dpt :             Arr :             Net :",null,{"$f":"IF(preparation_plateau!$L$2>=8,preparation_plateau!$AB29,\"\")","v":""},null,"Dpt :             Arr :             Net :"]
[null,{"$f":"IF(preparation_plateau!$L$2>=9,preparation_plateau!$AE12,\"\")","v":""},null,"Dpt :             Arr :             Net :",null,{"$f":"IF(preparation_plateau!$L$2>=9,preparation_plateau!$AE13,\"\")","v":""},null,"Dpt :             Arr :             Net :",null,{"$f":"IF(preparation_plateau!$L$2>=9,preparation_plateau!$AE28,\"\")","v":""},null,"Dpt :             Arr :             Net :",null,{"$f":"IF(preparation_plateau!$L$2>=9,preparation_plateau!$AE29,\"\")","v":""},null,"Dpt :             Arr :             Net :"]
[null,{"$f":"IF(preparation_plateau!$L$2>=10,preparation_plateau!$AH12,\"\")","v":""},null,"Dpt :             Arr :             Net :",null,{"$f":"IF(preparation_plateau!$L$2>=10,preparation_plateau!$AH13,\"\")","v":""},null,"Dpt :             Arr :             Net :",null,{"$f":"IF(preparation_plateau!$L$2>=10,preparation_plateau!$AH28,\"\")","v":""},null,"Dpt :             Arr :             Net :",null,{"$f":"IF(preparation_plateau!$L$2>=10,preparation_plateau!$AH29,\"\")","v":""},null,"Dpt :             Arr :             Net :"]
[null,"Bilan",null,"Tps net :",null,"Bilan",null,"Tps net :",null,"Bilan",null,"Tps net :",null,"Bilan",null,"Tps net :"]
[null,"TEL. CLG : 04 90 58 11 32",null,null,null,"TEL. CLG : 04 90 58 11 32",null,null,null,"TEL. CLG : 04 90 58 11 32",null,null,null,"TEL. CLG : 04 90 58 11 32"]
[]
[]
[null,"DATE :",null,{"$f":"index_classe!$E13","v":"Carte N° : 11 - LOE Mickael"},null,"DATE :",null,{"$f":"index_classe!$E14","v":"Carte N° : 1 - MORET Alice"},null,"DATE :",null,{"$f":"index_classe!$E29","v":""},null,"DATE :",null,{"$f":"index_classe!$E30","v":""}]
[null,"CODE","Numéro BALISE","HEURE LIMITE:",null,"CODE","Numéro BALISE","HEURE LIMITE:",null,"CODE","Numéro BALISE","HEURE LIMITE:",null,"CODE","Numéro BALISE","HEURE LIMITE:"]
[]
[null,{"$f":"IF(preparation_plateau!$L$2>=1,preparation_plateau!$G14,\"\")","v":"ESA"},null,"Dpt :             Arr :             Net :",null,{"$f":"IF(preparation_plateau!$L$2>=1,preparation_plateau!$G15,\"\")","v":"BAM"},null,"Dpt :             Arr :             Net :",null,{"$f":"IF(preparation_plateau!$L$2>=1,preparation_plateau!$G30,\"\")","v":""},null,"Dpt :             Arr :             Net :",null,{"$f":"IF(preparation_plateau!$L$2>=1,preparation_plateau!$G31,\"\")","v":""},null,"Dpt :             Arr :             Net :"]
[null,{"$f":"IF(preparation_plateau!$L$2>=2,preparation_plateau!$J14,\"\")","v":"ESA"},null,"Dpt :             Arr :             Net :",null,{"$f":"IF(preparation_plateau!$L$2>=2,preparation_plateau!$J15,\"\")","v":"BAL"},null,"Dpt :             Arr :             Net :",null,{"$f":"IF(preparation_plateau!$L$2>=2,preparation_plateau!$J30,\"\")","v":""},null,"Dpt :             Arr :             Net :",null,{"$f":"IF(preparation_plateau!$L$2>=2,preparation_plateau!$J31,\"\")","v":""},null,"Dpt :             Arr :             Net :"]
[null,{"$f":"IF(preparation_plateau!$L$2>=3,preparation_plateau!$M14,\"\")","v":"ESF"},null,"Dpt :             Arr :             Net :",null,{"$f":"IF(preparation_plateau!$L$2>=3,preparation_plateau!$M15,\"\")","v":"BAF"},null,"Dpt :             Arr :             Net :",null,{"$f":"IF(preparation_plateau!$L$2>=3,preparation_plateau!$M30,\"\")","v":""},null,"Dpt :             Arr :             Net :",null,{"$f":"IF(preparation_plateau!$L$2>=3,preparation_plateau!$M31,\"\")","v":""},null,"Dpt :             Arr :             Net :"]
[null,{"$f":"IF(preparation_plateau!$L$2>=4,preparation_plateau!$P14,\"\")","v":"DRA"},null,"Dpt :             Arr :             Net :",null,{"$f":"IF(preparation_plateau!$L$2>=4,preparation_plateau!$P15,\"\")","v":"BAN"},null,"Dpt :             Arr :             Net :",null,{"$f":"IF(preparation_plateau!$L$2>=4,preparation_plateau!$P30,\"\")","v":""},null,"Dpt :             Arr :             Net :",null,{"$f":"IF(preparation_plateau!$L$2>=4,preparation_plateau!$P31,\"\")","v":""},null,"Dpt :             Arr :             Net :"]
[null,{"$f":"IF(preparation_plateau!$L$2>=5,preparation_plateau!$S14,\"\")","v":"LLM"},null,"Dpt :             Arr :             Net :",null,{"$f":"IF(preparation_plateau!$L$2>=5,preparation_plateau!$S15,\"\")","v":"AQ"},null,"Dpt :             Arr :             Net :",null,{"$f":"IF(preparation_plateau!$L$2>=5,preparation_plateau!$S30,\"\")","v":""},null,"Dpt :             Arr :             Net :",null,{"$f":"IF(preparation_plateau!$L$2>=5,preparation_plateau!$S31,\"\")","v":""},null,"Dpt :             Arr :             Net :"]
[null,{"$f":"IF(preparation_plateau!$L$2>=6,preparation_plateau!$V14,\"\")","v":""},null,"Dpt :             Arr :             Net :",null,{"$f":"IF(preparation_plateau!$L$2>=6,preparation_plateau!$V15,\"\")","v":""},null,"Dpt :             Arr :             Net :",null,{"$f":"IF(preparation_plateau!$L$2>=6,preparation_plateau!$V30,\"\")","v":""},null,"Dpt :             Arr :             Net :",null,{"$f":"IF(preparation_plateau!$L$2>=6,preparation_plateau!$V31,\"\")","v":""},null,"Dpt :             Arr :             Net :"]
[null,{"$f":"IF(preparation_plateau!$L$2>=7,preparation_plateau!$Y14,\"\")","v":""},null,"Dpt :             Arr :             Net :",null,{"$f":"IF(preparation_plateau!$L$2>=7,preparation_plateau!$Y15,\"\")","v":""},null,"Dpt :             Arr :             Net :",null,{"$f":"IF(preparation_plateau!$L$2>=7,preparation_plateau!$Y30,\"\")","v":""},null,"Dpt :             Arr :             Net :",null,{"$f":"IF(preparation_plateau!$L$2>=7,preparation_plateau!$Y31,\"\")","v":""},null,"Dpt :             Arr :             Net :"]
[null,{"$f":"IF(preparation_plateau!$L$2>=8,preparation_plateau!$AB14,\"\")","v":""},null,"Dpt :             Arr :             Net :",null,{"$f":"IF(preparation_plateau!$L$2>=8,preparation_plateau!$AB15,\"\")","v":""},null,"Dpt :             Arr :             Net :",null,{"$f":"IF(preparation_plateau!$L$2>=8,preparation_plateau!$AB30,\"\")","v":""},null,"Dpt :             Arr :             Net :",null,{"$f":"IF(preparation_plateau!$L$2>=8,preparation_plateau!$AB31,\"\")","v":""},null,"Dpt :             Arr :             Net :"]
[null,{"$f":"IF(preparation_plateau!$L$2>=9,preparation_plateau!$AE14,\"\")","v":""},null,"Dpt :             Arr :             Net :",null,{"$f":"IF(preparation_plateau!$L$2>=9,preparation_plateau!$AE15,\"\")","v":""},null,"Dpt :             Arr :             Net :",null,{"$f":"IF(preparation_plateau!$L$2>=9,preparation_plateau!$AE30,\"\")","v":""},null,"Dpt :             Arr :             Net :",null,{"$f":"IF(preparation_plateau!$L$2>=9,preparation_plateau!$AE31,\"\")","v":""},null,"Dpt :             Arr :             Net :"]
[null,{"$f":"IF(preparation_plateau!$L$2>=10,preparation_plateau!$AH14,\"\")","v":""},null,"Dpt :             Arr :             Net :",null,{"$f":"IF(preparation_plateau!$L$2>=10,preparation_plateau!$AH15,\"\")","v":""},null,"Dpt :             Arr :             Net :",null,{"$f":"IF(preparation_plateau!$L$2>=10,preparation_plateau!$AH30,\"\")","v":""},null,"Dpt :             Arr :             Net :",null,{"$f":"IF(preparation_plateau!$L$2>=10,preparation_plateau!$AH31,\"\")","v":""},null,"Dpt :             Arr :             Net :"]
[null,"Bilan",null,"Tps net :",null,"Bilan",null,"Tps net :",null,"Bilan",null,"Tps net :",null,"Bilan",null,"Tps net :"]
[null,"TEL. CLG : 04 90 58 11 32",null,null,null,"TEL. CLG : 04 90 58 11 32",null,null,null,"TEL. CLG : 04 90 58 11 32",null,null,null,"TEL. CLG : 04 90 58 11 32"]
[]
[]
[null,"DATE :",null,{"$f":"index_classe!$E15","v":"Carte N° : 2 - NICAU Romain"},null,"DATE :",null,{"$f":"index_classe!$E16","v":"Carte N° : 3 - RUI Desiderio"},null,"DATE :",null,{"$f":"index_classe!$E31","v":""},null,"DATE :",null,{"$f":"index_classe!$E32","v":""}]
[null,"CODE","Numéro BALISE","HEURE LIMITE:",null,"CODE","Numéro BALISE","HEURE LIMITE:",null,"CODE","Numéro BALISE","HEURE LIMITE:",null,"CODE","Numéro BALISE","HEURE LIMITE:"]
[]
[null,{"$f":"IF(preparation_plateau!$L$2>=1,preparation_plateau!$G16,\"\")","v":"UPS"},null,"Dpt :             Arr :             Net :",null,{"$f":"IF(preparation_plateau!$L$2>=1,preparation_plateau!$G17,\"\")","v":"FIS"},null,"Dpt :             Arr :             Net :",null,{"$f":"IF(preparation_plateau!$L$2>=1,preparation_plateau!$G32,\"\")","v":""},null,"Dpt :             Arr :             Net :",null,{"$f":"IF(preparation_plateau!$L$2>=1,preparation_plateau!$G33,\"\")","v":""},null,"Dpt :             Arr :             Net :"]
[null,{"$f":"IF(preparation_plateau!$L$2>=2,preparation_plateau!$J16,\"\")","v":"TON"},null,"Dpt :             Arr :             Net :",null,{"$f":"IF(preparation_plateau!$L$2>=2,preparation_plateau!$J17,\"\")","v":"FJH"},null,"Dpt :             Arr :             Net :",null,{"$f":"IF(preparation_plateau!$L$2>=2,preparation_plateau!$J32,\"\")","v":""},null,"Dpt :             Arr :             Net :",null,{"$f":"IF(preparation_plateau!$L$2>=2,preparation_plateau!$J33,\"\")","v":""},null,"Dpt :             Arr :             Net :"]
[null,{"$f":"IF(preparation_plateau!$L$2>=3,preparation_plateau!$M16,\"\")","v":"DZ"},null,"Dpt :             Arr :             Net :",null,{"$f":"IF(preparation_plateau!$L$2>=3,preparation_plateau!$M17,\"\")","v":"GK"},null,"Dpt :             Arr :             Net :",null,{"$f":"IF(preparation_plateau!$L$2>=3,preparation_plateau!$M32,\"\")","v":""},null,"Dpt :             Arr :             Net :",null,{"$f":"IF(preparation_plateau!$L$2>=3,preparation_plateau!$M33,\"\")","v":""},null,"Dpt :             Arr :             Net :"]
[null,{"$f":"IF(preparation_plateau!$L$2>=4,preparation_plateau!$P16,\"\")","v":"TOD"},null,"Dpt :             Arr :             Net :",null,{"$f":"IF(preparation_plateau!$L$2>=4,preparation_plateau!$P17,\"\")","v":"FJV"},null,"Dpt :             Arr :             Net :",null,{"$f":"IF(preparation_plateau!$L$2>=4,preparation_plateau!$P32,\"\")","v":""},null,"Dpt :             Arr :             Net :",null,{"$f":"IF(preparation_plateau!$L$2>=4,preparation_plateau!$P33,\"\")","v":""},null,"Dpt :             Arr :             Net :"]
[null,{"$f":"IF(preparation_plateau!$L$2>=5,preparation_plateau!$S16,\"\")","v":"TOZ"},null,"Dpt :             Arr :             Net :",null,{"$f":"IF(preparation_plateau!$L$2>=5,preparation_plateau!$S17,\"\")","v":"FJU"},null,"Dpt :             Arr :             Net :",null,{"$f":"IF(preparation_plateau!$L$2>=5,preparation_plateau!$S32,\"\")","v":""},null,"Dpt :             Arr :             Net :",null,{"$f":"IF(preparation_plateau!$L$2>=5,preparation_plateau!$S33,\"\")","v":""},null,"Dpt :             Arr :             Net :"]
[null,{"$f":"IF(preparation_plateau!$L$2>=6,preparation_plateau!$V16,\"\")","v":""},null,"Dpt :             Arr :             Net :",null,{"$f":"IF(preparation_plateau!$L$2>=6,preparation_plateau!$V17,\"\")","v":""},null,"Dpt :             Arr :             Net :",null,{"$f":"IF(preparation_plateau!$L$2>=6,preparation_plateau!$V32,\"\")","v":""},null,"Dpt :             Arr :             Net :",null,{"$f":"IF(preparation_plateau!$L$2>=6,preparation_plateau!$V33,\"\")","v":""},null,"Dpt :             Arr :             Net :"]
[null,{"$f":"IF(preparation_plateau!$L$2>=7,preparation_plateau!$Y16,\"\")","v":""},null,"Dpt :             Arr :             Net :",null,{"$f":"IF(preparation_plateau!$L$2>=7,preparation_plateau!$Y17,\"\")","v":""},null,"Dpt :             Arr :             Net :",null,{"$f":"IF(preparation_plateau!$L$2>=7,preparation_plateau!$Y32,\"\")","v":""},null,"Dpt :             Arr :             Net :",null,{"$f":"IF(preparation_plateau!$L$2>=7,preparation_plateau!$Y33,\"\")","v":""},null,"Dpt :             Arr :             Net :"]
[null,{"$f":"IF(preparation_plateau!$L$2>=8,preparation_plateau!$AB16,\"\")","v":""},null,"Dpt :             Arr :             Net :",null,{"$f":"IF(preparation_plateau!$L$2>=8,preparation_plateau!$AB17,\"\")","v":""},null,"Dpt :             Arr :             Net :",null,{"$f":"IF(preparation_plateau!$L$2>=8,preparation_plateau!$AB32,\"\")","v":""},null,"Dpt :             Arr :             Net :",null,{"$f":"IF(preparation_plateau!$L$2>=8,preparation_plateau!$AB33,\"\")","v":""},null,"Dpt :             Arr :             Net :"]
[null,{"$f":"IF(preparation_plateau!$L$2>=9,preparation_plateau!$AE16,\"\")","v":""},null,"Dpt :             Arr :             Net :",null,{"$f":"IF(preparation_plateau!$L$2>=9,preparation_plateau!$AE17,\"\")","v":""},null,"Dpt :             Arr :             Net :",null,{"$f":"IF(preparation_plateau!$L$2>=9,preparation_plateau!$AE32,\"\")","v":""},null,"Dpt :             Arr :             Net :",null,{"$f":"IF(preparation_plateau!$L$2>=9,preparation_plateau!$AE33,\"\")","v":""},null,"Dpt :             Arr :             Net :"]
[null,{"$f":"IF(preparation_plateau!$L$2>=10,preparation_plateau!$AH16,\"\")","v":""},null,"Dpt :             Arr :             Net :",null,{"$f":"IF(preparation_plateau!$L$2>=10,preparation_plateau!$AH17,\"\")","v":""},null,"Dpt :             Arr :             Net :",null,{"$f":"IF(preparation_plateau!$L$2>=10,preparation_plateau!$AH32,\"\")","v":""},null,"Dpt :             Arr :             Net :",null,{"$f":"IF(preparation_plateau!$L$2>=10,preparation_plateau!$AH33,\"\")","v":""},null,"Dpt :             Arr :             Net :"]
[null,"Bilan",null,"Tps net :",null,"Bilan",null,"Tps net :",null,"Bilan",null,"Tps net :",null,"Bilan",null,"Tps net :"]
[null,"TEL. CLG : 04 90 58 11 32",null,null,null,"TEL. CLG : 04 90 58 11 32",null,null,null,"TEL. CLG : 04 90 58 11 32",null,null,null,"TEL. CLG : 04 90 58 11 32"]
[]
[]
[null,"DATE :",null,{"$f":"index_classe!$E17","v":"Carte N° : 4 - RI Niko"},null,"DATE :",null,{"$f":"index_classe!$E18","v":"Carte N° : 5 - SAL Calvin"},null,"DATE :",null,{"$f":"index_classe!$E33","v":""},null,"DATE :",null,{"$f":"index_classe!$E34","v":""}]
[null,"CODE","Numéro BALISE","HEURE LIMITE:",null,"CODE","Numéro BALISE","HEURE LIMITE:",null,"CODE","Numéro BALISE","HEURE LIMITE:",null,"CODE","Numéro BALISE","HEURE LIMITE:"]
[]
[null,{"$f":"IF(preparation_plateau!$L$2>=1,preparation_plateau!$G18,\"\")","v":"NAU"},null,"Dpt :             Arr :             Net :",null,{"$f":"IF(preparation_plateau!$L$2>=1,preparation_plateau!$G19,\"\")","v":"DSR"},null,"Dpt :             Arr :             Net :",null,{"$f":"IF(preparation_plateau!$L$2>=1,preparation_plateau!$G34,\"\")","v":""},null,"Dpt :             Arr :             Net :",null,{"$f":"IF(preparation_plateau!$L$2>=1,preparation_plateau!$G35,\"\")","v":""},null,"Dpt :             Arr :             Net :"]
[null,{"$f":"IF(preparation_plateau!$L$2>=2,preparation_plateau!$J18,\"\")","v":"NAU"},null,"Dpt :             Arr :             Net :",null,{"$f":"IF(preparation_plateau!$L$2>=2,preparation_plateau!$J19,\"\")","v":"DRZ"},null,"Dpt :             Arr :             Net :",null,{"$f":"IF(preparation_plateau!$L$2>=2,preparation_plateau!$J34,\"\")","v":""},null,"Dpt :             Arr :             Net :",null,{"$f":"IF(preparation_plateau!$L$2>=2,preparation_plateau!$J35,\"\")","v":""},null,"Dpt :             Arr :             Net :"]
[null,{"$f":"IF(preparation_plateau!$L$2>=3,preparation_plateau!$M18,\"\")","v":"MET"},null,"Dpt :             Arr :             Net :",null,{"$f":"IF(preparation_plateau!$L$2>=3,preparation_plateau!$M19,\"\")","v":"DRL"},null,"Dpt :             Arr :             Net :",null,{"$f":"IF(preparation_plateau!$L$2>=3,preparation_plateau!$M34,\"\")","v":""},null,"Dpt :             Arr :             Net :",null,{"$f":"IF(preparation_plateau!$L$2>=3,preparation_plateau!$M35,\"\")","v":""},null,"Dpt :             Arr :             Net :"]
[null,{"$f":"IF(preparation_plateau!$L$2>=4,preparation_plateau!$P18,\"\")","v":"NAV"},null,"Dpt :             Arr :             Net :",null,{"$f":"IF(preparation_plateau!$L$2>=4,preparation_plateau!$P19,\"\")","v":"DRP"},null,"Dpt :             Arr :             Net :",null,{"$f":"IF(preparation_plateau!$L$2>=4,preparation_plateau!$P34,\"\")","v":""},null,"Dpt :             Arr :             Net :",null,{"$f":"IF(preparation_plateau!$L$2>=4,preparation_plateau!$P35,\"\")","v":""},null,"Dpt :             Arr :             Net :"]
[null,{"$f":"IF(preparation_plateau!$L$2>=5,preparation_plateau!$S18,\"\")","v":"IY"},null,"Dpt :             Arr :             Net :",null,{"$f":"IF(preparation_plateau!$L$2>=5,preparation_plateau!$S19,\"\")","v":"ERB"},null,"Dpt :             Arr :             Net :",null,{"$f":"IF(preparation_plateau!$L$2>=5,preparation_plateau!$S34,\"\")","v":""},null,"Dpt :             Arr :             Net :",null,{"$f":"IF(preparation_plateau!$L$2>=5,preparation_plateau!$S35,\"\")","v":""},null,"Dpt :             Arr :             Net :"]
[null,{"$f":"IF(preparation_plateau!$L$2>=6,preparation_plateau!$V18,\"\")","v":""},null,"Dpt :             Arr :             Net :",null,{"$f":"IF(preparation_plateau!$L$2>=6,preparation_plateau!$V19,\"\")","v":""},null,"Dpt :             Arr :             Net :",null,{"$f":"IF(preparation_plateau!$L$2>=6,preparation_plateau!$V34,\"\")","v":""},null,"Dpt :             Arr :             Net :",null,{"$f":"IF(preparation_plateau!$L$2>=6,preparation_plateau!$V35,\"\")","v":""},null,"Dpt :             Arr :             Net :"]
[null,{"$f":"IF(preparation_plateau!$L$2>=7,preparation_plateau!$Y18,\"\")","v":""},null,"Dpt :             Arr :             Net :",null,{"$f":"IF(preparation_plateau!$L$2>=7,preparation_plateau!$Y19,\"\")","v":""},null,"Dpt :             Arr :             Net :",null,{"$f":"IF(preparation_plateau!$L$2>=7,preparation_plateau!$Y34,\"\")","v":""},null,"Dpt :             Arr :             Net :",null,{"$f":"IF(preparation_plateau!$L$2>=7,preparation_plateau!$Y35,\"\")","v":""},null,"Dpt :             Arr :             Net :"]
[null,{"$f":"IF(preparation_plateau!$L$2>=8,preparation_plateau!$AB18,\"\")","v":""},null,"Dpt :             Arr :             Net :",null,{"$f":"IF(preparation_plateau!$L$2>=8,preparation_plateau!$AB19,\"\")","v":""},null,"Dpt :             Arr :             Net :",null,{"$f":"IF(preparation_plateau!$L$2>=8,preparation_plateau!$AB34,\"\")","v":""},null,"Dpt :             Arr :             Net :",null,{"$f":"IF(preparation_plateau!$L$2>=8,preparation_plateau!$AB35,\"\")","v":""},null,"Dpt :             Arr :             Net :"]
[null,{"$f":"IF(preparation_plateau!$L$2>=9,preparation_plateau!$AE18,\"\")","v":""},null,"Dpt :             Arr :             Net :",null,{"$f":"IF(preparation_plateau!$L$2>=9,preparation_plateau!$AE19,\"\")","v":""},null,"Dpt :             Arr :             Net :",null,{"$f":"IF(preparation_plateau!$L$2>=9,preparation_plateau!$AE34,\"\")","v":""},null,"Dpt :             Arr :             Net :",null,{"$f":"IF(preparation_plateau!$L$2>=9,preparation_plateau!$AE35,\"\")","v":""},null,"Dpt :             Arr :             Net :"]
[null,{"$f":"IF(preparation_plateau!$L$2>=10,preparation_plateau!$AH18,\"\")","v":""},null,"Dpt :             Arr :             Net :",null,{"$f":"IF(preparation_plateau!$L$2>=10,preparation_plateau!$AH19,\"\")","v":""},null,"Dpt :             Arr :             Net :",null,{"$f":"IF(preparation_plateau!$L$2>=10,preparation_plateau!$AH34,\"\")","v":""},null,"Dpt :             Arr :             Net :",null,{"$f":"IF(preparation_plateau!$L$2>=10,preparation_plateau!$AH35,\"\")","v":""},null,"Dpt :             Arr :             Net :"]
[null,"Bilan",null,"Tps net :",null,"Bilan",null,"Tps net :",null,"Bilan",null,"Tps net :",null,"Bilan",null,"Tps net :"]
[null,"TEL. CLG : 04 90 58 11 32",null,null,null,"TEL. CLG : 04 90 58 11 32",null,null,null,"TEL. CLG : 04 90 58 11 32",null,null,null,"TEL. CLG : 04 90 58 11 32"]

{"sheet":"coupons_plateau_chiffres","index":9,"n_rows":135,"n_cols":16,"rows_kept":135,"cut":false,"hidden":false,"merged":[[15,13,15,15],[0,3,0,4],[0,11,0,12],[15,1,15,3],[15,5,15,7],[15,9,15,11],[32,1,32,3],[32,5,32,7],[32,9,32,11],[32,13,32,15],[34,3,34,4],[34,11,34,12],[83,13,83,15],[49,1,49,3],[49,5,49,7],[49,9,49,11],[49,13,49,15],[66,1,66,3],[66,5,66,7],[66,9,66,11],[66,13,66,15],[68,3,68,4],[68,11,68,12],[83,1,83,3],[83,5,83,7],[83,9,83,11],[100,1,100,3],[100,5,100,7],[100,9,100,11],[100,13,100,15],[102,3,102,4],[102,11,102,12],[117,1,117,3],[117,5,117,7],[117,9,117,11],[117,13,117,15],[134,1,134,3],[134,5,134,7],[134,9,134,11],[134,13,134,15]]}
[]
[null,"DATE :",null,{"$f":"index_classe!$E3","v":"Carte N° : 1 - BENZ Nawel"},null,"DATE :",null,{"$f":"index_classe!$E4","v":"Carte N° : 2 - BERNA Laurine"},null,"DATE :",null,{"$f":"index_classe!$E19","v":"Carte N° : 6 - SIOUI Salah"},null,"DATE :",null,{"$f":"index_classe!$E20","v":"Carte N° : 7 - TADEVA Khatmat"}]
[null,"CODE","Numéro BALISE","HEURE LIMITE:",null,"CODE","Numéro BALISE","HEURE LIMITE:",null,"CODE","Numéro BALISE","HEURE LIMITE:",null,"CODE","Numéro BALISE","HEURE LIMITE:"]
[]
[null,{"$f":"IF(preparation_plateau!$L$2>=1,preparation_plateau!$F4,\"\")","v":62},null,"Dpt :             Arr :             Net :",null,{"$f":"IF(preparation_plateau!$L$2>=1,preparation_plateau!$F5,\"\")","v":84},null,"Dpt :             Arr :             Net :",null,{"$f":"IF(preparation_plateau!$L$2>=1,preparation_plateau!$F20,\"\")","v":62},null,"Dpt :             Arr :             Net :",null,{"$f":"IF(preparation_plateau!$L$2>=1,preparation_plateau!$F21,\"\")","v":83},null,"Dpt :             Arr :             Net :"]
[null,{"$f":"IF(preparation_plateau!$L$2>=2,preparation_plateau!$I4,\"\")","v":84},null,"Dpt :             Arr :             Net :",null,{"$f":"IF(preparation_plateau!$L$2>=2,preparation_plateau!$I5,\"\")","v":86},null,"Dpt :             Arr :             Net :",null,{"$f":"IF(preparation_plateau!$L$2>=2,preparation_plateau!$I20,\"\")","v":25},null,"Dpt :             Arr :             Net :",null,{"$f":"IF(preparation_plateau!$L$2>=2,preparation_plateau!$I21,\"\")","v":65},null,"Dpt :             Arr :             Net :"]
[null,{"$f":"IF(preparation_plateau!$L$2>=3,preparation_plateau!$L4,\"\")","v":84},null,"Dpt :             Arr :             Net :",null,{"$f":"IF(preparation_plateau!$L$2>=3,preparation_plateau!$L5,\"\")","v":65},null,"Dpt :             Arr :             Net :",null,{"$f":"IF(preparation_plateau!$L$2>=3,preparation_plateau!$L20,\"\")","v":8},null,"Dpt :             Arr :             Net :",null,{"$f":"IF(preparation_plateau!$L$2>=3,preparation_plateau!$L21,\"\")","v":8},null,"Dpt :             Arr :             Net :"]
[null,{"$f":"IF(preparation_plateau!$L$2>=4,preparation_plateau!$O4,\"\")","v":9},null,"Dpt :             Arr :             Net :",null,{"$f":"IF(preparation_plateau!$L$2>=4,preparation_plateau!$O5,\"\")","v":66},null,"Dpt :             Arr :             Net :",null,{"$f":"IF(preparation_plateau!$L$2>=4,preparation_plateau!$O20,\"\")","v":68},null,"Dpt :             Arr :             Net :",null,{"$f":"IF(preparation_plateau!$L$2>=4,preparation_plateau!$O21,\"\")","v":13},null,"Dpt :             Arr :             Net :"]
[null,{"$f":"IF(preparation_plateau!$L$2>=5,preparation_plateau!$R4,\"\")","v":87},null,"Dpt :             Arr :             Net :",null,{"$f":"IF(preparation_plateau!$L$2>=5,preparation_plateau!$R5,\"\")","v":86},null,"Dpt :             Arr :             Net :",null,{"$f":"IF(preparation_plateau!$L$2>=5,preparation_plateau!$R20,\"\")","v":28},null,"Dpt :             Arr :             Net :",null,{"$f":"IF(preparation_plateau!$L$2>=5,preparation_plateau!$R21,\"\")","v":32},null,"Dpt :             Arr :             Net :"]
[null,{"$f":"IF(preparation_plateau!$L$2>=6,preparation_plateau!$U4,\"\")","v":""},null,"Dpt :             Arr :             Net :",null,{"$f":"IF(preparation_plateau!$L$2>=6,preparation_plateau!$U5,\"\")","v":""},null,"Dpt :             Arr :             Net :",null,{"$f":"IF(preparation_plateau!$L$2>=6,preparation_plateau!$U20,\"\")","v":""},null,"Dpt :             Arr :             Net :",null,{"$f":"IF(preparation_plateau!$L$2>=6,preparation_plateau!$U21,\"\")","v":""},null,"Dpt :             Arr :             Net :"]
[null,{"$f":"IF(preparation_plateau!$L$2>=7,preparation_plateau!$X4,\"\")","v":""},null,"Dpt :             Arr :             Net :",null,{"$f":"IF(preparation_plateau!$L$2>=7,preparation_plateau!$X5,\"\")","v":""},null,"Dpt :             Arr :             Net :",null,{"$f":"IF(preparation_plateau!$L$2>=7,preparation_plateau!$X20,\"\")","v":""},null,"Dpt :             Arr :             Net :",null,{"$f":"IF(preparation_plateau!$L$2>=7,preparation_plateau!$X21,\"\")","v":""},null,"Dpt :             Arr :             Net :"]
[null,{"$f":"IF(preparation_plateau!$L$2>=8,preparation_plateau!$AA4,\"\")","v":""},null,"Dpt :             Arr :             Net :",null,{"$f":"IF(preparation_plateau!$L$2>=8,preparation_plateau!$AA5,\"\")","v":""},null,"Dpt :             Arr :             Net :",null,{"$f":"IF(preparation_plateau!$L$2>=8,preparation_plateau!$AA20,\"\")","v":""},null,"Dpt :             Arr :             Net :",null,{"$f":"IF(preparation_plateau!$L$2>=8,preparation_plateau!$AA21,\"\")","v":""},null,"Dpt :             Arr :             Net :"]
[null,{"$f":"IF(preparation_plateau!$L$2>=9,preparation_plateau!$AD4,\"\")","v":""},null,"Dpt :             Arr :             Net :",null,{"$f":"IF(preparation_plateau!$L$2>=9,preparation_plateau!$AD5,\"\")","v":""},null,"Dpt :             Arr :             Net :",null,{"$f":"IF(preparation_plateau!$L$2>=9,preparation_plateau!$AD20,\"\")","v":""},null,"Dpt :             Arr :             Net :",null,{"$f":"IF(preparation_plateau!$L$2>=9,preparation_plateau!$AD21,\"\")","v":""},null,"Dpt :             Arr :             Net :"]
[null,{"$f":"IF(preparation_plateau!$L$2>=10,preparation_plateau!$AG4,\"\")","v":""},null,"Dpt :             Arr :             Net :",null,{"$f":"IF(preparation_plateau!$L$2>=10,preparation_plateau!$AG5,\"\")","v":""},null,"Dpt :             Arr :             Net :",null,{"$f":"IF(preparation_plateau!$L$2>=10,preparation_plateau!$AG20,\"\")","v":""},null,"Dpt :             Arr :             Net :",null,{"$f":"IF(preparation_plateau!$L$2>=10,preparation_plateau!$AG21,\"\")","v":""},null,"Dpt :             Arr :             Net :"]
[null,"Bilan",null,"Tps net :",null,"Bilan",null,"Tps net :",null,"Bilan",null,"Tps net :",null,"Bilan",null,"Tps net :"]
[null,"TEL. CLG : 04 90 58 11 32",null,null,null,"TEL. CLG : 04 90 58 11 32",null,null,null,"TEL. CLG : 04 90 58 11 32",null,null,null,"TEL. CLG : 04 90 58 11 32"]
[]
[]
[null,"DATE :",null,{"$f":"index_classe!$E5","v":"Carte N° : 3 - CHEL Sarah"},null,"DATE :",null,{"$f":"index_classe!$E6","v":"Carte N° : 4 - CLAUD Maxime"},null,"DATE :",null,{"$f":"index_classe!$E21","v":"Carte N° : 8 - TEEC Victor"},null,"DATE :",null,{"$f":"index_classe!$E22","v":"Carte N° : 9 - TEJOR Carla"}]
[null,"CODE","Numéro BALISE","HEURE LIMITE:",null,"CODE","Numéro BALISE","HEURE LIMITE:",null,"CODE","Numéro BALISE","HEURE LIMITE:",null,"CODE","Numéro BALISE","HEURE LIMITE:"]
[]
[null,{"$f":"IF(preparation_plateau!$L$2>=1,preparation_plateau!$F6,\"\")","v":70},null,"Dpt :             Arr :             Net :",null,{"$f":"IF(preparation_plateau!$L$2>=1,preparation_plateau!$F7,\"\")","v":66},null,"Dpt :             Arr :             Net :",null,{"$f":"IF(preparation_plateau!$L$2>=1,preparation_plateau!$F22,\"\")","v":27},null,"Dpt :             Arr :             Net :",null,{"$f":"IF(preparation_plateau!$L$2>=1,preparation_plateau!$F23,\"\")","v":32},null,"Dpt :             Arr :             Net :"]
[null,{"$f":"IF(preparation_plateau!$L$2>=2,preparation_plateau!$I6,\"\")","v":59},null,"Dpt :             Arr :             Net :",null,{"$f":"IF(preparation_plateau!$L$2>=2,preparation_plateau!$I7,\"\")","v":59},null,"Dpt :             Arr :             Net :",null,{"$f":"IF(preparation_plateau!$L$2>=2,preparation_plateau!$I22,\"\")","v":6},null,"Dpt :             Arr :             Net :",null,{"$f":"IF(preparation_plateau!$L$2>=2,preparation_plateau!$I23,\"\")","v":68},null,"Dpt :             Arr :             Net :"]
[null,{"$f":"IF(preparation_plateau!$L$2>=3,preparation_plateau!$L6,\"\")","v":68},null,"Dpt :             Arr :             Net :",null,{"$f":"IF(preparation_plateau!$L$2>=3,preparation_plateau!$L7,\"\")","v":66},null,"Dpt :             Arr :             Net :",null,{"$f":"IF(preparation_plateau!$L$2>=3,preparation_plateau!$L22,\"\")","v":2},null,"Dpt :             Arr :             Net :",null,{"$f":"IF(preparation_plateau!$L$2>=3,preparation_plateau!$L23,\"\")","v":65},null,"Dpt :             Arr :             Net :"]
[null,{"$f":"IF(preparation_plateau!$L$2>=4,preparation_plateau!$O6,\"\")","v":2},null,"Dpt :             Arr :             Net :",null,{"$f":"IF(preparation_plateau!$L$2>=4,preparation_plateau!$O7,\"\")","v":95},null,"Dpt :             Arr :             Net :",null,{"$f":"IF(preparation_plateau!$L$2>=4,preparation_plateau!$O22,\"\")","v":67},null,"Dpt :             Arr :             Net :",null,{"$f":"IF(preparation_plateau!$L$2>=4,preparation_plateau!$O23,\"\")","v":5},null,"Dpt :             Arr :             Net :"]
[null,{"$f":"IF(preparation_plateau!$L$2>=5,preparation_plateau!$R6,\"\")","v":93},null,"Dpt :             Arr :             Net :",null,{"$f":"IF(preparation_plateau!$L$2>=5,preparation_plateau!$R7,\"\")","v":11},null,"Dpt :             Arr :             Net :",null,{"$f":"IF(preparation_plateau!$L$2>=5,preparation_plateau!$R22,\"\")","v":13},null,"Dpt :             Arr :             Net :",null,{"$f":"IF(preparation_plateau!$L$2>=5,preparation_plateau!$R23,\"\")","v":10},null,"Dpt :             Arr :             Net :"]
[null,{"$f":"IF(preparation_plateau!$L$2>=6,preparation_plateau!$U6,\"\")","v":""},null,"Dpt :             Arr :             Net :",null,{"$f":"IF(preparation_plateau!$L$2>=6,preparation_plateau!$U7,\"\")","v":""},null,"Dpt :             Arr :             Net :",null,{"$f":"IF(preparation_plateau!$L$2>=6,preparation_plateau!$U22,\"\")","v":""},null,"Dpt :             Arr :             Net :",null,{"$f":"IF(preparation_plateau!$L$2>=6,preparation_plateau!$U23,\"\")","v":""},null,"Dpt :             Arr :             Net :"]
[null,{"$f":"IF(preparation_plateau!$L$2>=7,preparation_plateau!$X6,\"\")","v":""},null,"Dpt :             Arr :             Net :",null,{"$f":"IF(preparation_plateau!$L$2>=7,preparation_plateau!$X7,\"\")","v":""},null,"Dpt :             Arr :             Net :",null,{"$f":"IF(preparation_plateau!$L$2>=7,preparation_plateau!$X22,\"\")","v":""},null,"Dpt :             Arr :             Net :",null,{"$f":"IF(preparation_plateau!$L$2>=7,preparation_plateau!$X23,\"\")","v":""},null,"Dpt :             Arr :             Net :"]
[null,{"$f":"IF(preparation_plateau!$L$2>=8,preparation_plateau!$AA6,\"\")","v":""},null,"Dpt :             Arr :             Net :",null,{"$f":"IF(preparation_plateau!$L$2>=8,preparation_plateau!$AA7,\"\")","v":""},null,"Dpt :             Arr :             Net :",null,{"$f":"IF(preparation_plateau!$L$2>=8,preparation_plateau!$AA22,\"\")","v":""},null,"Dpt :             Arr :             Net :",null,{"$f":"IF(preparation_plateau!$L$2>=8,preparation_plateau!$AA23,\"\")","v":""},null,"Dpt :             Arr :             Net :"]
[null,{"$f":"IF(preparation_plateau!$L$2>=9,preparation_plateau!$AD6,\"\")","v":""},null,"Dpt :             Arr :             Net :",null,{"$f":"IF(preparation_plateau!$L$2>=9,preparation_plateau!$AD7,\"\")","v":""},null,"Dpt :             Arr :             Net :",null,{"$f":"IF(preparation_plateau!$L$2>=9,preparation_plateau!$AD22,\"\")","v":""},null,"Dpt :             Arr :             Net :",null,{"$f":"IF(preparation_plateau!$L$2>=9,preparation_plateau!$AD23,\"\")","v":""},null,"Dpt :             Arr :             Net :"]
[null,{"$f":"IF(preparation_plateau!$L$2>=10,preparation_plateau!$AG6,\"\")","v":""},null,"Dpt :             Arr :             Net :",null,{"$f":"IF(preparation_plateau!$L$2>=10,preparation_plateau!$AG7,\"\")","v":""},null,"Dpt :             Arr :             Net :",null,{"$f":"IF(preparation_plateau!$L$2>=10,preparation_plateau!$AG22,\"\")","v":""},null,"Dpt :             Arr :             Net :",null,{"$f":"IF(preparation_plateau!$L$2>=10,preparation_plateau!$AG23,\"\")","v":""},null,"Dpt :             Arr :             Net :"]
[null,"Bilan",null,"Tps net :",null,"Bilan",null,"Tps net :",null,"Bilan",null,"Tps net :",null,"Bilan",null,"Tps net :"]
[null,"TEL. CLG : 04 90 58 11 32",null,null,null,"TEL. CLG : 04 90 58 11 32",null,null,null,"TEL. CLG : 04 90 58 11 32",null,null,null,"TEL. CLG : 04 90 58 11 32"]
[]
[]
[null,"DATE :",null,{"$f":"index_classe!$E7","v":"Carte N° : 5 - NAISSA Estelle"},null,"DATE :",null,{"$f":"index_classe!$E8","v":"Carte N° : 6 - FA Dylan"},null,"DATE :",null,{"$f":"index_classe!$E23","v":"Carte N° : 10 - THIER Andrea"},null,"DATE :",null,{"$f":"index_classe!$E24","v":"Carte N° : 12 - YI William"}]
[null,"CODE","Numéro BALISE","HEURE LIMITE:",null,"CODE","Numéro BALISE","HEURE LIMITE:",null,"CODE","Numéro BALISE","HEURE LIMITE:",null,"CODE","Numéro BALISE","HEURE LIMITE:"]
[]
[null,{"$f":"IF(preparation_plateau!$L$2>=1,preparation_plateau!$F8,\"\")","v":27},null,"Dpt :             Arr :             Net :",null,{"$f":"IF(preparation_plateau!$L$2>=1,preparation_plateau!$F9,\"\")","v":30},null,"Dpt :             Arr :             Net :",null,{"$f":"IF(preparation_plateau!$L$2>=1,preparation_plateau!$F24,\"\")","v":27},null,"Dpt :             Arr :             Net :",null,{"$f":"IF(preparation_plateau!$L$2>=1,preparation_plateau!$F25,\"\")","v":31},null,"Dpt :             Arr :             Net :"]
[null,{"$f":"IF(preparation_plateau!$L$2>=2,preparation_plateau!$I8,\"\")","v":62},null,"Dpt :             Arr :             Net :",null,{"$f":"IF(preparation_plateau!$L$2>=2,preparation_plateau!$I9,\"\")","v":87},null,"Dpt :             Arr :             Net :",null,{"$f":"IF(preparation_plateau!$L$2>=2,preparation_plateau!$I24,\"\")","v":5},null,"Dpt :             Arr :             Net :",null,{"$f":"IF(preparation_plateau!$L$2>=2,preparation_plateau!$I25,\"\")","v":65},null,"Dpt :             Arr :             Net :"]
[null,{"$f":"IF(preparation_plateau!$L$2>=3,preparation_plateau!$L8,\"\")","v":67},null,"Dpt :             Arr :             Net :",null,{"$f":"IF(preparation_plateau!$L$2>=3,preparation_plateau!$L9,\"\")","v":86},null,"Dpt :             Arr :             Net :",null,{"$f":"IF(preparation_plateau!$L$2>=3,preparation_plateau!$L24,\"\")","v":87},null,"Dpt :             Arr :             Net :",null,{"$f":"IF(preparation_plateau!$L$2>=3,preparation_plateau!$L25,\"\")","v":96},null,"Dpt :             Arr :             Net :"]
[null,{"$f":"IF(preparation_plateau!$L$2>=4,preparation_plateau!$O8,\"\")","v":66},null,"Dpt :             Arr :             Net :",null,{"$f":"IF(preparation_plateau!$L$2>=4,preparation_plateau!$O9,\"\")","v":63},null,"Dpt :             Arr :             Net :",null,{"$f":"IF(preparation_plateau!$L$2>=4,preparation_plateau!$O24,\"\")","v":94},null,"Dpt :             Arr :             Net :",null,{"$f":"IF(preparation_plateau!$L$2>=4,preparation_plateau!$O25,\"\")","v":23},null,"Dpt :             Arr :             Net :"]
[null,{"$f":"IF(preparation_plateau!$L$2>=5,preparation_plateau!$R8,\"\")","v":88},null,"Dpt :             Arr :             Net :",null,{"$f":"IF(preparation_plateau!$L$2>=5,preparation_plateau!$R9,\"\")","v":87},null,"Dpt :             Arr :             Net :",null,{"$f":"IF(preparation_plateau!$L$2>=5,preparation_plateau!$R24,\"\")","v":67},null,"Dpt :             Arr :             Net :",null,{"$f":"IF(preparation_plateau!$L$2>=5,preparation_plateau!$R25,\"\")","v":29},null,"Dpt :             Arr :             Net :"]
[null,{"$f":"IF(preparation_plateau!$L$2>=6,preparation_plateau!$U8,\"\")","v":""},null,"Dpt :             Arr :             Net :",null,{"$f":"IF(preparation_plateau!$L$2>=6,preparation_plateau!$U9,\"\")","v":""},null,"Dpt :             Arr :             Net :",null,{"$f":"IF(preparation_plateau!$L$2>=6,preparation_plateau!$U24,\"\")","v":""},null,"Dpt :             Arr :             Net :",null,{"$f":"IF(preparation_plateau!$L$2>=6,preparation_plateau!$U25,\"\")","v":""},null,"Dpt :             Arr :             Net :"]
[null,{"$f":"IF(preparation_plateau!$L$2>=7,preparation_plateau!$X8,\"\")","v":""},null,"Dpt :             Arr :             Net :",null,{"$f":"IF(preparation_plateau!$L$2>=7,preparation_plateau!$X9,\"\")","v":""},null,"Dpt :             Arr :             Net :",null,{"$f":"IF(preparation_plateau!$L$2>=7,preparation_plateau!$X24,\"\")","v":""},null,"Dpt :             Arr :             Net :",null,{"$f":"IF(preparation_plateau!$L$2>=7,preparation_plateau!$X25,\"\")","v":""},null,"Dpt :             Arr :             Net :"]
[null,{"$f":"IF(preparation_plateau!$L$2>=8,preparation_plateau!$AA8,\"\")","v":""},null,"Dpt :             Arr :             Net :",null,{"$f":"IF(preparation_plateau!$L$2>=8,preparation_plateau!$AA9,\"\")","v":""},null,"Dpt :             Arr :             Net :",null,{"$f":"IF(preparation_plateau!$L$2>=8,preparation_plateau!$AA24,\"\")","v":""},null,"Dpt :             Arr :             Net :",null,{"$f":"IF(preparation_plateau!$L$2>=8,preparation_plateau!$AA25,\"\")","v":""},null,"Dpt :             Arr :             Net :"]
[null,{"$f":"IF(preparation_plateau!$L$2>=9,preparation_plateau!$AD8,\"\")","v":""},null,"Dpt :             Arr :             Net :",null,{"$f":"IF(preparation_plateau!$L$2>=9,preparation_plateau!$AD9,\"\")","v":""},null,"Dpt :             Arr :             Net :",null,{"$f":"IF(preparation_plateau!$L$2>=9,preparation_plateau!$AD24,\"\")","v":""},null,"Dpt :             Arr :             Net :",null,{"$f":"IF(preparation_plateau!$L$2>=9,preparation_plateau!$AD25,\"\")","v":""},null,"Dpt :             Arr :             Net :"]
[null,{"$f":"IF(preparation_plateau!$L$2>=10,preparation_plateau!$AG8,\"\")","v":""},null,"Dpt :             Arr :             Net :",null,{"$f":"IF(preparation_plateau!$L$2>=10,preparation_plateau!$AG9,\"\")","v":""},null,"Dpt :             Arr :             Net :",null,{"$f":"IF(preparation_plateau!$L$2>=10,preparation_plateau!$AG24,\"\")","v":""},null,"Dpt :             Arr :             Net :",null,{"$f":"IF(preparation_plateau!$L$2>=10,preparation_plateau!$AG25,\"\")","v":""},null,"Dpt :             Arr :             Net :"]
[null,"Bilan",null,"Tps net :",null,"Bilan",null,"Tps net :",null,"Bilan",null,"Tps net :",null,"Bilan",null,"Tps net :"]
[null,"TEL. CLG : 04 90 58 11 32",null,null,null,"TEL. CLG : 04 90 58 11 32",null,null,null,"TEL. CLG : 04 90 58 11 32",null,null,null,"TEL. CLG : 04 90 58 11 32"]
[]
[]
[null,"DATE :",null,{"$f":"index_classe!$E9","v":"Carte N° : 7 - FLEIN Theo"},null,"DATE :",null,{"$f":"index_classe!$E10","v":"Carte N° : 8 - JEAON Alexis"},null,"DATE :",null,{"$f":"index_classe!$E25","v":""},null,"DATE :",null,{"$f":"index_classe!$E26","v":""}]
[null,"CODE","Numéro BALISE","HEURE LIMITE:",null,"CODE","Numéro BALISE","HEURE LIMITE:",null,"CODE","Numéro BALISE","HEURE LIMITE:",null,"CODE","Numéro BALISE","HEURE LIMITE:"]
[]
[null,{"$f":"IF(preparation_plateau!$L$2>=1,preparation_plateau!$F10,\"\")","v":65},null,"Dpt :             Arr :             Net :",null,{"$f":"IF(preparation_plateau!$L$2>=1,preparation_plateau!$F11,\"\")","v":24},null,"Dpt :             Arr :             Net :",null,{"$f":"IF(preparation_plateau!$L$2>=1,preparation_plateau!$F26,\"\")","v":""},null,"Dpt :             Arr :             Net :",null,{"$f":"IF(preparation_plateau!$L$2>=1,preparation_plateau!$F27,\"\")","v":""},null,"Dpt :             Arr :             Net :"]
[null,{"$f":"IF(preparation_plateau!$L$2>=2,preparation_plateau!$I10,\"\")","v":93},null,"Dpt :             Arr :             Net :",null,{"$f":"IF(preparation_plateau!$L$2>=2,preparation_plateau!$I11,\"\")","v":70},null,"Dpt :             Arr :             Net :",null,{"$f":"IF(preparation_plateau!$L$2>=2,preparation_plateau!$I26,\"\")","v":""},null,"Dpt :             Arr :             Net :",null,{"$f":"IF(preparation_plateau!$L$2>=2,preparation_plateau!$I27,\"\")","v":""},null,"Dpt :             Arr :             Net :"]
[null,{"$f":"IF(preparation_plateau!$L$2>=3,preparation_plateau!$L10,\"\")","v":7},null,"Dpt :             Arr :             Net :",null,{"$f":"IF(preparation_plateau!$L$2>=3,preparation_plateau!$L11,\"\")","v":24},null,"Dpt :             Arr :             Net :",null,{"$f":"IF(preparation_plateau!$L$2>=3,preparation_plateau!$L26,\"\")","v":""},null,"Dpt :             Arr :             Net :",null,{"$f":"IF(preparation_plateau!$L$2>=3,preparation_plateau!$L27,\"\")","v":""},null,"Dpt :             Arr :             Net :"]
[null,{"$f":"IF(preparation_plateau!$L$2>=4,preparation_plateau!$O10,\"\")","v":25},null,"Dpt :             Arr :             Net :",null,{"$f":"IF(preparation_plateau!$L$2>=4,preparation_plateau!$O11,\"\")","v":61},null,"Dpt :             Arr :             Net :",null,{"$f":"IF(preparation_plateau!$L$2>=4,preparation_plateau!$O26,\"\")","v":""},null,"Dpt :             Arr :             Net :",null,{"$f":"IF(preparation_plateau!$L$2>=4,preparation_plateau!$O27,\"\")","v":""},null,"Dpt :             Arr :             Net :"]
[null,{"$f":"IF(preparation_plateau!$L$2>=5,preparation_plateau!$R10,\"\")","v":86},null,"Dpt :             Arr :             Net :",null,{"$f":"IF(preparation_plateau!$L$2>=5,preparation_plateau!$R11,\"\")","v":88},null,"Dpt :             Arr :             Net :",null,{"$f":"IF(preparation_plateau!$L$2>=5,preparation_plateau!$R26,\"\")","v":""},null,"Dpt :             Arr :             Net :",null,{"$f":"IF(preparation_plateau!$L$2>=5,preparation_plateau!$R27,\"\")","v":""},null,"Dpt :             Arr :             Net :"]
[null,{"$f":"IF(preparation_plateau!$L$2>=6,preparation_plateau!$U10,\"\")","v":""},null,"Dpt :             Arr :             Net :",null,{"$f":"IF(preparation_plateau!$L$2>=6,preparation_plateau!$U11,\"\")","v":""},null,"Dpt :             Arr :             Net :",null,{"$f":"IF(preparation_plateau!$L$2>=6,preparation_plateau!$U26,\"\")","v":""},null,"Dpt :             Arr :             Net :",null,{"$f":"IF(preparation_plateau!$L$2>=6,preparation_plateau!$U27,\"\")","v":""},null,"Dpt :             Arr :             Net :"]
[null,{"$f":"IF(preparation_plateau!$L$2>=7,preparation_plateau!$X10,\"\")","v":""},null,"Dpt :             Arr :             Net :",null,{"$f":"IF(preparation_plateau!$L$2>=7,preparation_plateau!$X11,\"\")","v":""},null,"Dpt :             Arr :             Net :",null,{"$f":"IF(preparation_plateau!$L$2>=7,preparation_plateau!$X26,\"\")","v":""},null,"Dpt :             Arr :             Net :",null,{"$f":"IF(preparation_plateau!$L$2>=7,preparation_plateau!$X27,\"\")","v":""},null,"Dpt :             Arr :             Net :"]
[null,{"$f":"IF(preparation_plateau!$L$2>=8,preparation_plateau!$AA10,\"\")","v":""},null,"Dpt :             Arr :             Net :",null,{"$f":"IF(preparation_plateau!$L$2>=8,preparation_plateau!$AA11,\"\")","v":""},null,"Dpt :             Arr :             Net :",null,{"$f":"IF(preparation_plateau!$L$2>=8,preparation_plateau!$AA26,\"\")","v":""},null,"Dpt :             Arr :             Net :",null,{"$f":"IF(preparation_plateau!$L$2>=8,preparation_plateau!$AA27,\"\")","v":""},null,"Dpt :             Arr :             Net :"]
[null,{"$f":"IF(preparation_plateau!$L$2>=9,preparation_plateau!$AD25,\"\")","v":""},null,"Dpt :             Arr :             Net :",null,{"$f":"IF(preparation_plateau!$L$2>=9,preparation_plateau!$AD11,\"\")","v":""},null,"Dpt :             Arr :             Net :",null,{"$f":"IF(preparation_plateau!$L$2>=9,preparation_plateau!$AD26,\"\")","v":""},null,"Dpt :             Arr :             Net :",null,{"$f":"IF(preparation_plateau!$L$2>=9,preparation_plateau!$AD27,\"\")","v":""},null,"Dpt :             Arr :             Net :"]
[null,{"$f":"IF(preparation_plateau!$L$2>=10,preparation_plateau!$AG10,\"\")","v":""},null,"Dpt :             Arr :             Net :",null,{"$f":"IF(preparation_plateau!$L$2>=10,preparation_plateau!$AG11,\"\")","v":""},null,"Dpt :             Arr :             Net :",null,{"$f":"IF(preparation_plateau!$L$2>=10,preparation_plateau!$AG26,\"\")","v":""},null,"Dpt :             Arr :             Net :",null,{"$f":"IF(preparation_plateau!$L$2>=10,preparation_plateau!$AG27,\"\")","v":""},null,"Dpt :             Arr :             Net :"]
[null,"Bilan",null,"Tps net :",null,"Bilan",null,"Tps net :",null,"Bilan",null,"Tps net :",null,"Bilan",null,"Tps net :"]
[null,"TEL. CLG : 04 90 58 11 32",null,null,null,"TEL. CLG : 04 90 58 11 32",null,null,null,"TEL. CLG : 04 90 58 11 32",null,null,null,"TEL. CLG : 04 90 58 11 32"]
[]
[]
[null,"DATE :",null,{"$f":"index_classe!$E11","v":"Carte N° : 9 - KOLA Alexandre"},null,"DATE :",null,{"$f":"index_classe!$E12","v":"Carte N° : 10 - LERHE Melvin"},null,"DATE :",null,{"$f":"index_classe!$E27","v":""},null,"DATE :",null,{"$f":"index_classe!$E28","v":""}]
[null,"CODE","Numéro BALISE","HEURE LIMITE:",null,"CODE","Numéro BALISE","HEURE LIMITE:",null,"CODE","Numéro BALISE","HEURE LIMITE:",null,"CODE","Numéro BALISE","HEURE LIMITE:"]
[]
[null,{"$f":"IF(preparation_plateau!$L$2>=1,preparation_plateau!$F12,\"\")","v":87},null,"Dpt :             Arr :             Net :",null,{"$f":"IF(preparation_plateau!$L$2>=1,preparation_plateau!$F13,\"\")","v":62},null,"Dpt :             Arr :             Net :",null,{"$f":"IF(preparation_plateau!$L$2>=1,preparation_plateau!$F28,\"\")","v":""},null,"Dpt :             Arr :             Net :",null,{"$f":"IF(preparation_plateau!$L$2>=1,preparation_plateau!$F29,\"\")","v":""},null,"Dpt :             Arr :             Net :"]
[null,{"$f":"IF(preparation_plateau!$L$2>=2,preparation_plateau!$I12,\"\")","v":87},null,"Dpt :             Arr :             Net :",null,{"$f":"IF(preparation_plateau!$L$2>=2,preparation_plateau!$I13,\"\")","v":62},null,"Dpt :             Arr :             Net :",null,{"$f":"IF(preparation_plateau!$L$2>=2,preparation_plateau!$I28,\"\")","v":""},null,"Dpt :             Arr :             Net :",null,{"$f":"IF(preparation_plateau!$L$2>=2,preparation_plateau!$I29,\"\")","v":""},null,"Dpt :             Arr :             Net :"]
[null,{"$f":"IF(preparation_plateau!$L$2>=3,preparation_plateau!$L12,\"\")","v":95},null,"Dpt :             Arr :             Net :",null,{"$f":"IF(preparation_plateau!$L$2>=3,preparation_plateau!$L13,\"\")","v":1},null,"Dpt :             Arr :             Net :",null,{"$f":"IF(preparation_plateau!$L$2>=3,preparation_plateau!$L28,\"\")","v":""},null,"Dpt :             Arr :             Net :",null,{"$f":"IF(preparation_plateau!$L$2>=3,preparation_plateau!$L29,\"\")","v":""},null,"Dpt :             Arr :             Net :"]
[null,{"$f":"IF(preparation_plateau!$L$2>=4,preparation_plateau!$O12,\"\")","v":21},null,"Dpt :             Arr :             Net :",null,{"$f":"IF(preparation_plateau!$L$2>=4,preparation_plateau!$O13,\"\")","v":69},null,"Dpt :             Arr :             Net :",null,{"$f":"IF(preparation_plateau!$L$2>=4,preparation_plateau!$O28,\"\")","v":""},null,"Dpt :             Arr :             Net :",null,{"$f":"IF(preparation_plateau!$L$2>=4,preparation_plateau!$O29,\"\")","v":""},null,"Dpt :             Arr :             Net :"]
[null,{"$f":"IF(preparation_plateau!$L$2>=5,preparation_plateau!$R12,\"\")","v":87},null,"Dpt :             Arr :             Net :",null,{"$f":"IF(preparation_plateau!$L$2>=5,preparation_plateau!$R13,\"\")","v":59},null,"Dpt :             Arr :             Net :",null,{"$f":"IF(preparation_plateau!$L$2>=5,preparation_plateau!$R28,\"\")","v":""},null,"Dpt :             Arr :             Net :",null,{"$f":"IF(preparation_plateau!$L$2>=5,preparation_plateau!$R29,\"\")","v":""},null,"Dpt :             Arr :             Net :"]
[null,{"$f":"IF(preparation_plateau!$L$2>=6,preparation_plateau!$U12,\"\")","v":""},null,"Dpt :             Arr :             Net :",null,{"$f":"IF(preparation_plateau!$L$2>=6,preparation_plateau!$U13,\"\")","v":""},null,"Dpt :             Arr :             Net :",null,{"$f":"IF(preparation_plateau!$L$2>=6,preparation_plateau!$U28,\"\")","v":""},null,"Dpt :             Arr :             Net :",null,{"$f":"IF(preparation_plateau!$L$2>=6,preparation_plateau!$U29,\"\")","v":""},null,"Dpt :             Arr :             Net :"]
[null,{"$f":"IF(preparation_plateau!$L$2>=7,preparation_plateau!$X12,\"\")","v":""},null,"Dpt :             Arr :             Net :",null,{"$f":"IF(preparation_plateau!$L$2>=7,preparation_plateau!$X13,\"\")","v":""},null,"Dpt :             Arr :             Net :",null,{"$f":"IF(preparation_plateau!$L$2>=7,preparation_plateau!$X28,\"\")","v":""},null,"Dpt :             Arr :             Net :",null,{"$f":"IF(preparation_plateau!$L$2>=7,preparation_plateau!$X29,\"\")","v":""},null,"Dpt :             Arr :             Net :"]
[null,{"$f":"IF(preparation_plateau!$L$2>=8,preparation_plateau!$AA12,\"\")","v":""},null,"Dpt :             Arr :             Net :",null,{"$f":"IF(preparation_plateau!$L$2>=8,preparation_plateau!$AA13,\"\")","v":""},null,"Dpt :             Arr :             Net :",null,{"$f":"IF(preparation_plateau!$L$2>=8,preparation_plateau!$AA28,\"\")","v":""},null,"Dpt :             Arr :             Net :",null,{"$f":"IF(preparation_plateau!$L$2>=8,preparation_plateau!$AA29,\"\")","v":""},null,"Dpt :             Arr :             Net :"]
[null,{"$f":"IF(preparation_plateau!$L$2>=9,preparation_plateau!$AD12,\"\")","v":""},null,"Dpt :             Arr :             Net :",null,{"$f":"IF(preparation_plateau!$L$2>=9,preparation_plateau!$AD13,\"\")","v":""},null,"Dpt :             Arr :             Net :",null,{"$f":"IF(preparation_plateau!$L$2>=9,preparation_plateau!$AD28,\"\")","v":""},null,"Dpt :             Arr :             Net :",null,{"$f":"IF(preparation_plateau!$L$2>=9,preparation_plateau!$AD29,\"\")","v":""},null,"Dpt :             Arr :             Net :"]
[null,{"$f":"IF(preparation_plateau!$L$2>=10,preparation_plateau!$AG12,\"\")","v":""},null,"Dpt :             Arr :             Net :",null,{"$f":"IF(preparation_plateau!$L$2>=10,preparation_plateau!$AG13,\"\")","v":""},null,"Dpt :             Arr :             Net :",null,{"$f":"IF(preparation_plateau!$L$2>=10,preparation_plateau!$AG28,\"\")","v":""},null,"Dpt :             Arr :             Net :",null,{"$f":"IF(preparation_plateau!$L$2>=10,preparation_plateau!$AG29,\"\")","v":""},null,"Dpt :             Arr :             Net :"]
[null,"Bilan",null,"Tps net :",null,"Bilan",null,"Tps net :",null,"Bilan",null,"Tps net :",null,"Bilan",null,"Tps net :"]
[null,"TEL. CLG : 04 90 58 11 32",null,null,null,"TEL. CLG : 04 90 58 11 32",null,null,null,"TEL. CLG : 04 90 58 11 32",null,null,null,"TEL. CLG : 04 90 58 11 32"]
[]
[]
[null,"DATE :",null,{"$f":"index_classe!$E13","v":"Carte N° : 11 - LOE Mickael"},null,"DATE :",null,{"$f":"index_classe!$E14","v":"Carte N° : 1 - MORET Alice"},null,"DATE :",null,{"$f":"index_classe!$E29","v":""},null,"DATE :",null,{"$f":"index_classe!$E30","v":""}]
[null,"CODE","Numéro BALISE","HEURE LIMITE:",null,"CODE","Numéro BALISE","HEURE LIMITE:",null,"CODE","Numéro BALISE","HEURE LIMITE:",null,"CODE","Numéro BALISE","HEURE LIMITE:"]
[]
[null,{"$f":"IF(preparation_plateau!$L$2>=1,preparation_plateau!$F14,\"\")","v":87},null,"Dpt :             Arr :             Net :",null,{"$f":"IF(preparation_plateau!$L$2>=1,preparation_plateau!$F15,\"\")","v":11},null,"Dpt :             Arr :             Net :",null,{"$f":"IF(preparation_plateau!$L$2>=1,preparation_plateau!$F30,\"\")","v":""},null,"Dpt :             Arr :             Net :",null,{"$f":"IF(preparation_plateau!$L$2>=1,preparation_plateau!$F31,\"\")","v":""},null,"Dpt :             Arr :             Net :"]
[null,{"$f":"IF(preparation_plateau!$L$2>=2,preparation_plateau!$I14,\"\")","v":87},null,"Dpt :             Arr :             Net :",null,{"$f":"IF(preparation_plateau!$L$2>=2,preparation_plateau!$I15,\"\")","v":10},null,"Dpt :             Arr :             Net :",null,{"$f":"IF(preparation_plateau!$L$2>=2,preparation_plateau!$I30,\"\")","v":""},null,"Dpt :             Arr :             Net :",null,{"$f":"IF(preparation_plateau!$L$2>=2,preparation_plateau!$I31,\"\")","v":""},null,"Dpt :             Arr :             Net :"]
[null,{"$f":"IF(preparation_plateau!$L$2>=3,preparation_plateau!$L14,\"\")","v":92},null,"Dpt :             Arr :             Net :",null,{"$f":"IF(preparation_plateau!$L$2>=3,preparation_plateau!$L15,\"\")","v":4},null,"Dpt :             Arr :             Net :",null,{"$f":"IF(preparation_plateau!$L$2>=3,preparation_plateau!$L30,\"\")","v":""},null,"Dpt :             Arr :             Net :",null,{"$f":"IF(preparation_plateau!$L$2>=3,preparation_plateau!$L31,\"\")","v":""},null,"Dpt :             Arr :             Net :"]
[null,{"$f":"IF(preparation_plateau!$L$2>=4,preparation_plateau!$O14,\"\")","v":10},null,"Dpt :             Arr :             Net :",null,{"$f":"IF(preparation_plateau!$L$2>=4,preparation_plateau!$O15,\"\")","v":12},null,"Dpt :             Arr :             Net :",null,{"$f":"IF(preparation_plateau!$L$2>=4,preparation_plateau!$O30,\"\")","v":""},null,"Dpt :             Arr :             Net :",null,{"$f":"IF(preparation_plateau!$L$2>=4,preparation_plateau!$O31,\"\")","v":""},null,"Dpt :             Arr :             Net :"]
[null,{"$f":"IF(preparation_plateau!$L$2>=5,preparation_plateau!$R14,\"\")","v":61},null,"Dpt :             Arr :             Net :",null,{"$f":"IF(preparation_plateau!$L$2>=5,preparation_plateau!$R15,\"\")","v":66},null,"Dpt :             Arr :             Net :",null,{"$f":"IF(preparation_plateau!$L$2>=5,preparation_plateau!$R30,\"\")","v":""},null,"Dpt :             Arr :             Net :",null,{"$f":"IF(preparation_plateau!$L$2>=5,preparation_plateau!$R31,\"\")","v":""},null,"Dpt :             Arr :             Net :"]
[null,{"$f":"IF(preparation_plateau!$L$2>=6,preparation_plateau!$U14,\"\")","v":""},null,"Dpt :             Arr :             Net :",null,{"$f":"IF(preparation_plateau!$L$2>=6,preparation_plateau!$U15,\"\")","v":""},null,"Dpt :             Arr :             Net :",null,{"$f":"IF(preparation_plateau!$L$2>=6,preparation_plateau!$U30,\"\")","v":""},null,"Dpt :             Arr :             Net :",null,{"$f":"IF(preparation_plateau!$L$2>=6,preparation_plateau!$U31,\"\")","v":""},null,"Dpt :             Arr :             Net :"]
[null,{"$f":"IF(preparation_plateau!$L$2>=7,preparation_plateau!$X14,\"\")","v":""},null,"Dpt :             Arr :             Net :",null,{"$f":"IF(preparation_plateau!$L$2>=7,preparation_plateau!$X15,\"\")","v":""},null,"Dpt :             Arr :             Net :",null,{"$f":"IF(preparation_plateau!$L$2>=7,preparation_plateau!$X30,\"\")","v":""},null,"Dpt :             Arr :             Net :",null,{"$f":"IF(preparation_plateau!$L$2>=7,preparation_plateau!$X31,\"\")","v":""},null,"Dpt :             Arr :             Net :"]
[null,{"$f":"IF(preparation_plateau!$L$2>=8,preparation_plateau!$AA14,\"\")","v":""},null,"Dpt :             Arr :             Net :",null,{"$f":"IF(preparation_plateau!$L$2>=8,preparation_plateau!$AA15,\"\")","v":""},null,"Dpt :             Arr :             Net :",null,{"$f":"IF(preparation_plateau!$L$2>=8,preparation_plateau!$AA30,\"\")","v":""},null,"Dpt :             Arr :             Net :",null,{"$f":"IF(preparation_plateau!$L$2>=8,preparation_plateau!$AA31,\"\")","v":""},null,"Dpt :             Arr :             Net :"]
[null,{"$f":"IF(preparation_plateau!$L$2>=9,preparation_plateau!$AD14,\"\")","v":""},null,"Dpt :             Arr :             Net :",null,{"$f":"IF(preparation_plateau!$L$2>=9,preparation_plateau!$AD15,\"\")","v":""},null,"Dpt :             Arr :             Net :",null,{"$f":"IF(preparation_plateau!$L$2>=9,preparation_plateau!$AD30,\"\")","v":""},null,"Dpt :             Arr :             Net :",null,{"$f":"IF(preparation_plateau!$L$2>=9,preparation_plateau!$AD31,\"\")","v":""},null,"Dpt :             Arr :             Net :"]
[null,{"$f":"IF(preparation_plateau!$L$2>=10,preparation_plateau!$AG14,\"\")","v":""},null,"Dpt :             Arr :             Net :",null,{"$f":"IF(preparation_plateau!$L$2>=10,preparation_plateau!$AG15,\"\")","v":""},null,"Dpt :             Arr :             Net :",null,{"$f":"IF(preparation_plateau!$L$2>=10,preparation_plateau!$AG30,\"\")","v":""},null,"Dpt :             Arr :             Net :",null,{"$f":"IF(preparation_plateau!$L$2>=10,preparation_plateau!$AG31,\"\")","v":""},null,"Dpt :             Arr :             Net :"]
[null,"Bilan",null,"Tps net :",null,"Bilan",null,"Tps net :",null,"Bilan",null,"Tps net :",null,"Bilan",null,"Tps net :"]
[null,"TEL. CLG : 04 90 58 11 32",null,null,null,"TEL. CLG : 04 90 58 11 32",null,null,null,"TEL. CLG : 04 90 58 11 32",null,null,null,"TEL. CLG : 04 90 58 11 32"]
[]
[]
[null,"DATE :",null,{"$f":"index_classe!$E15","v":"Carte N° : 2 - NICAU Romain"},null,"DATE :",null,{"$f":"index_classe!$E16","v":"Carte N° : 3 - RUI Desiderio"},null,"DATE :",null,{"$f":"index_classe!$E31","v":""},null,"DATE :",null,{"$f":"index_classe!$E32","v":""}]
[null,"CODE","Numéro BALISE","HEURE LIMITE:",null,"CODE","Numéro BALISE","HEURE LIMITE:",null,"CODE","Numéro BALISE","HEURE LIMITE:",null,"CODE","Numéro BALISE","HEURE LIMITE:"]
[]
[null,{"$f":"IF(preparation_plateau!$L$2>=1,preparation_plateau!$F16,\"\")","v":93},null,"Dpt :             Arr :             Net :",null,{"$f":"IF(preparation_plateau!$L$2>=1,preparation_plateau!$F17,\"\")","v":4},null,"Dpt :             Arr :             Net :",null,{"$f":"IF(preparation_plateau!$L$2>=1,preparation_plateau!$F32,\"\")","v":""},null,"Dpt :             Arr :             Net :",null,{"$f":"IF(preparation_plateau!$L$2>=1,preparation_plateau!$F33,\"\")","v":""},null,"Dpt :             Arr :             Net :"]
[null,{"$f":"IF(preparation_plateau!$L$2>=2,preparation_plateau!$I16,\"\")","v":12},null,"Dpt :             Arr :             Net :",null,{"$f":"IF(preparation_plateau!$L$2>=2,preparation_plateau!$I17,\"\")","v":21},null,"Dpt :             Arr :             Net :",null,{"$f":"IF(preparation_plateau!$L$2>=2,preparation_plateau!$I32,\"\")","v":""},null,"Dpt :             Arr :             Net :",null,{"$f":"IF(preparation_plateau!$L$2>=2,preparation_plateau!$I33,\"\")","v":""},null,"Dpt :             Arr :             Net :"]
[null,{"$f":"IF(preparation_plateau!$L$2>=3,preparation_plateau!$L16,\"\")","v":64},null,"Dpt :             Arr :             Net :",null,{"$f":"IF(preparation_plateau!$L$2>=3,preparation_plateau!$L17,\"\")","v":64},null,"Dpt :             Arr :             Net :",null,{"$f":"IF(preparation_plateau!$L$2>=3,preparation_plateau!$L32,\"\")","v":""},null,"Dpt :             Arr :             Net :",null,{"$f":"IF(preparation_plateau!$L$2>=3,preparation_plateau!$L33,\"\")","v":""},null,"Dpt :             Arr :             Net :"]
[null,{"$f":"IF(preparation_plateau!$L$2>=4,preparation_plateau!$O16,\"\")","v":2},null,"Dpt :             Arr :             Net :",null,{"$f":"IF(preparation_plateau!$L$2>=4,preparation_plateau!$O17,\"\")","v":84},null,"Dpt :             Arr :             Net :",null,{"$f":"IF(preparation_plateau!$L$2>=4,preparation_plateau!$O32,\"\")","v":""},null,"Dpt :             Arr :             Net :",null,{"$f":"IF(preparation_plateau!$L$2>=4,preparation_plateau!$O33,\"\")","v":""},null,"Dpt :             Arr :             Net :"]
[null,{"$f":"IF(preparation_plateau!$L$2>=5,preparation_plateau!$R16,\"\")","v":23},null,"Dpt :             Arr :             Net :",null,{"$f":"IF(preparation_plateau!$L$2>=5,preparation_plateau!$R17,\"\")","v":32},null,"Dpt :             Arr :             Net :",null,{"$f":"IF(preparation_plateau!$L$2>=5,preparation_plateau!$R32,\"\")","v":""},null,"Dpt :             Arr :             Net :",null,{"$f":"IF(preparation_plateau!$L$2>=5,preparation_plateau!$R33,\"\")","v":""},null,"Dpt :             Arr :             Net :"]
[null,{"$f":"IF(preparation_plateau!$L$2>=6,preparation_plateau!$U16,\"\")","v":""},null,"Dpt :             Arr :             Net :",null,{"$f":"IF(preparation_plateau!$L$2>=6,preparation_plateau!$U17,\"\")","v":""},null,"Dpt :             Arr :             Net :",null,{"$f":"IF(preparation_plateau!$L$2>=6,preparation_plateau!$U32,\"\")","v":""},null,"Dpt :             Arr :             Net :",null,{"$f":"IF(preparation_plateau!$L$2>=6,preparation_plateau!$U33,\"\")","v":""},null,"Dpt :             Arr :             Net :"]
[null,{"$f":"IF(preparation_plateau!$L$2>=7,preparation_plateau!$X16,\"\")","v":""},null,"Dpt :             Arr :             Net :",null,{"$f":"IF(preparation_plateau!$L$2>=7,preparation_plateau!$X17,\"\")","v":""},null,"Dpt :             Arr :             Net :",null,{"$f":"IF(preparation_plateau!$L$2>=7,preparation_plateau!$X32,\"\")","v":""},null,"Dpt :             Arr :             Net :",null,{"$f":"IF(preparation_plateau!$L$2>=7,preparation_plateau!$X33,\"\")","v":""},null,"Dpt :             Arr :             Net :"]
[null,{"$f":"IF(preparation_plateau!$L$2>=8,preparation_plateau!$AA16,\"\")","v":""},null,"Dpt :             Arr :             Net :",null,{"$f":"IF(preparation_plateau!$L$2>=8,preparation_plateau!$AA17,\"\")","v":""},null,"Dpt :             Arr :             Net :",null,{"$f":"IF(preparation_plateau!$L$2>=8,preparation_plateau!$AA32,\"\")","v":""},null,"Dpt :             Arr :             Net :",null,{"$f":"IF(preparation_plateau!$L$2>=8,preparation_plateau!$AA33,\"\")","v":""},null,"Dpt :             Arr :             Net :"]
[null,{"$f":"IF(preparation_plateau!$L$2>=9,preparation_plateau!$AD16,\"\")","v":""},null,"Dpt :             Arr :             Net :",null,{"$f":"IF(preparation_plateau!$L$2>=9,preparation_plateau!$AD17,\"\")","v":""},null,"Dpt :             Arr :             Net :",null,{"$f":"IF(preparation_plateau!$L$2>=9,preparation_plateau!$AD32,\"\")","v":""},null,"Dpt :             Arr :             Net :",null,{"$f":"IF(preparation_plateau!$L$2>=9,preparation_plateau!$AD33,\"\")","v":""},null,"Dpt :             Arr :             Net :"]
[null,{"$f":"IF(preparation_plateau!$L$2>=10,preparation_plateau!$AG16,\"\")","v":""},null,"Dpt :             Arr :             Net :",null,{"$f":"IF(preparation_plateau!$L$2>=10,preparation_plateau!$AG17,\"\")","v":""},null,"Dpt :             Arr :             Net :",null,{"$f":"IF(preparation_plateau!$L$2>=10,preparation_plateau!$AG32,\"\")","v":""},null,"Dpt :             Arr :             Net :",null,{"$f":"IF(preparation_plateau!$L$2>=10,preparation_plateau!$AG33,\"\")","v":""},null,"Dpt :             Arr :             Net :"]
[null,"Bilan",null,"Tps net :",null,"Bilan",null,"Tps net :",null,"Bilan",null,"Tps net :",null,"Bilan",null,"Tps net :"]
[null,"TEL. CLG : 04 90 58 11 32",null,null,null,"TEL. CLG : 04 90 58 11 32",null,null,null,"TEL. CLG : 04 90 58 11 32",null,null,null,"TEL. CLG : 04 90 58 11 32"]
[]
[]
[null,"DATE :",null,{"$f":"index_classe!$E17","v":"Carte N° : 4 - RI Niko"},null,"DATE :",null,{"$f":"index_classe!$E18","v":"Carte N° : 5 - SAL Calvin"},null,"DATE :",null,{"$f":"index_classe!$E33","v":""},null,"DATE :",null,{"$f":"index_classe!$E34","v":""}]
[null,"CODE","Numéro BALISE","HEURE LIMITE:",null,"CODE","Numéro BALISE","HEURE LIMITE:",null,"CODE","Numéro BALISE","HEURE LIMITE:",null,"CODE","Numéro BALISE","HEURE LIMITE:"]
[]
[null,{"$f":"IF(preparation_plateau!$L$2>=1,preparation_plateau!$F18,\"\")","v":30},null,"Dpt :             Arr :             Net :",null,{"$f":"IF(preparation_plateau!$L$2>=1,preparation_plateau!$F19,\"\")","v":86},null,"Dpt :             Arr :             Net :",null,{"$f":"IF(preparation_plateau!$L$2>=1,preparation_plateau!$F34,\"\")","v":""},null,"Dpt :             Arr :             Net :",null,{"$f":"IF(preparation_plateau!$L$2>=1,preparation_plateau!$F35,\"\")","v":""},null,"Dpt :             Arr :             Net :"]
[null,{"$f":"IF(preparation_plateau!$L$2>=2,preparation_plateau!$I18,\"\")","v":30},null,"Dpt :             Arr :             Net :",null,{"$f":"IF(preparation_plateau!$L$2>=2,preparation_plateau!$I19,\"\")","v":21},null,"Dpt :             Arr :             Net :",null,{"$f":"IF(preparation_plateau!$L$2>=2,preparation_plateau!$I34,\"\")","v":""},null,"Dpt :             Arr :             Net :",null,{"$f":"IF(preparation_plateau!$L$2>=2,preparation_plateau!$I35,\"\")","v":""},null,"Dpt :             Arr :             Net :"]
[null,{"$f":"IF(preparation_plateau!$L$2>=3,preparation_plateau!$L18,\"\")","v":3},null,"Dpt :             Arr :             Net :",null,{"$f":"IF(preparation_plateau!$L$2>=3,preparation_plateau!$L19,\"\")","v":7},null,"Dpt :             Arr :             Net :",null,{"$f":"IF(preparation_plateau!$L$2>=3,preparation_plateau!$L34,\"\")","v":""},null,"Dpt :             Arr :             Net :",null,{"$f":"IF(preparation_plateau!$L$2>=3,preparation_plateau!$L35,\"\")","v":""},null,"Dpt :             Arr :             Net :"]
[null,{"$f":"IF(preparation_plateau!$L$2>=4,preparation_plateau!$O18,\"\")","v":31},null,"Dpt :             Arr :             Net :",null,{"$f":"IF(preparation_plateau!$L$2>=4,preparation_plateau!$O19,\"\")","v":11},null,"Dpt :             Arr :             Net :",null,{"$f":"IF(preparation_plateau!$L$2>=4,preparation_plateau!$O34,\"\")","v":""},null,"Dpt :             Arr :             Net :",null,{"$f":"IF(preparation_plateau!$L$2>=4,preparation_plateau!$O35,\"\")","v":""},null,"Dpt :             Arr :             Net :"]
[null,{"$f":"IF(preparation_plateau!$L$2>=5,preparation_plateau!$R18,\"\")","v":67},null,"Dpt :             Arr :             Net :",null,{"$f":"IF(preparation_plateau!$L$2>=5,preparation_plateau!$R19,\"\")","v":96},null,"Dpt :             Arr :             Net :",null,{"$f":"IF(preparation_plateau!$L$2>=5,preparation_plateau!$R34,\"\")","v":""},null,"Dpt :             Arr :             Net :",null,{"$f":"IF(preparation_plateau!$L$2>=5,preparation_plateau!$R35,\"\")","v":""},null,"Dpt :             Arr :             Net :"]
[null,{"$f":"IF(preparation_plateau!$L$2>=6,preparation_plateau!$U18,\"\")","v":""},null,"Dpt :             Arr :             Net :",null,{"$f":"IF(preparation_plateau!$L$2>=6,preparation_plateau!$U19,\"\")","v":""},null,"Dpt :             Arr :             Net :",null,{"$f":"IF(preparation_plateau!$L$2>=6,preparation_plateau!$U34,\"\")","v":""},null,"Dpt :             Arr :             Net :",null,{"$f":"IF(preparation_plateau!$L$2>=6,preparation_plateau!$U35,\"\")","v":""},null,"Dpt :             Arr :             Net :"]
[null,{"$f":"IF(preparation_plateau!$L$2>=7,preparation_plateau!$X18,\"\")","v":""},null,"Dpt :             Arr :             Net :",null,{"$f":"IF(preparation_plateau!$L$2>=7,preparation_plateau!$X19,\"\")","v":""},null,"Dpt :             Arr :             Net :",null,{"$f":"IF(preparation_plateau!$L$2>=7,preparation_plateau!$X34,\"\")","v":""},null,"Dpt :             Arr :             Net :",null,{"$f":"IF(preparation_plateau!$L$2>=7,preparation_plateau!$X35,\"\")","v":""},null,"Dpt :             Arr :             Net :"]
[null,{"$f":"IF(preparation_plateau!$L$2>=8,preparation_plateau!$AA18,\"\")","v":""},null,"Dpt :             Arr :             Net :",null,{"$f":"IF(preparation_plateau!$L$2>=8,preparation_plateau!$AA19,\"\")","v":""},null,"Dpt :             Arr :             Net :",null,{"$f":"IF(preparation_plateau!$L$2>=8,preparation_plateau!$AA34,\"\")","v":""},null,"Dpt :             Arr :             Net :",null,{"$f":"IF(preparation_plateau!$L$2>=8,preparation_plateau!$AA35,\"\")","v":""},null,"Dpt :             Arr :             Net :"]
[null,{"$f":"IF(preparation_plateau!$L$2>=9,preparation_plateau!$AD18,\"\")","v":""},null,"Dpt :             Arr :             Net :",null,{"$f":"IF(preparation_plateau!$L$2>=9,preparation_plateau!$AD19,\"\")","v":""},null,"Dpt :             Arr :             Net :",null,{"$f":"IF(preparation_plateau!$L$2>=9,preparation_plateau!$AD34,\"\")","v":""},null,"Dpt :             Arr :             Net :",null,{"$f":"IF(preparation_plateau!$L$2>=9,preparation_plateau!$AD35,\"\")","v":""},null,"Dpt :             Arr :             Net :"]
[null,{"$f":"IF(preparation_plateau!$L$2>=10,preparation_plateau!$AG18,\"\")","v":""},null,"Dpt :             Arr :             Net :",null,{"$f":"IF(preparation_plateau!$L$2>=10,preparation_plateau!$AG19,\"\")","v":""},null,"Dpt :             Arr :             Net :",null,{"$f":"IF(preparation_plateau!$L$2>=10,preparation_plateau!$AG34,\"\")","v":""},null,"Dpt :             Arr :             Net :",null,{"$f":"IF(preparation_plateau!$L$2>=10,preparation_plateau!$AG35,\"\")","v":""},null,"Dpt :             Arr :             Net :"]
[null,"Bilan",null,"Tps net :",null,"Bilan",null,"Tps net :",null,"Bilan",null,"Tps net :",null,"Bilan",null,"Tps net :"]
[null,"TEL. CLG : 04 90 58 11 32",null,null,null,"TEL. CLG : 04 90 58 11 32",null,null,null,"TEL. CLG : 04 90 58 11 32",null,null,null,"TEL. CLG : 04 90 58 11 32"]

{"sheet":"sauvegardes","index":10,"n_rows":0,"n_cols":0,"rows_kept":0,"cut":false,"hidden":false,"merged":[]}

{"sheet":"suivi_plateau","index":11,"n_rows":39,"n_cols":54,"rows_kept":39,"cut":false,"hidden":false,"merged":[[38,29,38,33],[38,34,38,38],[38,39,38,43],[38,44,38,48],[38,49,38,53],[38,24,38,28],[38,0,38,3],[38,4,38,8],[38,9,38,13],[38,14,38,18],[38,19,38,23]]}
[null,null,null,null,null,{"$f":"NOW()- NOW()","v":"00:00:00"},"00:00:00.510"]
["RAPPEL N° CARTE",{"$f":"IF(preparation_plateau!C2=\"\",\"\",preparation_plateau!C2)","v":""}]
["NOM","PRENOM","N° BALISE 1","Rappel Carte","CODE 1","Retour N°","VERIF","Feed Back","Feed Back","CODE 2","Retour N°","VERIF","Feed Back","Feed Back","CODE 3","Retour N°","VERIF","Feed Back","Feed Back","CODE 4","Retour N°","VERIF","Feed Back","Feed Back","CODE 5","Retour N°","VERIF","Feed Back","Feed Back","CODE 6","Retour N°","VERIF","Feed Back","Feed Back","CODE 7","Retour N°","VERIF","Feed Back","Feed Back","CODE 8","Retour N°","VERIF","Feed Back","Feed Back","CODE 9","Retour N°","VERIF","Feed Back","Feed Back","CODE 10","Retour N°","VERIF","Feed Back","Feed Back"]
[{"$f":"preparation_plateau!B4","v":"BENZ"},{"$f":"preparation_plateau!C4","v":"Nawel"},1,{"$f":"IF(preparation_plateau!D4=\"\",\"\",preparation_plateau!D4)","v":1},{"$f":"preparation_plateau!G4","v":"AM"},null,{"$f":"IF(F4=\"\",\"\",IF(F4=preparation_plateau!H4,\"OK\",\"FAUX\"))","v":""},{"$f":"IF(ISERROR(I4),\"Inconnu\",I4)","v":""},{"$f":"IF(F4=\"\",\"\",IF(G4=\"OK\",\"\",VLOOKUP(F4,index_cabasse!$C$5:$O$89,preparation_plateau!$D4+1,FALSE)))","v":""},{"$f":"preparation_plateau!J4","v":"CBL"},null,{"$f":"IF(K4=\"\",\"\",IF(K4=preparation_plateau!K4,\"OK\",\"FAUX\"))","v":""},{"$f":"IF(ISERROR(N4),\"Inconnu\",N4)","v":""},{"$f":"IF(K4=\"\",\"\",IF(L4=\"OK\",\"\",VLOOKUP(K4,index_cabasse!$C$5:$O$89,preparation_plateau!$D4+1,FALSE)))","v":""},{"$f":"preparation_plateau!M4","v":"CBL"},null,{"$f":"IF(P4=\"\",\"\",IF(P4=preparation_plateau!N4,\"OK\",\"FAUX\"))","v":""},{"$f":"IF(ISERROR(S4),\"Inconnu\",S4)","v":""},{"$f":"IF(P4=\"\",\"\",IF(Q4=\"OK\",\"\",VLOOKUP(P4,index_cabasse!$C$5:$O$89,preparation_plateau!$D4+1,FALSE)))","v":""},{"$f":"preparation_plateau!P4","v":"BAK"},null,{"$f":"IF(U4=\"\",\"\",IF(U4=preparation_plateau!Q4,\"OK\",\"FAUX\"))","v":""},{"$f":"IF(ISERROR(X4),\"Inconnu\",X4)","v":""},{"$f":"IF(U4=\"\",\"\",IF(V4=\"OK\",\"\",VLOOKUP(U4,index_cabasse!$C$5:$O$89,preparation_plateau!$D4+1,FALSE)))","v":""},{"$f":"preparation_plateau!S4","v":"CBO"},null,{"$f":"IF(Z4=\"\",\"\",IF(Z4=preparation_plateau!T4,\"OK\",\"FAUX\"))","v":""},{"$f":"IF(ISERROR(AC4),\"Inconnu\",AC4)","v":""},{"$f":"IF(Z4=\"\",\"\",IF(AA4=\"OK\",\"\",VLOOKUP(Z4,index_cabasse!$C$5:$O$89,preparation_plateau!$D4+1,FALSE)))","v":""},{"$f":"preparation_plateau!V4","v":"AM"},null,{"$f":"IF(AE4=\"\",\"\",IF(AE4=preparation_plateau!W4,\"OK\",\"FAUX\"))","v":""},{"$f":"IF(ISERROR(AH4),\"Inconnu\",AH4)","v":""},{"$f":"IF(AE4=\"\",\"\",IF(AF4=\"OK\",\"\",VLOOKUP(AE4,index_cabasse!$C$5:$O$89,preparation_plateau!$D4+1,FALSE)))","v":""},{"$f":"preparation_plateau!Y4","v":"CBI"},null,{"$f":"IF(AJ4=\"\",\"\",IF(AJ4=preparation_plateau!Z4,\"OK\",\"FAUX\"))","v":""},{"$f":"IF(ISERROR(AM4),\"Inconnu\",AM4)","v":""},{"$f":"IF(AJ4=\"\",\"\",IF(AK4=\"OK\",\"\",VLOOKUP(AJ4,index_cabasse!$C$5:$O$89,preparation_plateau!$D4+1,FALSE)))","v":""},{"$f":"preparation_plateau!AB4","v":"BJ"},null,{"$f":"IF(AO4=\"\",\"\",IF(AO4=preparation_plateau!AC4,\"OK\",\"FAUX\"))","v":""},{"$f":"IF(ISERROR(AR4),\"Inconnu\",AR4)","v":""},{"$f":"IF(AO4=\"\",\"\",IF(AP4=\"OK\",\"\",VLOOKUP(AO4,index_cabasse!$C$5:$O$89,preparation_plateau!$D4+1,FALSE)))","v":""},{"$f":"preparation_plateau!AE4","v":"AQ"},null,{"$f":"IF(AT4=\"\",\"\",IF(AT4=preparation_plateau!AF4,\"OK\",\"FAUX\"))","v":""},{"$f":"IF(ISERROR(AW4),\"Inconnu\",AW4)","v":""},{"$f":"IF(AT4=\"\",\"\",IF(AU4=\"OK\",\"\",VLOOKUP(AT4,index_cabasse!$C$5:$O$89,preparation_plateau!$D4+1,FALSE)))","v":""},{"$f":"preparation_plateau!AH4","v":"CBW"},null,{"$f":"IF(AY4=\"\",\"\",IF(AY4=preparation_plateau!AI4,\"OK\",\"FAUX\"))","v":""},{"$f":"IF(ISERROR(BB4),\"Inconnu\",BB4)","v":""},{"$f":"IF(AY4=\"\",\"\",IF(AZ4=\"OK\",\"\",VLOOKUP(AY4,index_cabasse!$C$5:$O$89,preparation_plateau!$D4+1,FALSE)))","v":""}]
[{"$f":"preparation_plateau!B5","v":"BERNA"},{"$f":"preparation_plateau!C5","v":"Laurine"},3,{"$f":"IF(preparation_plateau!D5=\"\",\"\",preparation_plateau!D5)","v":2},{"$f":"preparation_plateau!G5","v":"UPJ"},null,{"$f":"IF(F5=\"\",\"\",IF(F5=preparation_plateau!H5,\"OK\",\"FAUX\"))","v":""},{"$f":"IF(ISERROR(I5),\"Inconnu\",I5)","v":""},{"$f":"IF(F5=\"\",\"\",IF(G5=\"OK\",\"\",VLOOKUP(F5,index_cabasse!$C$5:$O$89,preparation_plateau!$D5+1,FALSE)))","v":""},{"$f":"preparation_plateau!J5","v":"UPL"},null,{"$f":"IF(K5=\"\",\"\",IF(K5=preparation_plateau!K5,\"OK\",\"FAUX\"))","v":""},{"$f":"IF(ISERROR(N5),\"Inconnu\",N5)","v":""},{"$f":"IF(K5=\"\",\"\",IF(L5=\"OK\",\"\",VLOOKUP(K5,index_cabasse!$C$5:$O$89,preparation_plateau!$D5+1,FALSE)))","v":""},{"$f":"preparation_plateau!M5","v":"EA"},null,{"$f":"IF(P5=\"\",\"\",IF(P5=preparation_plateau!N5,\"OK\",\"FAUX\"))","v":""},{"$f":"IF(ISERROR(S5),\"Inconnu\",S5)","v":""},{"$f":"IF(P5=\"\",\"\",IF(Q5=\"OK\",\"\",VLOOKUP(P5,index_cabasse!$C$5:$O$89,preparation_plateau!$D5+1,FALSE)))","v":""},{"$f":"preparation_plateau!P5","v":"EB"},null,{"$f":"IF(U5=\"\",\"\",IF(U5=preparation_plateau!Q5,\"OK\",\"FAUX\"))","v":""},{"$f":"IF(ISERROR(X5),\"Inconnu\",X5)","v":""},{"$f":"IF(U5=\"\",\"\",IF(V5=\"OK\",\"\",VLOOKUP(U5,index_cabasse!$C$5:$O$89,preparation_plateau!$D5+1,FALSE)))","v":""},{"$f":"preparation_plateau!S5","v":"UPL"},null,{"$f":"IF(Z5=\"\",\"\",IF(Z5=preparation_plateau!T5,\"OK\",\"FAUX\"))","v":""},{"$f":"IF(ISERROR(AC5),\"Inconnu\",AC5)","v":""},{"$f":"IF(Z5=\"\",\"\",IF(AA5=\"OK\",\"\",VLOOKUP(Z5,index_cabasse!$C$5:$O$89,preparation_plateau!$D5+1,FALSE)))","v":""},{"$f":"preparation_plateau!V5","v":"TOZ"},null,{"$f":"IF(AE5=\"\",\"\",IF(AE5=preparation_plateau!W5,\"OK\",\"FAUX\"))","v":""},{"$f":"IF(ISERROR(AH5),\"Inconnu\",AH5)","v":""},{"$f":"IF(AE5=\"\",\"\",IF(AF5=\"OK\",\"\",VLOOKUP(AE5,index_cabasse!$C$5:$O$89,preparation_plateau!$D5+1,FALSE)))","v":""},{"$f":"preparation_plateau!Y5","v":"DW"},null,{"$f":"IF(AJ5=\"\",\"\",IF(AJ5=preparation_plateau!Z5,\"OK\",\"FAUX\"))","v":""},{"$f":"IF(ISERROR(AM5),\"Inconnu\",AM5)","v":""},{"$f":"IF(AJ5=\"\",\"\",IF(AK5=\"OK\",\"\",VLOOKUP(AJ5,index_cabasse!$C$5:$O$89,preparation_plateau!$D5+1,FALSE)))","v":""},{"$f":"preparation_plateau!AB5","v":"UPJ"},null,{"$f":"IF(AO5=\"\",\"\",IF(AO5=preparation_plateau!AC5,\"OK\",\"FAUX\"))","v":""},{"$f":"IF(ISERROR(AR5),\"Inconnu\",AR5)","v":""},{"$f":"IF(AO5=\"\",\"\",IF(AP5=\"OK\",\"\",VLOOKUP(AO5,index_cabasse!$C$5:$O$89,preparation_plateau!$D5+1,FALSE)))","v":""},{"$f":"preparation_plateau!AE5","v":"TOI"},null,{"$f":"IF(AT5=\"\",\"\",IF(AT5=preparation_plateau!AF5,\"OK\",\"FAUX\"))","v":""},{"$f":"IF(ISERROR(AW5),\"Inconnu\",AW5)","v":""},{"$f":"IF(AT5=\"\",\"\",IF(AU5=\"OK\",\"\",VLOOKUP(AT5,index_cabasse!$C$5:$O$89,preparation_plateau!$D5+1,FALSE)))","v":""},{"$f":"preparation_plateau!AH5","v":"UPD"},null,{"$f":"IF(AY5=\"\",\"\",IF(AY5=preparation_plateau!AI5,\"OK\",\"FAUX\"))","v":""},{"$f":"IF(ISERROR(BB5),\"Inconnu\",BB5)","v":""},{"$f":"IF(AY5=\"\",\"\",IF(AZ5=\"OK\",\"\",VLOOKUP(AY5,index_cabasse!$C$5:$O$89,preparation_plateau!$D5+1,FALSE)))","v":""}]
[{"$f":"preparation_plateau!B6","v":"CHEL"},{"$f":"preparation_plateau!C6","v":"Sarah"},5,{"$f":"IF(preparation_plateau!D6=\"\",\"\",preparation_plateau!D6)","v":3},{"$f":"preparation_plateau!G6","v":"GQ"},null,{"$f":"IF(F6=\"\",\"\",IF(F6=preparation_plateau!H6,\"OK\",\"FAUX\"))","v":""},{"$f":"IF(ISERROR(I6),\"Inconnu\",I6)","v":""},{"$f":"IF(F6=\"\",\"\",IF(G6=\"OK\",\"\",VLOOKUP(F6,index_cabasse!$C$5:$O$89,preparation_plateau!$D6+1,FALSE)))","v":""},{"$f":"preparation_plateau!J6","v":"GE"},null,{"$f":"IF(K6=\"\",\"\",IF(K6=preparation_plateau!K6,\"OK\",\"FAUX\"))","v":""},"",{"$f":"IF(K6=\"\",\"\",IF(L6=\"OK\",\"\",VLOOKUP(K6,index_cabasse!$C$5:$O$89,preparation_plateau!$D6+1,FALSE)))","v":""},{"$f":"preparation_plateau!M6","v":"GO"},null,{"$f":"IF(P6=\"\",\"\",IF(P6=preparation_plateau!N6,\"OK\",\"FAUX\"))","v":""},"",{"$f":"IF(P6=\"\",\"\",IF(Q6=\"OK\",\"\",VLOOKUP(P6,index_cabasse!$C$5:$O$89,preparation_plateau!$D6+1,FALSE)))","v":""},{"$f":"preparation_plateau!P6","v":"FIQ"},null,{"$f":"IF(U6=\"\",\"\",IF(U6=preparation_plateau!Q6,\"OK\",\"FAUX\"))","v":""},"",{"$f":"IF(U6=\"\",\"\",IF(V6=\"OK\",\"\",VLOOKUP(U6,index_cabasse!$C$5:$O$89,preparation_plateau!$D6+1,FALSE)))","v":""},{"$f":"preparation_plateau!S6","v":"IHE"},null,{"$f":"IF(Z6=\"\",\"\",IF(Z6=preparation_plateau!T6,\"OK\",\"FAUX\"))","v":""},"",{"$f":"IF(Z6=\"\",\"\",IF(AA6=\"OK\",\"\",VLOOKUP(Z6,index_cabasse!$C$5:$O$89,preparation_plateau!$D6+1,FALSE)))","v":""},{"$f":"preparation_plateau!V6","v":"FJB"},null,{"$f":"IF(AE6=\"\",\"\",IF(AE6=preparation_plateau!W6,\"OK\",\"FAUX\"))","v":""},"",{"$f":"IF(AE6=\"\",\"\",IF(AF6=\"OK\",\"\",VLOOKUP(AE6,index_cabasse!$C$5:$O$89,preparation_plateau!$D6+1,FALSE)))","v":""},{"$f":"preparation_plateau!Y6","v":"IHH"},null,{"$f":"IF(AJ6=\"\",\"\",IF(AJ6=preparation_plateau!Z6,\"OK\",\"FAUX\"))","v":""},"",{"$f":"IF(AJ6=\"\",\"\",IF(AK6=\"OK\",\"\",VLOOKUP(AJ6,index_cabasse!$C$5:$O$89,preparation_plateau!$D6+1,FALSE)))","v":""},{"$f":"preparation_plateau!AB6","v":"FIR"},null,{"$f":"IF(AO6=\"\",\"\",IF(AO6=preparation_plateau!AC6,\"OK\",\"FAUX\"))","v":""},"",{"$f":"IF(AO6=\"\",\"\",IF(AP6=\"OK\",\"\",VLOOKUP(AO6,index_cabasse!$C$5:$O$89,preparation_plateau!$D6+1,FALSE)))","v":""},{"$f":"preparation_plateau!AE6","v":"FJX"},null,{"$f":"IF(AT6=\"\",\"\",IF(AT6=preparation_plateau!AF6,\"OK\",\"FAUX\"))","v":""},"",{"$f":"IF(AT6=\"\",\"\",IF(AU6=\"OK\",\"\",VLOOKUP(AT6,index_cabasse!$C$5:$O$89,preparation_plateau!$D6+1,FALSE)))","v":""},{"$f":"preparation_plateau!AH6","v":"FJV"},null,{"$f":"IF(AY6=\"\",\"\",IF(AY6=preparation_plateau!AI6,\"OK\",\"FAUX\"))","v":""},"",{"$f":"IF(AY6=\"\",\"\",IF(AZ6=\"OK\",\"\",VLOOKUP(AY6,index_cabasse!$C$5:$O$89,preparation_plateau!$D6+1,FALSE)))","v":""}]
[{"$f":"preparation_plateau!B7","v":"CLAUD"},{"$f":"preparation_plateau!C7","v":"Maxime"},null,{"$f":"IF(preparation_plateau!D7=\"\",\"\",preparation_plateau!D7)","v":4},{"$f":"preparation_plateau!G7","v":"IX"},null,{"$f":"IF(F7=\"\",\"\",IF(F7=preparation_plateau!H7,\"OK\",\"FAUX\"))","v":""},"",{"$f":"IF(F7=\"\",\"\",IF(G7=\"OK\",\"\",VLOOKUP(F7,index_cabasse!$C$5:$O$89,preparation_plateau!$D7+1,FALSE)))","v":""},{"$f":"preparation_plateau!J7","v":"IQ"},null,{"$f":"IF(K7=\"\",\"\",IF(K7=preparation_plateau!K7,\"OK\",\"FAUX\"))","v":""},"",{"$f":"IF(K7=\"\",\"\",IF(L7=\"OK\",\"\",VLOOKUP(K7,index_cabasse!$C$5:$O$89,preparation_plateau!$D7+1,FALSE)))","v":""},{"$f":"preparation_plateau!M7","v":"IX"},null,{"$f":"IF(P7=\"\",\"\",IF(P7=preparation_plateau!N7,\"OK\",\"FAUX\"))","v":""},"",{"$f":"IF(P7=\"\",\"\",IF(Q7=\"OK\",\"\",VLOOKUP(P7,index_cabasse!$C$5:$O$89,preparation_plateau!$D7+1,FALSE)))","v":""},{"$f":"preparation_plateau!P7","v":"MBI"},null,{"$f":"IF(U7=\"\",\"\",IF(U7=preparation_plateau!Q7,\"OK\",\"FAUX\"))","v":""},"",{"$f":"IF(U7=\"\",\"\",IF(V7=\"OK\",\"\",VLOOKUP(U7,index_cabasse!$C$5:$O$89,preparation_plateau!$D7+1,FALSE)))","v":""},{"$f":"preparation_plateau!S7","v":"NAB"},null,{"$f":"IF(Z7=\"\",\"\",IF(Z7=preparation_plateau!T7,\"OK\",\"FAUX\"))","v":""},"",{"$f":"IF(Z7=\"\",\"\",IF(AA7=\"OK\",\"\",VLOOKUP(Z7,index_cabasse!$C$5:$O$89,preparation_plateau!$D7+1,FALSE)))","v":""},{"$f":"preparation_plateau!V7","v":"MER"},null,{"$f":"IF(AE7=\"\",\"\",IF(AE7=preparation_plateau!W7,\"OK\",\"FAUX\"))","v":""},"",{"$f":"IF(AE7=\"\",\"\",IF(AF7=\"OK\",\"\",VLOOKUP(AE7,index_cabasse!$C$5:$O$89,preparation_plateau!$D7+1,FALSE)))","v":""},{"$f":"preparation_plateau!Y7","v":"IX"},null,{"$f":"IF(AJ7=\"\",\"\",IF(AJ7=preparation_plateau!Z7,\"OK\",\"FAUX\"))","v":""},"",{"$f":"IF(AJ7=\"\",\"\",IF(AK7=\"OK\",\"\",VLOOKUP(AJ7,index_cabasse!$C$5:$O$89,preparation_plateau!$D7+1,FALSE)))","v":""},{"$f":"preparation_plateau!AB7","v":"MEX"},null,{"$f":"IF(AO7=\"\",\"\",IF(AO7=preparation_plateau!AC7,\"OK\",\"FAUX\"))","v":""},"",{"$f":"IF(AO7=\"\",\"\",IF(AP7=\"OK\",\"\",VLOOKUP(AO7,index_cabasse!$C$5:$O$89,preparation_plateau!$D7+1,FALSE)))","v":""},{"$f":"preparation_plateau!AE7","v":"NAD"},null,{"$f":"IF(AT7=\"\",\"\",IF(AT7=preparation_plateau!AF7,\"OK\",\"FAUX\"))","v":""},"",{"$f":"IF(AT7=\"\",\"\",IF(AU7=\"OK\",\"\",VLOOKUP(AT7,index_cabasse!$C$5:$O$89,preparation_plateau!$D7+1,FALSE)))","v":""},{"$f":"preparation_plateau!AH7","v":"NAP"},null,{"$f":"IF(AY7=\"\",\"\",IF(AY7=preparation_plateau!AI7,\"OK\",\"FAUX\"))","v":""},"",{"$f":"IF(AY7=\"\",\"\",IF(AZ7=\"OK\",\"\",VLOOKUP(AY7,index_cabasse!$C$5:$O$89,preparation_plateau!$D7+1,FALSE)))","v":""}]
[{"$f":"preparation_plateau!B8","v":"NAISSA"},{"$f":"preparation_plateau!C8","v":"Estelle"},null,{"$f":"IF(preparation_plateau!D8=\"\",\"\",preparation_plateau!D8)","v":5},{"$f":"preparation_plateau!G8","v":"DSJ"},null,{"$f":"IF(F8=\"\",\"\",IF(F8=preparation_plateau!H8,\"OK\",\"FAUX\"))","v":""},"",{"$f":"IF(F8=\"\",\"\",IF(G8=\"OK\",\"\",VLOOKUP(F8,index_cabasse!$C$5:$O$89,preparation_plateau!$D8+1,FALSE)))","v":""},{"$f":"preparation_plateau!J8","v":"OD"},null,{"$f":"IF(K8=\"\",\"\",IF(K8=preparation_plateau!K8,\"OK\",\"FAUX\"))","v":""},"",{"$f":"IF(K8=\"\",\"\",IF(L8=\"OK\",\"\",VLOOKUP(K8,index_cabasse!$C$5:$O$89,preparation_plateau!$D8+1,FALSE)))","v":""},{"$f":"preparation_plateau!M8","v":"OI"},null,{"$f":"IF(P8=\"\",\"\",IF(P8=preparation_plateau!N8,\"OK\",\"FAUX\"))","v":""},"",{"$f":"IF(P8=\"\",\"\",IF(Q8=\"OK\",\"\",VLOOKUP(P8,index_cabasse!$C$5:$O$89,preparation_plateau!$D8+1,FALSE)))","v":""},{"$f":"preparation_plateau!P8","v":"OH"},null,{"$f":"IF(U8=\"\",\"\",IF(U8=preparation_plateau!Q8,\"OK\",\"FAUX\"))","v":""},"",{"$f":"IF(U8=\"\",\"\",IF(V8=\"OK\",\"\",VLOOKUP(U8,index_cabasse!$C$5:$O$89,preparation_plateau!$D8+1,FALSE)))","v":""},{"$f":"preparation_plateau!S8","v":"DSS"},null,{"$f":"IF(Z8=\"\",\"\",IF(Z8=preparation_plateau!T8,\"OK\",\"FAUX\"))","v":""},"",{"$f":"IF(Z8=\"\",\"\",IF(AA8=\"OK\",\"\",VLOOKUP(Z8,index_cabasse!$C$5:$O$89,preparation_plateau!$D8+1,FALSE)))","v":""},{"$f":"preparation_plateau!V8","v":"DRG"},null,{"$f":"IF(AE8=\"\",\"\",IF(AE8=preparation_plateau!W8,\"OK\",\"FAUX\"))","v":""},"",{"$f":"IF(AE8=\"\",\"\",IF(AF8=\"OK\",\"\",VLOOKUP(AE8,index_cabasse!$C$5:$O$89,preparation_plateau!$D8+1,FALSE)))","v":""},{"$f":"preparation_plateau!Y8","v":"DSH"},null,{"$f":"IF(AJ8=\"\",\"\",IF(AJ8=preparation_plateau!Z8,\"OK\",\"FAUX\"))","v":""},"",{"$f":"IF(AJ8=\"\",\"\",IF(AK8=\"OK\",\"\",VLOOKUP(AJ8,index_cabasse!$C$5:$O$89,preparation_plateau!$D8+1,FALSE)))","v":""},{"$f":"preparation_plateau!AB8","v":"DRQ"},null,{"$f":"IF(AO8=\"\",\"\",IF(AO8=preparation_plateau!AC8,\"OK\",\"FAUX\"))","v":""},"",{"$f":"IF(AO8=\"\",\"\",IF(AP8=\"OK\",\"\",VLOOKUP(AO8,index_cabasse!$C$5:$O$89,preparation_plateau!$D8+1,FALSE)))","v":""},{"$f":"preparation_plateau!AE8","v":"DRF"},null,{"$f":"IF(AT8=\"\",\"\",IF(AT8=preparation_plateau!AF8,\"OK\",\"FAUX\"))","v":""},"",{"$f":"IF(AT8=\"\",\"\",IF(AU8=\"OK\",\"\",VLOOKUP(AT8,index_cabasse!$C$5:$O$89,preparation_plateau!$D8+1,FALSE)))","v":""},{"$f":"preparation_plateau!AH8","v":"OL"},null,{"$f":"IF(AY8=\"\",\"\",IF(AY8=preparation_plateau!AI8,\"OK\",\"FAUX\"))","v":""},"",{"$f":"IF(AY8=\"\",\"\",IF(AZ8=\"OK\",\"\",VLOOKUP(AY8,index_cabasse!$C$5:$O$89,preparation_plateau!$D8+1,FALSE)))","v":""}]
[{"$f":"preparation_plateau!B9","v":"FA"},{"$f":"preparation_plateau!C9","v":"Dylan"},null,{"$f":"IF(preparation_plateau!D9=\"\",\"\",preparation_plateau!D9)","v":6},{"$f":"preparation_plateau!G9","v":"ZOI"},null,{"$f":"IF(F9=\"\",\"\",IF(F9=preparation_plateau!H9,\"OK\",\"FAUX\"))","v":""},"",{"$f":"IF(F9=\"\",\"\",IF(G9=\"OK\",\"\",VLOOKUP(F9,index_cabasse!$C$5:$O$89,preparation_plateau!$D9+1,FALSE)))","v":""},{"$f":"preparation_plateau!J9","v":"ZOP"},null,{"$f":"IF(K9=\"\",\"\",IF(K9=preparation_plateau!K9,\"OK\",\"FAUX\"))","v":""},"",{"$f":"IF(K9=\"\",\"\",IF(L9=\"OK\",\"\",VLOOKUP(K9,index_cabasse!$C$5:$O$89,preparation_plateau!$D9+1,FALSE)))","v":""},{"$f":"preparation_plateau!M9","v":"ZON"},null,{"$f":"IF(P9=\"\",\"\",IF(P9=preparation_plateau!N9,\"OK\",\"FAUX\"))","v":""},"",{"$f":"IF(P9=\"\",\"\",IF(Q9=\"OK\",\"\",VLOOKUP(P9,index_cabasse!$C$5:$O$89,preparation_plateau!$D9+1,FALSE)))","v":""},{"$f":"preparation_plateau!P9","v":"RP"},null,{"$f":"IF(U9=\"\",\"\",IF(U9=preparation_plateau!Q9,\"OK\",\"FAUX\"))","v":""},"",{"$f":"IF(U9=\"\",\"\",IF(V9=\"OK\",\"\",VLOOKUP(U9,index_cabasse!$C$5:$O$89,preparation_plateau!$D9+1,FALSE)))","v":""},{"$f":"preparation_plateau!S9","v":"ZOP"},null,{"$f":"IF(Z9=\"\",\"\",IF(Z9=preparation_plateau!T9,\"OK\",\"FAUX\"))","v":""},"",{"$f":"IF(Z9=\"\",\"\",IF(AA9=\"OK\",\"\",VLOOKUP(Z9,index_cabasse!$C$5:$O$89,preparation_plateau!$D9+1,FALSE)))","v":""},{"$f":"preparation_plateau!V9","v":"RS"},null,{"$f":"IF(AE9=\"\",\"\",IF(AE9=preparation_plateau!W9,\"OK\",\"FAUX\"))","v":""},"",{"$f":"IF(AE9=\"\",\"\",IF(AF9=\"OK\",\"\",VLOOKUP(AE9,index_cabasse!$C$5:$O$89,preparation_plateau!$D9+1,FALSE)))","v":""},{"$f":"preparation_plateau!Y9","v":"RO"},null,{"$f":"IF(AJ9=\"\",\"\",IF(AJ9=preparation_plateau!Z9,\"OK\",\"FAUX\"))","v":""},"",{"$f":"IF(AJ9=\"\",\"\",IF(AK9=\"OK\",\"\",VLOOKUP(AJ9,index_cabasse!$C$5:$O$89,preparation_plateau!$D9+1,FALSE)))","v":""},{"$f":"preparation_plateau!AB9","v":"ZOI"},null,{"$f":"IF(AO9=\"\",\"\",IF(AO9=preparation_plateau!AC9,\"OK\",\"FAUX\"))","v":""},"",{"$f":"IF(AO9=\"\",\"\",IF(AP9=\"OK\",\"\",VLOOKUP(AO9,index_cabasse!$C$5:$O$89,preparation_plateau!$D9+1,FALSE)))","v":""},{"$f":"preparation_plateau!AE9","v":"ZOV"},null,{"$f":"IF(AT9=\"\",\"\",IF(AT9=preparation_plateau!AF9,\"OK\",\"FAUX\"))","v":""},"",{"$f":"IF(AT9=\"\",\"\",IF(AU9=\"OK\",\"\",VLOOKUP(AT9,index_cabasse!$C$5:$O$89,preparation_plateau!$D9+1,FALSE)))","v":""},{"$f":"preparation_plateau!AH9","v":"YON"},null,{"$f":"IF(AY9=\"\",\"\",IF(AY9=preparation_plateau!AI9,\"OK\",\"FAUX\"))","v":""},"",{"$f":"IF(AY9=\"\",\"\",IF(AZ9=\"OK\",\"\",VLOOKUP(AY9,index_cabasse!$C$5:$O$89,preparation_plateau!$D9+1,FALSE)))","v":""}]
[{"$f":"preparation_plateau!B10","v":"FLEIN"},{"$f":"preparation_plateau!C10","v":"Theo"},null,{"$f":"IF(preparation_plateau!D10=\"\",\"\",preparation_plateau!D10)","v":7},{"$f":"preparation_plateau!G10","v":"WB"},null,{"$f":"IF(F10=\"\",\"\",IF(F10=preparation_plateau!H10,\"OK\",\"FAUX\"))","v":""},"",{"$f":"IF(F10=\"\",\"\",IF(G10=\"OK\",\"\",VLOOKUP(F10,index_cabasse!$C$5:$O$89,preparation_plateau!$D10+1,FALSE)))","v":""},{"$f":"preparation_plateau!J10","v":"MNB"},null,{"$f":"IF(K10=\"\",\"\",IF(K10=preparation_plateau!K10,\"OK\",\"FAUX\"))","v":""},"",{"$f":"IF(K10=\"\",\"\",IF(L10=\"OK\",\"\",VLOOKUP(K10,index_cabasse!$C$5:$O$89,preparation_plateau!$D10+1,FALSE)))","v":""},{"$f":"preparation_plateau!M10","v":"KLS"},null,{"$f":"IF(P10=\"\",\"\",IF(P10=preparation_plateau!N10,\"OK\",\"FAUX\"))","v":""},"",{"$f":"IF(P10=\"\",\"\",IF(Q10=\"OK\",\"\",VLOOKUP(P10,index_cabasse!$C$5:$O$89,preparation_plateau!$D10+1,FALSE)))","v":""},{"$f":"preparation_plateau!P10","v":"KMX"},null,{"$f":"IF(U10=\"\",\"\",IF(U10=preparation_plateau!Q10,\"OK\",\"FAUX\"))","v":""},"",{"$f":"IF(U10=\"\",\"\",IF(V10=\"OK\",\"\",VLOOKUP(U10,index_cabasse!$C$5:$O$89,preparation_plateau!$D10+1,FALSE)))","v":""},{"$f":"preparation_plateau!S10","v":"LMU"},null,{"$f":"IF(Z10=\"\",\"\",IF(Z10=preparation_plateau!T10,\"OK\",\"FAUX\"))","v":""},"",{"$f":"IF(Z10=\"\",\"\",IF(AA10=\"OK\",\"\",VLOOKUP(Z10,index_cabasse!$C$5:$O$89,preparation_plateau!$D10+1,FALSE)))","v":""},{"$f":"preparation_plateau!V10","v":"MNA"},null,{"$f":"IF(AE10=\"\",\"\",IF(AE10=preparation_plateau!W10,\"OK\",\"FAUX\"))","v":""},"",{"$f":"IF(AE10=\"\",\"\",IF(AF10=\"OK\",\"\",VLOOKUP(AE10,index_cabasse!$C$5:$O$89,preparation_plateau!$D10+1,FALSE)))","v":""},{"$f":"preparation_plateau!Y10","v":"KLO"},null,{"$f":"IF(AJ10=\"\",\"\",IF(AJ10=preparation_plateau!Z10,\"OK\",\"FAUX\"))","v":""},"",{"$f":"IF(AJ10=\"\",\"\",IF(AK10=\"OK\",\"\",VLOOKUP(AJ10,index_cabasse!$C$5:$O$89,preparation_plateau!$D10+1,FALSE)))","v":""},{"$f":"preparation_plateau!AB10","v":"KLQ"},null,{"$f":"IF(AO10=\"\",\"\",IF(AO10=preparation_plateau!AC10,\"OK\",\"FAUX\"))","v":""},"",{"$f":"IF(AO10=\"\",\"\",IF(AP10=\"OK\",\"\",VLOOKUP(AO10,index_cabasse!$C$5:$O$89,preparation_plateau!$D10+1,FALSE)))","v":""},{"$f":"preparation_plateau!AE10","v":"MNC"},null,{"$f":"IF(AT10=\"\",\"\",IF(AT10=preparation_plateau!AF10,\"OK\",\"FAUX\"))","v":""},"",{"$f":"IF(AT10=\"\",\"\",IF(AU10=\"OK\",\"\",VLOOKUP(AT10,index_cabasse!$C$5:$O$89,preparation_plateau!$D10+1,FALSE)))","v":""},{"$f":"preparation_plateau!AH10","v":"LMS"},null,{"$f":"IF(AY10=\"\",\"\",IF(AY10=preparation_plateau!AI10,\"OK\",\"FAUX\"))","v":""},"",{"$f":"IF(AY10=\"\",\"\",IF(AZ10=\"OK\",\"\",VLOOKUP(AY10,index_cabasse!$C$5:$O$89,preparation_plateau!$D10+1,FALSE)))","v":""}]
[{"$f":"preparation_plateau!B11","v":"JEAON"},{"$f":"preparation_plateau!C11","v":"Alexis"},null,{"$f":"IF(preparation_plateau!D11=\"\",\"\",preparation_plateau!D11)","v":8},{"$f":"preparation_plateau!G11","v":"PNC"},null,{"$f":"IF(F11=\"\",\"\",IF(F11=preparation_plateau!H11,\"OK\",\"FAUX\"))","v":""},"",{"$f":"IF(F11=\"\",\"\",IF(G11=\"OK\",\"\",VLOOKUP(F11,index_cabasse!$C$5:$O$89,preparation_plateau!$D11+1,FALSE)))","v":""},{"$f":"preparation_plateau!J11","v":"ZQ"},null,{"$f":"IF(K11=\"\",\"\",IF(K11=preparation_plateau!K11,\"OK\",\"FAUX\"))","v":""},"",{"$f":"IF(K11=\"\",\"\",IF(L11=\"OK\",\"\",VLOOKUP(K11,index_cabasse!$C$5:$O$89,preparation_plateau!$D11+1,FALSE)))","v":""},{"$f":"preparation_plateau!M11","v":"PNC"},null,{"$f":"IF(P11=\"\",\"\",IF(P11=preparation_plateau!N11,\"OK\",\"FAUX\"))","v":""},"",{"$f":"IF(P11=\"\",\"\",IF(Q11=\"OK\",\"\",VLOOKUP(P11,index_cabasse!$C$5:$O$89,preparation_plateau!$D11+1,FALSE)))","v":""},{"$f":"preparation_plateau!P11","v":"ZH"},null,{"$f":"IF(U11=\"\",\"\",IF(U11=preparation_plateau!Q11,\"OK\",\"FAUX\"))","v":""},"",{"$f":"IF(U11=\"\",\"\",IF(V11=\"OK\",\"\",VLOOKUP(U11,index_cabasse!$C$5:$O$89,preparation_plateau!$D11+1,FALSE)))","v":""},{"$f":"preparation_plateau!S11","v":"PNP"},null,{"$f":"IF(Z11=\"\",\"\",IF(Z11=preparation_plateau!T11,\"OK\",\"FAUX\"))","v":""},"",{"$f":"IF(Z11=\"\",\"\",IF(AA11=\"OK\",\"\",VLOOKUP(Z11,index_cabasse!$C$5:$O$89,preparation_plateau!$D11+1,FALSE)))","v":""},{"$f":"preparation_plateau!V11","v":"PNC"},null,{"$f":"IF(AE11=\"\",\"\",IF(AE11=preparation_plateau!W11,\"OK\",\"FAUX\"))","v":""},"",{"$f":"IF(AE11=\"\",\"\",IF(AF11=\"OK\",\"\",VLOOKUP(AE11,index_cabasse!$C$5:$O$89,preparation_plateau!$D11+1,FALSE)))","v":""},{"$f":"preparation_plateau!Y11","v":"PNP"},null,{"$f":"IF(AJ11=\"\",\"\",IF(AJ11=preparation_plateau!Z11,\"OK\",\"FAUX\"))","v":""},"",{"$f":"IF(AJ11=\"\",\"\",IF(AK11=\"OK\",\"\",VLOOKUP(AJ11,index_cabasse!$C$5:$O$89,preparation_plateau!$D11+1,FALSE)))","v":""},{"$f":"preparation_plateau!AB11","v":"POM"},null,{"$f":"IF(AO11=\"\",\"\",IF(AO11=preparation_plateau!AC11,\"OK\",\"FAUX\"))","v":""},"",{"$f":"IF(AO11=\"\",\"\",IF(AP11=\"OK\",\"\",VLOOKUP(AO11,index_cabasse!$C$5:$O$89,preparation_plateau!$D11+1,FALSE)))","v":""},{"$f":"preparation_plateau!AE11","v":"POG"},null,{"$f":"IF(AT11=\"\",\"\",IF(AT11=preparation_plateau!AF11,\"OK\",\"FAUX\"))","v":""},"",{"$f":"IF(AT11=\"\",\"\",IF(AU11=\"OK\",\"\",VLOOKUP(AT11,index_cabasse!$C$5:$O$89,preparation_plateau!$D11+1,FALSE)))","v":""},{"$f":"preparation_plateau!AH11","v":"PND"},null,{"$f":"IF(AY11=\"\",\"\",IF(AY11=preparation_plateau!AI11,\"OK\",\"FAUX\"))","v":""},"",{"$f":"IF(AY11=\"\",\"\",IF(AZ11=\"OK\",\"\",VLOOKUP(AY11,index_cabasse!$C$5:$O$89,preparation_plateau!$D11+1,FALSE)))","v":""}]
[{"$f":"preparation_plateau!B12","v":"KOLA"},{"$f":"preparation_plateau!C12","v":"Alexandre"},null,{"$f":"IF(preparation_plateau!D12=\"\",\"\",preparation_plateau!D12)","v":9},{"$f":"preparation_plateau!G12","v":"WFX"},null,{"$f":"IF(F12=\"\",\"\",IF(F12=preparation_plateau!H12,\"OK\",\"FAUX\"))","v":""},"",{"$f":"IF(F12=\"\",\"\",IF(G12=\"OK\",\"\",VLOOKUP(F12,index_cabasse!$C$5:$O$89,preparation_plateau!$D12+1,FALSE)))","v":""},{"$f":"preparation_plateau!J12","v":"WFX"},null,{"$f":"IF(K12=\"\",\"\",IF(K12=preparation_plateau!K12,\"OK\",\"FAUX\"))","v":""},"",{"$f":"IF(K12=\"\",\"\",IF(L12=\"OK\",\"\",VLOOKUP(K12,index_cabasse!$C$5:$O$89,preparation_plateau!$D12+1,FALSE)))","v":""},{"$f":"preparation_plateau!M12","v":"XGF"},null,{"$f":"IF(P12=\"\",\"\",IF(P12=preparation_plateau!N12,\"OK\",\"FAUX\"))","v":""},"",{"$f":"IF(P12=\"\",\"\",IF(Q12=\"OK\",\"\",VLOOKUP(P12,index_cabasse!$C$5:$O$89,preparation_plateau!$D12+1,FALSE)))","v":""},{"$f":"preparation_plateau!P12","v":"WFH"},null,{"$f":"IF(U12=\"\",\"\",IF(U12=preparation_plateau!Q12,\"OK\",\"FAUX\"))","v":""},"",{"$f":"IF(U12=\"\",\"\",IF(V12=\"OK\",\"\",VLOOKUP(U12,index_cabasse!$C$5:$O$89,preparation_plateau!$D12+1,FALSE)))","v":""},{"$f":"preparation_plateau!S12","v":"WFX"},null,{"$f":"IF(Z12=\"\",\"\",IF(Z12=preparation_plateau!T12,\"OK\",\"FAUX\"))","v":""},"",{"$f":"IF(Z12=\"\",\"\",IF(AA12=\"OK\",\"\",VLOOKUP(Z12,index_cabasse!$C$5:$O$89,preparation_plateau!$D12+1,FALSE)))","v":""},{"$f":"preparation_plateau!V12","v":"WFQ"},null,{"$f":"IF(AE12=\"\",\"\",IF(AE12=preparation_plateau!W12,\"OK\",\"FAUX\"))","v":""},"",{"$f":"IF(AE12=\"\",\"\",IF(AF12=\"OK\",\"\",VLOOKUP(AE12,index_cabasse!$C$5:$O$89,preparation_plateau!$D12+1,FALSE)))","v":""},{"$f":"preparation_plateau!Y12","v":"CCY"},null,{"$f":"IF(AJ12=\"\",\"\",IF(AJ12=preparation_plateau!Z12,\"OK\",\"FAUX\"))","v":""},"",{"$f":"IF(AJ12=\"\",\"\",IF(AK12=\"OK\",\"\",VLOOKUP(AJ12,index_cabasse!$C$5:$O$89,preparation_plateau!$D12+1,FALSE)))","v":""},{"$f":"preparation_plateau!AB12","v":"VEZ"},null,{"$f":"IF(AO12=\"\",\"\",IF(AO12=preparation_plateau!AC12,\"OK\",\"FAUX\"))","v":""},"",{"$f":"IF(AO12=\"\",\"\",IF(AP12=\"OK\",\"\",VLOOKUP(AO12,index_cabasse!$C$5:$O$89,preparation_plateau!$D12+1,FALSE)))","v":""},{"$f":"preparation_plateau!AE12","v":"XGD"},null,{"$f":"IF(AT12=\"\",\"\",IF(AT12=preparation_plateau!AF12,\"OK\",\"FAUX\"))","v":""},"",{"$f":"IF(AT12=\"\",\"\",IF(AU12=\"OK\",\"\",VLOOKUP(AT12,index_cabasse!$C$5:$O$89,preparation_plateau!$D12+1,FALSE)))","v":""},{"$f":"preparation_plateau!AH12","v":"VES"},null,{"$f":"IF(AY12=\"\",\"\",IF(AY12=preparation_plateau!AI12,\"OK\",\"FAUX\"))","v":""},"",{"$f":"IF(AY12=\"\",\"\",IF(AZ12=\"OK\",\"\",VLOOKUP(AY12,index_cabasse!$C$5:$O$89,preparation_plateau!$D12+1,FALSE)))","v":""}]
[{"$f":"preparation_plateau!B13","v":"LERHE"},{"$f":"preparation_plateau!C13","v":"Melvin"},null,{"$f":"IF(preparation_plateau!D13=\"\",\"\",preparation_plateau!D13)","v":10},{"$f":"preparation_plateau!G13","v":"GGD"},null,{"$f":"IF(F13=\"\",\"\",IF(F13=preparation_plateau!H13,\"OK\",\"FAUX\"))","v":""},"",{"$f":"IF(F13=\"\",\"\",IF(G13=\"OK\",\"\",VLOOKUP(F13,index_cabasse!$C$5:$O$89,preparation_plateau!$D13+1,FALSE)))","v":""},{"$f":"preparation_plateau!J13","v":"GGD"},null,{"$f":"IF(K13=\"\",\"\",IF(K13=preparation_plateau!K13,\"OK\",\"FAUX\"))","v":""},"",{"$f":"IF(K13=\"\",\"\",IF(L13=\"OK\",\"\",VLOOKUP(K13,index_cabasse!$C$5:$O$89,preparation_plateau!$D13+1,FALSE)))","v":""},{"$f":"preparation_plateau!M13","v":"SAJ"},null,{"$f":"IF(P13=\"\",\"\",IF(P13=preparation_plateau!N13,\"OK\",\"FAUX\"))","v":""},"",{"$f":"IF(P13=\"\",\"\",IF(Q13=\"OK\",\"\",VLOOKUP(P13,index_cabasse!$C$5:$O$89,preparation_plateau!$D13+1,FALSE)))","v":""},{"$f":"preparation_plateau!P13","v":"GGL"},null,{"$f":"IF(U13=\"\",\"\",IF(U13=preparation_plateau!Q13,\"OK\",\"FAUX\"))","v":""},"",{"$f":"IF(U13=\"\",\"\",IF(V13=\"OK\",\"\",VLOOKUP(U13,index_cabasse!$C$5:$O$89,preparation_plateau!$D13+1,FALSE)))","v":""},{"$f":"preparation_plateau!S13","v":"GGA"},null,{"$f":"IF(Z13=\"\",\"\",IF(Z13=preparation_plateau!T13,\"OK\",\"FAUX\"))","v":""},"",{"$f":"IF(Z13=\"\",\"\",IF(AA13=\"OK\",\"\",VLOOKUP(Z13,index_cabasse!$C$5:$O$89,preparation_plateau!$D13+1,FALSE)))","v":""},{"$f":"preparation_plateau!V13","v":"SAK"},null,{"$f":"IF(AE13=\"\",\"\",IF(AE13=preparation_plateau!W13,\"OK\",\"FAUX\"))","v":""},"",{"$f":"IF(AE13=\"\",\"\",IF(AF13=\"OK\",\"\",VLOOKUP(AE13,index_cabasse!$C$5:$O$89,preparation_plateau!$D13+1,FALSE)))","v":""},{"$f":"preparation_plateau!Y13","v":"SAQ"},null,{"$f":"IF(AJ13=\"\",\"\",IF(AJ13=preparation_plateau!Z13,\"OK\",\"FAUX\"))","v":""},"",{"$f":"IF(AJ13=\"\",\"\",IF(AK13=\"OK\",\"\",VLOOKUP(AJ13,index_cabasse!$C$5:$O$89,preparation_plateau!$D13+1,FALSE)))","v":""},{"$f":"preparation_plateau!AB13","v":"SAU"},null,{"$f":"IF(AO13=\"\",\"\",IF(AO13=preparation_plateau!AC13,\"OK\",\"FAUX\"))","v":""},"",{"$f":"IF(AO13=\"\",\"\",IF(AP13=\"OK\",\"\",VLOOKUP(AO13,index_cabasse!$C$5:$O$89,preparation_plateau!$D13+1,FALSE)))","v":""},{"$f":"preparation_plateau!AE13","v":"SAM"},null,{"$f":"IF(AT13=\"\",\"\",IF(AT13=preparation_plateau!AF13,\"OK\",\"FAUX\"))","v":""},"",{"$f":"IF(AT13=\"\",\"\",IF(AU13=\"OK\",\"\",VLOOKUP(AT13,index_cabasse!$C$5:$O$89,preparation_plateau!$D13+1,FALSE)))","v":""},{"$f":"preparation_plateau!AH13","v":"GGA"},null,{"$f":"IF(AY13=\"\",\"\",IF(AY13=preparation_plateau!AI13,\"OK\",\"FAUX\"))","v":""},"",{"$f":"IF(AY13=\"\",\"\",IF(AZ13=\"OK\",\"\",VLOOKUP(AY13,index_cabasse!$C$5:$O$89,preparation_plateau!$D13+1,FALSE)))","v":""}]
[{"$f":"preparation_plateau!B14","v":"LOE"},{"$f":"preparation_plateau!C14","v":"Mickael"},null,{"$f":"IF(preparation_plateau!D14=\"\",\"\",preparation_plateau!D14)","v":11},{"$f":"preparation_plateau!G14","v":"ESA"},null,{"$f":"IF(F14=\"\",\"\",IF(F14=preparation_plateau!H14,\"OK\",\"FAUX\"))","v":""},"",{"$f":"IF(F14=\"\",\"\",IF(G14=\"OK\",\"\",VLOOKUP(F14,index_cabasse!$C$5:$O$89,preparation_plateau!$D14+1,FALSE)))","v":""},{"$f":"preparation_plateau!J14","v":"ESA"},null,{"$f":"IF(K14=\"\",\"\",IF(K14=preparation_plateau!K14,\"OK\",\"FAUX\"))","v":""},"",{"$f":"IF(K14=\"\",\"\",IF(L14=\"OK\",\"\",VLOOKUP(K14,index_cabasse!$C$5:$O$89,preparation_plateau!$D14+1,FALSE)))","v":""},{"$f":"preparation_plateau!M14","v":"ESF"},null,{"$f":"IF(P14=\"\",\"\",IF(P14=preparation_plateau!N14,\"OK\",\"FAUX\"))","v":""},"",{"$f":"IF(P14=\"\",\"\",IF(Q14=\"OK\",\"\",VLOOKUP(P14,index_cabasse!$C$5:$O$89,preparation_plateau!$D14+1,FALSE)))","v":""},{"$f":"preparation_plateau!P14","v":"DRA"},null,{"$f":"IF(U14=\"\",\"\",IF(U14=preparation_plateau!Q14,\"OK\",\"FAUX\"))","v":""},"",{"$f":"IF(U14=\"\",\"\",IF(V14=\"OK\",\"\",VLOOKUP(U14,index_cabasse!$C$5:$O$89,preparation_plateau!$D14+1,FALSE)))","v":""},{"$f":"preparation_plateau!S14","v":"LLM"},null,{"$f":"IF(Z14=\"\",\"\",IF(Z14=preparation_plateau!T14,\"OK\",\"FAUX\"))","v":""},"",{"$f":"IF(Z14=\"\",\"\",IF(AA14=\"OK\",\"\",VLOOKUP(Z14,index_cabasse!$C$5:$O$89,preparation_plateau!$D14+1,FALSE)))","v":""},{"$f":"preparation_plateau!V14","v":"DRZ"},null,{"$f":"IF(AE14=\"\",\"\",IF(AE14=preparation_plateau!W14,\"OK\",\"FAUX\"))","v":""},"",{"$f":"IF(AE14=\"\",\"\",IF(AF14=\"OK\",\"\",VLOOKUP(AE14,index_cabasse!$C$5:$O$89,preparation_plateau!$D14+1,FALSE)))","v":""},{"$f":"preparation_plateau!Y14","v":"DRW"},null,{"$f":"IF(AJ14=\"\",\"\",IF(AJ14=preparation_plateau!Z14,\"OK\",\"FAUX\"))","v":""},"",{"$f":"IF(AJ14=\"\",\"\",IF(AK14=\"OK\",\"\",VLOOKUP(AJ14,index_cabasse!$C$5:$O$89,preparation_plateau!$D14+1,FALSE)))","v":""},{"$f":"preparation_plateau!AB14","v":"CSZ"},null,{"$f":"IF(AO14=\"\",\"\",IF(AO14=preparation_plateau!AC14,\"OK\",\"FAUX\"))","v":""},"",{"$f":"IF(AO14=\"\",\"\",IF(AP14=\"OK\",\"\",VLOOKUP(AO14,index_cabasse!$C$5:$O$89,preparation_plateau!$D14+1,FALSE)))","v":""},{"$f":"preparation_plateau!AE14","v":"LLO"},null,{"$f":"IF(AT14=\"\",\"\",IF(AT14=preparation_plateau!AF14,\"OK\",\"FAUX\"))","v":""},"",{"$f":"IF(AT14=\"\",\"\",IF(AU14=\"OK\",\"\",VLOOKUP(AT14,index_cabasse!$C$5:$O$89,preparation_plateau!$D14+1,FALSE)))","v":""},{"$f":"preparation_plateau!AH14","v":"DRZ"},null,{"$f":"IF(AY14=\"\",\"\",IF(AY14=preparation_plateau!AI14,\"OK\",\"FAUX\"))","v":""},"",{"$f":"IF(AY14=\"\",\"\",IF(AZ14=\"OK\",\"\",VLOOKUP(AY14,index_cabasse!$C$5:$O$89,preparation_plateau!$D14+1,FALSE)))","v":""}]
[{"$f":"preparation_plateau!B15","v":"MORET"},{"$f":"preparation_plateau!C15","v":"Alice"},null,{"$f":"IF(preparation_plateau!D15=\"\",\"\",preparation_plateau!D15)","v":1},{"$f":"preparation_plateau!G15","v":"BAM"},null,{"$f":"IF(F15=\"\",\"\",IF(F15=preparation_plateau!H15,\"OK\",\"FAUX\"))","v":""},"",{"$f":"IF(F15=\"\",\"\",IF(G15=\"OK\",\"\",VLOOKUP(F15,index_cabasse!$C$5:$O$89,preparation_plateau!$D15+1,FALSE)))","v":""},{"$f":"preparation_plateau!J15","v":"BAL"},null,{"$f":"IF(K15=\"\",\"\",IF(K15=preparation_plateau!K15,\"OK\",\"FAUX\"))","v":""},"",{"$f":"IF(K15=\"\",\"\",IF(L15=\"OK\",\"\",VLOOKUP(K15,index_cabasse!$C$5:$O$89,preparation_plateau!$D15+1,FALSE)))","v":""},{"$f":"preparation_plateau!M15","v":"BAF"},null,{"$f":"IF(P15=\"\",\"\",IF(P15=preparation_plateau!N15,\"OK\",\"FAUX\"))","v":""},"",{"$f":"IF(P15=\"\",\"\",IF(Q15=\"OK\",\"\",VLOOKUP(P15,index_cabasse!$C$5:$O$89,preparation_plateau!$D15+1,FALSE)))","v":""},{"$f":"preparation_plateau!P15","v":"BAN"},null,{"$f":"IF(U15=\"\",\"\",IF(U15=preparation_plateau!Q15,\"OK\",\"FAUX\"))","v":""},"",{"$f":"IF(U15=\"\",\"\",IF(V15=\"OK\",\"\",VLOOKUP(U15,index_cabasse!$C$5:$O$89,preparation_plateau!$D15+1,FALSE)))","v":""},{"$f":"preparation_plateau!S15","v":"AQ"},null,{"$f":"IF(Z15=\"\",\"\",IF(Z15=preparation_plateau!T15,\"OK\",\"FAUX\"))","v":""},"",{"$f":"IF(Z15=\"\",\"\",IF(AA15=\"OK\",\"\",VLOOKUP(Z15,index_cabasse!$C$5:$O$89,preparation_plateau!$D15+1,FALSE)))","v":""},{"$f":"preparation_plateau!V15","v":"AR"},null,{"$f":"IF(AE15=\"\",\"\",IF(AE15=preparation_plateau!W15,\"OK\",\"FAUX\"))","v":""},"",{"$f":"IF(AE15=\"\",\"\",IF(AF15=\"OK\",\"\",VLOOKUP(AE15,index_cabasse!$C$5:$O$89,preparation_plateau!$D15+1,FALSE)))","v":""},{"$f":"preparation_plateau!Y15","v":"CBD"},null,{"$f":"IF(AJ15=\"\",\"\",IF(AJ15=preparation_plateau!Z15,\"OK\",\"FAUX\"))","v":""},"",{"$f":"IF(AJ15=\"\",\"\",IF(AK15=\"OK\",\"\",VLOOKUP(AJ15,index_cabasse!$C$5:$O$89,preparation_plateau!$D15+1,FALSE)))","v":""},{"$f":"preparation_plateau!AB15","v":"CBT"},null,{"$f":"IF(AO15=\"\",\"\",IF(AO15=preparation_plateau!AC15,\"OK\",\"FAUX\"))","v":""},"",{"$f":"IF(AO15=\"\",\"\",IF(AP15=\"OK\",\"\",VLOOKUP(AO15,index_cabasse!$C$5:$O$89,preparation_plateau!$D15+1,FALSE)))","v":""},{"$f":"preparation_plateau!AE15","v":"CBK"},null,{"$f":"IF(AT15=\"\",\"\",IF(AT15=preparation_plateau!AF15,\"OK\",\"FAUX\"))","v":""},"",{"$f":"IF(AT15=\"\",\"\",IF(AU15=\"OK\",\"\",VLOOKUP(AT15,index_cabasse!$C$5:$O$89,preparation_plateau!$D15+1,FALSE)))","v":""},{"$f":"preparation_plateau!AH15","v":"CBX"},null,{"$f":"IF(AY15=\"\",\"\",IF(AY15=preparation_plateau!AI15,\"OK\",\"FAUX\"))","v":""},"",{"$f":"IF(AY15=\"\",\"\",IF(AZ15=\"OK\",\"\",VLOOKUP(AY15,index_cabasse!$C$5:$O$89,preparation_plateau!$D15+1,FALSE)))","v":""}]
[{"$f":"preparation_plateau!B16","v":"NICAU"},{"$f":"preparation_plateau!C16","v":"Romain"},null,{"$f":"IF(preparation_plateau!D16=\"\",\"\",preparation_plateau!D16)","v":2},{"$f":"preparation_plateau!G16","v":"UPS"},null,{"$f":"IF(F16=\"\",\"\",IF(F16=preparation_plateau!H16,\"OK\",\"FAUX\"))","v":""},"",{"$f":"IF(F16=\"\",\"\",IF(G16=\"OK\",\"\",VLOOKUP(F16,index_cabasse!$C$5:$O$89,preparation_plateau!$D16+1,FALSE)))","v":""},{"$f":"preparation_plateau!J16","v":"TON"},null,{"$f":"IF(K16=\"\",\"\",IF(K16=preparation_plateau!K16,\"OK\",\"FAUX\"))","v":""},"",{"$f":"IF(K16=\"\",\"\",IF(L16=\"OK\",\"\",VLOOKUP(K16,index_cabasse!$C$5:$O$89,preparation_plateau!$D16+1,FALSE)))","v":""},{"$f":"preparation_plateau!M16","v":"DZ"},null,{"$f":"IF(P16=\"\",\"\",IF(P16=preparation_plateau!N16,\"OK\",\"FAUX\"))","v":""},"",{"$f":"IF(P16=\"\",\"\",IF(Q16=\"OK\",\"\",VLOOKUP(P16,index_cabasse!$C$5:$O$89,preparation_plateau!$D16+1,FALSE)))","v":""},{"$f":"preparation_plateau!P16","v":"TOD"},null,{"$f":"IF(U16=\"\",\"\",IF(U16=preparation_plateau!Q16,\"OK\",\"FAUX\"))","v":""},"",{"$f":"IF(U16=\"\",\"\",IF(V16=\"OK\",\"\",VLOOKUP(U16,index_cabasse!$C$5:$O$89,preparation_plateau!$D16+1,FALSE)))","v":""},{"$f":"preparation_plateau!S16","v":"TOZ"},null,{"$f":"IF(Z16=\"\",\"\",IF(Z16=preparation_plateau!T16,\"OK\",\"FAUX\"))","v":""},"",{"$f":"IF(Z16=\"\",\"\",IF(AA16=\"OK\",\"\",VLOOKUP(Z16,index_cabasse!$C$5:$O$89,preparation_plateau!$D16+1,FALSE)))","v":""},{"$f":"preparation_plateau!V16","v":"EB"},null,{"$f":"IF(AE16=\"\",\"\",IF(AE16=preparation_plateau!W16,\"OK\",\"FAUX\"))","v":""},"",{"$f":"IF(AE16=\"\",\"\",IF(AF16=\"OK\",\"\",VLOOKUP(AE16,index_cabasse!$C$5:$O$89,preparation_plateau!$D16+1,FALSE)))","v":""},{"$f":"preparation_plateau!Y16","v":"UPF"},null,{"$f":"IF(AJ16=\"\",\"\",IF(AJ16=preparation_plateau!Z16,\"OK\",\"FAUX\"))","v":""},"",{"$f":"IF(AJ16=\"\",\"\",IF(AK16=\"OK\",\"\",VLOOKUP(AJ16,index_cabasse!$C$5:$O$89,preparation_plateau!$D16+1,FALSE)))","v":""},{"$f":"preparation_plateau!AB16","v":"UPG"},null,{"$f":"IF(AO16=\"\",\"\",IF(AO16=preparation_plateau!AC16,\"OK\",\"FAUX\"))","v":""},"",{"$f":"IF(AO16=\"\",\"\",IF(AP16=\"OK\",\"\",VLOOKUP(AO16,index_cabasse!$C$5:$O$89,preparation_plateau!$D16+1,FALSE)))","v":""},{"$f":"preparation_plateau!AE16","v":"TON"},null,{"$f":"IF(AT16=\"\",\"\",IF(AT16=preparation_plateau!AF16,\"OK\",\"FAUX\"))","v":""},"",{"$f":"IF(AT16=\"\",\"\",IF(AU16=\"OK\",\"\",VLOOKUP(AT16,index_cabasse!$C$5:$O$89,preparation_plateau!$D16+1,FALSE)))","v":""},{"$f":"preparation_plateau!AH16","v":"EA"},null,{"$f":"IF(AY16=\"\",\"\",IF(AY16=preparation_plateau!AI16,\"OK\",\"FAUX\"))","v":""},"",{"$f":"IF(AY16=\"\",\"\",IF(AZ16=\"OK\",\"\",VLOOKUP(AY16,index_cabasse!$C$5:$O$89,preparation_plateau!$D16+1,FALSE)))","v":""}]
[{"$f":"preparation_plateau!B17","v":"RUI"},{"$f":"preparation_plateau!C17","v":"Desiderio"},null,{"$f":"IF(preparation_plateau!D17=\"\",\"\",preparation_plateau!D17)","v":3},{"$f":"preparation_plateau!G17","v":"FIS"},null,{"$f":"IF(F17=\"\",\"\",IF(F17=preparation_plateau!H17,\"OK\",\"FAUX\"))","v":""},"",{"$f":"IF(F17=\"\",\"\",IF(G17=\"OK\",\"\",VLOOKUP(F17,index_cabasse!$C$5:$O$89,preparation_plateau!$D17+1,FALSE)))","v":""},{"$f":"preparation_plateau!J17","v":"FJH"},null,{"$f":"IF(K17=\"\",\"\",IF(K17=preparation_plateau!K17,\"OK\",\"FAUX\"))","v":""},"",{"$f":"IF(K17=\"\",\"\",IF(L17=\"OK\",\"\",VLOOKUP(K17,index_cabasse!$C$5:$O$89,preparation_plateau!$D17+1,FALSE)))","v":""},{"$f":"preparation_plateau!M17","v":"GK"},null,{"$f":"IF(P17=\"\",\"\",IF(P17=preparation_plateau!N17,\"OK\",\"FAUX\"))","v":""},"",{"$f":"IF(P17=\"\",\"\",IF(Q17=\"OK\",\"\",VLOOKUP(P17,index_cabasse!$C$5:$O$89,preparation_plateau!$D17+1,FALSE)))","v":""},{"$f":"preparation_plateau!P17","v":"FJV"},null,{"$f":"IF(U17=\"\",\"\",IF(U17=preparation_plateau!Q17,\"OK\",\"FAUX\"))","v":""},"",{"$f":"IF(U17=\"\",\"\",IF(V17=\"OK\",\"\",VLOOKUP(U17,index_cabasse!$C$5:$O$89,preparation_plateau!$D17+1,FALSE)))","v":""},{"$f":"preparation_plateau!S17","v":"FJU"},null,{"$f":"IF(Z17=\"\",\"\",IF(Z17=preparation_plateau!T17,\"OK\",\"FAUX\"))","v":""},"",{"$f":"IF(Z17=\"\",\"\",IF(AA17=\"OK\",\"\",VLOOKUP(Z17,index_cabasse!$C$5:$O$89,preparation_plateau!$D17+1,FALSE)))","v":""},{"$f":"preparation_plateau!V17","v":"FJA"},null,{"$f":"IF(AE17=\"\",\"\",IF(AE17=preparation_plateau!W17,\"OK\",\"FAUX\"))","v":""},"",{"$f":"IF(AE17=\"\",\"\",IF(AF17=\"OK\",\"\",VLOOKUP(AE17,index_cabasse!$C$5:$O$89,preparation_plateau!$D17+1,FALSE)))","v":""},{"$f":"preparation_plateau!Y17","v":"FJN"},null,{"$f":"IF(AJ17=\"\",\"\",IF(AJ17=preparation_plateau!Z17,\"OK\",\"FAUX\"))","v":""},"",{"$f":"IF(AJ17=\"\",\"\",IF(AK17=\"OK\",\"\",VLOOKUP(AJ17,index_cabasse!$C$5:$O$89,preparation_plateau!$D17+1,FALSE)))","v":""},{"$f":"preparation_plateau!AB17","v":"FJY"},null,{"$f":"IF(AO17=\"\",\"\",IF(AO17=preparation_plateau!AC17,\"OK\",\"FAUX\"))","v":""},"",{"$f":"IF(AO17=\"\",\"\",IF(AP17=\"OK\",\"\",VLOOKUP(AO17,index_cabasse!$C$5:$O$89,preparation_plateau!$D17+1,FALSE)))","v":""},{"$f":"preparation_plateau!AE17","v":"FIQ"},null,{"$f":"IF(AT17=\"\",\"\",IF(AT17=preparation_plateau!AF17,\"OK\",\"FAUX\"))","v":""},"",{"$f":"IF(AT17=\"\",\"\",IF(AU17=\"OK\",\"\",VLOOKUP(AT17,index_cabasse!$C$5:$O$89,preparation_plateau!$D17+1,FALSE)))","v":""},{"$f":"preparation_plateau!AH17","v":"GL"},null,{"$f":"IF(AY17=\"\",\"\",IF(AY17=preparation_plateau!AI17,\"OK\",\"FAUX\"))","v":""},"",{"$f":"IF(AY17=\"\",\"\",IF(AZ17=\"OK\",\"\",VLOOKUP(AY17,index_cabasse!$C$5:$O$89,preparation_plateau!$D17+1,FALSE)))","v":""}]
[{"$f":"preparation_plateau!B18","v":"RI"},{"$f":"preparation_plateau!C18","v":"Niko"},null,{"$f":"IF(preparation_plateau!D18=\"\",\"\",preparation_plateau!D18)","v":4},{"$f":"preparation_plateau!G18","v":"NAU"},null,{"$f":"IF(F18=\"\",\"\",IF(F18=preparation_plateau!H18,\"OK\",\"FAUX\"))","v":""},"",{"$f":"IF(F18=\"\",\"\",IF(G18=\"OK\",\"\",VLOOKUP(F18,index_cabasse!$C$5:$O$89,preparation_plateau!$D18+1,FALSE)))","v":""},{"$f":"preparation_plateau!J18","v":"NAU"},null,{"$f":"IF(K18=\"\",\"\",IF(K18=preparation_plateau!K18,\"OK\",\"FAUX\"))","v":""},"",{"$f":"IF(K18=\"\",\"\",IF(L18=\"OK\",\"\",VLOOKUP(K18,index_cabasse!$C$5:$O$89,preparation_plateau!$D18+1,FALSE)))","v":""},{"$f":"preparation_plateau!M18","v":"MET"},null,{"$f":"IF(P18=\"\",\"\",IF(P18=preparation_plateau!N18,\"OK\",\"FAUX\"))","v":""},"",{"$f":"IF(P18=\"\",\"\",IF(Q18=\"OK\",\"\",VLOOKUP(P18,index_cabasse!$C$5:$O$89,preparation_plateau!$D18+1,FALSE)))","v":""},{"$f":"preparation_plateau!P18","v":"NAV"},null,{"$f":"IF(U18=\"\",\"\",IF(U18=preparation_plateau!Q18,\"OK\",\"FAUX\"))","v":""},"",{"$f":"IF(U18=\"\",\"\",IF(V18=\"OK\",\"\",VLOOKUP(U18,index_cabasse!$C$5:$O$89,preparation_plateau!$D18+1,FALSE)))","v":""},{"$f":"preparation_plateau!S18","v":"IY"},null,{"$f":"IF(Z18=\"\",\"\",IF(Z18=preparation_plateau!T18,\"OK\",\"FAUX\"))","v":""},"",{"$f":"IF(Z18=\"\",\"\",IF(AA18=\"OK\",\"\",VLOOKUP(Z18,index_cabasse!$C$5:$O$89,preparation_plateau!$D18+1,FALSE)))","v":""},{"$f":"preparation_plateau!V18","v":"NAP"},null,{"$f":"IF(AE18=\"\",\"\",IF(AE18=preparation_plateau!W18,\"OK\",\"FAUX\"))","v":""},"",{"$f":"IF(AE18=\"\",\"\",IF(AF18=\"OK\",\"\",VLOOKUP(AE18,index_cabasse!$C$5:$O$89,preparation_plateau!$D18+1,FALSE)))","v":""},{"$f":"preparation_plateau!Y18","v":"NAZ"},null,{"$f":"IF(AJ18=\"\",\"\",IF(AJ18=preparation_plateau!Z18,\"OK\",\"FAUX\"))","v":""},"",{"$f":"IF(AJ18=\"\",\"\",IF(AK18=\"OK\",\"\",VLOOKUP(AJ18,index_cabasse!$C$5:$O$89,preparation_plateau!$D18+1,FALSE)))","v":""},{"$f":"preparation_plateau!AB18","v":"MER"},null,{"$f":"IF(AO18=\"\",\"\",IF(AO18=preparation_plateau!AC18,\"OK\",\"FAUX\"))","v":""},"",{"$f":"IF(AO18=\"\",\"\",IF(AP18=\"OK\",\"\",VLOOKUP(AO18,index_cabasse!$C$5:$O$89,preparation_plateau!$D18+1,FALSE)))","v":""},{"$f":"preparation_plateau!AE18","v":"MBI"},null,{"$f":"IF(AT18=\"\",\"\",IF(AT18=preparation_plateau!AF18,\"OK\",\"FAUX\"))","v":""},"",{"$f":"IF(AT18=\"\",\"\",IF(AU18=\"OK\",\"\",VLOOKUP(AT18,index_cabasse!$C$5:$O$89,preparation_plateau!$D18+1,FALSE)))","v":""},{"$f":"preparation_plateau!AH18","v":"NAV"},null,{"$f":"IF(AY18=\"\",\"\",IF(AY18=preparation_plateau!AI18,\"OK\",\"FAUX\"))","v":""},"",{"$f":"IF(AY18=\"\",\"\",IF(AZ18=\"OK\",\"\",VLOOKUP(AY18,index_cabasse!$C$5:$O$89,preparation_plateau!$D18+1,FALSE)))","v":""}]
[{"$f":"preparation_plateau!B19","v":"SAL"},{"$f":"preparation_plateau!C19","v":"Calvin"},null,{"$f":"IF(preparation_plateau!D19=\"\",\"\",preparation_plateau!D19)","v":5},{"$f":"preparation_plateau!G19","v":"DSR"},null,{"$f":"IF(F19=\"\",\"\",IF(F19=preparation_plateau!H19,\"OK\",\"FAUX\"))","v":""},"",{"$f":"IF(F19=\"\",\"\",IF(G19=\"OK\",\"\",VLOOKUP(F19,index_cabasse!$C$5:$O$89,preparation_plateau!$D19+1,FALSE)))","v":""},{"$f":"preparation_plateau!J19","v":"DRZ"},null,{"$f":"IF(K19=\"\",\"\",IF(K19=preparation_plateau!K19,\"OK\",\"FAUX\"))","v":""},"",{"$f":"IF(K19=\"\",\"\",IF(L19=\"OK\",\"\",VLOOKUP(K19,index_cabasse!$C$5:$O$89,preparation_plateau!$D19+1,FALSE)))","v":""},{"$f":"preparation_plateau!M19","v":"DRL"},null,{"$f":"IF(P19=\"\",\"\",IF(P19=preparation_plateau!N19,\"OK\",\"FAUX\"))","v":""},"",{"$f":"IF(P19=\"\",\"\",IF(Q19=\"OK\",\"\",VLOOKUP(P19,index_cabasse!$C$5:$O$89,preparation_plateau!$D19+1,FALSE)))","v":""},{"$f":"preparation_plateau!P19","v":"DRP"},null,{"$f":"IF(U19=\"\",\"\",IF(U19=preparation_plateau!Q19,\"OK\",\"FAUX\"))","v":""},"",{"$f":"IF(U19=\"\",\"\",IF(V19=\"OK\",\"\",VLOOKUP(U19,index_cabasse!$C$5:$O$89,preparation_plateau!$D19+1,FALSE)))","v":""},{"$f":"preparation_plateau!S19","v":"ERB"},null,{"$f":"IF(Z19=\"\",\"\",IF(Z19=preparation_plateau!T19,\"OK\",\"FAUX\"))","v":""},"",{"$f":"IF(Z19=\"\",\"\",IF(AA19=\"OK\",\"\",VLOOKUP(Z19,index_cabasse!$C$5:$O$89,preparation_plateau!$D19+1,FALSE)))","v":""},{"$f":"preparation_plateau!V19","v":"ERB"},null,{"$f":"IF(AE19=\"\",\"\",IF(AE19=preparation_plateau!W19,\"OK\",\"FAUX\"))","v":""},"",{"$f":"IF(AE19=\"\",\"\",IF(AF19=\"OK\",\"\",VLOOKUP(AE19,index_cabasse!$C$5:$O$89,preparation_plateau!$D19+1,FALSE)))","v":""},{"$f":"preparation_plateau!Y19","v":"DSZ"},null,{"$f":"IF(AJ19=\"\",\"\",IF(AJ19=preparation_plateau!Z19,\"OK\",\"FAUX\"))","v":""},"",{"$f":"IF(AJ19=\"\",\"\",IF(AK19=\"OK\",\"\",VLOOKUP(AJ19,index_cabasse!$C$5:$O$89,preparation_plateau!$D19+1,FALSE)))","v":""},{"$f":"preparation_plateau!AB19","v":"OC"},null,{"$f":"IF(AO19=\"\",\"\",IF(AO19=preparation_plateau!AC19,\"OK\",\"FAUX\"))","v":""},"",{"$f":"IF(AO19=\"\",\"\",IF(AP19=\"OK\",\"\",VLOOKUP(AO19,index_cabasse!$C$5:$O$89,preparation_plateau!$D19+1,FALSE)))","v":""},{"$f":"preparation_plateau!AE19","v":"DSO"},null,{"$f":"IF(AT19=\"\",\"\",IF(AT19=preparation_plateau!AF19,\"OK\",\"FAUX\"))","v":""},"",{"$f":"IF(AT19=\"\",\"\",IF(AU19=\"OK\",\"\",VLOOKUP(AT19,index_cabasse!$C$5:$O$89,preparation_plateau!$D19+1,FALSE)))","v":""},{"$f":"preparation_plateau!AH19","v":"OK"},null,{"$f":"IF(AY19=\"\",\"\",IF(AY19=preparation_plateau!AI19,\"OK\",\"FAUX\"))","v":""},"",{"$f":"IF(AY19=\"\",\"\",IF(AZ19=\"OK\",\"\",VLOOKUP(AY19,index_cabasse!$C$5:$O$89,preparation_plateau!$D19+1,FALSE)))","v":""}]
[{"$f":"preparation_plateau!B20","v":"SIOUI"},{"$f":"preparation_plateau!C20","v":"Salah"},null,{"$f":"IF(preparation_plateau!D20=\"\",\"\",preparation_plateau!D20)","v":6},{"$f":"preparation_plateau!G20","v":"RO"},null,{"$f":"IF(F20=\"\",\"\",IF(F20=preparation_plateau!H20,\"OK\",\"FAUX\"))","v":""},"",{"$f":"IF(F20=\"\",\"\",IF(G20=\"OK\",\"\",VLOOKUP(F20,index_cabasse!$C$5:$O$89,preparation_plateau!$D20+1,FALSE)))","v":""},{"$f":"preparation_plateau!J20","v":"YVI"},null,{"$f":"IF(K20=\"\",\"\",IF(K20=preparation_plateau!K20,\"OK\",\"FAUX\"))","v":""},"",{"$f":"IF(K20=\"\",\"\",IF(L20=\"OK\",\"\",VLOOKUP(K20,index_cabasse!$C$5:$O$89,preparation_plateau!$D20+1,FALSE)))","v":""},{"$f":"preparation_plateau!M20","v":"YOP"},null,{"$f":"IF(P20=\"\",\"\",IF(P20=preparation_plateau!N20,\"OK\",\"FAUX\"))","v":""},"",{"$f":"IF(P20=\"\",\"\",IF(Q20=\"OK\",\"\",VLOOKUP(P20,index_cabasse!$C$5:$O$89,preparation_plateau!$D20+1,FALSE)))","v":""},{"$f":"preparation_plateau!P20","v":"RU"},null,{"$f":"IF(U20=\"\",\"\",IF(U20=preparation_plateau!Q20,\"OK\",\"FAUX\"))","v":""},"",{"$f":"IF(U20=\"\",\"\",IF(V20=\"OK\",\"\",VLOOKUP(U20,index_cabasse!$C$5:$O$89,preparation_plateau!$D20+1,FALSE)))","v":""},{"$f":"preparation_plateau!S20","v":"YYI"},null,{"$f":"IF(Z20=\"\",\"\",IF(Z20=preparation_plateau!T20,\"OK\",\"FAUX\"))","v":""},"",{"$f":"IF(Z20=\"\",\"\",IF(AA20=\"OK\",\"\",VLOOKUP(Z20,index_cabasse!$C$5:$O$89,preparation_plateau!$D20+1,FALSE)))","v":""},{"$f":"preparation_plateau!V20","v":"YOU"},null,{"$f":"IF(AE20=\"\",\"\",IF(AE20=preparation_plateau!W20,\"OK\",\"FAUX\"))","v":""},"",{"$f":"IF(AE20=\"\",\"\",IF(AF20=\"OK\",\"\",VLOOKUP(AE20,index_cabasse!$C$5:$O$89,preparation_plateau!$D20+1,FALSE)))","v":""},{"$f":"preparation_plateau!Y20","v":"ZOV"},null,{"$f":"IF(AJ20=\"\",\"\",IF(AJ20=preparation_plateau!Z20,\"OK\",\"FAUX\"))","v":""},"",{"$f":"IF(AJ20=\"\",\"\",IF(AK20=\"OK\",\"\",VLOOKUP(AJ20,index_cabasse!$C$5:$O$89,preparation_plateau!$D20+1,FALSE)))","v":""},{"$f":"preparation_plateau!AB20","v":"ZOI"},null,{"$f":"IF(AO20=\"\",\"\",IF(AO20=preparation_plateau!AC20,\"OK\",\"FAUX\"))","v":""},"",{"$f":"IF(AO20=\"\",\"\",IF(AP20=\"OK\",\"\",VLOOKUP(AO20,index_cabasse!$C$5:$O$89,preparation_plateau!$D20+1,FALSE)))","v":""},{"$f":"preparation_plateau!AE20","v":"YOI"},null,{"$f":"IF(AT20=\"\",\"\",IF(AT20=preparation_plateau!AF20,\"OK\",\"FAUX\"))","v":""},"",{"$f":"IF(AT20=\"\",\"\",IF(AU20=\"OK\",\"\",VLOOKUP(AT20,index_cabasse!$C$5:$O$89,preparation_plateau!$D20+1,FALSE)))","v":""},{"$f":"preparation_plateau!AH20","v":"ZOX"},null,{"$f":"IF(AY20=\"\",\"\",IF(AY20=preparation_plateau!AI20,\"OK\",\"FAUX\"))","v":""},"",{"$f":"IF(AY20=\"\",\"\",IF(AZ20=\"OK\",\"\",VLOOKUP(AY20,index_cabasse!$C$5:$O$89,preparation_plateau!$D20+1,FALSE)))","v":""}]
[{"$f":"preparation_plateau!B21","v":"TADEVA"},{"$f":"preparation_plateau!C21","v":"Khatmat"},null,{"$f":"IF(preparation_plateau!D21=\"\",\"\",preparation_plateau!D21)","v":7},{"$f":"preparation_plateau!G21","v":"WT"},null,{"$f":"IF(F21=\"\",\"\",IF(F21=preparation_plateau!H21,\"OK\",\"FAUX\"))","v":""},"",{"$f":"IF(F21=\"\",\"\",IF(G21=\"OK\",\"\",VLOOKUP(F21,index_cabasse!$C$5:$O$89,preparation_plateau!$D21+1,FALSE)))","v":""},{"$f":"preparation_plateau!J21","v":"WB"},null,{"$f":"IF(K21=\"\",\"\",IF(K21=preparation_plateau!K21,\"OK\",\"FAUX\"))","v":""},"",{"$f":"IF(K21=\"\",\"\",IF(L21=\"OK\",\"\",VLOOKUP(K21,index_cabasse!$C$5:$O$89,preparation_plateau!$D21+1,FALSE)))","v":""},{"$f":"preparation_plateau!M21","v":"KLT"},null,{"$f":"IF(P21=\"\",\"\",IF(P21=preparation_plateau!N21,\"OK\",\"FAUX\"))","v":""},"",{"$f":"IF(P21=\"\",\"\",IF(Q21=\"OK\",\"\",VLOOKUP(P21,index_cabasse!$C$5:$O$89,preparation_plateau!$D21+1,FALSE)))","v":""},{"$f":"preparation_plateau!P21","v":"KY"},null,{"$f":"IF(U21=\"\",\"\",IF(U21=preparation_plateau!Q21,\"OK\",\"FAUX\"))","v":""},"",{"$f":"IF(U21=\"\",\"\",IF(V21=\"OK\",\"\",VLOOKUP(U21,index_cabasse!$C$5:$O$89,preparation_plateau!$D21+1,FALSE)))","v":""},{"$f":"preparation_plateau!S21","v":"LMR"},null,{"$f":"IF(Z21=\"\",\"\",IF(Z21=preparation_plateau!T21,\"OK\",\"FAUX\"))","v":""},"",{"$f":"IF(Z21=\"\",\"\",IF(AA21=\"OK\",\"\",VLOOKUP(Z21,index_cabasse!$C$5:$O$89,preparation_plateau!$D21+1,FALSE)))","v":""},{"$f":"preparation_plateau!V21","v":"UV"},null,{"$f":"IF(AE21=\"\",\"\",IF(AE21=preparation_plateau!W21,\"OK\",\"FAUX\"))","v":""},"",{"$f":"IF(AE21=\"\",\"\",IF(AF21=\"OK\",\"\",VLOOKUP(AE21,index_cabasse!$C$5:$O$89,preparation_plateau!$D21+1,FALSE)))","v":""},{"$f":"preparation_plateau!Y21","v":"KLX"},null,{"$f":"IF(AJ21=\"\",\"\",IF(AJ21=preparation_plateau!Z21,\"OK\",\"FAUX\"))","v":""},"",{"$f":"IF(AJ21=\"\",\"\",IF(AK21=\"OK\",\"\",VLOOKUP(AJ21,index_cabasse!$C$5:$O$89,preparation_plateau!$D21+1,FALSE)))","v":""},{"$f":"preparation_plateau!AB21","v":"KLU"},null,{"$f":"IF(AO21=\"\",\"\",IF(AO21=preparation_plateau!AC21,\"OK\",\"FAUX\"))","v":""},"",{"$f":"IF(AO21=\"\",\"\",IF(AP21=\"OK\",\"\",VLOOKUP(AO21,index_cabasse!$C$5:$O$89,preparation_plateau!$D21+1,FALSE)))","v":""},{"$f":"preparation_plateau!AE21","v":"MNC"},null,{"$f":"IF(AT21=\"\",\"\",IF(AT21=preparation_plateau!AF21,\"OK\",\"FAUX\"))","v":""},"",{"$f":"IF(AT21=\"\",\"\",IF(AU21=\"OK\",\"\",VLOOKUP(AT21,index_cabasse!$C$5:$O$89,preparation_plateau!$D21+1,FALSE)))","v":""},{"$f":"preparation_plateau!AH21","v":"UX"},null,{"$f":"IF(AY21=\"\",\"\",IF(AY21=preparation_plateau!AI21,\"OK\",\"FAUX\"))","v":""},"",{"$f":"IF(AY21=\"\",\"\",IF(AZ21=\"OK\",\"\",VLOOKUP(AY21,index_cabasse!$C$5:$O$89,preparation_plateau!$D21+1,FALSE)))","v":""}]
[{"$f":"preparation_plateau!B22","v":"TEEC"},{"$f":"preparation_plateau!C22","v":"Victor"},null,{"$f":"IF(preparation_plateau!D22=\"\",\"\",preparation_plateau!D22)","v":8},{"$f":"preparation_plateau!G22","v":"PNF"},null,{"$f":"IF(F22=\"\",\"\",IF(F22=preparation_plateau!H22,\"OK\",\"FAUX\"))","v":""},"",{"$f":"IF(F22=\"\",\"\",IF(G22=\"OK\",\"\",VLOOKUP(F22,index_cabasse!$C$5:$O$89,preparation_plateau!$D22+1,FALSE)))","v":""},{"$f":"preparation_plateau!J22","v":"POK"},null,{"$f":"IF(K22=\"\",\"\",IF(K22=preparation_plateau!K22,\"OK\",\"FAUX\"))","v":""},"",{"$f":"IF(K22=\"\",\"\",IF(L22=\"OK\",\"\",VLOOKUP(K22,index_cabasse!$C$5:$O$89,preparation_plateau!$D22+1,FALSE)))","v":""},{"$f":"preparation_plateau!M22","v":"POG"},null,{"$f":"IF(P22=\"\",\"\",IF(P22=preparation_plateau!N22,\"OK\",\"FAUX\"))","v":""},"",{"$f":"IF(P22=\"\",\"\",IF(Q22=\"OK\",\"\",VLOOKUP(P22,index_cabasse!$C$5:$O$89,preparation_plateau!$D22+1,FALSE)))","v":""},{"$f":"preparation_plateau!P22","v":"ZN"},null,{"$f":"IF(U22=\"\",\"\",IF(U22=preparation_plateau!Q22,\"OK\",\"FAUX\"))","v":""},"",{"$f":"IF(U22=\"\",\"\",IF(V22=\"OK\",\"\",VLOOKUP(U22,index_cabasse!$C$5:$O$89,preparation_plateau!$D22+1,FALSE)))","v":""},{"$f":"preparation_plateau!S22","v":"POR"},null,{"$f":"IF(Z22=\"\",\"\",IF(Z22=preparation_plateau!T22,\"OK\",\"FAUX\"))","v":""},"",{"$f":"IF(Z22=\"\",\"\",IF(AA22=\"OK\",\"\",VLOOKUP(Z22,index_cabasse!$C$5:$O$89,preparation_plateau!$D22+1,FALSE)))","v":""},{"$f":"preparation_plateau!V22","v":"PNG"},null,{"$f":"IF(AE22=\"\",\"\",IF(AE22=preparation_plateau!W22,\"OK\",\"FAUX\"))","v":""},"",{"$f":"IF(AE22=\"\",\"\",IF(AF22=\"OK\",\"\",VLOOKUP(AE22,index_cabasse!$C$5:$O$89,preparation_plateau!$D22+1,FALSE)))","v":""},{"$f":"preparation_plateau!Y22","v":"PNX"},null,{"$f":"IF(AJ22=\"\",\"\",IF(AJ22=preparation_plateau!Z22,\"OK\",\"FAUX\"))","v":""},"",{"$f":"IF(AJ22=\"\",\"\",IF(AK22=\"OK\",\"\",VLOOKUP(AJ22,index_cabasse!$C$5:$O$89,preparation_plateau!$D22+1,FALSE)))","v":""},{"$f":"preparation_plateau!AB22","v":"POM"},null,{"$f":"IF(AO22=\"\",\"\",IF(AO22=preparation_plateau!AC22,\"OK\",\"FAUX\"))","v":""},"",{"$f":"IF(AO22=\"\",\"\",IF(AP22=\"OK\",\"\",VLOOKUP(AO22,index_cabasse!$C$5:$O$89,preparation_plateau!$D22+1,FALSE)))","v":""},{"$f":"preparation_plateau!AE22","v":"POP"},null,{"$f":"IF(AT22=\"\",\"\",IF(AT22=preparation_plateau!AF22,\"OK\",\"FAUX\"))","v":""},"",{"$f":"IF(AT22=\"\",\"\",IF(AU22=\"OK\",\"\",VLOOKUP(AT22,index_cabasse!$C$5:$O$89,preparation_plateau!$D22+1,FALSE)))","v":""},{"$f":"preparation_plateau!AH22","v":"PND"},null,{"$f":"IF(AY22=\"\",\"\",IF(AY22=preparation_plateau!AI22,\"OK\",\"FAUX\"))","v":""},"",{"$f":"IF(AY22=\"\",\"\",IF(AZ22=\"OK\",\"\",VLOOKUP(AY22,index_cabasse!$C$5:$O$89,preparation_plateau!$D22+1,FALSE)))","v":""}]
[{"$f":"preparation_plateau!B23","v":"TEJOR"},{"$f":"preparation_plateau!C23","v":"Carla"},null,{"$f":"IF(preparation_plateau!D23=\"\",\"\",preparation_plateau!D23)","v":9},{"$f":"preparation_plateau!G23","v":"WFT"},null,{"$f":"IF(F23=\"\",\"\",IF(F23=preparation_plateau!H23,\"OK\",\"FAUX\"))","v":""},"",{"$f":"IF(F23=\"\",\"\",IF(G23=\"OK\",\"\",VLOOKUP(F23,index_cabasse!$C$5:$O$89,preparation_plateau!$D23+1,FALSE)))","v":""},{"$f":"preparation_plateau!J23","v":"CCZ"},null,{"$f":"IF(K23=\"\",\"\",IF(K23=preparation_plateau!K23,\"OK\",\"FAUX\"))","v":""},"",{"$f":"IF(K23=\"\",\"\",IF(L23=\"OK\",\"\",VLOOKUP(K23,index_cabasse!$C$5:$O$89,preparation_plateau!$D23+1,FALSE)))","v":""},{"$f":"preparation_plateau!M23","v":"CCW"},null,{"$f":"IF(P23=\"\",\"\",IF(P23=preparation_plateau!N23,\"OK\",\"FAUX\"))","v":""},"",{"$f":"IF(P23=\"\",\"\",IF(Q23=\"OK\",\"\",VLOOKUP(P23,index_cabasse!$C$5:$O$89,preparation_plateau!$D23+1,FALSE)))","v":""},{"$f":"preparation_plateau!P23","v":"VER"},null,{"$f":"IF(U23=\"\",\"\",IF(U23=preparation_plateau!Q23,\"OK\",\"FAUX\"))","v":""},"",{"$f":"IF(U23=\"\",\"\",IF(V23=\"OK\",\"\",VLOOKUP(U23,index_cabasse!$C$5:$O$89,preparation_plateau!$D23+1,FALSE)))","v":""},{"$f":"preparation_plateau!S23","v":"VEW"},null,{"$f":"IF(Z23=\"\",\"\",IF(Z23=preparation_plateau!T23,\"OK\",\"FAUX\"))","v":""},"",{"$f":"IF(Z23=\"\",\"\",IF(AA23=\"OK\",\"\",VLOOKUP(Z23,index_cabasse!$C$5:$O$89,preparation_plateau!$D23+1,FALSE)))","v":""},{"$f":"preparation_plateau!V23","v":"XGE"},null,{"$f":"IF(AE23=\"\",\"\",IF(AE23=preparation_plateau!W23,\"OK\",\"FAUX\"))","v":""},"",{"$f":"IF(AE23=\"\",\"\",IF(AF23=\"OK\",\"\",VLOOKUP(AE23,index_cabasse!$C$5:$O$89,preparation_plateau!$D23+1,FALSE)))","v":""},{"$f":"preparation_plateau!Y23","v":"CCW"},null,{"$f":"IF(AJ23=\"\",\"\",IF(AJ23=preparation_plateau!Z23,\"OK\",\"FAUX\"))","v":""},"",{"$f":"IF(AJ23=\"\",\"\",IF(AK23=\"OK\",\"\",VLOOKUP(AJ23,index_cabasse!$C$5:$O$89,preparation_plateau!$D23+1,FALSE)))","v":""},{"$f":"preparation_plateau!AB23","v":"WFH"},null,{"$f":"IF(AO23=\"\",\"\",IF(AO23=preparation_plateau!AC23,\"OK\",\"FAUX\"))","v":""},"",{"$f":"IF(AO23=\"\",\"\",IF(AP23=\"OK\",\"\",VLOOKUP(AO23,index_cabasse!$C$5:$O$89,preparation_plateau!$D23+1,FALSE)))","v":""},{"$f":"preparation_plateau!AE23","v":"XGD"},null,{"$f":"IF(AT23=\"\",\"\",IF(AT23=preparation_plateau!AF23,\"OK\",\"FAUX\"))","v":""},"",{"$f":"IF(AT23=\"\",\"\",IF(AU23=\"OK\",\"\",VLOOKUP(AT23,index_cabasse!$C$5:$O$89,preparation_plateau!$D23+1,FALSE)))","v":""},{"$f":"preparation_plateau!AH23","v":"CCQ"},null,{"$f":"IF(AY23=\"\",\"\",IF(AY23=preparation_plateau!AI23,\"OK\",\"FAUX\"))","v":""},"",{"$f":"IF(AY23=\"\",\"\",IF(AZ23=\"OK\",\"\",VLOOKUP(AY23,index_cabasse!$C$5:$O$89,preparation_plateau!$D23+1,FALSE)))","v":""}]
[{"$f":"preparation_plateau!B24","v":"THIER"},{"$f":"preparation_plateau!C24","v":"Andrea"},null,{"$f":"IF(preparation_plateau!D24=\"\",\"\",preparation_plateau!D24)","v":10},{"$f":"preparation_plateau!G24","v":"RBK"},null,{"$f":"IF(F24=\"\",\"\",IF(F24=preparation_plateau!H24,\"OK\",\"FAUX\"))","v":""},"",{"$f":"IF(F24=\"\",\"\",IF(G24=\"OK\",\"\",VLOOKUP(F24,index_cabasse!$C$5:$O$89,preparation_plateau!$D24+1,FALSE)))","v":""},{"$f":"preparation_plateau!J24","v":"SAN"},null,{"$f":"IF(K24=\"\",\"\",IF(K24=preparation_plateau!K24,\"OK\",\"FAUX\"))","v":""},"",{"$f":"IF(K24=\"\",\"\",IF(L24=\"OK\",\"\",VLOOKUP(K24,index_cabasse!$C$5:$O$89,preparation_plateau!$D24+1,FALSE)))","v":""},{"$f":"preparation_plateau!M24","v":"RBT"},null,{"$f":"IF(P24=\"\",\"\",IF(P24=preparation_plateau!N24,\"OK\",\"FAUX\"))","v":""},"",{"$f":"IF(P24=\"\",\"\",IF(Q24=\"OK\",\"\",VLOOKUP(P24,index_cabasse!$C$5:$O$89,preparation_plateau!$D24+1,FALSE)))","v":""},{"$f":"preparation_plateau!P24","v":"SCA"},null,{"$f":"IF(U24=\"\",\"\",IF(U24=preparation_plateau!Q24,\"OK\",\"FAUX\"))","v":""},"",{"$f":"IF(U24=\"\",\"\",IF(V24=\"OK\",\"\",VLOOKUP(U24,index_cabasse!$C$5:$O$89,preparation_plateau!$D24+1,FALSE)))","v":""},{"$f":"preparation_plateau!S24","v":"GGJ"},null,{"$f":"IF(Z24=\"\",\"\",IF(Z24=preparation_plateau!T24,\"OK\",\"FAUX\"))","v":""},"",{"$f":"IF(Z24=\"\",\"\",IF(AA24=\"OK\",\"\",VLOOKUP(Z24,index_cabasse!$C$5:$O$89,preparation_plateau!$D24+1,FALSE)))","v":""},{"$f":"preparation_plateau!V24","v":"SAN"},null,{"$f":"IF(AE24=\"\",\"\",IF(AE24=preparation_plateau!W24,\"OK\",\"FAUX\"))","v":""},"",{"$f":"IF(AE24=\"\",\"\",IF(AF24=\"OK\",\"\",VLOOKUP(AE24,index_cabasse!$C$5:$O$89,preparation_plateau!$D24+1,FALSE)))","v":""},{"$f":"preparation_plateau!Y24","v":"GGK"},null,{"$f":"IF(AJ24=\"\",\"\",IF(AJ24=preparation_plateau!Z24,\"OK\",\"FAUX\"))","v":""},"",{"$f":"IF(AJ24=\"\",\"\",IF(AK24=\"OK\",\"\",VLOOKUP(AJ24,index_cabasse!$C$5:$O$89,preparation_plateau!$D24+1,FALSE)))","v":""},{"$f":"preparation_plateau!AB24","v":"GGC"},null,{"$f":"IF(AO24=\"\",\"\",IF(AO24=preparation_plateau!AC24,\"OK\",\"FAUX\"))","v":""},"",{"$f":"IF(AO24=\"\",\"\",IF(AP24=\"OK\",\"\",VLOOKUP(AO24,index_cabasse!$C$5:$O$89,preparation_plateau!$D24+1,FALSE)))","v":""},{"$f":"preparation_plateau!AE24","v":"RBH"},null,{"$f":"IF(AT24=\"\",\"\",IF(AT24=preparation_plateau!AF24,\"OK\",\"FAUX\"))","v":""},"",{"$f":"IF(AT24=\"\",\"\",IF(AU24=\"OK\",\"\",VLOOKUP(AT24,index_cabasse!$C$5:$O$89,preparation_plateau!$D24+1,FALSE)))","v":""},{"$f":"preparation_plateau!AH24","v":"SAR"},null,{"$f":"IF(AY24=\"\",\"\",IF(AY24=preparation_plateau!AI24,\"OK\",\"FAUX\"))","v":""},"",{"$f":"IF(AY24=\"\",\"\",IF(AZ24=\"OK\",\"\",VLOOKUP(AY24,index_cabasse!$C$5:$O$89,preparation_plateau!$D24+1,FALSE)))","v":""}]
[{"$f":"preparation_plateau!B25","v":"YI"},{"$f":"preparation_plateau!C25","v":"William"},null,{"$f":"IF(preparation_plateau!D25=\"\",\"\",preparation_plateau!D25)","v":12},{"$f":"preparation_plateau!G25","v":"HIM"},null,{"$f":"IF(F25=\"\",\"\",IF(F25=preparation_plateau!H25,\"OK\",\"FAUX\"))","v":""},"",{"$f":"IF(F25=\"\",\"\",IF(G25=\"OK\",\"\",VLOOKUP(F25,index_cabasse!$C$5:$O$89,preparation_plateau!$D25+1,FALSE)))","v":""},{"$f":"preparation_plateau!J25","v":"RRA"},null,{"$f":"IF(K25=\"\",\"\",IF(K25=preparation_plateau!K25,\"OK\",\"FAUX\"))","v":""},"",{"$f":"IF(K25=\"\",\"\",IF(L25=\"OK\",\"\",VLOOKUP(K25,index_cabasse!$C$5:$O$89,preparation_plateau!$D25+1,FALSE)))","v":""},{"$f":"preparation_plateau!M25","v":"IJA"},null,{"$f":"IF(P25=\"\",\"\",IF(P25=preparation_plateau!N25,\"OK\",\"FAUX\"))","v":""},"",{"$f":"IF(P25=\"\",\"\",IF(Q25=\"OK\",\"\",VLOOKUP(P25,index_cabasse!$C$5:$O$89,preparation_plateau!$D25+1,FALSE)))","v":""},{"$f":"preparation_plateau!P25","v":"HIE"},null,{"$f":"IF(U25=\"\",\"\",IF(U25=preparation_plateau!Q25,\"OK\",\"FAUX\"))","v":""},"",{"$f":"IF(U25=\"\",\"\",IF(V25=\"OK\",\"\",VLOOKUP(U25,index_cabasse!$C$5:$O$89,preparation_plateau!$D25+1,FALSE)))","v":""},{"$f":"preparation_plateau!S25","v":"HIK"},null,{"$f":"IF(Z25=\"\",\"\",IF(Z25=preparation_plateau!T25,\"OK\",\"FAUX\"))","v":""},"",{"$f":"IF(Z25=\"\",\"\",IF(AA25=\"OK\",\"\",VLOOKUP(Z25,index_cabasse!$C$5:$O$89,preparation_plateau!$D25+1,FALSE)))","v":""},{"$f":"preparation_plateau!V25","v":"HII"},null,{"$f":"IF(AE25=\"\",\"\",IF(AE25=preparation_plateau!W25,\"OK\",\"FAUX\"))","v":""},"",{"$f":"IF(AE25=\"\",\"\",IF(AF25=\"OK\",\"\",VLOOKUP(AE25,index_cabasse!$C$5:$O$89,preparation_plateau!$D25+1,FALSE)))","v":""},{"$f":"preparation_plateau!Y25","v":"GHS"},null,{"$f":"IF(AJ25=\"\",\"\",IF(AJ25=preparation_plateau!Z25,\"OK\",\"FAUX\"))","v":""},"",{"$f":"IF(AJ25=\"\",\"\",IF(AK25=\"OK\",\"\",VLOOKUP(AJ25,index_cabasse!$C$5:$O$89,preparation_plateau!$D25+1,FALSE)))","v":""},{"$f":"preparation_plateau!AB25","v":"RRC"},null,{"$f":"IF(AO25=\"\",\"\",IF(AO25=preparation_plateau!AC25,\"OK\",\"FAUX\"))","v":""},"",{"$f":"IF(AO25=\"\",\"\",IF(AP25=\"OK\",\"\",VLOOKUP(AO25,index_cabasse!$C$5:$O$89,preparation_plateau!$D25+1,FALSE)))","v":""},{"$f":"preparation_plateau!AE25","v":"GHN"},null,{"$f":"IF(AT25=\"\",\"\",IF(AT25=preparation_plateau!AF25,\"OK\",\"FAUX\"))","v":""},"",{"$f":"IF(AT25=\"\",\"\",IF(AU25=\"OK\",\"\",VLOOKUP(AT25,index_cabasse!$C$5:$O$89,preparation_plateau!$D25+1,FALSE)))","v":""},{"$f":"preparation_plateau!AH25","v":"PPX"},null,{"$f":"IF(AY25=\"\",\"\",IF(AY25=preparation_plateau!AI25,\"OK\",\"FAUX\"))","v":""},"",{"$f":"IF(AY25=\"\",\"\",IF(AZ25=\"OK\",\"\",VLOOKUP(AY25,index_cabasse!$C$5:$O$89,preparation_plateau!$D25+1,FALSE)))","v":""}]
[{"$f":"preparation_plateau!B26","v":""},{"$f":"preparation_plateau!C26","v":""},null,{"$f":"IF(preparation_plateau!D26=\"\",\"\",preparation_plateau!D26)","v":0},{"$f":"preparation_plateau!G26","v":""},null,{"$f":"IF(F26=\"\",\"\",IF(F26=preparation_plateau!H26,\"OK\",\"FAUX\"))","v":""},"",{"$f":"IF(F26=\"\",\"\",IF(G26=\"OK\",\"\",VLOOKUP(F26,index_cabasse!$C$5:$O$89,preparation_plateau!$D26+1,FALSE)))","v":""},{"$f":"preparation_plateau!J26","v":""},null,{"$f":"IF(K26=\"\",\"\",IF(K26=preparation_plateau!K26,\"OK\",\"FAUX\"))","v":""},"",{"$f":"IF(K26=\"\",\"\",IF(L26=\"OK\",\"\",VLOOKUP(K26,index_cabasse!$C$5:$O$89,preparation_plateau!$D26+1,FALSE)))","v":""},{"$f":"preparation_plateau!M26","v":""},null,{"$f":"IF(P26=\"\",\"\",IF(P26=preparation_plateau!N26,\"OK\",\"FAUX\"))","v":""},"",{"$f":"IF(P26=\"\",\"\",IF(Q26=\"OK\",\"\",VLOOKUP(P26,index_cabasse!$C$5:$O$89,preparation_plateau!$D26+1,FALSE)))","v":""},{"$f":"preparation_plateau!P26","v":""},null,{"$f":"IF(U26=\"\",\"\",IF(U26=preparation_plateau!Q26,\"OK\",\"FAUX\"))","v":""},"",{"$f":"IF(U26=\"\",\"\",IF(V26=\"OK\",\"\",VLOOKUP(U26,index_cabasse!$C$5:$O$89,preparation_plateau!$D26+1,FALSE)))","v":""},{"$f":"preparation_plateau!S26","v":""},null,{"$f":"IF(Z26=\"\",\"\",IF(Z26=preparation_plateau!T26,\"OK\",\"FAUX\"))","v":""},"",{"$f":"IF(Z26=\"\",\"\",IF(AA26=\"OK\",\"\",VLOOKUP(Z26,index_cabasse!$C$5:$O$89,preparation_plateau!$D26+1,FALSE)))","v":""},{"$f":"preparation_plateau!V26","v":""},null,{"$f":"IF(AE26=\"\",\"\",IF(AE26=preparation_plateau!W26,\"OK\",\"FAUX\"))","v":""},"",{"$f":"IF(AE26=\"\",\"\",IF(AF26=\"OK\",\"\",VLOOKUP(AE26,index_cabasse!$C$5:$O$89,preparation_plateau!$D26+1,FALSE)))","v":""},{"$f":"preparation_plateau!Y26","v":""},null,{"$f":"IF(AJ26=\"\",\"\",IF(AJ26=preparation_plateau!Z26,\"OK\",\"FAUX\"))","v":""},"",{"$f":"IF(AJ26=\"\",\"\",IF(AK26=\"OK\",\"\",VLOOKUP(AJ26,index_cabasse!$C$5:$O$89,preparation_plateau!$D26+1,FALSE)))","v":""},{"$f":"preparation_plateau!AB26","v":""},null,{"$f":"IF(AO26=\"\",\"\",IF(AO26=preparation_plateau!AC26,\"OK\",\"FAUX\"))","v":""},"",{"$f":"IF(AO26=\"\",\"\",IF(AP26=\"OK\",\"\",VLOOKUP(AO26,index_cabasse!$C$5:$O$89,preparation_plateau!$D26+1,FALSE)))","v":""},{"$f":"preparation_plateau!AE26","v":""},null,{"$f":"IF(AT26=\"\",\"\",IF(AT26=preparation_plateau!AF26,\"OK\",\"FAUX\"))","v":""},"",{"$f":"IF(AT26=\"\",\"\",IF(AU26=\"OK\",\"\",VLOOKUP(AT26,index_cabasse!$C$5:$O$89,preparation_plateau!$D26+1,FALSE)))","v":""},{"$f":"preparation_plateau!AH26","v":""},null,{"$f":"IF(AY26=\"\",\"\",IF(AY26=preparation_plateau!AI26,\"OK\",\"FAUX\"))","v":""},"",{"$f":"IF(AY26=\"\",\"\",IF(AZ26=\"OK\",\"\",VLOOKUP(AY26,index_cabasse!$C$5:$O$89,preparation_plateau!$D26+1,FALSE)))","v":""}]
[{"$f":"preparation_plateau!B27","v":""},{"$f":"preparation_plateau!C27","v":""},null,{"$f":"IF(preparation_plateau!D27=\"\",\"\",preparation_plateau!D27)","v":0},{"$f":"preparation_plateau!G27","v":""},null,{"$f":"IF(F27=\"\",\"\",IF(F27=preparation_plateau!H27,\"OK\",\"FAUX\"))","v":""},"",{"$f":"IF(F27=\"\",\"\",IF(G27=\"OK\",\"\",VLOOKUP(F27,index_cabasse!$C$5:$O$89,preparation_plateau!$D27+1,FALSE)))","v":""},{"$f":"preparation_plateau!J27","v":""},null,{"$f":"IF(K27=\"\",\"\",IF(K27=preparation_plateau!K27,\"OK\",\"FAUX\"))","v":""},"",{"$f":"IF(K27=\"\",\"\",IF(L27=\"OK\",\"\",VLOOKUP(K27,index_cabasse!$C$5:$O$89,preparation_plateau!$D27+1,FALSE)))","v":""},{"$f":"preparation_plateau!M27","v":""},null,{"$f":"IF(P27=\"\",\"\",IF(P27=preparation_plateau!N27,\"OK\",\"FAUX\"))","v":""},"",{"$f":"IF(P27=\"\",\"\",IF(Q27=\"OK\",\"\",VLOOKUP(P27,index_cabasse!$C$5:$O$89,preparation_plateau!$D27+1,FALSE)))","v":""},{"$f":"preparation_plateau!P27","v":""},null,{"$f":"IF(U27=\"\",\"\",IF(U27=preparation_plateau!Q27,\"OK\",\"FAUX\"))","v":""},"",{"$f":"IF(U27=\"\",\"\",IF(V27=\"OK\",\"\",VLOOKUP(U27,index_cabasse!$C$5:$O$89,preparation_plateau!$D27+1,FALSE)))","v":""},{"$f":"preparation_plateau!S27","v":""},null,{"$f":"IF(Z27=\"\",\"\",IF(Z27=preparation_plateau!T27,\"OK\",\"FAUX\"))","v":""},"",{"$f":"IF(Z27=\"\",\"\",IF(AA27=\"OK\",\"\",VLOOKUP(Z27,index_cabasse!$C$5:$O$89,preparation_plateau!$D27+1,FALSE)))","v":""},{"$f":"preparation_plateau!V27","v":""},null,{"$f":"IF(AE27=\"\",\"\",IF(AE27=preparation_plateau!W27,\"OK\",\"FAUX\"))","v":""},"",{"$f":"IF(AE27=\"\",\"\",IF(AF27=\"OK\",\"\",VLOOKUP(AE27,index_cabasse!$C$5:$O$89,preparation_plateau!$D27+1,FALSE)))","v":""},{"$f":"preparation_plateau!Y27","v":""},null,{"$f":"IF(AJ27=\"\",\"\",IF(AJ27=preparation_plateau!Z27,\"OK\",\"FAUX\"))","v":""},"",{"$f":"IF(AJ27=\"\",\"\",IF(AK27=\"OK\",\"\",VLOOKUP(AJ27,index_cabasse!$C$5:$O$89,preparation_plateau!$D27+1,FALSE)))","v":""},{"$f":"preparation_plateau!AB27","v":""},null,{"$f":"IF(AO27=\"\",\"\",IF(AO27=preparation_plateau!AC27,\"OK\",\"FAUX\"))","v":""},"",{"$f":"IF(AO27=\"\",\"\",IF(AP27=\"OK\",\"\",VLOOKUP(AO27,index_cabasse!$C$5:$O$89,preparation_plateau!$D27+1,FALSE)))","v":""},{"$f":"preparation_plateau!AE27","v":""},null,{"$f":"IF(AT27=\"\",\"\",IF(AT27=preparation_plateau!AF27,\"OK\",\"FAUX\"))","v":""},"",{"$f":"IF(AT27=\"\",\"\",IF(AU27=\"OK\",\"\",VLOOKUP(AT27,index_cabasse!$C$5:$O$89,preparation_plateau!$D27+1,FALSE)))","v":""},{"$f":"preparation_plateau!AH27","v":""},null,{"$f":"IF(AY27=\"\",\"\",IF(AY27=preparation_plateau!AI27,\"OK\",\"FAUX\"))","v":""},"",{"$f":"IF(AY27=\"\",\"\",IF(AZ27=\"OK\",\"\",VLOOKUP(AY27,index_cabasse!$C$5:$O$89,preparation_plateau!$D27+1,FALSE)))","v":""}]
[{"$f":"preparation_plateau!B28","v":""},{"$f":"preparation_plateau!C28","v":""},null,{"$f":"IF(preparation_plateau!D28=\"\",\"\",preparation_plateau!D28)","v":0},{"$f":"preparation_plateau!G28","v":""},null,{"$f":"IF(F28=\"\",\"\",IF(F28=preparation_plateau!H28,\"OK\",\"FAUX\"))","v":""},"",{"$f":"IF(F28=\"\",\"\",IF(G28=\"OK\",\"\",VLOOKUP(F28,index_cabasse!$C$5:$O$89,preparation_plateau!$D28+1,FALSE)))","v":""},{"$f":"preparation_plateau!J28","v":""},null,{"$f":"IF(K28=\"\",\"\",IF(K28=preparation_plateau!K28,\"OK\",\"FAUX\"))","v":""},"",{"$f":"IF(K28=\"\",\"\",IF(L28=\"OK\",\"\",VLOOKUP(K28,index_cabasse!$C$5:$O$89,preparation_plateau!$D28+1,FALSE)))","v":""},{"$f":"preparation_plateau!M28","v":""},null,{"$f":"IF(P28=\"\",\"\",IF(P28=preparation_plateau!N28,\"OK\",\"FAUX\"))","v":""},"",{"$f":"IF(P28=\"\",\"\",IF(Q28=\"OK\",\"\",VLOOKUP(P28,index_cabasse!$C$5:$O$89,preparation_plateau!$D28+1,FALSE)))","v":""},{"$f":"preparation_plateau!P28","v":""},null,{"$f":"IF(U28=\"\",\"\",IF(U28=preparation_plateau!Q28,\"OK\",\"FAUX\"))","v":""},"",{"$f":"IF(U28=\"\",\"\",IF(V28=\"OK\",\"\",VLOOKUP(U28,index_cabasse!$C$5:$O$89,preparation_plateau!$D28+1,FALSE)))","v":""},{"$f":"preparation_plateau!S28","v":""},null,{"$f":"IF(Z28=\"\",\"\",IF(Z28=preparation_plateau!T28,\"OK\",\"FAUX\"))","v":""},"",{"$f":"IF(Z28=\"\",\"\",IF(AA28=\"OK\",\"\",VLOOKUP(Z28,index_cabasse!$C$5:$O$89,preparation_plateau!$D28+1,FALSE)))","v":""},{"$f":"preparation_plateau!V28","v":""},null,{"$f":"IF(AE28=\"\",\"\",IF(AE28=preparation_plateau!W28,\"OK\",\"FAUX\"))","v":""},"",{"$f":"IF(AE28=\"\",\"\",IF(AF28=\"OK\",\"\",VLOOKUP(AE28,index_cabasse!$C$5:$O$89,preparation_plateau!$D28+1,FALSE)))","v":""},{"$f":"preparation_plateau!Y28","v":""},null,{"$f":"IF(AJ28=\"\",\"\",IF(AJ28=preparation_plateau!Z28,\"OK\",\"FAUX\"))","v":""},"",{"$f":"IF(AJ28=\"\",\"\",IF(AK28=\"OK\",\"\",VLOOKUP(AJ28,index_cabasse!$C$5:$O$89,preparation_plateau!$D28+1,FALSE)))","v":""},{"$f":"preparation_plateau!AB28","v":""},null,{"$f":"IF(AO28=\"\",\"\",IF(AO28=preparation_plateau!AC28,\"OK\",\"FAUX\"))","v":""},"",{"$f":"IF(AO28=\"\",\"\",IF(AP28=\"OK\",\"\",VLOOKUP(AO28,index_cabasse!$C$5:$O$89,preparation_plateau!$D28+1,FALSE)))","v":""},{"$f":"preparation_plateau!AE28","v":""},null,{"$f":"IF(AT28=\"\",\"\",IF(AT28=preparation_plateau!AF28,\"OK\",\"FAUX\"))","v":""},"",{"$f":"IF(AT28=\"\",\"\",IF(AU28=\"OK\",\"\",VLOOKUP(AT28,index_cabasse!$C$5:$O$89,preparation_plateau!$D28+1,FALSE)))","v":""},{"$f":"preparation_plateau!AH28","v":""},null,{"$f":"IF(AY28=\"\",\"\",IF(AY28=preparation_plateau!AI28,\"OK\",\"FAUX\"))","v":""},"",{"$f":"IF(AY28=\"\",\"\",IF(AZ28=\"OK\",\"\",VLOOKUP(AY28,index_cabasse!$C$5:$O$89,preparation_plateau!$D28+1,FALSE)))","v":""}]
[{"$f":"preparation_plateau!B29","v":""},{"$f":"preparation_plateau!C29","v":""},null,{"$f":"IF(preparation_plateau!D29=\"\",\"\",preparation_plateau!D29)","v":0},{"$f":"preparation_plateau!G29","v":""},null,{"$f":"IF(F29=\"\",\"\",IF(F29=preparation_plateau!H29,\"OK\",\"FAUX\"))","v":""},"",{"$f":"IF(F29=\"\",\"\",IF(G29=\"OK\",\"\",VLOOKUP(F29,index_cabasse!$C$5:$O$89,preparation_plateau!$D29+1,FALSE)))","v":""},{"$f":"preparation_plateau!J29","v":""},null,{"$f":"IF(K29=\"\",\"\",IF(K29=preparation_plateau!K29,\"OK\",\"FAUX\"))","v":""},"",{"$f":"IF(K29=\"\",\"\",IF(L29=\"OK\",\"\",VLOOKUP(K29,index_cabasse!$C$5:$O$89,preparation_plateau!$D29+1,FALSE)))","v":""},{"$f":"preparation_plateau!M29","v":""},null,{"$f":"IF(P29=\"\",\"\",IF(P29=preparation_plateau!N29,\"OK\",\"FAUX\"))","v":""},"",{"$f":"IF(P29=\"\",\"\",IF(Q29=\"OK\",\"\",VLOOKUP(P29,index_cabasse!$C$5:$O$89,preparation_plateau!$D29+1,FALSE)))","v":""},{"$f":"preparation_plateau!P29","v":""},null,{"$f":"IF(U29=\"\",\"\",IF(U29=preparation_plateau!Q29,\"OK\",\"FAUX\"))","v":""},"",{"$f":"IF(U29=\"\",\"\",IF(V29=\"OK\",\"\",VLOOKUP(U29,index_cabasse!$C$5:$O$89,preparation_plateau!$D29+1,FALSE)))","v":""},{"$f":"preparation_plateau!S29","v":""},null,{"$f":"IF(Z29=\"\",\"\",IF(Z29=preparation_plateau!T29,\"OK\",\"FAUX\"))","v":""},"",{"$f":"IF(Z29=\"\",\"\",IF(AA29=\"OK\",\"\",VLOOKUP(Z29,index_cabasse!$C$5:$O$89,preparation_plateau!$D29+1,FALSE)))","v":""},{"$f":"preparation_plateau!V29","v":""},null,{"$f":"IF(AE29=\"\",\"\",IF(AE29=preparation_plateau!W29,\"OK\",\"FAUX\"))","v":""},"",{"$f":"IF(AE29=\"\",\"\",IF(AF29=\"OK\",\"\",VLOOKUP(AE29,index_cabasse!$C$5:$O$89,preparation_plateau!$D29+1,FALSE)))","v":""},{"$f":"preparation_plateau!Y29","v":""},null,{"$f":"IF(AJ29=\"\",\"\",IF(AJ29=preparation_plateau!Z29,\"OK\",\"FAUX\"))","v":""},"",{"$f":"IF(AJ29=\"\",\"\",IF(AK29=\"OK\",\"\",VLOOKUP(AJ29,index_cabasse!$C$5:$O$89,preparation_plateau!$D29+1,FALSE)))","v":""},{"$f":"preparation_plateau!AB29","v":""},null,{"$f":"IF(AO29=\"\",\"\",IF(AO29=preparation_plateau!AC29,\"OK\",\"FAUX\"))","v":""},"",{"$f":"IF(AO29=\"\",\"\",IF(AP29=\"OK\",\"\",VLOOKUP(AO29,index_cabasse!$C$5:$O$89,preparation_plateau!$D29+1,FALSE)))","v":""},{"$f":"preparation_plateau!AE29","v":""},null,{"$f":"IF(AT29=\"\",\"\",IF(AT29=preparation_plateau!AF29,\"OK\",\"FAUX\"))","v":""},"",{"$f":"IF(AT29=\"\",\"\",IF(AU29=\"OK\",\"\",VLOOKUP(AT29,index_cabasse!$C$5:$O$89,preparation_plateau!$D29+1,FALSE)))","v":""},{"$f":"preparation_plateau!AH29","v":""},null,{"$f":"IF(AY29=\"\",\"\",IF(AY29=preparation_plateau!AI29,\"OK\",\"FAUX\"))","v":""},"",{"$f":"IF(AY29=\"\",\"\",IF(AZ29=\"OK\",\"\",VLOOKUP(AY29,index_cabasse!$C$5:$O$89,preparation_plateau!$D29+1,FALSE)))","v":""}]
[{"$f":"preparation_plateau!B30","v":""},{"$f":"preparation_plateau!C30","v":""},null,{"$f":"IF(preparation_plateau!D30=\"\",\"\",preparation_plateau!D30)","v":0},{"$f":"preparation_plateau!G30","v":""},null,{"$f":"IF(F30=\"\",\"\",IF(F30=preparation_plateau!H30,\"OK\",\"FAUX\"))","v":""},"",{"$f":"IF(F30=\"\",\"\",IF(G30=\"OK\",\"\",VLOOKUP(F30,index_cabasse!$C$5:$O$89,preparation_plateau!$D30+1,FALSE)))","v":""},{"$f":"preparation_plateau!J30","v":""},null,{"$f":"IF(K30=\"\",\"\",IF(K30=preparation_plateau!K30,\"OK\",\"FAUX\"))","v":""},"",{"$f":"IF(K30=\"\",\"\",IF(L30=\"OK\",\"\",VLOOKUP(K30,index_cabasse!$C$5:$O$89,preparation_plateau!$D30+1,FALSE)))","v":""},{"$f":"preparation_plateau!M30","v":""},null,{"$f":"IF(P30=\"\",\"\",IF(P30=preparation_plateau!N30,\"OK\",\"FAUX\"))","v":""},"",{"$f":"IF(P30=\"\",\"\",IF(Q30=\"OK\",\"\",VLOOKUP(P30,index_cabasse!$C$5:$O$89,preparation_plateau!$D30+1,FALSE)))","v":""},{"$f":"preparation_plateau!P30","v":""},null,{"$f":"IF(U30=\"\",\"\",IF(U30=preparation_plateau!Q30,\"OK\",\"FAUX\"))","v":""},"",{"$f":"IF(U30=\"\",\"\",IF(V30=\"OK\",\"\",VLOOKUP(U30,index_cabasse!$C$5:$O$89,preparation_plateau!$D30+1,FALSE)))","v":""},{"$f":"preparation_plateau!S30","v":""},null,{"$f":"IF(Z30=\"\",\"\",IF(Z30=preparation_plateau!T30,\"OK\",\"FAUX\"))","v":""},"",{"$f":"IF(Z30=\"\",\"\",IF(AA30=\"OK\",\"\",VLOOKUP(Z30,index_cabasse!$C$5:$O$89,preparation_plateau!$D30+1,FALSE)))","v":""},{"$f":"preparation_plateau!V30","v":""},null,{"$f":"IF(AE30=\"\",\"\",IF(AE30=preparation_plateau!W30,\"OK\",\"FAUX\"))","v":""},"",{"$f":"IF(AE30=\"\",\"\",IF(AF30=\"OK\",\"\",VLOOKUP(AE30,index_cabasse!$C$5:$O$89,preparation_plateau!$D30+1,FALSE)))","v":""},{"$f":"preparation_plateau!Y30","v":""},null,{"$f":"IF(AJ30=\"\",\"\",IF(AJ30=preparation_plateau!Z30,\"OK\",\"FAUX\"))","v":""},"",{"$f":"IF(AJ30=\"\",\"\",IF(AK30=\"OK\",\"\",VLOOKUP(AJ30,index_cabasse!$C$5:$O$89,preparation_plateau!$D30+1,FALSE)))","v":""},{"$f":"preparation_plateau!AB30","v":""},null,{"$f":"IF(AO30=\"\",\"\",IF(AO30=preparation_plateau!AC30,\"OK\",\"FAUX\"))","v":""},"",{"$f":"IF(AO30=\"\",\"\",IF(AP30=\"OK\",\"\",VLOOKUP(AO30,index_cabasse!$C$5:$O$89,preparation_plateau!$D30+1,FALSE)))","v":""},{"$f":"preparation_plateau!AE30","v":""},null,{"$f":"IF(AT30=\"\",\"\",IF(AT30=preparation_plateau!AF30,\"OK\",\"FAUX\"))","v":""},"",{"$f":"IF(AT30=\"\",\"\",IF(AU30=\"OK\",\"\",VLOOKUP(AT30,index_cabasse!$C$5:$O$89,preparation_plateau!$D30+1,FALSE)))","v":""},{"$f":"preparation_plateau!AH30","v":""},null,{"$f":"IF(AY30=\"\",\"\",IF(AY30=preparation_plateau!AI30,\"OK\",\"FAUX\"))","v":""},"",{"$f":"IF(AY30=\"\",\"\",IF(AZ30=\"OK\",\"\",VLOOKUP(AY30,index_cabasse!$C$5:$O$89,preparation_plateau!$D30+1,FALSE)))","v":""}]
[{"$f":"preparation_plateau!B31","v":""},{"$f":"preparation_plateau!C31","v":""},null,{"$f":"IF(preparation_plateau!D31=\"\",\"\",preparation_plateau!D31)","v":0},{"$f":"preparation_plateau!G31","v":""},null,{"$f":"IF(F31=\"\",\"\",IF(F31=preparation_plateau!H31,\"OK\",\"FAUX\"))","v":""},"",{"$f":"IF(F31=\"\",\"\",IF(G31=\"OK\",\"\",VLOOKUP(F31,index_cabasse!$C$5:$O$89,preparation_plateau!$D31+1,FALSE)))","v":""},{"$f":"preparation_plateau!J31","v":""},null,{"$f":"IF(K31=\"\",\"\",IF(K31=preparation_plateau!K31,\"OK\",\"FAUX\"))","v":""},"",{"$f":"IF(K31=\"\",\"\",IF(L31=\"OK\",\"\",VLOOKUP(K31,index_cabasse!$C$5:$O$89,preparation_plateau!$D31+1,FALSE)))","v":""},{"$f":"preparation_plateau!M31","v":""},null,{"$f":"IF(P31=\"\",\"\",IF(P31=preparation_plateau!N31,\"OK\",\"FAUX\"))","v":""},"",{"$f":"IF(P31=\"\",\"\",IF(Q31=\"OK\",\"\",VLOOKUP(P31,index_cabasse!$C$5:$O$89,preparation_plateau!$D31+1,FALSE)))","v":""},{"$f":"preparation_plateau!P31","v":""},null,{"$f":"IF(U31=\"\",\"\",IF(U31=preparation_plateau!Q31,\"OK\",\"FAUX\"))","v":""},"",{"$f":"IF(U31=\"\",\"\",IF(V31=\"OK\",\"\",VLOOKUP(U31,index_cabasse!$C$5:$O$89,preparation_plateau!$D31+1,FALSE)))","v":""},{"$f":"preparation_plateau!S31","v":""},null,{"$f":"IF(Z31=\"\",\"\",IF(Z31=preparation_plateau!T31,\"OK\",\"FAUX\"))","v":""},"",{"$f":"IF(Z31=\"\",\"\",IF(AA31=\"OK\",\"\",VLOOKUP(Z31,index_cabasse!$C$5:$O$89,preparation_plateau!$D31+1,FALSE)))","v":""},{"$f":"preparation_plateau!V31","v":""},null,{"$f":"IF(AE31=\"\",\"\",IF(AE31=preparation_plateau!W31,\"OK\",\"FAUX\"))","v":""},"",{"$f":"IF(AE31=\"\",\"\",IF(AF31=\"OK\",\"\",VLOOKUP(AE31,index_cabasse!$C$5:$O$89,preparation_plateau!$D31+1,FALSE)))","v":""},{"$f":"preparation_plateau!Y31","v":""},null,{"$f":"IF(AJ31=\"\",\"\",IF(AJ31=preparation_plateau!Z31,\"OK\",\"FAUX\"))","v":""},"",{"$f":"IF(AJ31=\"\",\"\",IF(AK31=\"OK\",\"\",VLOOKUP(AJ31,index_cabasse!$C$5:$O$89,preparation_plateau!$D31+1,FALSE)))","v":""},{"$f":"preparation_plateau!AB31","v":""},null,{"$f":"IF(AO31=\"\",\"\",IF(AO31=preparation_plateau!AC31,\"OK\",\"FAUX\"))","v":""},"",{"$f":"IF(AO31=\"\",\"\",IF(AP31=\"OK\",\"\",VLOOKUP(AO31,index_cabasse!$C$5:$O$89,preparation_plateau!$D31+1,FALSE)))","v":""},{"$f":"preparation_plateau!AE31","v":""},null,{"$f":"IF(AT31=\"\",\"\",IF(AT31=preparation_plateau!AF31,\"OK\",\"FAUX\"))","v":""},"",{"$f":"IF(AT31=\"\",\"\",IF(AU31=\"OK\",\"\",VLOOKUP(AT31,index_cabasse!$C$5:$O$89,preparation_plateau!$D31+1,FALSE)))","v":""},{"$f":"preparation_plateau!AH31","v":""},null,{"$f":"IF(AY31=\"\",\"\",IF(AY31=preparation_plateau!AI31,\"OK\",\"FAUX\"))","v":""},"",{"$f":"IF(AY31=\"\",\"\",IF(AZ31=\"OK\",\"\",VLOOKUP(AY31,index_cabasse!$C$5:$O$89,preparation_plateau!$D31+1,FALSE)))","v":""}]
[{"$f":"preparation_plateau!B32","v":""},{"$f":"preparation_plateau!C32","v":""},null,{"$f":"IF(preparation_plateau!D32=\"\",\"\",preparation_plateau!D32)","v":0},{"$f":"preparation_plateau!G32","v":""},null,{"$f":"IF(F32=\"\",\"\",IF(F32=preparation_plateau!H32,\"OK\",\"FAUX\"))","v":""},"",{"$f":"IF(F32=\"\",\"\",IF(G32=\"OK\",\"\",VLOOKUP(F32,index_cabasse!$C$5:$O$89,preparation_plateau!$D32+1,FALSE)))","v":""},{"$f":"preparation_plateau!J32","v":""},null,{"$f":"IF(K32=\"\",\"\",IF(K32=preparation_plateau!K32,\"OK\",\"FAUX\"))","v":""},"",{"$f":"IF(K32=\"\",\"\",IF(L32=\"OK\",\"\",VLOOKUP(K32,index_cabasse!$C$5:$O$89,preparation_plateau!$D32+1,FALSE)))","v":""},{"$f":"preparation_plateau!M32","v":""},null,{"$f":"IF(P32=\"\",\"\",IF(P32=preparation_plateau!N32,\"OK\",\"FAUX\"))","v":""},"",{"$f":"IF(P32=\"\",\"\",IF(Q32=\"OK\",\"\",VLOOKUP(P32,index_cabasse!$C$5:$O$89,preparation_plateau!$D32+1,FALSE)))","v":""},{"$f":"preparation_plateau!P32","v":""},null,{"$f":"IF(U32=\"\",\"\",IF(U32=preparation_plateau!Q32,\"OK\",\"FAUX\"))","v":""},"",{"$f":"IF(U32=\"\",\"\",IF(V32=\"OK\",\"\",VLOOKUP(U32,index_cabasse!$C$5:$O$89,preparation_plateau!$D32+1,FALSE)))","v":""},{"$f":"preparation_plateau!S32","v":""},null,{"$f":"IF(Z32=\"\",\"\",IF(Z32=preparation_plateau!T32,\"OK\",\"FAUX\"))","v":""},"",{"$f":"IF(Z32=\"\",\"\",IF(AA32=\"OK\",\"\",VLOOKUP(Z32,index_cabasse!$C$5:$O$89,preparation_plateau!$D32+1,FALSE)))","v":""},{"$f":"preparation_plateau!V32","v":""},null,{"$f":"IF(AE32=\"\",\"\",IF(AE32=preparation_plateau!W32,\"OK\",\"FAUX\"))","v":""},"",{"$f":"IF(AE32=\"\",\"\",IF(AF32=\"OK\",\"\",VLOOKUP(AE32,index_cabasse!$C$5:$O$89,preparation_plateau!$D32+1,FALSE)))","v":""},{"$f":"preparation_plateau!Y32","v":""},null,{"$f":"IF(AJ32=\"\",\"\",IF(AJ32=preparation_plateau!Z32,\"OK\",\"FAUX\"))","v":""},"",{"$f":"IF(AJ32=\"\",\"\",IF(AK32=\"OK\",\"\",VLOOKUP(AJ32,index_cabasse!$C$5:$O$89,preparation_plateau!$D32+1,FALSE)))","v":""},{"$f":"preparation_plateau!AB32","v":""},null,{"$f":"IF(AO32=\"\",\"\",IF(AO32=preparation_plateau!AC32,\"OK\",\"FAUX\"))","v":""},"",{"$f":"IF(AO32=\"\",\"\",IF(AP32=\"OK\",\"\",VLOOKUP(AO32,index_cabasse!$C$5:$O$89,preparation_plateau!$D32+1,FALSE)))","v":""},{"$f":"preparation_plateau!AE32","v":""},null,{"$f":"IF(AT32=\"\",\"\",IF(AT32=preparation_plateau!AF32,\"OK\",\"FAUX\"))","v":""},"",{"$f":"IF(AT32=\"\",\"\",IF(AU32=\"OK\",\"\",VLOOKUP(AT32,index_cabasse!$C$5:$O$89,preparation_plateau!$D32+1,FALSE)))","v":""},{"$f":"preparation_plateau!AH32","v":""},null,{"$f":"IF(AY32=\"\",\"\",IF(AY32=preparation_plateau!AI32,\"OK\",\"FAUX\"))","v":""},"",{"$f":"IF(AY32=\"\",\"\",IF(AZ32=\"OK\",\"\",VLOOKUP(AY32,index_cabasse!$C$5:$O$89,preparation_plateau!$D32+1,FALSE)))","v":""}]
[{"$f":"preparation_plateau!B33","v":""},{"$f":"preparation_plateau!C33","v":""},null,{"$f":"IF(preparation_plateau!D33=\"\",\"\",preparation_plateau!D33)","v":0},{"$f":"preparation_plateau!G33","v":""},null,{"$f":"IF(F33=\"\",\"\",IF(F33=preparation_plateau!H33,\"OK\",\"FAUX\"))","v":""},"",{"$f":"IF(F33=\"\",\"\",IF(G33=\"OK\",\"\",VLOOKUP(F33,index_cabasse!$C$5:$O$89,preparation_plateau!$D33+1,FALSE)))","v":""},{"$f":"preparation_plateau!J33","v":""},null,{"$f":"IF(K33=\"\",\"\",IF(K33=preparation_plateau!K33,\"OK\",\"FAUX\"))","v":""},"",{"$f":"IF(K33=\"\",\"\",IF(L33=\"OK\",\"\",VLOOKUP(K33,index_cabasse!$C$5:$O$89,preparation_plateau!$D33+1,FALSE)))","v":""},{"$f":"preparation_plateau!M33","v":""},null,{"$f":"IF(P33=\"\",\"\",IF(P33=preparation_plateau!N33,\"OK\",\"FAUX\"))","v":""},"",{"$f":"IF(P33=\"\",\"\",IF(Q33=\"OK\",\"\",VLOOKUP(P33,index_cabasse!$C$5:$O$89,preparation_plateau!$D33+1,FALSE)))","v":""},{"$f":"preparation_plateau!P33","v":""},null,{"$f":"IF(U33=\"\",\"\",IF(U33=preparation_plateau!Q33,\"OK\",\"FAUX\"))","v":""},"",{"$f":"IF(U33=\"\",\"\",IF(V33=\"OK\",\"\",VLOOKUP(U33,index_cabasse!$C$5:$O$89,preparation_plateau!$D33+1,FALSE)))","v":""},{"$f":"preparation_plateau!S33","v":""},null,{"$f":"IF(Z33=\"\",\"\",IF(Z33=preparation_plateau!T33,\"OK\",\"FAUX\"))","v":""},"",{"$f":"IF(Z33=\"\",\"\",IF(AA33=\"OK\",\"\",VLOOKUP(Z33,index_cabasse!$C$5:$O$89,preparation_plateau!$D33+1,FALSE)))","v":""},{"$f":"preparation_plateau!V33","v":""},null,{"$f":"IF(AE33=\"\",\"\",IF(AE33=preparation_plateau!W33,\"OK\",\"FAUX\"))","v":""},"",{"$f":"IF(AE33=\"\",\"\",IF(AF33=\"OK\",\"\",VLOOKUP(AE33,index_cabasse!$C$5:$O$89,preparation_plateau!$D33+1,FALSE)))","v":""},{"$f":"preparation_plateau!Y33","v":""},null,{"$f":"IF(AJ33=\"\",\"\",IF(AJ33=preparation_plateau!Z33,\"OK\",\"FAUX\"))","v":""},"",{"$f":"IF(AJ33=\"\",\"\",IF(AK33=\"OK\",\"\",VLOOKUP(AJ33,index_cabasse!$C$5:$O$89,preparation_plateau!$D33+1,FALSE)))","v":""},{"$f":"preparation_plateau!AB33","v":""},null,{"$f":"IF(AO33=\"\",\"\",IF(AO33=preparation_plateau!AC33,\"OK\",\"FAUX\"))","v":""},"",{"$f":"IF(AO33=\"\",\"\",IF(AP33=\"OK\",\"\",VLOOKUP(AO33,index_cabasse!$C$5:$O$89,preparation_plateau!$D33+1,FALSE)))","v":""},{"$f":"preparation_plateau!AE33","v":""},null,{"$f":"IF(AT33=\"\",\"\",IF(AT33=preparation_plateau!AF33,\"OK\",\"FAUX\"))","v":""},"",{"$f":"IF(AT33=\"\",\"\",IF(AU33=\"OK\",\"\",VLOOKUP(AT33,index_cabasse!$C$5:$O$89,preparation_plateau!$D33+1,FALSE)))","v":""},{"$f":"preparation_plateau!AH33","v":""},null,{"$f":"IF(AY33=\"\",\"\",IF(AY33=preparation_plateau!AI33,\"OK\",\"FAUX\"))","v":""},"",{"$f":"IF(AY33=\"\",\"\",IF(AZ33=\"OK\",\"\",VLOOKUP(AY33,index_cabasse!$C$5:$O$89,preparation_plateau!$D33+1,FALSE)))","v":""}]
[{"$f":"preparation_plateau!B34","v":""},{"$f":"preparation_plateau!C34","v":""},null,{"$f":"IF(preparation_plateau!D34=\"\",\"\",preparation_plateau!D34)","v":0},{"$f":"preparation_plateau!G34","v":""},null,{"$f":"IF(F34=\"\",\"\",IF(F34=preparation_plateau!H34,\"OK\",\"FAUX\"))","v":""},"",{"$f":"IF(F34=\"\",\"\",IF(G34=\"OK\",\"\",VLOOKUP(F34,index_cabasse!$C$5:$O$89,preparation_plateau!$D34+1,FALSE)))","v":""},{"$f":"preparation_plateau!J34","v":""},null,{"$f":"IF(K34=\"\",\"\",IF(K34=preparation_plateau!K34,\"OK\",\"FAUX\"))","v":""},"",{"$f":"IF(K34=\"\",\"\",IF(L34=\"OK\",\"\",VLOOKUP(K34,index_cabasse!$C$5:$O$89,preparation_plateau!$D34+1,FALSE)))","v":""},{"$f":"preparation_plateau!M34","v":""},null,{"$f":"IF(P34=\"\",\"\",IF(P34=preparation_plateau!N34,\"OK\",\"FAUX\"))","v":""},"",{"$f":"IF(P34=\"\",\"\",IF(Q34=\"OK\",\"\",VLOOKUP(P34,index_cabasse!$C$5:$O$89,preparation_plateau!$D34+1,FALSE)))","v":""},{"$f":"preparation_plateau!P34","v":""},null,{"$f":"IF(U34=\"\",\"\",IF(U34=preparation_plateau!Q34,\"OK\",\"FAUX\"))","v":""},"",{"$f":"IF(U34=\"\",\"\",IF(V34=\"OK\",\"\",VLOOKUP(U34,index_cabasse!$C$5:$O$89,preparation_plateau!$D34+1,FALSE)))","v":""},{"$f":"preparation_plateau!S34","v":""},null,{"$f":"IF(Z34=\"\",\"\",IF(Z34=preparation_plateau!T34,\"OK\",\"FAUX\"))","v":""},"",{"$f":"IF(Z34=\"\",\"\",IF(AA34=\"OK\",\"\",VLOOKUP(Z34,index_cabasse!$C$5:$O$89,preparation_plateau!$D34+1,FALSE)))","v":""},{"$f":"preparation_plateau!V34","v":""},null,{"$f":"IF(AE34=\"\",\"\",IF(AE34=preparation_plateau!W34,\"OK\",\"FAUX\"))","v":""},"",{"$f":"IF(AE34=\"\",\"\",IF(AF34=\"OK\",\"\",VLOOKUP(AE34,index_cabasse!$C$5:$O$89,preparation_plateau!$D34+1,FALSE)))","v":""},{"$f":"preparation_plateau!Y34","v":""},null,{"$f":"IF(AJ34=\"\",\"\",IF(AJ34=preparation_plateau!Z34,\"OK\",\"FAUX\"))","v":""},"",{"$f":"IF(AJ34=\"\",\"\",IF(AK34=\"OK\",\"\",VLOOKUP(AJ34,index_cabasse!$C$5:$O$89,preparation_plateau!$D34+1,FALSE)))","v":""},{"$f":"preparation_plateau!AB34","v":""},null,{"$f":"IF(AO34=\"\",\"\",IF(AO34=preparation_plateau!AC34,\"OK\",\"FAUX\"))","v":""},"",{"$f":"IF(AO34=\"\",\"\",IF(AP34=\"OK\",\"\",VLOOKUP(AO34,index_cabasse!$C$5:$O$89,preparation_plateau!$D34+1,FALSE)))","v":""},{"$f":"preparation_plateau!AE34","v":""},null,{"$f":"IF(AT34=\"\",\"\",IF(AT34=preparation_plateau!AF34,\"OK\",\"FAUX\"))","v":""},"",{"$f":"IF(AT34=\"\",\"\",IF(AU34=\"OK\",\"\",VLOOKUP(AT34,index_cabasse!$C$5:$O$89,preparation_plateau!$D34+1,FALSE)))","v":""},{"$f":"preparation_plateau!AH34","v":""},null,{"$f":"IF(AY34=\"\",\"\",IF(AY34=preparation_plateau!AI34,\"OK\",\"FAUX\"))","v":""},"",{"$f":"IF(AY34=\"\",\"\",IF(AZ34=\"OK\",\"\",VLOOKUP(AY34,index_cabasse!$C$5:$O$89,preparation_plateau!$D34+1,FALSE)))","v":""}]
[{"$f":"preparation_plateau!B35","v":""},{"$f":"preparation_plateau!C35","v":""},null,{"$f":"IF(preparation_plateau!D35=\"\",\"\",preparation_plateau!D35)","v":0},{"$f":"preparation_plateau!G35","v":""},null,{"$f":"IF(F35=\"\",\"\",IF(F35=preparation_plateau!H35,\"OK\",\"FAUX\"))","v":""},"",{"$f":"IF(F35=\"\",\"\",IF(G35=\"OK\",\"\",VLOOKUP(F35,index_cabasse!$C$5:$O$89,preparation_plateau!$D35+1,FALSE)))","v":""},{"$f":"preparation_plateau!J35","v":""},null,{"$f":"IF(K35=\"\",\"\",IF(K35=preparation_plateau!K35,\"OK\",\"FAUX\"))","v":""},"",{"$f":"IF(K35=\"\",\"\",IF(L35=\"OK\",\"\",VLOOKUP(K35,index_cabasse!$C$5:$O$89,preparation_plateau!$D35+1,FALSE)))","v":""},{"$f":"preparation_plateau!M35","v":""},null,{"$f":"IF(P35=\"\",\"\",IF(P35=preparation_plateau!N35,\"OK\",\"FAUX\"))","v":""},"",{"$f":"IF(P35=\"\",\"\",IF(Q35=\"OK\",\"\",VLOOKUP(P35,index_cabasse!$C$5:$O$89,preparation_plateau!$D35+1,FALSE)))","v":""},{"$f":"preparation_plateau!P35","v":""},null,{"$f":"IF(U35=\"\",\"\",IF(U35=preparation_plateau!Q35,\"OK\",\"FAUX\"))","v":""},"",{"$f":"IF(U35=\"\",\"\",IF(V35=\"OK\",\"\",VLOOKUP(U35,index_cabasse!$C$5:$O$89,preparation_plateau!$D35+1,FALSE)))","v":""},{"$f":"preparation_plateau!S35","v":""},null,{"$f":"IF(Z35=\"\",\"\",IF(Z35=preparation_plateau!T35,\"OK\",\"FAUX\"))","v":""},"",{"$f":"IF(Z35=\"\",\"\",IF(AA35=\"OK\",\"\",VLOOKUP(Z35,index_cabasse!$C$5:$O$89,preparation_plateau!$D35+1,FALSE)))","v":""},{"$f":"preparation_plateau!V35","v":""},null,{"$f":"IF(AE35=\"\",\"\",IF(AE35=preparation_plateau!W35,\"OK\",\"FAUX\"))","v":""},"",{"$f":"IF(AE35=\"\",\"\",IF(AF35=\"OK\",\"\",VLOOKUP(AE35,index_cabasse!$C$5:$O$89,preparation_plateau!$D35+1,FALSE)))","v":""},{"$f":"preparation_plateau!Y35","v":""},null,{"$f":"IF(AJ35=\"\",\"\",IF(AJ35=preparation_plateau!Z35,\"OK\",\"FAUX\"))","v":""},"",{"$f":"IF(AJ35=\"\",\"\",IF(AK35=\"OK\",\"\",VLOOKUP(AJ35,index_cabasse!$C$5:$O$89,preparation_plateau!$D35+1,FALSE)))","v":""},{"$f":"preparation_plateau!AB35","v":""},null,{"$f":"IF(AO35=\"\",\"\",IF(AO35=preparation_plateau!AC35,\"OK\",\"FAUX\"))","v":""},"",{"$f":"IF(AO35=\"\",\"\",IF(AP35=\"OK\",\"\",VLOOKUP(AO35,index_cabasse!$C$5:$O$89,preparation_plateau!$D35+1,FALSE)))","v":""},{"$f":"preparation_plateau!AE35","v":""},null,{"$f":"IF(AT35=\"\",\"\",IF(AT35=preparation_plateau!AF35,\"OK\",\"FAUX\"))","v":""},"",{"$f":"IF(AT35=\"\",\"\",IF(AU35=\"OK\",\"\",VLOOKUP(AT35,index_cabasse!$C$5:$O$89,preparation_plateau!$D35+1,FALSE)))","v":""},{"$f":"preparation_plateau!AH35","v":""},null,{"$f":"IF(AY35=\"\",\"\",IF(AY35=preparation_plateau!AI35,\"OK\",\"FAUX\"))","v":""},"",{"$f":"IF(AY35=\"\",\"\",IF(AZ35=\"OK\",\"\",VLOOKUP(AY35,index_cabasse!$C$5:$O$89,preparation_plateau!$D35+1,FALSE)))","v":""}]
[{"$f":"preparation_plateau!B36","v":""},{"$f":"preparation_plateau!C36","v":""},null,{"$f":"IF(preparation_plateau!D36=\"\",\"\",preparation_plateau!D36)","v":0},{"$f":"preparation_plateau!G36","v":""},null,{"$f":"IF(F36=\"\",\"\",IF(F36=preparation_plateau!H36,\"OK\",\"FAUX\"))","v":""},"",{"$f":"IF(F36=\"\",\"\",IF(G36=\"OK\",\"\",VLOOKUP(F36,index_cabasse!$C$5:$O$89,preparation_plateau!$D36+1,FALSE)))","v":""},{"$f":"preparation_plateau!J36","v":""},null,{"$f":"IF(K36=\"\",\"\",IF(K36=preparation_plateau!K36,\"OK\",\"FAUX\"))","v":""},"",{"$f":"IF(K36=\"\",\"\",IF(L36=\"OK\",\"\",VLOOKUP(K36,index_cabasse!$C$5:$O$89,preparation_plateau!$D36+1,FALSE)))","v":""},{"$f":"preparation_plateau!M36","v":""},null,{"$f":"IF(P36=\"\",\"\",IF(P36=preparation_plateau!N36,\"OK\",\"FAUX\"))","v":""},"",{"$f":"IF(P36=\"\",\"\",IF(Q36=\"OK\",\"\",VLOOKUP(P36,index_cabasse!$C$5:$O$89,preparation_plateau!$D36+1,FALSE)))","v":""},{"$f":"preparation_plateau!P36","v":""},null,{"$f":"IF(U36=\"\",\"\",IF(U36=preparation_plateau!Q36,\"OK\",\"FAUX\"))","v":""},"",{"$f":"IF(U36=\"\",\"\",IF(V36=\"OK\",\"\",VLOOKUP(U36,index_cabasse!$C$5:$O$89,preparation_plateau!$D36+1,FALSE)))","v":""},{"$f":"preparation_plateau!S36","v":""},null,{"$f":"IF(Z36=\"\",\"\",IF(Z36=preparation_plateau!T36,\"OK\",\"FAUX\"))","v":""},"",{"$f":"IF(Z36=\"\",\"\",IF(AA36=\"OK\",\"\",VLOOKUP(Z36,index_cabasse!$C$5:$O$89,preparation_plateau!$D36+1,FALSE)))","v":""},{"$f":"preparation_plateau!V36","v":""},null,{"$f":"IF(AE36=\"\",\"\",IF(AE36=preparation_plateau!W36,\"OK\",\"FAUX\"))","v":""},"",{"$f":"IF(AE36=\"\",\"\",IF(AF36=\"OK\",\"\",VLOOKUP(AE36,index_cabasse!$C$5:$O$89,preparation_plateau!$D36+1,FALSE)))","v":""},{"$f":"preparation_plateau!Y36","v":""},null,{"$f":"IF(AJ36=\"\",\"\",IF(AJ36=preparation_plateau!Z36,\"OK\",\"FAUX\"))","v":""},"",{"$f":"IF(AJ36=\"\",\"\",IF(AK36=\"OK\",\"\",VLOOKUP(AJ36,index_cabasse!$C$5:$O$89,preparation_plateau!$D36+1,FALSE)))","v":""},{"$f":"preparation_plateau!AB36","v":""},null,{"$f":"IF(AO36=\"\",\"\",IF(AO36=preparation_plateau!AC36,\"OK\",\"FAUX\"))","v":""},"",{"$f":"IF(AO36=\"\",\"\",IF(AP36=\"OK\",\"\",VLOOKUP(AO36,index_cabasse!$C$5:$O$89,preparation_plateau!$D36+1,FALSE)))","v":""},{"$f":"preparation_plateau!AE36","v":""},null,{"$f":"IF(AT36=\"\",\"\",IF(AT36=preparation_plateau!AF36,\"OK\",\"FAUX\"))","v":""},"",{"$f":"IF(AT36=\"\",\"\",IF(AU36=\"OK\",\"\",VLOOKUP(AT36,index_cabasse!$C$5:$O$89,preparation_plateau!$D36+1,FALSE)))","v":""},{"$f":"preparation_plateau!AH36","v":""},null,{"$f":"IF(AY36=\"\",\"\",IF(AY36=preparation_plateau!AI36,\"OK\",\"FAUX\"))","v":""},"",{"$f":"IF(AY36=\"\",\"\",IF(AZ36=\"OK\",\"\",VLOOKUP(AY36,index_cabasse!$C$5:$O$89,preparation_plateau!$D36+1,FALSE)))","v":""}]
[{"$f":"preparation_plateau!B37","v":""},{"$f":"preparation_plateau!C37","v":""},null,{"$f":"IF(preparation_plateau!D37=\"\",\"\",preparation_plateau!D37)","v":0},{"$f":"preparation_plateau!G37","v":""},null,{"$f":"IF(F37=\"\",\"\",IF(F37=preparation_plateau!H37,\"OK\",\"FAUX\"))","v":""},"",{"$f":"IF(F37=\"\",\"\",IF(G37=\"OK\",\"\",VLOOKUP(F37,index_cabasse!$C$5:$O$89,preparation_plateau!$D37+1,FALSE)))","v":""},{"$f":"preparation_plateau!J37","v":""},null,{"$f":"IF(K37=\"\",\"\",IF(K37=preparation_plateau!K37,\"OK\",\"FAUX\"))","v":""},"",{"$f":"IF(K37=\"\",\"\",IF(L37=\"OK\",\"\",VLOOKUP(K37,index_cabasse!$C$5:$O$89,preparation_plateau!$D37+1,FALSE)))","v":""},{"$f":"preparation_plateau!M37","v":""},null,{"$f":"IF(P37=\"\",\"\",IF(P37=preparation_plateau!N37,\"OK\",\"FAUX\"))","v":""},"",{"$f":"IF(P37=\"\",\"\",IF(Q37=\"OK\",\"\",VLOOKUP(P37,index_cabasse!$C$5:$O$89,preparation_plateau!$D37+1,FALSE)))","v":""},{"$f":"preparation_plateau!P37","v":""},null,{"$f":"IF(U37=\"\",\"\",IF(U37=preparation_plateau!Q37,\"OK\",\"FAUX\"))","v":""},"",{"$f":"IF(U37=\"\",\"\",IF(V37=\"OK\",\"\",VLOOKUP(U37,index_cabasse!$C$5:$O$89,preparation_plateau!$D37+1,FALSE)))","v":""},{"$f":"preparation_plateau!S37","v":""},null,{"$f":"IF(Z37=\"\",\"\",IF(Z37=preparation_plateau!T37,\"OK\",\"FAUX\"))","v":""},"",{"$f":"IF(Z37=\"\",\"\",IF(AA37=\"OK\",\"\",VLOOKUP(Z37,index_cabasse!$C$5:$O$89,preparation_plateau!$D37+1,FALSE)))","v":""},{"$f":"preparation_plateau!V37","v":""},null,{"$f":"IF(AE37=\"\",\"\",IF(AE37=preparation_plateau!W37,\"OK\",\"FAUX\"))","v":""},"",{"$f":"IF(AE37=\"\",\"\",IF(AF37=\"OK\",\"\",VLOOKUP(AE37,index_cabasse!$C$5:$O$89,preparation_plateau!$D37+1,FALSE)))","v":""},{"$f":"preparation_plateau!Y37","v":""},null,{"$f":"IF(AJ37=\"\",\"\",IF(AJ37=preparation_plateau!Z37,\"OK\",\"FAUX\"))","v":""},"",{"$f":"IF(AJ37=\"\",\"\",IF(AK37=\"OK\",\"\",VLOOKUP(AJ37,index_cabasse!$C$5:$O$89,preparation_plateau!$D37+1,FALSE)))","v":""},{"$f":"preparation_plateau!AB37","v":""},null,{"$f":"IF(AO37=\"\",\"\",IF(AO37=preparation_plateau!AC37,\"OK\",\"FAUX\"))","v":""},"",{"$f":"IF(AO37=\"\",\"\",IF(AP37=\"OK\",\"\",VLOOKUP(AO37,index_cabasse!$C$5:$O$89,preparation_plateau!$D37+1,FALSE)))","v":""},{"$f":"preparation_plateau!AE37","v":""},null,{"$f":"IF(AT37=\"\",\"\",IF(AT37=preparation_plateau!AF37,\"OK\",\"FAUX\"))","v":""},"",{"$f":"IF(AT37=\"\",\"\",IF(AU37=\"OK\",\"\",VLOOKUP(AT37,index_cabasse!$C$5:$O$89,preparation_plateau!$D37+1,FALSE)))","v":""},{"$f":"preparation_plateau!AH37","v":""},null,{"$f":"IF(AY37=\"\",\"\",IF(AY37=preparation_plateau!AI37,\"OK\",\"FAUX\"))","v":""},"",{"$f":"IF(AY37=\"\",\"\",IF(AZ37=\"OK\",\"\",VLOOKUP(AY37,index_cabasse!$C$5:$O$89,preparation_plateau!$D37+1,FALSE)))","v":""}]
[{"$f":"preparation_plateau!B38","v":""},{"$f":"preparation_plateau!C38","v":""},null,{"$f":"IF(preparation_plateau!D38=\"\",\"\",preparation_plateau!D38)","v":0},{"$f":"preparation_plateau!G38","v":""},null,{"$f":"IF(F38=\"\",\"\",IF(F38=preparation_plateau!H38,\"OK\",\"FAUX\"))","v":""},"",{"$f":"IF(F38=\"\",\"\",IF(G38=\"OK\",\"\",VLOOKUP(F38,index_cabasse!$C$5:$O$89,preparation_plateau!$D38+1,FALSE)))","v":""},{"$f":"preparation_plateau!J38","v":""},null,{"$f":"IF(K38=\"\",\"\",IF(K38=preparation_plateau!K38,\"OK\",\"FAUX\"))","v":""},"",{"$f":"IF(K38=\"\",\"\",IF(L38=\"OK\",\"\",VLOOKUP(K38,index_cabasse!$C$5:$O$89,preparation_plateau!$D38+1,FALSE)))","v":""},{"$f":"preparation_plateau!M38","v":""},null,{"$f":"IF(P38=\"\",\"\",IF(P38=preparation_plateau!N38,\"OK\",\"FAUX\"))","v":""},"",{"$f":"IF(P38=\"\",\"\",IF(Q38=\"OK\",\"\",VLOOKUP(P38,index_cabasse!$C$5:$O$89,preparation_plateau!$D38+1,FALSE)))","v":""},{"$f":"preparation_plateau!P38","v":""},null,{"$f":"IF(U38=\"\",\"\",IF(U38=preparation_plateau!Q38,\"OK\",\"FAUX\"))","v":""},"",{"$f":"IF(U38=\"\",\"\",IF(V38=\"OK\",\"\",VLOOKUP(U38,index_cabasse!$C$5:$O$89,preparation_plateau!$D38+1,FALSE)))","v":""},{"$f":"preparation_plateau!S38","v":""},null,{"$f":"IF(Z38=\"\",\"\",IF(Z38=preparation_plateau!T38,\"OK\",\"FAUX\"))","v":""},"",{"$f":"IF(Z38=\"\",\"\",IF(AA38=\"OK\",\"\",VLOOKUP(Z38,index_cabasse!$C$5:$O$89,preparation_plateau!$D38+1,FALSE)))","v":""},{"$f":"preparation_plateau!V38","v":""},null,{"$f":"IF(AE38=\"\",\"\",IF(AE38=preparation_plateau!W38,\"OK\",\"FAUX\"))","v":""},"",{"$f":"IF(AE38=\"\",\"\",IF(AF38=\"OK\",\"\",VLOOKUP(AE38,index_cabasse!$C$5:$O$89,preparation_plateau!$D38+1,FALSE)))","v":""},{"$f":"preparation_plateau!Y38","v":""},null,{"$f":"IF(AJ38=\"\",\"\",IF(AJ38=preparation_plateau!Z38,\"OK\",\"FAUX\"))","v":""},"",{"$f":"IF(AJ38=\"\",\"\",IF(AK38=\"OK\",\"\",VLOOKUP(AJ38,index_cabasse!$C$5:$O$89,preparation_plateau!$D38+1,FALSE)))","v":""},{"$f":"preparation_plateau!AB38","v":""},null,{"$f":"IF(AO38=\"\",\"\",IF(AO38=preparation_plateau!AC38,\"OK\",\"FAUX\"))","v":""},"",{"$f":"IF(AO38=\"\",\"\",IF(AP38=\"OK\",\"\",VLOOKUP(AO38,index_cabasse!$C$5:$O$89,preparation_plateau!$D38+1,FALSE)))","v":""},{"$f":"preparation_plateau!AE38","v":""},null,{"$f":"IF(AT38=\"\",\"\",IF(AT38=preparation_plateau!AF38,\"OK\",\"FAUX\"))","v":""},"",{"$f":"IF(AT38=\"\",\"\",IF(AU38=\"OK\",\"\",VLOOKUP(AT38,index_cabasse!$C$5:$O$89,preparation_plateau!$D38+1,FALSE)))","v":""},{"$f":"preparation_plateau!AH38","v":""},null,{"$f":"IF(AY38=\"\",\"\",IF(AY38=preparation_plateau!AI38,\"OK\",\"FAUX\"))","v":""},"",{"$f":"IF(AY38=\"\",\"\",IF(AZ38=\"OK\",\"\",VLOOKUP(AY38,index_cabasse!$C$5:$O$89,preparation_plateau!$D38+1,FALSE)))","v":""}]
["BALISES",null,null,null,1,null,null,null,null,2,null,null,null,null,3,null,null,null,null,4,null,null,null,null,5,null,null,null,null,6,null,null,null,null,7,null,null,null,null,8,null,null,null,null,9,null,null,null,null,10]

{"sheet":"suivi_cabasse","index":12,"n_rows":39,"n_cols":54,"rows_kept":39,"cut":false,"hidden":false,"merged":[[38,34,38,38],[38,39,38,43],[38,44,38,48],[38,49,38,53],[38,0,38,3],[38,4,38,8],[38,14,38,18],[38,19,38,23],[38,9,38,13],[38,24,38,28],[38,29,38,33]]}
[null,null,null,null,null,{"$f":"NOW()- NOW()","v":"00:00:00"},"00:00:00.510"]
["RAPPEL N° CARTE",{"$f":"IF(preparation_cabasse!C2=\"\",\"\",preparation_cabasse!C2)","v":10}]
["NOM","PRENOM","N° BALISE 1","Rappel Carte","CODE 1","Retour N°","VERIF","Feed Back","Feed Back","CODE 2","Retour N°","VERIF","Feed Back","Feed Back","CODE 3","Retour N°","VERIF","Feed Back","Feed Back","CODE 4","Retour N°","VERIF","Feed Back","Feed Back","CODE 5","Retour N°","VERIF","Feed Back","Feed Back","CODE 6","Retour N°","VERIF","Feed Back","Feed Back","CODE 7","Retour N°","VERIF","Feed Back","Feed Back","CODE 8","Retour N°","VERIF","Feed Back","Feed Back","CODE 9","Retour N°","VERIF","Feed Back","Feed Back","CODE 10","Retour N°","VERIF","Feed Back","Feed Back"]
[{"$f":"preparation_cabasse!B4","v":"BENZ"},{"$f":"preparation_cabasse!C4","v":"Nawel"},1,{"$f":"IF(preparation_cabasse!D4=\"\",\"\",preparation_cabasse!D4)","v":10},{"$f":"preparation_cabasse!G4","v":"EEK"},null,{"$f":"IF(F4=\"\",\"\",IF(F4=preparation_cabasse!H4,\"OK\",\"FAUX\"))","v":""},{"$f":"IF(ISERROR(I4),\"Inconnu\",I4)","v":""},{"$f":"IF(F4=\"\",\"\",IF(G4=\"OK\",\"\",VLOOKUP(F4,index_cabasse!$C$5:$O$89,preparation_cabasse!$D4+1,FALSE)))","v":""},{"$f":"preparation_cabasse!J4","v":"FFK"},null,{"$f":"IF(K4=\"\",\"\",IF(K4=preparation_cabasse!K4,\"OK\",\"FAUX\"))","v":""},{"$f":"IF(ISERROR(N4),\"Inconnu\",N4)","v":""},{"$f":"IF(K4=\"\",\"\",IF(L4=\"OK\",\"\",VLOOKUP(K4,index_cabasse!$C$5:$O$89,preparation_cabasse!$D4+1,FALSE)))","v":""},{"$f":"preparation_cabasse!M4","v":"HHB"},null,{"$f":"IF(P4=\"\",\"\",IF(P4=preparation_cabasse!N4,\"OK\",\"FAUX\"))","v":""},{"$f":"IF(ISERROR(S4),\"Inconnu\",S4)","v":""},{"$f":"IF(P4=\"\",\"\",IF(Q4=\"OK\",\"\",VLOOKUP(P4,index_cabasse!$C$5:$O$89,preparation_cabasse!$D4+1,FALSE)))","v":""},{"$f":"preparation_cabasse!P4","v":"EEO"},null,{"$f":"IF(U4=\"\",\"\",IF(U4=preparation_cabasse!Q4,\"OK\",\"FAUX\"))","v":""},{"$f":"IF(ISERROR(X4),\"Inconnu\",X4)","v":""},{"$f":"IF(U4=\"\",\"\",IF(V4=\"OK\",\"\",VLOOKUP(U4,index_cabasse!$C$5:$O$89,preparation_cabasse!$D4+1,FALSE)))","v":""},{"$f":"preparation_cabasse!S4","v":"FFP"},null,{"$f":"IF(Z4=\"\",\"\",IF(Z4=preparation_cabasse!T4,\"OK\",\"FAUX\"))","v":""},{"$f":"IF(ISERROR(AC4),\"Inconnu\",AC4)","v":""},{"$f":"IF(Z4=\"\",\"\",IF(AA4=\"OK\",\"\",VLOOKUP(Z4,index_cabasse!$C$5:$O$89,preparation_cabasse!$D4+1,FALSE)))","v":""},{"$f":"preparation_cabasse!V4","v":"DW"},null,{"$f":"IF(AE4=\"\",\"\",IF(AE4=preparation_cabasse!W4,\"OK\",\"FAUX\"))","v":""},{"$f":"IF(ISERROR(AH4),\"Inconnu\",AH4)","v":""},{"$f":"IF(AE4=\"\",\"\",IF(AF4=\"OK\",\"\",VLOOKUP(AE4,index_cabasse!$C$5:$O$89,preparation_cabasse!$D4+1,FALSE)))","v":""},{"$f":"preparation_cabasse!Y4","v":"FFT"},null,{"$f":"IF(AJ4=\"\",\"\",IF(AJ4=preparation_cabasse!Z4,\"OK\",\"FAUX\"))","v":""},{"$f":"IF(ISERROR(AM4),\"Inconnu\",AM4)","v":""},{"$f":"IF(AJ4=\"\",\"\",IF(AK4=\"OK\",\"\",VLOOKUP(AJ4,index_cabasse!$C$5:$O$89,preparation_cabasse!$D4+1,FALSE)))","v":""},{"$f":"preparation_cabasse!AB4","v":"FFD"},null,{"$f":"IF(AO4=\"\",\"\",IF(AO4=preparation_cabasse!AC4,\"OK\",\"FAUX\"))","v":""},{"$f":"IF(ISERROR(AR4),\"Inconnu\",AR4)","v":""},{"$f":"IF(AO4=\"\",\"\",IF(AP4=\"OK\",\"\",VLOOKUP(AO4,index_cabasse!$C$5:$O$89,preparation_cabasse!$D4+1,FALSE)))","v":""},{"$f":"preparation_cabasse!AE4","v":"GGS"},null,{"$f":"IF(AT4=\"\",\"\",IF(AT4=preparation_cabasse!AF4,\"OK\",\"FAUX\"))","v":""},{"$f":"IF(ISERROR(AW4),\"Inconnu\",AW4)","v":""},{"$f":"IF(AT4=\"\",\"\",IF(AU4=\"OK\",\"\",VLOOKUP(AT4,index_cabasse!$C$5:$O$89,preparation_cabasse!$D4+1,FALSE)))","v":""},{"$f":"preparation_cabasse!AH4","v":"EEH"},null,{"$f":"IF(AY4=\"\",\"\",IF(AY4=preparation_cabasse!AI4,\"OK\",\"FAUX\"))","v":""},{"$f":"IF(ISERROR(BB4),\"Inconnu\",BB4)","v":""},{"$f":"IF(AY4=\"\",\"\",IF(AZ4=\"OK\",\"\",VLOOKUP(AY4,index_cabasse!$C$5:$O$89,preparation_cabasse!$D4+1,FALSE)))","v":""}]
[{"$f":"preparation_cabasse!B5","v":"BERNA"},{"$f":"preparation_cabasse!C5","v":"Laurine"},3,{"$f":"IF(preparation_cabasse!D5=\"\",\"\",preparation_cabasse!D5)","v":10},{"$f":"preparation_cabasse!G5","v":"DDZ"},null,{"$f":"IF(F5=\"\",\"\",IF(F5=preparation_cabasse!H5,\"OK\",\"FAUX\"))","v":""},{"$f":"IF(ISERROR(I5),\"Inconnu\",I5)","v":""},{"$f":"IF(F5=\"\",\"\",IF(G5=\"OK\",\"\",VLOOKUP(F5,index_cabasse!$C$5:$O$89,preparation_cabasse!$D5+1,FALSE)))","v":""},{"$f":"preparation_cabasse!J5","v":"GGK"},null,{"$f":"IF(K5=\"\",\"\",IF(K5=preparation_cabasse!K5,\"OK\",\"FAUX\"))","v":""},{"$f":"IF(ISERROR(N5),\"Inconnu\",N5)","v":""},{"$f":"IF(K5=\"\",\"\",IF(L5=\"OK\",\"\",VLOOKUP(K5,index_cabasse!$C$5:$O$89,preparation_cabasse!$D5+1,FALSE)))","v":""},{"$f":"preparation_cabasse!M5","v":"EEZ"},null,{"$f":"IF(P5=\"\",\"\",IF(P5=preparation_cabasse!N5,\"OK\",\"FAUX\"))","v":""},{"$f":"IF(ISERROR(S5),\"Inconnu\",S5)","v":""},{"$f":"IF(P5=\"\",\"\",IF(Q5=\"OK\",\"\",VLOOKUP(P5,index_cabasse!$C$5:$O$89,preparation_cabasse!$D5+1,FALSE)))","v":""},{"$f":"preparation_cabasse!P5","v":"EEV"},null,{"$f":"IF(U5=\"\",\"\",IF(U5=preparation_cabasse!Q5,\"OK\",\"FAUX\"))","v":""},{"$f":"IF(ISERROR(X5),\"Inconnu\",X5)","v":""},{"$f":"IF(U5=\"\",\"\",IF(V5=\"OK\",\"\",VLOOKUP(U5,index_cabasse!$C$5:$O$89,preparation_cabasse!$D5+1,FALSE)))","v":""},{"$f":"preparation_cabasse!S5","v":"FFI"},null,{"$f":"IF(Z5=\"\",\"\",IF(Z5=preparation_cabasse!T5,\"OK\",\"FAUX\"))","v":""},{"$f":"IF(ISERROR(AC5),\"Inconnu\",AC5)","v":""},{"$f":"IF(Z5=\"\",\"\",IF(AA5=\"OK\",\"\",VLOOKUP(Z5,index_cabasse!$C$5:$O$89,preparation_cabasse!$D5+1,FALSE)))","v":""},{"$f":"preparation_cabasse!V5","v":"EEC"},null,{"$f":"IF(AE5=\"\",\"\",IF(AE5=preparation_cabasse!W5,\"OK\",\"FAUX\"))","v":""},{"$f":"IF(ISERROR(AH5),\"Inconnu\",AH5)","v":""},{"$f":"IF(AE5=\"\",\"\",IF(AF5=\"OK\",\"\",VLOOKUP(AE5,index_cabasse!$C$5:$O$89,preparation_cabasse!$D5+1,FALSE)))","v":""},{"$f":"preparation_cabasse!Y5","v":"DDX"},null,{"$f":"IF(AJ5=\"\",\"\",IF(AJ5=preparation_cabasse!Z5,\"OK\",\"FAUX\"))","v":""},{"$f":"IF(ISERROR(AM5),\"Inconnu\",AM5)","v":""},{"$f":"IF(AJ5=\"\",\"\",IF(AK5=\"OK\",\"\",VLOOKUP(AJ5,index_cabasse!$C$5:$O$89,preparation_cabasse!$D5+1,FALSE)))","v":""},{"$f":"preparation_cabasse!AB5","v":"HHA"},null,{"$f":"IF(AO5=\"\",\"\",IF(AO5=preparation_cabasse!AC5,\"OK\",\"FAUX\"))","v":""},{"$f":"IF(ISERROR(AR5),\"Inconnu\",AR5)","v":""},{"$f":"IF(AO5=\"\",\"\",IF(AP5=\"OK\",\"\",VLOOKUP(AO5,index_cabasse!$C$5:$O$89,preparation_cabasse!$D5+1,FALSE)))","v":""},{"$f":"preparation_cabasse!AE5","v":"DDS"},null,{"$f":"IF(AT5=\"\",\"\",IF(AT5=preparation_cabasse!AF5,\"OK\",\"FAUX\"))","v":""},{"$f":"IF(ISERROR(AW5),\"Inconnu\",AW5)","v":""},{"$f":"IF(AT5=\"\",\"\",IF(AU5=\"OK\",\"\",VLOOKUP(AT5,index_cabasse!$C$5:$O$89,preparation_cabasse!$D5+1,FALSE)))","v":""},{"$f":"preparation_cabasse!AH5","v":"FFY"},null,{"$f":"IF(AY5=\"\",\"\",IF(AY5=preparation_cabasse!AI5,\"OK\",\"FAUX\"))","v":""},{"$f":"IF(ISERROR(BB5),\"Inconnu\",BB5)","v":""},{"$f":"IF(AY5=\"\",\"\",IF(AZ5=\"OK\",\"\",VLOOKUP(AY5,index_cabasse!$C$5:$O$89,preparation_cabasse!$D5+1,FALSE)))","v":""}]
[{"$f":"preparation_cabasse!B6","v":"CHEL"},{"$f":"preparation_cabasse!C6","v":"Sarah"},5,{"$f":"IF(preparation_cabasse!D6=\"\",\"\",preparation_cabasse!D6)","v":10},{"$f":"preparation_cabasse!G6","v":"FFV"},null,{"$f":"IF(F6=\"\",\"\",IF(F6=preparation_cabasse!H6,\"OK\",\"FAUX\"))","v":""},{"$f":"IF(ISERROR(I6),\"Inconnu\",I6)","v":""},{"$f":"IF(F6=\"\",\"\",IF(G6=\"OK\",\"\",VLOOKUP(F6,index_cabasse!$C$5:$O$89,preparation_cabasse!$D6+1,FALSE)))","v":""},{"$f":"preparation_cabasse!J6","v":"FFJ"},null,{"$f":"IF(K6=\"\",\"\",IF(K6=preparation_cabasse!K6,\"OK\",\"FAUX\"))","v":""},"",{"$f":"IF(K6=\"\",\"\",IF(L6=\"OK\",\"\",VLOOKUP(K6,index_cabasse!$C$5:$O$89,preparation_cabasse!$D6+1,FALSE)))","v":""},{"$f":"preparation_cabasse!M6","v":"GGN"},null,{"$f":"IF(P6=\"\",\"\",IF(P6=preparation_cabasse!N6,\"OK\",\"FAUX\"))","v":""},"",{"$f":"IF(P6=\"\",\"\",IF(Q6=\"OK\",\"\",VLOOKUP(P6,index_cabasse!$C$5:$O$89,preparation_cabasse!$D6+1,FALSE)))","v":""},{"$f":"preparation_cabasse!P6","v":"FFU"},null,{"$f":"IF(U6=\"\",\"\",IF(U6=preparation_cabasse!Q6,\"OK\",\"FAUX\"))","v":""},"",{"$f":"IF(U6=\"\",\"\",IF(V6=\"OK\",\"\",VLOOKUP(U6,index_cabasse!$C$5:$O$89,preparation_cabasse!$D6+1,FALSE)))","v":""},{"$f":"preparation_cabasse!S6","v":"EEA"},null,{"$f":"IF(Z6=\"\",\"\",IF(Z6=preparation_cabasse!T6,\"OK\",\"FAUX\"))","v":""},"",{"$f":"IF(Z6=\"\",\"\",IF(AA6=\"OK\",\"\",VLOOKUP(Z6,index_cabasse!$C$5:$O$89,preparation_cabasse!$D6+1,FALSE)))","v":""},{"$f":"preparation_cabasse!V6","v":"EEL"},null,{"$f":"IF(AE6=\"\",\"\",IF(AE6=preparation_cabasse!W6,\"OK\",\"FAUX\"))","v":""},"",{"$f":"IF(AE6=\"\",\"\",IF(AF6=\"OK\",\"\",VLOOKUP(AE6,index_cabasse!$C$5:$O$89,preparation_cabasse!$D6+1,FALSE)))","v":""},{"$f":"preparation_cabasse!Y6","v":"EEJ"},null,{"$f":"IF(AJ6=\"\",\"\",IF(AJ6=preparation_cabasse!Z6,\"OK\",\"FAUX\"))","v":""},"",{"$f":"IF(AJ6=\"\",\"\",IF(AK6=\"OK\",\"\",VLOOKUP(AJ6,index_cabasse!$C$5:$O$89,preparation_cabasse!$D6+1,FALSE)))","v":""},{"$f":"preparation_cabasse!AB6","v":"EEB"},null,{"$f":"IF(AO6=\"\",\"\",IF(AO6=preparation_cabasse!AC6,\"OK\",\"FAUX\"))","v":""},"",{"$f":"IF(AO6=\"\",\"\",IF(AP6=\"OK\",\"\",VLOOKUP(AO6,index_cabasse!$C$5:$O$89,preparation_cabasse!$D6+1,FALSE)))","v":""},{"$f":"preparation_cabasse!AE6","v":"FFU"},null,{"$f":"IF(AT6=\"\",\"\",IF(AT6=preparation_cabasse!AF6,\"OK\",\"FAUX\"))","v":""},"",{"$f":"IF(AT6=\"\",\"\",IF(AU6=\"OK\",\"\",VLOOKUP(AT6,index_cabasse!$C$5:$O$89,preparation_cabasse!$D6+1,FALSE)))","v":""},{"$f":"preparation_cabasse!AH6","v":"EEC"},null,{"$f":"IF(AY6=\"\",\"\",IF(AY6=preparation_cabasse!AI6,\"OK\",\"FAUX\"))","v":""},"",{"$f":"IF(AY6=\"\",\"\",IF(AZ6=\"OK\",\"\",VLOOKUP(AY6,index_cabasse!$C$5:$O$89,preparation_cabasse!$D6+1,FALSE)))","v":""}]
[{"$f":"preparation_cabasse!B7","v":"CLAUD"},{"$f":"preparation_cabasse!C7","v":"Maxime"},null,{"$f":"IF(preparation_cabasse!D7=\"\",\"\",preparation_cabasse!D7)","v":10},{"$f":"preparation_cabasse!G7","v":"GGN"},null,{"$f":"IF(F7=\"\",\"\",IF(F7=preparation_cabasse!H7,\"OK\",\"FAUX\"))","v":""},"",{"$f":"IF(F7=\"\",\"\",IF(G7=\"OK\",\"\",VLOOKUP(F7,index_cabasse!$C$5:$O$89,preparation_cabasse!$D7+1,FALSE)))","v":""},{"$f":"preparation_cabasse!J7","v":"GGD"},null,{"$f":"IF(K7=\"\",\"\",IF(K7=preparation_cabasse!K7,\"OK\",\"FAUX\"))","v":""},"",{"$f":"IF(K7=\"\",\"\",IF(L7=\"OK\",\"\",VLOOKUP(K7,index_cabasse!$C$5:$O$89,preparation_cabasse!$D7+1,FALSE)))","v":""},{"$f":"preparation_cabasse!M7","v":"EEM"},null,{"$f":"IF(P7=\"\",\"\",IF(P7=preparation_cabasse!N7,\"OK\",\"FAUX\"))","v":""},"",{"$f":"IF(P7=\"\",\"\",IF(Q7=\"OK\",\"\",VLOOKUP(P7,index_cabasse!$C$5:$O$89,preparation_cabasse!$D7+1,FALSE)))","v":""},{"$f":"preparation_cabasse!P7","v":"GGJ"},null,{"$f":"IF(U7=\"\",\"\",IF(U7=preparation_cabasse!Q7,\"OK\",\"FAUX\"))","v":""},"",{"$f":"IF(U7=\"\",\"\",IF(V7=\"OK\",\"\",VLOOKUP(U7,index_cabasse!$C$5:$O$89,preparation_cabasse!$D7+1,FALSE)))","v":""},{"$f":"preparation_cabasse!S7","v":"FFX"},null,{"$f":"IF(Z7=\"\",\"\",IF(Z7=preparation_cabasse!T7,\"OK\",\"FAUX\"))","v":""},"",{"$f":"IF(Z7=\"\",\"\",IF(AA7=\"OK\",\"\",VLOOKUP(Z7,index_cabasse!$C$5:$O$89,preparation_cabasse!$D7+1,FALSE)))","v":""},{"$f":"preparation_cabasse!V7","v":"FFL"},null,{"$f":"IF(AE7=\"\",\"\",IF(AE7=preparation_cabasse!W7,\"OK\",\"FAUX\"))","v":""},"",{"$f":"IF(AE7=\"\",\"\",IF(AF7=\"OK\",\"\",VLOOKUP(AE7,index_cabasse!$C$5:$O$89,preparation_cabasse!$D7+1,FALSE)))","v":""},{"$f":"preparation_cabasse!Y7","v":"EEH"},null,{"$f":"IF(AJ7=\"\",\"\",IF(AJ7=preparation_cabasse!Z7,\"OK\",\"FAUX\"))","v":""},"",{"$f":"IF(AJ7=\"\",\"\",IF(AK7=\"OK\",\"\",VLOOKUP(AJ7,index_cabasse!$C$5:$O$89,preparation_cabasse!$D7+1,FALSE)))","v":""},{"$f":"preparation_cabasse!AB7","v":"GGI"},null,{"$f":"IF(AO7=\"\",\"\",IF(AO7=preparation_cabasse!AC7,\"OK\",\"FAUX\"))","v":""},"",{"$f":"IF(AO7=\"\",\"\",IF(AP7=\"OK\",\"\",VLOOKUP(AO7,index_cabasse!$C$5:$O$89,preparation_cabasse!$D7+1,FALSE)))","v":""},{"$f":"preparation_cabasse!AE7","v":"DW"},null,{"$f":"IF(AT7=\"\",\"\",IF(AT7=preparation_cabasse!AF7,\"OK\",\"FAUX\"))","v":""},"",{"$f":"IF(AT7=\"\",\"\",IF(AU7=\"OK\",\"\",VLOOKUP(AT7,index_cabasse!$C$5:$O$89,preparation_cabasse!$D7+1,FALSE)))","v":""},{"$f":"preparation_cabasse!AH7","v":"EEA"},null,{"$f":"IF(AY7=\"\",\"\",IF(AY7=preparation_cabasse!AI7,\"OK\",\"FAUX\"))","v":""},"",{"$f":"IF(AY7=\"\",\"\",IF(AZ7=\"OK\",\"\",VLOOKUP(AY7,index_cabasse!$C$5:$O$89,preparation_cabasse!$D7+1,FALSE)))","v":""}]
[{"$f":"preparation_cabasse!B8","v":"NAISSA"},{"$f":"preparation_cabasse!C8","v":"Estelle"},null,{"$f":"IF(preparation_cabasse!D8=\"\",\"\",preparation_cabasse!D8)","v":10},{"$f":"preparation_cabasse!G8","v":"GGP"},null,{"$f":"IF(F8=\"\",\"\",IF(F8=preparation_cabasse!H8,\"OK\",\"FAUX\"))","v":""},"",{"$f":"IF(F8=\"\",\"\",IF(G8=\"OK\",\"\",VLOOKUP(F8,index_cabasse!$C$5:$O$89,preparation_cabasse!$D8+1,FALSE)))","v":""},{"$f":"preparation_cabasse!J8","v":"FFK"},null,{"$f":"IF(K8=\"\",\"\",IF(K8=preparation_cabasse!K8,\"OK\",\"FAUX\"))","v":""},"",{"$f":"IF(K8=\"\",\"\",IF(L8=\"OK\",\"\",VLOOKUP(K8,index_cabasse!$C$5:$O$89,preparation_cabasse!$D8+1,FALSE)))","v":""},{"$f":"preparation_cabasse!M8","v":"EEI"},null,{"$f":"IF(P8=\"\",\"\",IF(P8=preparation_cabasse!N8,\"OK\",\"FAUX\"))","v":""},"",{"$f":"IF(P8=\"\",\"\",IF(Q8=\"OK\",\"\",VLOOKUP(P8,index_cabasse!$C$5:$O$89,preparation_cabasse!$D8+1,FALSE)))","v":""},{"$f":"preparation_cabasse!P8","v":"GGQ"},null,{"$f":"IF(U8=\"\",\"\",IF(U8=preparation_cabasse!Q8,\"OK\",\"FAUX\"))","v":""},"",{"$f":"IF(U8=\"\",\"\",IF(V8=\"OK\",\"\",VLOOKUP(U8,index_cabasse!$C$5:$O$89,preparation_cabasse!$D8+1,FALSE)))","v":""},{"$f":"preparation_cabasse!S8","v":"FFW"},null,{"$f":"IF(Z8=\"\",\"\",IF(Z8=preparation_cabasse!T8,\"OK\",\"FAUX\"))","v":""},"",{"$f":"IF(Z8=\"\",\"\",IF(AA8=\"OK\",\"\",VLOOKUP(Z8,index_cabasse!$C$5:$O$89,preparation_cabasse!$D8+1,FALSE)))","v":""},{"$f":"preparation_cabasse!V8","v":"FFT"},null,{"$f":"IF(AE8=\"\",\"\",IF(AE8=preparation_cabasse!W8,\"OK\",\"FAUX\"))","v":""},"",{"$f":"IF(AE8=\"\",\"\",IF(AF8=\"OK\",\"\",VLOOKUP(AE8,index_cabasse!$C$5:$O$89,preparation_cabasse!$D8+1,FALSE)))","v":""},{"$f":"preparation_cabasse!Y8","v":"GGC"},null,{"$f":"IF(AJ8=\"\",\"\",IF(AJ8=preparation_cabasse!Z8,\"OK\",\"FAUX\"))","v":""},"",{"$f":"IF(AJ8=\"\",\"\",IF(AK8=\"OK\",\"\",VLOOKUP(AJ8,index_cabasse!$C$5:$O$89,preparation_cabasse!$D8+1,FALSE)))","v":""},{"$f":"preparation_cabasse!AB8","v":"FFE"},null,{"$f":"IF(AO8=\"\",\"\",IF(AO8=preparation_cabasse!AC8,\"OK\",\"FAUX\"))","v":""},"",{"$f":"IF(AO8=\"\",\"\",IF(AP8=\"OK\",\"\",VLOOKUP(AO8,index_cabasse!$C$5:$O$89,preparation_cabasse!$D8+1,FALSE)))","v":""},{"$f":"preparation_cabasse!AE8","v":"GGN"},null,{"$f":"IF(AT8=\"\",\"\",IF(AT8=preparation_cabasse!AF8,\"OK\",\"FAUX\"))","v":""},"",{"$f":"IF(AT8=\"\",\"\",IF(AU8=\"OK\",\"\",VLOOKUP(AT8,index_cabasse!$C$5:$O$89,preparation_cabasse!$D8+1,FALSE)))","v":""},{"$f":"preparation_cabasse!AH8","v":"EEQ"},null,{"$f":"IF(AY8=\"\",\"\",IF(AY8=preparation_cabasse!AI8,\"OK\",\"FAUX\"))","v":""},"",{"$f":"IF(AY8=\"\",\"\",IF(AZ8=\"OK\",\"\",VLOOKUP(AY8,index_cabasse!$C$5:$O$89,preparation_cabasse!$D8+1,FALSE)))","v":""}]
[{"$f":"preparation_cabasse!B9","v":"FA"},{"$f":"preparation_cabasse!C9","v":"Dylan"},null,{"$f":"IF(preparation_cabasse!D9=\"\",\"\",preparation_cabasse!D9)","v":10},{"$f":"preparation_cabasse!G9","v":"GGJ"},null,{"$f":"IF(F9=\"\",\"\",IF(F9=preparation_cabasse!H9,\"OK\",\"FAUX\"))","v":""},"",{"$f":"IF(F9=\"\",\"\",IF(G9=\"OK\",\"\",VLOOKUP(F9,index_cabasse!$C$5:$O$89,preparation_cabasse!$D9+1,FALSE)))","v":""},{"$f":"preparation_cabasse!J9","v":"GGP"},null,{"$f":"IF(K9=\"\",\"\",IF(K9=preparation_cabasse!K9,\"OK\",\"FAUX\"))","v":""},"",{"$f":"IF(K9=\"\",\"\",IF(L9=\"OK\",\"\",VLOOKUP(K9,index_cabasse!$C$5:$O$89,preparation_cabasse!$D9+1,FALSE)))","v":""},{"$f":"preparation_cabasse!M9","v":"GGU"},null,{"$f":"IF(P9=\"\",\"\",IF(P9=preparation_cabasse!N9,\"OK\",\"FAUX\"))","v":""},"",{"$f":"IF(P9=\"\",\"\",IF(Q9=\"OK\",\"\",VLOOKUP(P9,index_cabasse!$C$5:$O$89,preparation_cabasse!$D9+1,FALSE)))","v":""},{"$f":"preparation_cabasse!P9","v":"GGN"},null,{"$f":"IF(U9=\"\",\"\",IF(U9=preparation_cabasse!Q9,\"OK\",\"FAUX\"))","v":""},"",{"$f":"IF(U9=\"\",\"\",IF(V9=\"OK\",\"\",VLOOKUP(U9,index_cabasse!$C$5:$O$89,preparation_cabasse!$D9+1,FALSE)))","v":""},{"$f":"preparation_cabasse!S9","v":"EED"},null,{"$f":"IF(Z9=\"\",\"\",IF(Z9=preparation_cabasse!T9,\"OK\",\"FAUX\"))","v":""},"",{"$f":"IF(Z9=\"\",\"\",IF(AA9=\"OK\",\"\",VLOOKUP(Z9,index_cabasse!$C$5:$O$89,preparation_cabasse!$D9+1,FALSE)))","v":""},{"$f":"preparation_cabasse!V9","v":"EEC"},null,{"$f":"IF(AE9=\"\",\"\",IF(AE9=preparation_cabasse!W9,\"OK\",\"FAUX\"))","v":""},"",{"$f":"IF(AE9=\"\",\"\",IF(AF9=\"OK\",\"\",VLOOKUP(AE9,index_cabasse!$C$5:$O$89,preparation_cabasse!$D9+1,FALSE)))","v":""},{"$f":"preparation_cabasse!Y9","v":"EEX"},null,{"$f":"IF(AJ9=\"\",\"\",IF(AJ9=preparation_cabasse!Z9,\"OK\",\"FAUX\"))","v":""},"",{"$f":"IF(AJ9=\"\",\"\",IF(AK9=\"OK\",\"\",VLOOKUP(AJ9,index_cabasse!$C$5:$O$89,preparation_cabasse!$D9+1,FALSE)))","v":""},{"$f":"preparation_cabasse!AB9","v":"EEL"},null,{"$f":"IF(AO9=\"\",\"\",IF(AO9=preparation_cabasse!AC9,\"OK\",\"FAUX\"))","v":""},"",{"$f":"IF(AO9=\"\",\"\",IF(AP9=\"OK\",\"\",VLOOKUP(AO9,index_cabasse!$C$5:$O$89,preparation_cabasse!$D9+1,FALSE)))","v":""},{"$f":"preparation_cabasse!AE9","v":"GGP"},null,{"$f":"IF(AT9=\"\",\"\",IF(AT9=preparation_cabasse!AF9,\"OK\",\"FAUX\"))","v":""},"",{"$f":"IF(AT9=\"\",\"\",IF(AU9=\"OK\",\"\",VLOOKUP(AT9,index_cabasse!$C$5:$O$89,preparation_cabasse!$D9+1,FALSE)))","v":""},{"$f":"preparation_cabasse!AH9","v":"EED"},null,{"$f":"IF(AY9=\"\",\"\",IF(AY9=preparation_cabasse!AI9,\"OK\",\"FAUX\"))","v":""},"",{"$f":"IF(AY9=\"\",\"\",IF(AZ9=\"OK\",\"\",VLOOKUP(AY9,index_cabasse!$C$5:$O$89,preparation_cabasse!$D9+1,FALSE)))","v":""}]
[{"$f":"preparation_cabasse!B10","v":"FLEIN"},{"$f":"preparation_cabasse!C10","v":"Theo"},null,{"$f":"IF(preparation_cabasse!D10=\"\",\"\",preparation_cabasse!D10)","v":10},{"$f":"preparation_cabasse!G10","v":"DDU"},null,{"$f":"IF(F10=\"\",\"\",IF(F10=preparation_cabasse!H10,\"OK\",\"FAUX\"))","v":""},"",{"$f":"IF(F10=\"\",\"\",IF(G10=\"OK\",\"\",VLOOKUP(F10,index_cabasse!$C$5:$O$89,preparation_cabasse!$D10+1,FALSE)))","v":""},{"$f":"preparation_cabasse!J10","v":"EEM"},null,{"$f":"IF(K10=\"\",\"\",IF(K10=preparation_cabasse!K10,\"OK\",\"FAUX\"))","v":""},"",{"$f":"IF(K10=\"\",\"\",IF(L10=\"OK\",\"\",VLOOKUP(K10,index_cabasse!$C$5:$O$89,preparation_cabasse!$D10+1,FALSE)))","v":""},{"$f":"preparation_cabasse!M10","v":"GGD"},null,{"$f":"IF(P10=\"\",\"\",IF(P10=preparation_cabasse!N10,\"OK\",\"FAUX\"))","v":""},"",{"$f":"IF(P10=\"\",\"\",IF(Q10=\"OK\",\"\",VLOOKUP(P10,index_cabasse!$C$5:$O$89,preparation_cabasse!$D10+1,FALSE)))","v":""},{"$f":"preparation_cabasse!P10","v":"GGF"},null,{"$f":"IF(U10=\"\",\"\",IF(U10=preparation_cabasse!Q10,\"OK\",\"FAUX\"))","v":""},"",{"$f":"IF(U10=\"\",\"\",IF(V10=\"OK\",\"\",VLOOKUP(U10,index_cabasse!$C$5:$O$89,preparation_cabasse!$D10+1,FALSE)))","v":""},{"$f":"preparation_cabasse!S10","v":"GGJ"},null,{"$f":"IF(Z10=\"\",\"\",IF(Z10=preparation_cabasse!T10,\"OK\",\"FAUX\"))","v":""},"",{"$f":"IF(Z10=\"\",\"\",IF(AA10=\"OK\",\"\",VLOOKUP(Z10,index_cabasse!$C$5:$O$89,preparation_cabasse!$D10+1,FALSE)))","v":""},{"$f":"preparation_cabasse!V10","v":"FFS"},null,{"$f":"IF(AE10=\"\",\"\",IF(AE10=preparation_cabasse!W10,\"OK\",\"FAUX\"))","v":""},"",{"$f":"IF(AE10=\"\",\"\",IF(AF10=\"OK\",\"\",VLOOKUP(AE10,index_cabasse!$C$5:$O$89,preparation_cabasse!$D10+1,FALSE)))","v":""},{"$f":"preparation_cabasse!Y10","v":"GGZ"},null,{"$f":"IF(AJ10=\"\",\"\",IF(AJ10=preparation_cabasse!Z10,\"OK\",\"FAUX\"))","v":""},"",{"$f":"IF(AJ10=\"\",\"\",IF(AK10=\"OK\",\"\",VLOOKUP(AJ10,index_cabasse!$C$5:$O$89,preparation_cabasse!$D10+1,FALSE)))","v":""},{"$f":"preparation_cabasse!AB10","v":"DDZ"},null,{"$f":"IF(AO10=\"\",\"\",IF(AO10=preparation_cabasse!AC10,\"OK\",\"FAUX\"))","v":""},"",{"$f":"IF(AO10=\"\",\"\",IF(AP10=\"OK\",\"\",VLOOKUP(AO10,index_cabasse!$C$5:$O$89,preparation_cabasse!$D10+1,FALSE)))","v":""},{"$f":"preparation_cabasse!AE10","v":"GGK"},null,{"$f":"IF(AT10=\"\",\"\",IF(AT10=preparation_cabasse!AF10,\"OK\",\"FAUX\"))","v":""},"",{"$f":"IF(AT10=\"\",\"\",IF(AU10=\"OK\",\"\",VLOOKUP(AT10,index_cabasse!$C$5:$O$89,preparation_cabasse!$D10+1,FALSE)))","v":""},{"$f":"preparation_cabasse!AH10","v":"EEF"},null,{"$f":"IF(AY10=\"\",\"\",IF(AY10=preparation_cabasse!AI10,\"OK\",\"FAUX\"))","v":""},"",{"$f":"IF(AY10=\"\",\"\",IF(AZ10=\"OK\",\"\",VLOOKUP(AY10,index_cabasse!$C$5:$O$89,preparation_cabasse!$D10+1,FALSE)))","v":""}]
[{"$f":"preparation_cabasse!B11","v":"JEAON"},{"$f":"preparation_cabasse!C11","v":"Alexis"},null,{"$f":"IF(preparation_cabasse!D11=\"\",\"\",preparation_cabasse!D11)","v":10},{"$f":"preparation_cabasse!G11","v":"GGD"},null,{"$f":"IF(F11=\"\",\"\",IF(F11=preparation_cabasse!H11,\"OK\",\"FAUX\"))","v":""},"",{"$f":"IF(F11=\"\",\"\",IF(G11=\"OK\",\"\",VLOOKUP(F11,index_cabasse!$C$5:$O$89,preparation_cabasse!$D11+1,FALSE)))","v":""},{"$f":"preparation_cabasse!J11","v":"DDS"},null,{"$f":"IF(K11=\"\",\"\",IF(K11=preparation_cabasse!K11,\"OK\",\"FAUX\"))","v":""},"",{"$f":"IF(K11=\"\",\"\",IF(L11=\"OK\",\"\",VLOOKUP(K11,index_cabasse!$C$5:$O$89,preparation_cabasse!$D11+1,FALSE)))","v":""},{"$f":"preparation_cabasse!M11","v":"FFU"},null,{"$f":"IF(P11=\"\",\"\",IF(P11=preparation_cabasse!N11,\"OK\",\"FAUX\"))","v":""},"",{"$f":"IF(P11=\"\",\"\",IF(Q11=\"OK\",\"\",VLOOKUP(P11,index_cabasse!$C$5:$O$89,preparation_cabasse!$D11+1,FALSE)))","v":""},{"$f":"preparation_cabasse!P11","v":"FFT"},null,{"$f":"IF(U11=\"\",\"\",IF(U11=preparation_cabasse!Q11,\"OK\",\"FAUX\"))","v":""},"",{"$f":"IF(U11=\"\",\"\",IF(V11=\"OK\",\"\",VLOOKUP(U11,index_cabasse!$C$5:$O$89,preparation_cabasse!$D11+1,FALSE)))","v":""},{"$f":"preparation_cabasse!S11","v":"GGK"},null,{"$f":"IF(Z11=\"\",\"\",IF(Z11=preparation_cabasse!T11,\"OK\",\"FAUX\"))","v":""},"",{"$f":"IF(Z11=\"\",\"\",IF(AA11=\"OK\",\"\",VLOOKUP(Z11,index_cabasse!$C$5:$O$89,preparation_cabasse!$D11+1,FALSE)))","v":""},{"$f":"preparation_cabasse!V11","v":"EEF"},null,{"$f":"IF(AE11=\"\",\"\",IF(AE11=preparation_cabasse!W11,\"OK\",\"FAUX\"))","v":""},"",{"$f":"IF(AE11=\"\",\"\",IF(AF11=\"OK\",\"\",VLOOKUP(AE11,index_cabasse!$C$5:$O$89,preparation_cabasse!$D11+1,FALSE)))","v":""},{"$f":"preparation_cabasse!Y11","v":"GGV"},null,{"$f":"IF(AJ11=\"\",\"\",IF(AJ11=preparation_cabasse!Z11,\"OK\",\"FAUX\"))","v":""},"",{"$f":"IF(AJ11=\"\",\"\",IF(AK11=\"OK\",\"\",VLOOKUP(AJ11,index_cabasse!$C$5:$O$89,preparation_cabasse!$D11+1,FALSE)))","v":""},{"$f":"preparation_cabasse!AB11","v":"EEX"},null,{"$f":"IF(AO11=\"\",\"\",IF(AO11=preparation_cabasse!AC11,\"OK\",\"FAUX\"))","v":""},"",{"$f":"IF(AO11=\"\",\"\",IF(AP11=\"OK\",\"\",VLOOKUP(AO11,index_cabasse!$C$5:$O$89,preparation_cabasse!$D11+1,FALSE)))","v":""},{"$f":"preparation_cabasse!AE11","v":"EEI"},null,{"$f":"IF(AT11=\"\",\"\",IF(AT11=preparation_cabasse!AF11,\"OK\",\"FAUX\"))","v":""},"",{"$f":"IF(AT11=\"\",\"\",IF(AU11=\"OK\",\"\",VLOOKUP(AT11,index_cabasse!$C$5:$O$89,preparation_cabasse!$D11+1,FALSE)))","v":""},{"$f":"preparation_cabasse!AH11","v":"GGR"},null,{"$f":"IF(AY11=\"\",\"\",IF(AY11=preparation_cabasse!AI11,\"OK\",\"FAUX\"))","v":""},"",{"$f":"IF(AY11=\"\",\"\",IF(AZ11=\"OK\",\"\",VLOOKUP(AY11,index_cabasse!$C$5:$O$89,preparation_cabasse!$D11+1,FALSE)))","v":""}]
[{"$f":"preparation_cabasse!B12","v":"KOLA"},{"$f":"preparation_cabasse!C12","v":"Alexandre"},null,{"$f":"IF(preparation_cabasse!D12=\"\",\"\",preparation_cabasse!D12)","v":10},{"$f":"preparation_cabasse!G12","v":"GGV"},null,{"$f":"IF(F12=\"\",\"\",IF(F12=preparation_cabasse!H12,\"OK\",\"FAUX\"))","v":""},"",{"$f":"IF(F12=\"\",\"\",IF(G12=\"OK\",\"\",VLOOKUP(F12,index_cabasse!$C$5:$O$89,preparation_cabasse!$D12+1,FALSE)))","v":""},{"$f":"preparation_cabasse!J12","v":"EEO"},null,{"$f":"IF(K12=\"\",\"\",IF(K12=preparation_cabasse!K12,\"OK\",\"FAUX\"))","v":""},"",{"$f":"IF(K12=\"\",\"\",IF(L12=\"OK\",\"\",VLOOKUP(K12,index_cabasse!$C$5:$O$89,preparation_cabasse!$D12+1,FALSE)))","v":""},{"$f":"preparation_cabasse!M12","v":"FFM"},null,{"$f":"IF(P12=\"\",\"\",IF(P12=preparation_cabasse!N12,\"OK\",\"FAUX\"))","v":""},"",{"$f":"IF(P12=\"\",\"\",IF(Q12=\"OK\",\"\",VLOOKUP(P12,index_cabasse!$C$5:$O$89,preparation_cabasse!$D12+1,FALSE)))","v":""},{"$f":"preparation_cabasse!P12","v":"DDT"},null,{"$f":"IF(U12=\"\",\"\",IF(U12=preparation_cabasse!Q12,\"OK\",\"FAUX\"))","v":""},"",{"$f":"IF(U12=\"\",\"\",IF(V12=\"OK\",\"\",VLOOKUP(U12,index_cabasse!$C$5:$O$89,preparation_cabasse!$D12+1,FALSE)))","v":""},{"$f":"preparation_cabasse!S12","v":"DDV"},null,{"$f":"IF(Z12=\"\",\"\",IF(Z12=preparation_cabasse!T12,\"OK\",\"FAUX\"))","v":""},"",{"$f":"IF(Z12=\"\",\"\",IF(AA12=\"OK\",\"\",VLOOKUP(Z12,index_cabasse!$C$5:$O$89,preparation_cabasse!$D12+1,FALSE)))","v":""},{"$f":"preparation_cabasse!V12","v":"GGB"},null,{"$f":"IF(AE12=\"\",\"\",IF(AE12=preparation_cabasse!W12,\"OK\",\"FAUX\"))","v":""},"",{"$f":"IF(AE12=\"\",\"\",IF(AF12=\"OK\",\"\",VLOOKUP(AE12,index_cabasse!$C$5:$O$89,preparation_cabasse!$D12+1,FALSE)))","v":""},{"$f":"preparation_cabasse!Y12","v":"EEY"},null,{"$f":"IF(AJ12=\"\",\"\",IF(AJ12=preparation_cabasse!Z12,\"OK\",\"FAUX\"))","v":""},"",{"$f":"IF(AJ12=\"\",\"\",IF(AK12=\"OK\",\"\",VLOOKUP(AJ12,index_cabasse!$C$5:$O$89,preparation_cabasse!$D12+1,FALSE)))","v":""},{"$f":"preparation_cabasse!AB12","v":"FFG"},null,{"$f":"IF(AO12=\"\",\"\",IF(AO12=preparation_cabasse!AC12,\"OK\",\"FAUX\"))","v":""},"",{"$f":"IF(AO12=\"\",\"\",IF(AP12=\"OK\",\"\",VLOOKUP(AO12,index_cabasse!$C$5:$O$89,preparation_cabasse!$D12+1,FALSE)))","v":""},{"$f":"preparation_cabasse!AE12","v":"DDZ"},null,{"$f":"IF(AT12=\"\",\"\",IF(AT12=preparation_cabasse!AF12,\"OK\",\"FAUX\"))","v":""},"",{"$f":"IF(AT12=\"\",\"\",IF(AU12=\"OK\",\"\",VLOOKUP(AT12,index_cabasse!$C$5:$O$89,preparation_cabasse!$D12+1,FALSE)))","v":""},{"$f":"preparation_cabasse!AH12","v":"EEO"},null,{"$f":"IF(AY12=\"\",\"\",IF(AY12=preparation_cabasse!AI12,\"OK\",\"FAUX\"))","v":""},"",{"$f":"IF(AY12=\"\",\"\",IF(AZ12=\"OK\",\"\",VLOOKUP(AY12,index_cabasse!$C$5:$O$89,preparation_cabasse!$D12+1,FALSE)))","v":""}]
[{"$f":"preparation_cabasse!B13","v":"LERHE"},{"$f":"preparation_cabasse!C13","v":"Melvin"},null,{"$f":"IF(preparation_cabasse!D13=\"\",\"\",preparation_cabasse!D13)","v":10},{"$f":"preparation_cabasse!G13","v":"GGM"},null,{"$f":"IF(F13=\"\",\"\",IF(F13=preparation_cabasse!H13,\"OK\",\"FAUX\"))","v":""},"",{"$f":"IF(F13=\"\",\"\",IF(G13=\"OK\",\"\",VLOOKUP(F13,index_cabasse!$C$5:$O$89,preparation_cabasse!$D13+1,FALSE)))","v":""},{"$f":"preparation_cabasse!J13","v":"FFE"},null,{"$f":"IF(K13=\"\",\"\",IF(K13=preparation_cabasse!K13,\"OK\",\"FAUX\"))","v":""},"",{"$f":"IF(K13=\"\",\"\",IF(L13=\"OK\",\"\",VLOOKUP(K13,index_cabasse!$C$5:$O$89,preparation_cabasse!$D13+1,FALSE)))","v":""},{"$f":"preparation_cabasse!M13","v":"EEU"},null,{"$f":"IF(P13=\"\",\"\",IF(P13=preparation_cabasse!N13,\"OK\",\"FAUX\"))","v":""},"",{"$f":"IF(P13=\"\",\"\",IF(Q13=\"OK\",\"\",VLOOKUP(P13,index_cabasse!$C$5:$O$89,preparation_cabasse!$D13+1,FALSE)))","v":""},{"$f":"preparation_cabasse!P13","v":"EET"},null,{"$f":"IF(U13=\"\",\"\",IF(U13=preparation_cabasse!Q13,\"OK\",\"FAUX\"))","v":""},"",{"$f":"IF(U13=\"\",\"\",IF(V13=\"OK\",\"\",VLOOKUP(U13,index_cabasse!$C$5:$O$89,preparation_cabasse!$D13+1,FALSE)))","v":""},{"$f":"preparation_cabasse!S13","v":"DW"},null,{"$f":"IF(Z13=\"\",\"\",IF(Z13=preparation_cabasse!T13,\"OK\",\"FAUX\"))","v":""},"",{"$f":"IF(Z13=\"\",\"\",IF(AA13=\"OK\",\"\",VLOOKUP(Z13,index_cabasse!$C$5:$O$89,preparation_cabasse!$D13+1,FALSE)))","v":""},{"$f":"preparation_cabasse!V13","v":"EEN"},null,{"$f":"IF(AE13=\"\",\"\",IF(AE13=preparation_cabasse!W13,\"OK\",\"FAUX\"))","v":""},"",{"$f":"IF(AE13=\"\",\"\",IF(AF13=\"OK\",\"\",VLOOKUP(AE13,index_cabasse!$C$5:$O$89,preparation_cabasse!$D13+1,FALSE)))","v":""},{"$f":"preparation_cabasse!Y13","v":"FFD"},null,{"$f":"IF(AJ13=\"\",\"\",IF(AJ13=preparation_cabasse!Z13,\"OK\",\"FAUX\"))","v":""},"",{"$f":"IF(AJ13=\"\",\"\",IF(AK13=\"OK\",\"\",VLOOKUP(AJ13,index_cabasse!$C$5:$O$89,preparation_cabasse!$D13+1,FALSE)))","v":""},{"$f":"preparation_cabasse!AB13","v":"FFG"},null,{"$f":"IF(AO13=\"\",\"\",IF(AO13=preparation_cabasse!AC13,\"OK\",\"FAUX\"))","v":""},"",{"$f":"IF(AO13=\"\",\"\",IF(AP13=\"OK\",\"\",VLOOKUP(AO13,index_cabasse!$C$5:$O$89,preparation_cabasse!$D13+1,FALSE)))","v":""},{"$f":"preparation_cabasse!AE13","v":"HHA"},null,{"$f":"IF(AT13=\"\",\"\",IF(AT13=preparation_cabasse!AF13,\"OK\",\"FAUX\"))","v":""},"",{"$f":"IF(AT13=\"\",\"\",IF(AU13=\"OK\",\"\",VLOOKUP(AT13,index_cabasse!$C$5:$O$89,preparation_cabasse!$D13+1,FALSE)))","v":""},{"$f":"preparation_cabasse!AH13","v":"FFQ"},null,{"$f":"IF(AY13=\"\",\"\",IF(AY13=preparation_cabasse!AI13,\"OK\",\"FAUX\"))","v":""},"",{"$f":"IF(AY13=\"\",\"\",IF(AZ13=\"OK\",\"\",VLOOKUP(AY13,index_cabasse!$C$5:$O$89,preparation_cabasse!$D13+1,FALSE)))","v":""}]
[{"$f":"preparation_cabasse!B14","v":"LOE"},{"$f":"preparation_cabasse!C14","v":"Mickael"},null,{"$f":"IF(preparation_cabasse!D14=\"\",\"\",preparation_cabasse!D14)","v":10},{"$f":"preparation_cabasse!G14","v":"FFH"},null,{"$f":"IF(F14=\"\",\"\",IF(F14=preparation_cabasse!H14,\"OK\",\"FAUX\"))","v":""},"",{"$f":"IF(F14=\"\",\"\",IF(G14=\"OK\",\"\",VLOOKUP(F14,index_cabasse!$C$5:$O$89,preparation_cabasse!$D14+1,FALSE)))","v":""},{"$f":"preparation_cabasse!J14","v":"DDU"},null,{"$f":"IF(K14=\"\",\"\",IF(K14=preparation_cabasse!K14,\"OK\",\"FAUX\"))","v":""},"",{"$f":"IF(K14=\"\",\"\",IF(L14=\"OK\",\"\",VLOOKUP(K14,index_cabasse!$C$5:$O$89,preparation_cabasse!$D14+1,FALSE)))","v":""},{"$f":"preparation_cabasse!M14","v":"GGT"},null,{"$f":"IF(P14=\"\",\"\",IF(P14=preparation_cabasse!N14,\"OK\",\"FAUX\"))","v":""},"",{"$f":"IF(P14=\"\",\"\",IF(Q14=\"OK\",\"\",VLOOKUP(P14,index_cabasse!$C$5:$O$89,preparation_cabasse!$D14+1,FALSE)))","v":""},{"$f":"preparation_cabasse!P14","v":"GGN"},null,{"$f":"IF(U14=\"\",\"\",IF(U14=preparation_cabasse!Q14,\"OK\",\"FAUX\"))","v":""},"",{"$f":"IF(U14=\"\",\"\",IF(V14=\"OK\",\"\",VLOOKUP(U14,index_cabasse!$C$5:$O$89,preparation_cabasse!$D14+1,FALSE)))","v":""},{"$f":"preparation_cabasse!S14","v":"GGT"},null,{"$f":"IF(Z14=\"\",\"\",IF(Z14=preparation_cabasse!T14,\"OK\",\"FAUX\"))","v":""},"",{"$f":"IF(Z14=\"\",\"\",IF(AA14=\"OK\",\"\",VLOOKUP(Z14,index_cabasse!$C$5:$O$89,preparation_cabasse!$D14+1,FALSE)))","v":""},{"$f":"preparation_cabasse!V14","v":"GGR"},null,{"$f":"IF(AE14=\"\",\"\",IF(AE14=preparation_cabasse!W14,\"OK\",\"FAUX\"))","v":""},"",{"$f":"IF(AE14=\"\",\"\",IF(AF14=\"OK\",\"\",VLOOKUP(AE14,index_cabasse!$C$5:$O$89,preparation_cabasse!$D14+1,FALSE)))","v":""},{"$f":"preparation_cabasse!Y14","v":"FFG"},null,{"$f":"IF(AJ14=\"\",\"\",IF(AJ14=preparation_cabasse!Z14,\"OK\",\"FAUX\"))","v":""},"",{"$f":"IF(AJ14=\"\",\"\",IF(AK14=\"OK\",\"\",VLOOKUP(AJ14,index_cabasse!$C$5:$O$89,preparation_cabasse!$D14+1,FALSE)))","v":""},{"$f":"preparation_cabasse!AB14","v":"EEY"},null,{"$f":"IF(AO14=\"\",\"\",IF(AO14=preparation_cabasse!AC14,\"OK\",\"FAUX\"))","v":""},"",{"$f":"IF(AO14=\"\",\"\",IF(AP14=\"OK\",\"\",VLOOKUP(AO14,index_cabasse!$C$5:$O$89,preparation_cabasse!$D14+1,FALSE)))","v":""},{"$f":"preparation_cabasse!AE14","v":"EEL"},null,{"$f":"IF(AT14=\"\",\"\",IF(AT14=preparation_cabasse!AF14,\"OK\",\"FAUX\"))","v":""},"",{"$f":"IF(AT14=\"\",\"\",IF(AU14=\"OK\",\"\",VLOOKUP(AT14,index_cabasse!$C$5:$O$89,preparation_cabasse!$D14+1,FALSE)))","v":""},{"$f":"preparation_cabasse!AH14","v":"FFW"},null,{"$f":"IF(AY14=\"\",\"\",IF(AY14=preparation_cabasse!AI14,\"OK\",\"FAUX\"))","v":""},"",{"$f":"IF(AY14=\"\",\"\",IF(AZ14=\"OK\",\"\",VLOOKUP(AY14,index_cabasse!$C$5:$O$89,preparation_cabasse!$D14+1,FALSE)))","v":""}]
[{"$f":"preparation_cabasse!B15","v":"MORET"},{"$f":"preparation_cabasse!C15","v":"Alice"},null,{"$f":"IF(preparation_cabasse!D15=\"\",\"\",preparation_cabasse!D15)","v":10},{"$f":"preparation_cabasse!G15","v":"FFV"},null,{"$f":"IF(F15=\"\",\"\",IF(F15=preparation_cabasse!H15,\"OK\",\"FAUX\"))","v":""},"",{"$f":"IF(F15=\"\",\"\",IF(G15=\"OK\",\"\",VLOOKUP(F15,index_cabasse!$C$5:$O$89,preparation_cabasse!$D15+1,FALSE)))","v":""},{"$f":"preparation_cabasse!J15","v":"EEW"},null,{"$f":"IF(K15=\"\",\"\",IF(K15=preparation_cabasse!K15,\"OK\",\"FAUX\"))","v":""},"",{"$f":"IF(K15=\"\",\"\",IF(L15=\"OK\",\"\",VLOOKUP(K15,index_cabasse!$C$5:$O$89,preparation_cabasse!$D15+1,FALSE)))","v":""},{"$f":"preparation_cabasse!M15","v":"EEF"},null,{"$f":"IF(P15=\"\",\"\",IF(P15=preparation_cabasse!N15,\"OK\",\"FAUX\"))","v":""},"",{"$f":"IF(P15=\"\",\"\",IF(Q15=\"OK\",\"\",VLOOKUP(P15,index_cabasse!$C$5:$O$89,preparation_cabasse!$D15+1,FALSE)))","v":""},{"$f":"preparation_cabasse!P15","v":"EEZ"},null,{"$f":"IF(U15=\"\",\"\",IF(U15=preparation_cabasse!Q15,\"OK\",\"FAUX\"))","v":""},"",{"$f":"IF(U15=\"\",\"\",IF(V15=\"OK\",\"\",VLOOKUP(U15,index_cabasse!$C$5:$O$89,preparation_cabasse!$D15+1,FALSE)))","v":""},{"$f":"preparation_cabasse!S15","v":"DDX"},null,{"$f":"IF(Z15=\"\",\"\",IF(Z15=preparation_cabasse!T15,\"OK\",\"FAUX\"))","v":""},"",{"$f":"IF(Z15=\"\",\"\",IF(AA15=\"OK\",\"\",VLOOKUP(Z15,index_cabasse!$C$5:$O$89,preparation_cabasse!$D15+1,FALSE)))","v":""},{"$f":"preparation_cabasse!V15","v":"EEY"},null,{"$f":"IF(AE15=\"\",\"\",IF(AE15=preparation_cabasse!W15,\"OK\",\"FAUX\"))","v":""},"",{"$f":"IF(AE15=\"\",\"\",IF(AF15=\"OK\",\"\",VLOOKUP(AE15,index_cabasse!$C$5:$O$89,preparation_cabasse!$D15+1,FALSE)))","v":""},{"$f":"preparation_cabasse!Y15","v":"DDX"},null,{"$f":"IF(AJ15=\"\",\"\",IF(AJ15=preparation_cabasse!Z15,\"OK\",\"FAUX\"))","v":""},"",{"$f":"IF(AJ15=\"\",\"\",IF(AK15=\"OK\",\"\",VLOOKUP(AJ15,index_cabasse!$C$5:$O$89,preparation_cabasse!$D15+1,FALSE)))","v":""},{"$f":"preparation_cabasse!AB15","v":"FFU"},null,{"$f":"IF(AO15=\"\",\"\",IF(AO15=preparation_cabasse!AC15,\"OK\",\"FAUX\"))","v":""},"",{"$f":"IF(AO15=\"\",\"\",IF(AP15=\"OK\",\"\",VLOOKUP(AO15,index_cabasse!$C$5:$O$89,preparation_cabasse!$D15+1,FALSE)))","v":""},{"$f":"preparation_cabasse!AE15","v":"GGO"},null,{"$f":"IF(AT15=\"\",\"\",IF(AT15=preparation_cabasse!AF15,\"OK\",\"FAUX\"))","v":""},"",{"$f":"IF(AT15=\"\",\"\",IF(AU15=\"OK\",\"\",VLOOKUP(AT15,index_cabasse!$C$5:$O$89,preparation_cabasse!$D15+1,FALSE)))","v":""},{"$f":"preparation_cabasse!AH15","v":"EEA"},null,{"$f":"IF(AY15=\"\",\"\",IF(AY15=preparation_cabasse!AI15,\"OK\",\"FAUX\"))","v":""},"",{"$f":"IF(AY15=\"\",\"\",IF(AZ15=\"OK\",\"\",VLOOKUP(AY15,index_cabasse!$C$5:$O$89,preparation_cabasse!$D15+1,FALSE)))","v":""}]
[{"$f":"preparation_cabasse!B16","v":"NICAU"},{"$f":"preparation_cabasse!C16","v":"Romain"},null,{"$f":"IF(preparation_cabasse!D16=\"\",\"\",preparation_cabasse!D16)","v":10},{"$f":"preparation_cabasse!G16","v":"EEA"},null,{"$f":"IF(F16=\"\",\"\",IF(F16=preparation_cabasse!H16,\"OK\",\"FAUX\"))","v":""},"",{"$f":"IF(F16=\"\",\"\",IF(G16=\"OK\",\"\",VLOOKUP(F16,index_cabasse!$C$5:$O$89,preparation_cabasse!$D16+1,FALSE)))","v":""},{"$f":"preparation_cabasse!J16","v":"EEB"},null,{"$f":"IF(K16=\"\",\"\",IF(K16=preparation_cabasse!K16,\"OK\",\"FAUX\"))","v":""},"",{"$f":"IF(K16=\"\",\"\",IF(L16=\"OK\",\"\",VLOOKUP(K16,index_cabasse!$C$5:$O$89,preparation_cabasse!$D16+1,FALSE)))","v":""},{"$f":"preparation_cabasse!M16","v":"GGI"},null,{"$f":"IF(P16=\"\",\"\",IF(P16=preparation_cabasse!N16,\"OK\",\"FAUX\"))","v":""},"",{"$f":"IF(P16=\"\",\"\",IF(Q16=\"OK\",\"\",VLOOKUP(P16,index_cabasse!$C$5:$O$89,preparation_cabasse!$D16+1,FALSE)))","v":""},{"$f":"preparation_cabasse!P16","v":"FFQ"},null,{"$f":"IF(U16=\"\",\"\",IF(U16=preparation_cabasse!Q16,\"OK\",\"FAUX\"))","v":""},"",{"$f":"IF(U16=\"\",\"\",IF(V16=\"OK\",\"\",VLOOKUP(U16,index_cabasse!$C$5:$O$89,preparation_cabasse!$D16+1,FALSE)))","v":""},{"$f":"preparation_cabasse!S16","v":"GGI"},null,{"$f":"IF(Z16=\"\",\"\",IF(Z16=preparation_cabasse!T16,\"OK\",\"FAUX\"))","v":""},"",{"$f":"IF(Z16=\"\",\"\",IF(AA16=\"OK\",\"\",VLOOKUP(Z16,index_cabasse!$C$5:$O$89,preparation_cabasse!$D16+1,FALSE)))","v":""},{"$f":"preparation_cabasse!V16","v":"FFG"},null,{"$f":"IF(AE16=\"\",\"\",IF(AE16=preparation_cabasse!W16,\"OK\",\"FAUX\"))","v":""},"",{"$f":"IF(AE16=\"\",\"\",IF(AF16=\"OK\",\"\",VLOOKUP(AE16,index_cabasse!$C$5:$O$89,preparation_cabasse!$D16+1,FALSE)))","v":""},{"$f":"preparation_cabasse!Y16","v":"GGW"},null,{"$f":"IF(AJ16=\"\",\"\",IF(AJ16=preparation_cabasse!Z16,\"OK\",\"FAUX\"))","v":""},"",{"$f":"IF(AJ16=\"\",\"\",IF(AK16=\"OK\",\"\",VLOOKUP(AJ16,index_cabasse!$C$5:$O$89,preparation_cabasse!$D16+1,FALSE)))","v":""},{"$f":"preparation_cabasse!AB16","v":"FFL"},null,{"$f":"IF(AO16=\"\",\"\",IF(AO16=preparation_cabasse!AC16,\"OK\",\"FAUX\"))","v":""},"",{"$f":"IF(AO16=\"\",\"\",IF(AP16=\"OK\",\"\",VLOOKUP(AO16,index_cabasse!$C$5:$O$89,preparation_cabasse!$D16+1,FALSE)))","v":""},{"$f":"preparation_cabasse!AE16","v":"FFP"},null,{"$f":"IF(AT16=\"\",\"\",IF(AT16=preparation_cabasse!AF16,\"OK\",\"FAUX\"))","v":""},"",{"$f":"IF(AT16=\"\",\"\",IF(AU16=\"OK\",\"\",VLOOKUP(AT16,index_cabasse!$C$5:$O$89,preparation_cabasse!$D16+1,FALSE)))","v":""},{"$f":"preparation_cabasse!AH16","v":"GGC"},null,{"$f":"IF(AY16=\"\",\"\",IF(AY16=preparation_cabasse!AI16,\"OK\",\"FAUX\"))","v":""},"",{"$f":"IF(AY16=\"\",\"\",IF(AZ16=\"OK\",\"\",VLOOKUP(AY16,index_cabasse!$C$5:$O$89,preparation_cabasse!$D16+1,FALSE)))","v":""}]
[{"$f":"preparation_cabasse!B17","v":"RUI"},{"$f":"preparation_cabasse!C17","v":"Desiderio"},null,{"$f":"IF(preparation_cabasse!D17=\"\",\"\",preparation_cabasse!D17)","v":10},{"$f":"preparation_cabasse!G17","v":"DDU"},null,{"$f":"IF(F17=\"\",\"\",IF(F17=preparation_cabasse!H17,\"OK\",\"FAUX\"))","v":""},"",{"$f":"IF(F17=\"\",\"\",IF(G17=\"OK\",\"\",VLOOKUP(F17,index_cabasse!$C$5:$O$89,preparation_cabasse!$D17+1,FALSE)))","v":""},{"$f":"preparation_cabasse!J17","v":"DDX"},null,{"$f":"IF(K17=\"\",\"\",IF(K17=preparation_cabasse!K17,\"OK\",\"FAUX\"))","v":""},"",{"$f":"IF(K17=\"\",\"\",IF(L17=\"OK\",\"\",VLOOKUP(K17,index_cabasse!$C$5:$O$89,preparation_cabasse!$D17+1,FALSE)))","v":""},{"$f":"preparation_cabasse!M17","v":"EEA"},null,{"$f":"IF(P17=\"\",\"\",IF(P17=preparation_cabasse!N17,\"OK\",\"FAUX\"))","v":""},"",{"$f":"IF(P17=\"\",\"\",IF(Q17=\"OK\",\"\",VLOOKUP(P17,index_cabasse!$C$5:$O$89,preparation_cabasse!$D17+1,FALSE)))","v":""},{"$f":"preparation_cabasse!P17","v":"GGW"},null,{"$f":"IF(U17=\"\",\"\",IF(U17=preparation_cabasse!Q17,\"OK\",\"FAUX\"))","v":""},"",{"$f":"IF(U17=\"\",\"\",IF(V17=\"OK\",\"\",VLOOKUP(U17,index_cabasse!$C$5:$O$89,preparation_cabasse!$D17+1,FALSE)))","v":""},{"$f":"preparation_cabasse!S17","v":"FFG"},null,{"$f":"IF(Z17=\"\",\"\",IF(Z17=preparation_cabasse!T17,\"OK\",\"FAUX\"))","v":""},"",{"$f":"IF(Z17=\"\",\"\",IF(AA17=\"OK\",\"\",VLOOKUP(Z17,index_cabasse!$C$5:$O$89,preparation_cabasse!$D17+1,FALSE)))","v":""},{"$f":"preparation_cabasse!V17","v":"EEG"},null,{"$f":"IF(AE17=\"\",\"\",IF(AE17=preparation_cabasse!W17,\"OK\",\"FAUX\"))","v":""},"",{"$f":"IF(AE17=\"\",\"\",IF(AF17=\"OK\",\"\",VLOOKUP(AE17,index_cabasse!$C$5:$O$89,preparation_cabasse!$D17+1,FALSE)))","v":""},{"$f":"preparation_cabasse!Y17","v":"EEG"},null,{"$f":"IF(AJ17=\"\",\"\",IF(AJ17=preparation_cabasse!Z17,\"OK\",\"FAUX\"))","v":""},"",{"$f":"IF(AJ17=\"\",\"\",IF(AK17=\"OK\",\"\",VLOOKUP(AJ17,index_cabasse!$C$5:$O$89,preparation_cabasse!$D17+1,FALSE)))","v":""},{"$f":"preparation_cabasse!AB17","v":"GGJ"},null,{"$f":"IF(AO17=\"\",\"\",IF(AO17=preparation_cabasse!AC17,\"OK\",\"FAUX\"))","v":""},"",{"$f":"IF(AO17=\"\",\"\",IF(AP17=\"OK\",\"\",VLOOKUP(AO17,index_cabasse!$C$5:$O$89,preparation_cabasse!$D17+1,FALSE)))","v":""},{"$f":"preparation_cabasse!AE17","v":"EER"},null,{"$f":"IF(AT17=\"\",\"\",IF(AT17=preparation_cabasse!AF17,\"OK\",\"FAUX\"))","v":""},"",{"$f":"IF(AT17=\"\",\"\",IF(AU17=\"OK\",\"\",VLOOKUP(AT17,index_cabasse!$C$5:$O$89,preparation_cabasse!$D17+1,FALSE)))","v":""},{"$f":"preparation_cabasse!AH17","v":"GGT"},null,{"$f":"IF(AY17=\"\",\"\",IF(AY17=preparation_cabasse!AI17,\"OK\",\"FAUX\"))","v":""},"",{"$f":"IF(AY17=\"\",\"\",IF(AZ17=\"OK\",\"\",VLOOKUP(AY17,index_cabasse!$C$5:$O$89,preparation_cabasse!$D17+1,FALSE)))","v":""}]
[{"$f":"preparation_cabasse!B18","v":"RI"},{"$f":"preparation_cabasse!C18","v":"Niko"},null,{"$f":"IF(preparation_cabasse!D18=\"\",\"\",preparation_cabasse!D18)","v":10},{"$f":"preparation_cabasse!G18","v":"EES"},null,{"$f":"IF(F18=\"\",\"\",IF(F18=preparation_cabasse!H18,\"OK\",\"FAUX\"))","v":""},"",{"$f":"IF(F18=\"\",\"\",IF(G18=\"OK\",\"\",VLOOKUP(F18,index_cabasse!$C$5:$O$89,preparation_cabasse!$D18+1,FALSE)))","v":""},{"$f":"preparation_cabasse!J18","v":"FFK"},null,{"$f":"IF(K18=\"\",\"\",IF(K18=preparation_cabasse!K18,\"OK\",\"FAUX\"))","v":""},"",{"$f":"IF(K18=\"\",\"\",IF(L18=\"OK\",\"\",VLOOKUP(K18,index_cabasse!$C$5:$O$89,preparation_cabasse!$D18+1,FALSE)))","v":""},{"$f":"preparation_cabasse!M18","v":"FFQ"},null,{"$f":"IF(P18=\"\",\"\",IF(P18=preparation_cabasse!N18,\"OK\",\"FAUX\"))","v":""},"",{"$f":"IF(P18=\"\",\"\",IF(Q18=\"OK\",\"\",VLOOKUP(P18,index_cabasse!$C$5:$O$89,preparation_cabasse!$D18+1,FALSE)))","v":""},{"$f":"preparation_cabasse!P18","v":"EED"},null,{"$f":"IF(U18=\"\",\"\",IF(U18=preparation_cabasse!Q18,\"OK\",\"FAUX\"))","v":""},"",{"$f":"IF(U18=\"\",\"\",IF(V18=\"OK\",\"\",VLOOKUP(U18,index_cabasse!$C$5:$O$89,preparation_cabasse!$D18+1,FALSE)))","v":""},{"$f":"preparation_cabasse!S18","v":"GGN"},null,{"$f":"IF(Z18=\"\",\"\",IF(Z18=preparation_cabasse!T18,\"OK\",\"FAUX\"))","v":""},"",{"$f":"IF(Z18=\"\",\"\",IF(AA18=\"OK\",\"\",VLOOKUP(Z18,index_cabasse!$C$5:$O$89,preparation_cabasse!$D18+1,FALSE)))","v":""},{"$f":"preparation_cabasse!V18","v":"FFI"},null,{"$f":"IF(AE18=\"\",\"\",IF(AE18=preparation_cabasse!W18,\"OK\",\"FAUX\"))","v":""},"",{"$f":"IF(AE18=\"\",\"\",IF(AF18=\"OK\",\"\",VLOOKUP(AE18,index_cabasse!$C$5:$O$89,preparation_cabasse!$D18+1,FALSE)))","v":""},{"$f":"preparation_cabasse!Y18","v":"FFI"},null,{"$f":"IF(AJ18=\"\",\"\",IF(AJ18=preparation_cabasse!Z18,\"OK\",\"FAUX\"))","v":""},"",{"$f":"IF(AJ18=\"\",\"\",IF(AK18=\"OK\",\"\",VLOOKUP(AJ18,index_cabasse!$C$5:$O$89,preparation_cabasse!$D18+1,FALSE)))","v":""},{"$f":"preparation_cabasse!AB18","v":"FFY"},null,{"$f":"IF(AO18=\"\",\"\",IF(AO18=preparation_cabasse!AC18,\"OK\",\"FAUX\"))","v":""},"",{"$f":"IF(AO18=\"\",\"\",IF(AP18=\"OK\",\"\",VLOOKUP(AO18,index_cabasse!$C$5:$O$89,preparation_cabasse!$D18+1,FALSE)))","v":""},{"$f":"preparation_cabasse!AE18","v":"FFZ"},null,{"$f":"IF(AT18=\"\",\"\",IF(AT18=preparation_cabasse!AF18,\"OK\",\"FAUX\"))","v":""},"",{"$f":"IF(AT18=\"\",\"\",IF(AU18=\"OK\",\"\",VLOOKUP(AT18,index_cabasse!$C$5:$O$89,preparation_cabasse!$D18+1,FALSE)))","v":""},{"$f":"preparation_cabasse!AH18","v":"FFP"},null,{"$f":"IF(AY18=\"\",\"\",IF(AY18=preparation_cabasse!AI18,\"OK\",\"FAUX\"))","v":""},"",{"$f":"IF(AY18=\"\",\"\",IF(AZ18=\"OK\",\"\",VLOOKUP(AY18,index_cabasse!$C$5:$O$89,preparation_cabasse!$D18+1,FALSE)))","v":""}]
[{"$f":"preparation_cabasse!B19","v":"SAL"},{"$f":"preparation_cabasse!C19","v":"Calvin"},null,{"$f":"IF(preparation_cabasse!D19=\"\",\"\",preparation_cabasse!D19)","v":10},{"$f":"preparation_cabasse!G19","v":"FFT"},null,{"$f":"IF(F19=\"\",\"\",IF(F19=preparation_cabasse!H19,\"OK\",\"FAUX\"))","v":""},"",{"$f":"IF(F19=\"\",\"\",IF(G19=\"OK\",\"\",VLOOKUP(F19,index_cabasse!$C$5:$O$89,preparation_cabasse!$D19+1,FALSE)))","v":""},{"$f":"preparation_cabasse!J19","v":"EEW"},null,{"$f":"IF(K19=\"\",\"\",IF(K19=preparation_cabasse!K19,\"OK\",\"FAUX\"))","v":""},"",{"$f":"IF(K19=\"\",\"\",IF(L19=\"OK\",\"\",VLOOKUP(K19,index_cabasse!$C$5:$O$89,preparation_cabasse!$D19+1,FALSE)))","v":""},{"$f":"preparation_cabasse!M19","v":"HHA"},null,{"$f":"IF(P19=\"\",\"\",IF(P19=preparation_cabasse!N19,\"OK\",\"FAUX\"))","v":""},"",{"$f":"IF(P19=\"\",\"\",IF(Q19=\"OK\",\"\",VLOOKUP(P19,index_cabasse!$C$5:$O$89,preparation_cabasse!$D19+1,FALSE)))","v":""},{"$f":"preparation_cabasse!P19","v":"GGZ"},null,{"$f":"IF(U19=\"\",\"\",IF(U19=preparation_cabasse!Q19,\"OK\",\"FAUX\"))","v":""},"",{"$f":"IF(U19=\"\",\"\",IF(V19=\"OK\",\"\",VLOOKUP(U19,index_cabasse!$C$5:$O$89,preparation_cabasse!$D19+1,FALSE)))","v":""},{"$f":"preparation_cabasse!S19","v":"EEA"},null,{"$f":"IF(Z19=\"\",\"\",IF(Z19=preparation_cabasse!T19,\"OK\",\"FAUX\"))","v":""},"",{"$f":"IF(Z19=\"\",\"\",IF(AA19=\"OK\",\"\",VLOOKUP(Z19,index_cabasse!$C$5:$O$89,preparation_cabasse!$D19+1,FALSE)))","v":""},{"$f":"preparation_cabasse!V19","v":"FFW"},null,{"$f":"IF(AE19=\"\",\"\",IF(AE19=preparation_cabasse!W19,\"OK\",\"FAUX\"))","v":""},"",{"$f":"IF(AE19=\"\",\"\",IF(AF19=\"OK\",\"\",VLOOKUP(AE19,index_cabasse!$C$5:$O$89,preparation_cabasse!$D19+1,FALSE)))","v":""},{"$f":"preparation_cabasse!Y19","v":"EEH"},null,{"$f":"IF(AJ19=\"\",\"\",IF(AJ19=preparation_cabasse!Z19,\"OK\",\"FAUX\"))","v":""},"",{"$f":"IF(AJ19=\"\",\"\",IF(AK19=\"OK\",\"\",VLOOKUP(AJ19,index_cabasse!$C$5:$O$89,preparation_cabasse!$D19+1,FALSE)))","v":""},{"$f":"preparation_cabasse!AB19","v":"FFD"},null,{"$f":"IF(AO19=\"\",\"\",IF(AO19=preparation_cabasse!AC19,\"OK\",\"FAUX\"))","v":""},"",{"$f":"IF(AO19=\"\",\"\",IF(AP19=\"OK\",\"\",VLOOKUP(AO19,index_cabasse!$C$5:$O$89,preparation_cabasse!$D19+1,FALSE)))","v":""},{"$f":"preparation_cabasse!AE19","v":"GGM"},null,{"$f":"IF(AT19=\"\",\"\",IF(AT19=preparation_cabasse!AF19,\"OK\",\"FAUX\"))","v":""},"",{"$f":"IF(AT19=\"\",\"\",IF(AU19=\"OK\",\"\",VLOOKUP(AT19,index_cabasse!$C$5:$O$89,preparation_cabasse!$D19+1,FALSE)))","v":""},{"$f":"preparation_cabasse!AH19","v":"DDS"},null,{"$f":"IF(AY19=\"\",\"\",IF(AY19=preparation_cabasse!AI19,\"OK\",\"FAUX\"))","v":""},"",{"$f":"IF(AY19=\"\",\"\",IF(AZ19=\"OK\",\"\",VLOOKUP(AY19,index_cabasse!$C$5:$O$89,preparation_cabasse!$D19+1,FALSE)))","v":""}]
[{"$f":"preparation_cabasse!B20","v":"SIOUI"},{"$f":"preparation_cabasse!C20","v":"Salah"},null,{"$f":"IF(preparation_cabasse!D20=\"\",\"\",preparation_cabasse!D20)","v":10},{"$f":"preparation_cabasse!G20","v":"FFY"},null,{"$f":"IF(F20=\"\",\"\",IF(F20=preparation_cabasse!H20,\"OK\",\"FAUX\"))","v":""},"",{"$f":"IF(F20=\"\",\"\",IF(G20=\"OK\",\"\",VLOOKUP(F20,index_cabasse!$C$5:$O$89,preparation_cabasse!$D20+1,FALSE)))","v":""},{"$f":"preparation_cabasse!J20","v":"FFJ"},null,{"$f":"IF(K20=\"\",\"\",IF(K20=preparation_cabasse!K20,\"OK\",\"FAUX\"))","v":""},"",{"$f":"IF(K20=\"\",\"\",IF(L20=\"OK\",\"\",VLOOKUP(K20,index_cabasse!$C$5:$O$89,preparation_cabasse!$D20+1,FALSE)))","v":""},{"$f":"preparation_cabasse!M20","v":"FFN"},null,{"$f":"IF(P20=\"\",\"\",IF(P20=preparation_cabasse!N20,\"OK\",\"FAUX\"))","v":""},"",{"$f":"IF(P20=\"\",\"\",IF(Q20=\"OK\",\"\",VLOOKUP(P20,index_cabasse!$C$5:$O$89,preparation_cabasse!$D20+1,FALSE)))","v":""},{"$f":"preparation_cabasse!P20","v":"DDS"},null,{"$f":"IF(U20=\"\",\"\",IF(U20=preparation_cabasse!Q20,\"OK\",\"FAUX\"))","v":""},"",{"$f":"IF(U20=\"\",\"\",IF(V20=\"OK\",\"\",VLOOKUP(U20,index_cabasse!$C$5:$O$89,preparation_cabasse!$D20+1,FALSE)))","v":""},{"$f":"preparation_cabasse!S20","v":"FFI"},null,{"$f":"IF(Z20=\"\",\"\",IF(Z20=preparation_cabasse!T20,\"OK\",\"FAUX\"))","v":""},"",{"$f":"IF(Z20=\"\",\"\",IF(AA20=\"OK\",\"\",VLOOKUP(Z20,index_cabasse!$C$5:$O$89,preparation_cabasse!$D20+1,FALSE)))","v":""},{"$f":"preparation_cabasse!V20","v":"GGO"},null,{"$f":"IF(AE20=\"\",\"\",IF(AE20=preparation_cabasse!W20,\"OK\",\"FAUX\"))","v":""},"",{"$f":"IF(AE20=\"\",\"\",IF(AF20=\"OK\",\"\",VLOOKUP(AE20,index_cabasse!$C$5:$O$89,preparation_cabasse!$D20+1,FALSE)))","v":""},{"$f":"preparation_cabasse!Y20","v":"GGL"},null,{"$f":"IF(AJ20=\"\",\"\",IF(AJ20=preparation_cabasse!Z20,\"OK\",\"FAUX\"))","v":""},"",{"$f":"IF(AJ20=\"\",\"\",IF(AK20=\"OK\",\"\",VLOOKUP(AJ20,index_cabasse!$C$5:$O$89,preparation_cabasse!$D20+1,FALSE)))","v":""},{"$f":"preparation_cabasse!AB20","v":"GGF"},null,{"$f":"IF(AO20=\"\",\"\",IF(AO20=preparation_cabasse!AC20,\"OK\",\"FAUX\"))","v":""},"",{"$f":"IF(AO20=\"\",\"\",IF(AP20=\"OK\",\"\",VLOOKUP(AO20,index_cabasse!$C$5:$O$89,preparation_cabasse!$D20+1,FALSE)))","v":""},{"$f":"preparation_cabasse!AE20","v":"FFE"},null,{"$f":"IF(AT20=\"\",\"\",IF(AT20=preparation_cabasse!AF20,\"OK\",\"FAUX\"))","v":""},"",{"$f":"IF(AT20=\"\",\"\",IF(AU20=\"OK\",\"\",VLOOKUP(AT20,index_cabasse!$C$5:$O$89,preparation_cabasse!$D20+1,FALSE)))","v":""},{"$f":"preparation_cabasse!AH20","v":"FFY"},null,{"$f":"IF(AY20=\"\",\"\",IF(AY20=preparation_cabasse!AI20,\"OK\",\"FAUX\"))","v":""},"",{"$f":"IF(AY20=\"\",\"\",IF(AZ20=\"OK\",\"\",VLOOKUP(AY20,index_cabasse!$C$5:$O$89,preparation_cabasse!$D20+1,FALSE)))","v":""}]
[{"$f":"preparation_cabasse!B21","v":"TADEVA"},{"$f":"preparation_cabasse!C21","v":"Khatmat"},null,{"$f":"IF(preparation_cabasse!D21=\"\",\"\",preparation_cabasse!D21)","v":10},{"$f":"preparation_cabasse!G21","v":"GGI"},null,{"$f":"IF(F21=\"\",\"\",IF(F21=preparation_cabasse!H21,\"OK\",\"FAUX\"))","v":""},"",{"$f":"IF(F21=\"\",\"\",IF(G21=\"OK\",\"\",VLOOKUP(F21,index_cabasse!$C$5:$O$89,preparation_cabasse!$D21+1,FALSE)))","v":""},{"$f":"preparation_cabasse!J21","v":"EEV"},null,{"$f":"IF(K21=\"\",\"\",IF(K21=preparation_cabasse!K21,\"OK\",\"FAUX\"))","v":""},"",{"$f":"IF(K21=\"\",\"\",IF(L21=\"OK\",\"\",VLOOKUP(K21,index_cabasse!$C$5:$O$89,preparation_cabasse!$D21+1,FALSE)))","v":""},{"$f":"preparation_cabasse!M21","v":"EEG"},null,{"$f":"IF(P21=\"\",\"\",IF(P21=preparation_cabasse!N21,\"OK\",\"FAUX\"))","v":""},"",{"$f":"IF(P21=\"\",\"\",IF(Q21=\"OK\",\"\",VLOOKUP(P21,index_cabasse!$C$5:$O$89,preparation_cabasse!$D21+1,FALSE)))","v":""},{"$f":"preparation_cabasse!P21","v":"GGS"},null,{"$f":"IF(U21=\"\",\"\",IF(U21=preparation_cabasse!Q21,\"OK\",\"FAUX\"))","v":""},"",{"$f":"IF(U21=\"\",\"\",IF(V21=\"OK\",\"\",VLOOKUP(U21,index_cabasse!$C$5:$O$89,preparation_cabasse!$D21+1,FALSE)))","v":""},{"$f":"preparation_cabasse!S21","v":"FFU"},null,{"$f":"IF(Z21=\"\",\"\",IF(Z21=preparation_cabasse!T21,\"OK\",\"FAUX\"))","v":""},"",{"$f":"IF(Z21=\"\",\"\",IF(AA21=\"OK\",\"\",VLOOKUP(Z21,index_cabasse!$C$5:$O$89,preparation_cabasse!$D21+1,FALSE)))","v":""},{"$f":"preparation_cabasse!V21","v":"EED"},null,{"$f":"IF(AE21=\"\",\"\",IF(AE21=preparation_cabasse!W21,\"OK\",\"FAUX\"))","v":""},"",{"$f":"IF(AE21=\"\",\"\",IF(AF21=\"OK\",\"\",VLOOKUP(AE21,index_cabasse!$C$5:$O$89,preparation_cabasse!$D21+1,FALSE)))","v":""},{"$f":"preparation_cabasse!Y21","v":"GGA"},null,{"$f":"IF(AJ21=\"\",\"\",IF(AJ21=preparation_cabasse!Z21,\"OK\",\"FAUX\"))","v":""},"",{"$f":"IF(AJ21=\"\",\"\",IF(AK21=\"OK\",\"\",VLOOKUP(AJ21,index_cabasse!$C$5:$O$89,preparation_cabasse!$D21+1,FALSE)))","v":""},{"$f":"preparation_cabasse!AB21","v":"FFO"},null,{"$f":"IF(AO21=\"\",\"\",IF(AO21=preparation_cabasse!AC21,\"OK\",\"FAUX\"))","v":""},"",{"$f":"IF(AO21=\"\",\"\",IF(AP21=\"OK\",\"\",VLOOKUP(AO21,index_cabasse!$C$5:$O$89,preparation_cabasse!$D21+1,FALSE)))","v":""},{"$f":"preparation_cabasse!AE21","v":"GGI"},null,{"$f":"IF(AT21=\"\",\"\",IF(AT21=preparation_cabasse!AF21,\"OK\",\"FAUX\"))","v":""},"",{"$f":"IF(AT21=\"\",\"\",IF(AU21=\"OK\",\"\",VLOOKUP(AT21,index_cabasse!$C$5:$O$89,preparation_cabasse!$D21+1,FALSE)))","v":""},{"$f":"preparation_cabasse!AH21","v":"GGV"},null,{"$f":"IF(AY21=\"\",\"\",IF(AY21=preparation_cabasse!AI21,\"OK\",\"FAUX\"))","v":""},"",{"$f":"IF(AY21=\"\",\"\",IF(AZ21=\"OK\",\"\",VLOOKUP(AY21,index_cabasse!$C$5:$O$89,preparation_cabasse!$D21+1,FALSE)))","v":""}]
[{"$f":"preparation_cabasse!B22","v":"TEEC"},{"$f":"preparation_cabasse!C22","v":"Victor"},null,{"$f":"IF(preparation_cabasse!D22=\"\",\"\",preparation_cabasse!D22)","v":10},{"$f":"preparation_cabasse!G22","v":"FFV"},null,{"$f":"IF(F22=\"\",\"\",IF(F22=preparation_cabasse!H22,\"OK\",\"FAUX\"))","v":""},"",{"$f":"IF(F22=\"\",\"\",IF(G22=\"OK\",\"\",VLOOKUP(F22,index_cabasse!$C$5:$O$89,preparation_cabasse!$D22+1,FALSE)))","v":""},{"$f":"preparation_cabasse!J22","v":"GGV"},null,{"$f":"IF(K22=\"\",\"\",IF(K22=preparation_cabasse!K22,\"OK\",\"FAUX\"))","v":""},"",{"$f":"IF(K22=\"\",\"\",IF(L22=\"OK\",\"\",VLOOKUP(K22,index_cabasse!$C$5:$O$89,preparation_cabasse!$D22+1,FALSE)))","v":""},{"$f":"preparation_cabasse!M22","v":"FFS"},null,{"$f":"IF(P22=\"\",\"\",IF(P22=preparation_cabasse!N22,\"OK\",\"FAUX\"))","v":""},"",{"$f":"IF(P22=\"\",\"\",IF(Q22=\"OK\",\"\",VLOOKUP(P22,index_cabasse!$C$5:$O$89,preparation_cabasse!$D22+1,FALSE)))","v":""},{"$f":"preparation_cabasse!P22","v":"GGV"},null,{"$f":"IF(U22=\"\",\"\",IF(U22=preparation_cabasse!Q22,\"OK\",\"FAUX\"))","v":""},"",{"$f":"IF(U22=\"\",\"\",IF(V22=\"OK\",\"\",VLOOKUP(U22,index_cabasse!$C$5:$O$89,preparation_cabasse!$D22+1,FALSE)))","v":""},{"$f":"preparation_cabasse!S22","v":"FFP"},null,{"$f":"IF(Z22=\"\",\"\",IF(Z22=preparation_cabasse!T22,\"OK\",\"FAUX\"))","v":""},"",{"$f":"IF(Z22=\"\",\"\",IF(AA22=\"OK\",\"\",VLOOKUP(Z22,index_cabasse!$C$5:$O$89,preparation_cabasse!$D22+1,FALSE)))","v":""},{"$f":"preparation_cabasse!V22","v":"GGY"},null,{"$f":"IF(AE22=\"\",\"\",IF(AE22=preparation_cabasse!W22,\"OK\",\"FAUX\"))","v":""},"",{"$f":"IF(AE22=\"\",\"\",IF(AF22=\"OK\",\"\",VLOOKUP(AE22,index_cabasse!$C$5:$O$89,preparation_cabasse!$D22+1,FALSE)))","v":""},{"$f":"preparation_cabasse!Y22","v":"EEA"},null,{"$f":"IF(AJ22=\"\",\"\",IF(AJ22=preparation_cabasse!Z22,\"OK\",\"FAUX\"))","v":""},"",{"$f":"IF(AJ22=\"\",\"\",IF(AK22=\"OK\",\"\",VLOOKUP(AJ22,index_cabasse!$C$5:$O$89,preparation_cabasse!$D22+1,FALSE)))","v":""},{"$f":"preparation_cabasse!AB22","v":"EER"},null,{"$f":"IF(AO22=\"\",\"\",IF(AO22=preparation_cabasse!AC22,\"OK\",\"FAUX\"))","v":""},"",{"$f":"IF(AO22=\"\",\"\",IF(AP22=\"OK\",\"\",VLOOKUP(AO22,index_cabasse!$C$5:$O$89,preparation_cabasse!$D22+1,FALSE)))","v":""},{"$f":"preparation_cabasse!AE22","v":"FFD"},null,{"$f":"IF(AT22=\"\",\"\",IF(AT22=preparation_cabasse!AF22,\"OK\",\"FAUX\"))","v":""},"",{"$f":"IF(AT22=\"\",\"\",IF(AU22=\"OK\",\"\",VLOOKUP(AT22,index_cabasse!$C$5:$O$89,preparation_cabasse!$D22+1,FALSE)))","v":""},{"$f":"preparation_cabasse!AH22","v":"FFM"},null,{"$f":"IF(AY22=\"\",\"\",IF(AY22=preparation_cabasse!AI22,\"OK\",\"FAUX\"))","v":""},"",{"$f":"IF(AY22=\"\",\"\",IF(AZ22=\"OK\",\"\",VLOOKUP(AY22,index_cabasse!$C$5:$O$89,preparation_cabasse!$D22+1,FALSE)))","v":""}]
[{"$f":"preparation_cabasse!B23","v":"TEJOR"},{"$f":"preparation_cabasse!C23","v":"Carla"},null,{"$f":"IF(preparation_cabasse!D23=\"\",\"\",preparation_cabasse!D23)","v":10},{"$f":"preparation_cabasse!G23","v":"EER"},null,{"$f":"IF(F23=\"\",\"\",IF(F23=preparation_cabasse!H23,\"OK\",\"FAUX\"))","v":""},"",{"$f":"IF(F23=\"\",\"\",IF(G23=\"OK\",\"\",VLOOKUP(F23,index_cabasse!$C$5:$O$89,preparation_cabasse!$D23+1,FALSE)))","v":""},{"$f":"preparation_cabasse!J23","v":"GGL"},null,{"$f":"IF(K23=\"\",\"\",IF(K23=preparation_cabasse!K23,\"OK\",\"FAUX\"))","v":""},"",{"$f":"IF(K23=\"\",\"\",IF(L23=\"OK\",\"\",VLOOKUP(K23,index_cabasse!$C$5:$O$89,preparation_cabasse!$D23+1,FALSE)))","v":""},{"$f":"preparation_cabasse!M23","v":"GGH"},null,{"$f":"IF(P23=\"\",\"\",IF(P23=preparation_cabasse!N23,\"OK\",\"FAUX\"))","v":""},"",{"$f":"IF(P23=\"\",\"\",IF(Q23=\"OK\",\"\",VLOOKUP(P23,index_cabasse!$C$5:$O$89,preparation_cabasse!$D23+1,FALSE)))","v":""},{"$f":"preparation_cabasse!P23","v":"GGC"},null,{"$f":"IF(U23=\"\",\"\",IF(U23=preparation_cabasse!Q23,\"OK\",\"FAUX\"))","v":""},"",{"$f":"IF(U23=\"\",\"\",IF(V23=\"OK\",\"\",VLOOKUP(U23,index_cabasse!$C$5:$O$89,preparation_cabasse!$D23+1,FALSE)))","v":""},{"$f":"preparation_cabasse!S23","v":"FFN"},null,{"$f":"IF(Z23=\"\",\"\",IF(Z23=preparation_cabasse!T23,\"OK\",\"FAUX\"))","v":""},"",{"$f":"IF(Z23=\"\",\"\",IF(AA23=\"OK\",\"\",VLOOKUP(Z23,index_cabasse!$C$5:$O$89,preparation_cabasse!$D23+1,FALSE)))","v":""},{"$f":"preparation_cabasse!V23","v":"GGK"},null,{"$f":"IF(AE23=\"\",\"\",IF(AE23=preparation_cabasse!W23,\"OK\",\"FAUX\"))","v":""},"",{"$f":"IF(AE23=\"\",\"\",IF(AF23=\"OK\",\"\",VLOOKUP(AE23,index_cabasse!$C$5:$O$89,preparation_cabasse!$D23+1,FALSE)))","v":""},{"$f":"preparation_cabasse!Y23","v":"EEQ"},null,{"$f":"IF(AJ23=\"\",\"\",IF(AJ23=preparation_cabasse!Z23,\"OK\",\"FAUX\"))","v":""},"",{"$f":"IF(AJ23=\"\",\"\",IF(AK23=\"OK\",\"\",VLOOKUP(AJ23,index_cabasse!$C$5:$O$89,preparation_cabasse!$D23+1,FALSE)))","v":""},{"$f":"preparation_cabasse!AB23","v":"EEP"},null,{"$f":"IF(AO23=\"\",\"\",IF(AO23=preparation_cabasse!AC23,\"OK\",\"FAUX\"))","v":""},"",{"$f":"IF(AO23=\"\",\"\",IF(AP23=\"OK\",\"\",VLOOKUP(AO23,index_cabasse!$C$5:$O$89,preparation_cabasse!$D23+1,FALSE)))","v":""},{"$f":"preparation_cabasse!AE23","v":"EEG"},null,{"$f":"IF(AT23=\"\",\"\",IF(AT23=preparation_cabasse!AF23,\"OK\",\"FAUX\"))","v":""},"",{"$f":"IF(AT23=\"\",\"\",IF(AU23=\"OK\",\"\",VLOOKUP(AT23,index_cabasse!$C$5:$O$89,preparation_cabasse!$D23+1,FALSE)))","v":""},{"$f":"preparation_cabasse!AH23","v":"FFG"},null,{"$f":"IF(AY23=\"\",\"\",IF(AY23=preparation_cabasse!AI23,\"OK\",\"FAUX\"))","v":""},"",{"$f":"IF(AY23=\"\",\"\",IF(AZ23=\"OK\",\"\",VLOOKUP(AY23,index_cabasse!$C$5:$O$89,preparation_cabasse!$D23+1,FALSE)))","v":""}]
[{"$f":"preparation_cabasse!B24","v":"THIER"},{"$f":"preparation_cabasse!C24","v":"Andrea"},null,{"$f":"IF(preparation_cabasse!D24=\"\",\"\",preparation_cabasse!D24)","v":10},{"$f":"preparation_cabasse!G24","v":"GGN"},null,{"$f":"IF(F24=\"\",\"\",IF(F24=preparation_cabasse!H24,\"OK\",\"FAUX\"))","v":""},"",{"$f":"IF(F24=\"\",\"\",IF(G24=\"OK\",\"\",VLOOKUP(F24,index_cabasse!$C$5:$O$89,preparation_cabasse!$D24+1,FALSE)))","v":""},{"$f":"preparation_cabasse!J24","v":"FFT"},null,{"$f":"IF(K24=\"\",\"\",IF(K24=preparation_cabasse!K24,\"OK\",\"FAUX\"))","v":""},"",{"$f":"IF(K24=\"\",\"\",IF(L24=\"OK\",\"\",VLOOKUP(K24,index_cabasse!$C$5:$O$89,preparation_cabasse!$D24+1,FALSE)))","v":""},{"$f":"preparation_cabasse!M24","v":"EED"},null,{"$f":"IF(P24=\"\",\"\",IF(P24=preparation_cabasse!N24,\"OK\",\"FAUX\"))","v":""},"",{"$f":"IF(P24=\"\",\"\",IF(Q24=\"OK\",\"\",VLOOKUP(P24,index_cabasse!$C$5:$O$89,preparation_cabasse!$D24+1,FALSE)))","v":""},{"$f":"preparation_cabasse!P24","v":"GGF"},null,{"$f":"IF(U24=\"\",\"\",IF(U24=preparation_cabasse!Q24,\"OK\",\"FAUX\"))","v":""},"",{"$f":"IF(U24=\"\",\"\",IF(V24=\"OK\",\"\",VLOOKUP(U24,index_cabasse!$C$5:$O$89,preparation_cabasse!$D24+1,FALSE)))","v":""},{"$f":"preparation_cabasse!S24","v":"EES"},null,{"$f":"IF(Z24=\"\",\"\",IF(Z24=preparation_cabasse!T24,\"OK\",\"FAUX\"))","v":""},"",{"$f":"IF(Z24=\"\",\"\",IF(AA24=\"OK\",\"\",VLOOKUP(Z24,index_cabasse!$C$5:$O$89,preparation_cabasse!$D24+1,FALSE)))","v":""},{"$f":"preparation_cabasse!V24","v":"DDY"},null,{"$f":"IF(AE24=\"\",\"\",IF(AE24=preparation_cabasse!W24,\"OK\",\"FAUX\"))","v":""},"",{"$f":"IF(AE24=\"\",\"\",IF(AF24=\"OK\",\"\",VLOOKUP(AE24,index_cabasse!$C$5:$O$89,preparation_cabasse!$D24+1,FALSE)))","v":""},{"$f":"preparation_cabasse!Y24","v":"EEG"},null,{"$f":"IF(AJ24=\"\",\"\",IF(AJ24=preparation_cabasse!Z24,\"OK\",\"FAUX\"))","v":""},"",{"$f":"IF(AJ24=\"\",\"\",IF(AK24=\"OK\",\"\",VLOOKUP(AJ24,index_cabasse!$C$5:$O$89,preparation_cabasse!$D24+1,FALSE)))","v":""},{"$f":"preparation_cabasse!AB24","v":"GGE"},null,{"$f":"IF(AO24=\"\",\"\",IF(AO24=preparation_cabasse!AC24,\"OK\",\"FAUX\"))","v":""},"",{"$f":"IF(AO24=\"\",\"\",IF(AP24=\"OK\",\"\",VLOOKUP(AO24,index_cabasse!$C$5:$O$89,preparation_cabasse!$D24+1,FALSE)))","v":""},{"$f":"preparation_cabasse!AE24","v":"FFS"},null,{"$f":"IF(AT24=\"\",\"\",IF(AT24=preparation_cabasse!AF24,\"OK\",\"FAUX\"))","v":""},"",{"$f":"IF(AT24=\"\",\"\",IF(AU24=\"OK\",\"\",VLOOKUP(AT24,index_cabasse!$C$5:$O$89,preparation_cabasse!$D24+1,FALSE)))","v":""},{"$f":"preparation_cabasse!AH24","v":"EEA"},null,{"$f":"IF(AY24=\"\",\"\",IF(AY24=preparation_cabasse!AI24,\"OK\",\"FAUX\"))","v":""},"",{"$f":"IF(AY24=\"\",\"\",IF(AZ24=\"OK\",\"\",VLOOKUP(AY24,index_cabasse!$C$5:$O$89,preparation_cabasse!$D24+1,FALSE)))","v":""}]
[{"$f":"preparation_cabasse!B25","v":"YI"},{"$f":"preparation_cabasse!C25","v":"William"},null,{"$f":"IF(preparation_cabasse!D25=\"\",\"\",preparation_cabasse!D25)","v":10},{"$f":"preparation_cabasse!G25","v":"DDZ"},null,{"$f":"IF(F25=\"\",\"\",IF(F25=preparation_cabasse!H25,\"OK\",\"FAUX\"))","v":""},"",{"$f":"IF(F25=\"\",\"\",IF(G25=\"OK\",\"\",VLOOKUP(F25,index_cabasse!$C$5:$O$89,preparation_cabasse!$D25+1,FALSE)))","v":""},{"$f":"preparation_cabasse!J25","v":"EEZ"},null,{"$f":"IF(K25=\"\",\"\",IF(K25=preparation_cabasse!K25,\"OK\",\"FAUX\"))","v":""},"",{"$f":"IF(K25=\"\",\"\",IF(L25=\"OK\",\"\",VLOOKUP(K25,index_cabasse!$C$5:$O$89,preparation_cabasse!$D25+1,FALSE)))","v":""},{"$f":"preparation_cabasse!M25","v":"GGL"},null,{"$f":"IF(P25=\"\",\"\",IF(P25=preparation_cabasse!N25,\"OK\",\"FAUX\"))","v":""},"",{"$f":"IF(P25=\"\",\"\",IF(Q25=\"OK\",\"\",VLOOKUP(P25,index_cabasse!$C$5:$O$89,preparation_cabasse!$D25+1,FALSE)))","v":""},{"$f":"preparation_cabasse!P25","v":"EEH"},null,{"$f":"IF(U25=\"\",\"\",IF(U25=preparation_cabasse!Q25,\"OK\",\"FAUX\"))","v":""},"",{"$f":"IF(U25=\"\",\"\",IF(V25=\"OK\",\"\",VLOOKUP(U25,index_cabasse!$C$5:$O$89,preparation_cabasse!$D25+1,FALSE)))","v":""},{"$f":"preparation_cabasse!S25","v":"FFL"},null,{"$f":"IF(Z25=\"\",\"\",IF(Z25=preparation_cabasse!T25,\"OK\",\"FAUX\"))","v":""},"",{"$f":"IF(Z25=\"\",\"\",IF(AA25=\"OK\",\"\",VLOOKUP(Z25,index_cabasse!$C$5:$O$89,preparation_cabasse!$D25+1,FALSE)))","v":""},{"$f":"preparation_cabasse!V25","v":"EEU"},null,{"$f":"IF(AE25=\"\",\"\",IF(AE25=preparation_cabasse!W25,\"OK\",\"FAUX\"))","v":""},"",{"$f":"IF(AE25=\"\",\"\",IF(AF25=\"OK\",\"\",VLOOKUP(AE25,index_cabasse!$C$5:$O$89,preparation_cabasse!$D25+1,FALSE)))","v":""},{"$f":"preparation_cabasse!Y25","v":"GGQ"},null,{"$f":"IF(AJ25=\"\",\"\",IF(AJ25=preparation_cabasse!Z25,\"OK\",\"FAUX\"))","v":""},"",{"$f":"IF(AJ25=\"\",\"\",IF(AK25=\"OK\",\"\",VLOOKUP(AJ25,index_cabasse!$C$5:$O$89,preparation_cabasse!$D25+1,FALSE)))","v":""},{"$f":"preparation_cabasse!AB25","v":"EEH"},null,{"$f":"IF(AO25=\"\",\"\",IF(AO25=preparation_cabasse!AC25,\"OK\",\"FAUX\"))","v":""},"",{"$f":"IF(AO25=\"\",\"\",IF(AP25=\"OK\",\"\",VLOOKUP(AO25,index_cabasse!$C$5:$O$89,preparation_cabasse!$D25+1,FALSE)))","v":""},{"$f":"preparation_cabasse!AE25","v":"EEA"},null,{"$f":"IF(AT25=\"\",\"\",IF(AT25=preparation_cabasse!AF25,\"OK\",\"FAUX\"))","v":""},"",{"$f":"IF(AT25=\"\",\"\",IF(AU25=\"OK\",\"\",VLOOKUP(AT25,index_cabasse!$C$5:$O$89,preparation_cabasse!$D25+1,FALSE)))","v":""},{"$f":"preparation_cabasse!AH25","v":"FFP"},null,{"$f":"IF(AY25=\"\",\"\",IF(AY25=preparation_cabasse!AI25,\"OK\",\"FAUX\"))","v":""},"",{"$f":"IF(AY25=\"\",\"\",IF(AZ25=\"OK\",\"\",VLOOKUP(AY25,index_cabasse!$C$5:$O$89,preparation_cabasse!$D25+1,FALSE)))","v":""}]
[{"$f":"preparation_cabasse!B26","v":""},{"$f":"preparation_cabasse!C26","v":""},null,{"$f":"IF(preparation_cabasse!D26=\"\",\"\",preparation_cabasse!D26)","v":10},{"$f":"preparation_cabasse!G26","v":""},null,{"$f":"IF(F26=\"\",\"\",IF(F26=preparation_cabasse!H26,\"OK\",\"FAUX\"))","v":""},"",{"$f":"IF(F26=\"\",\"\",IF(G26=\"OK\",\"\",VLOOKUP(F26,index_cabasse!$C$5:$O$89,preparation_cabasse!$D26+1,FALSE)))","v":""},{"$f":"preparation_cabasse!J26","v":""},null,{"$f":"IF(K26=\"\",\"\",IF(K26=preparation_cabasse!K26,\"OK\",\"FAUX\"))","v":""},"",{"$f":"IF(K26=\"\",\"\",IF(L26=\"OK\",\"\",VLOOKUP(K26,index_cabasse!$C$5:$O$89,preparation_cabasse!$D26+1,FALSE)))","v":""},{"$f":"preparation_cabasse!M26","v":""},null,{"$f":"IF(P26=\"\",\"\",IF(P26=preparation_cabasse!N26,\"OK\",\"FAUX\"))","v":""},"",{"$f":"IF(P26=\"\",\"\",IF(Q26=\"OK\",\"\",VLOOKUP(P26,index_cabasse!$C$5:$O$89,preparation_cabasse!$D26+1,FALSE)))","v":""},{"$f":"preparation_cabasse!P26","v":""},null,{"$f":"IF(U26=\"\",\"\",IF(U26=preparation_cabasse!Q26,\"OK\",\"FAUX\"))","v":""},"",{"$f":"IF(U26=\"\",\"\",IF(V26=\"OK\",\"\",VLOOKUP(U26,index_cabasse!$C$5:$O$89,preparation_cabasse!$D26+1,FALSE)))","v":""},{"$f":"preparation_cabasse!S26","v":""},null,{"$f":"IF(Z26=\"\",\"\",IF(Z26=preparation_cabasse!T26,\"OK\",\"FAUX\"))","v":""},"",{"$f":"IF(Z26=\"\",\"\",IF(AA26=\"OK\",\"\",VLOOKUP(Z26,index_cabasse!$C$5:$O$89,preparation_cabasse!$D26+1,FALSE)))","v":""},{"$f":"preparation_cabasse!V26","v":""},null,{"$f":"IF(AE26=\"\",\"\",IF(AE26=preparation_cabasse!W26,\"OK\",\"FAUX\"))","v":""},"",{"$f":"IF(AE26=\"\",\"\",IF(AF26=\"OK\",\"\",VLOOKUP(AE26,index_cabasse!$C$5:$O$89,preparation_cabasse!$D26+1,FALSE)))","v":""},{"$f":"preparation_cabasse!Y26","v":""},null,{"$f":"IF(AJ26=\"\",\"\",IF(AJ26=preparation_cabasse!Z26,\"OK\",\"FAUX\"))","v":""},"",{"$f":"IF(AJ26=\"\",\"\",IF(AK26=\"OK\",\"\",VLOOKUP(AJ26,index_cabasse!$C$5:$O$89,preparation_cabasse!$D26+1,FALSE)))","v":""},{"$f":"preparation_cabasse!AB26","v":""},null,{"$f":"IF(AO26=\"\",\"\",IF(AO26=preparation_cabasse!AC26,\"OK\",\"FAUX\"))","v":""},"",{"$f":"IF(AO26=\"\",\"\",IF(AP26=\"OK\",\"\",VLOOKUP(AO26,index_cabasse!$C$5:$O$89,preparation_cabasse!$D26+1,FALSE)))","v":""},{"$f":"preparation_cabasse!AE26","v":""},null,{"$f":"IF(AT26=\"\",\"\",IF(AT26=preparation_cabasse!AF26,\"OK\",\"FAUX\"))","v":""},"",{"$f":"IF(AT26=\"\",\"\",IF(AU26=\"OK\",\"\",VLOOKUP(AT26,index_cabasse!$C$5:$O$89,preparation_cabasse!$D26+1,FALSE)))","v":""},{"$f":"preparation_cabasse!AH26","v":""},null,{"$f":"IF(AY26=\"\",\"\",IF(AY26=preparation_cabasse!AI26,\"OK\",\"FAUX\"))","v":""},"",{"$f":"IF(AY26=\"\",\"\",IF(AZ26=\"OK\",\"\",VLOOKUP(AY26,index_cabasse!$C$5:$O$89,preparation_cabasse!$D26+1,FALSE)))","v":""}]
[{"$f":"preparation_cabasse!B27","v":""},{"$f":"preparation_cabasse!C27","v":""},null,{"$f":"IF(preparation_cabasse!D27=\"\",\"\",preparation_cabasse!D27)","v":10},{"$f":"preparation_cabasse!G27","v":""},null,{"$f":"IF(F27=\"\",\"\",IF(F27=preparation_cabasse!H27,\"OK\",\"FAUX\"))","v":""},"",{"$f":"IF(F27=\"\",\"\",IF(G27=\"OK\",\"\",VLOOKUP(F27,index_cabasse!$C$5:$O$89,preparation_cabasse!$D27+1,FALSE)))","v":""},{"$f":"preparation_cabasse!J27","v":""},null,{"$f":"IF(K27=\"\",\"\",IF(K27=preparation_cabasse!K27,\"OK\",\"FAUX\"))","v":""},"",{"$f":"IF(K27=\"\",\"\",IF(L27=\"OK\",\"\",VLOOKUP(K27,index_cabasse!$C$5:$O$89,preparation_cabasse!$D27+1,FALSE)))","v":""},{"$f":"preparation_cabasse!M27","v":""},null,{"$f":"IF(P27=\"\",\"\",IF(P27=preparation_cabasse!N27,\"OK\",\"FAUX\"))","v":""},"",{"$f":"IF(P27=\"\",\"\",IF(Q27=\"OK\",\"\",VLOOKUP(P27,index_cabasse!$C$5:$O$89,preparation_cabasse!$D27+1,FALSE)))","v":""},{"$f":"preparation_cabasse!P27","v":""},null,{"$f":"IF(U27=\"\",\"\",IF(U27=preparation_cabasse!Q27,\"OK\",\"FAUX\"))","v":""},"",{"$f":"IF(U27=\"\",\"\",IF(V27=\"OK\",\"\",VLOOKUP(U27,index_cabasse!$C$5:$O$89,preparation_cabasse!$D27+1,FALSE)))","v":""},{"$f":"preparation_cabasse!S27","v":""},null,{"$f":"IF(Z27=\"\",\"\",IF(Z27=preparation_cabasse!T27,\"OK\",\"FAUX\"))","v":""},"",{"$f":"IF(Z27=\"\",\"\",IF(AA27=\"OK\",\"\",VLOOKUP(Z27,index_cabasse!$C$5:$O$89,preparation_cabasse!$D27+1,FALSE)))","v":""},{"$f":"preparation_cabasse!V27","v":""},null,{"$f":"IF(AE27=\"\",\"\",IF(AE27=preparation_cabasse!W27,\"OK\",\"FAUX\"))","v":""},"",{"$f":"IF(AE27=\"\",\"\",IF(AF27=\"OK\",\"\",VLOOKUP(AE27,index_cabasse!$C$5:$O$89,preparation_cabasse!$D27+1,FALSE)))","v":""},{"$f":"preparation_cabasse!Y27","v":""},null,{"$f":"IF(AJ27=\"\",\"\",IF(AJ27=preparation_cabasse!Z27,\"OK\",\"FAUX\"))","v":""},"",{"$f":"IF(AJ27=\"\",\"\",IF(AK27=\"OK\",\"\",VLOOKUP(AJ27,index_cabasse!$C$5:$O$89,preparation_cabasse!$D27+1,FALSE)))","v":""},{"$f":"preparation_cabasse!AB27","v":""},null,{"$f":"IF(AO27=\"\",\"\",IF(AO27=preparation_cabasse!AC27,\"OK\",\"FAUX\"))","v":""},"",{"$f":"IF(AO27=\"\",\"\",IF(AP27=\"OK\",\"\",VLOOKUP(AO27,index_cabasse!$C$5:$O$89,preparation_cabasse!$D27+1,FALSE)))","v":""},{"$f":"preparation_cabasse!AE27","v":""},null,{"$f":"IF(AT27=\"\",\"\",IF(AT27=preparation_cabasse!AF27,\"OK\",\"FAUX\"))","v":""},"",{"$f":"IF(AT27=\"\",\"\",IF(AU27=\"OK\",\"\",VLOOKUP(AT27,index_cabasse!$C$5:$O$89,preparation_cabasse!$D27+1,FALSE)))","v":""},{"$f":"preparation_cabasse!AH27","v":""},null,{"$f":"IF(AY27=\"\",\"\",IF(AY27=preparation_cabasse!AI27,\"OK\",\"FAUX\"))","v":""},"",{"$f":"IF(AY27=\"\",\"\",IF(AZ27=\"OK\",\"\",VLOOKUP(AY27,index_cabasse!$C$5:$O$89,preparation_cabasse!$D27+1,FALSE)))","v":""}]
[{"$f":"preparation_cabasse!B28","v":""},{"$f":"preparation_cabasse!C28","v":""},null,{"$f":"IF(preparation_cabasse!D28=\"\",\"\",preparation_cabasse!D28)","v":10},{"$f":"preparation_cabasse!G28","v":""},null,{"$f":"IF(F28=\"\",\"\",IF(F28=preparation_cabasse!H28,\"OK\",\"FAUX\"))","v":""},"",{"$f":"IF(F28=\"\",\"\",IF(G28=\"OK\",\"\",VLOOKUP(F28,index_cabasse!$C$5:$O$89,preparation_cabasse!$D28+1,FALSE)))","v":""},{"$f":"preparation_cabasse!J28","v":""},null,{"$f":"IF(K28=\"\",\"\",IF(K28=preparation_cabasse!K28,\"OK\",\"FAUX\"))","v":""},"",{"$f":"IF(K28=\"\",\"\",IF(L28=\"OK\",\"\",VLOOKUP(K28,index_cabasse!$C$5:$O$89,preparation_cabasse!$D28+1,FALSE)))","v":""},{"$f":"preparation_cabasse!M28","v":""},null,{"$f":"IF(P28=\"\",\"\",IF(P28=preparation_cabasse!N28,\"OK\",\"FAUX\"))","v":""},"",{"$f":"IF(P28=\"\",\"\",IF(Q28=\"OK\",\"\",VLOOKUP(P28,index_cabasse!$C$5:$O$89,preparation_cabasse!$D28+1,FALSE)))","v":""},{"$f":"preparation_cabasse!P28","v":""},null,{"$f":"IF(U28=\"\",\"\",IF(U28=preparation_cabasse!Q28,\"OK\",\"FAUX\"))","v":""},"",{"$f":"IF(U28=\"\",\"\",IF(V28=\"OK\",\"\",VLOOKUP(U28,index_cabasse!$C$5:$O$89,preparation_cabasse!$D28+1,FALSE)))","v":""},{"$f":"preparation_cabasse!S28","v":""},null,{"$f":"IF(Z28=\"\",\"\",IF(Z28=preparation_cabasse!T28,\"OK\",\"FAUX\"))","v":""},"",{"$f":"IF(Z28=\"\",\"\",IF(AA28=\"OK\",\"\",VLOOKUP(Z28,index_cabasse!$C$5:$O$89,preparation_cabasse!$D28+1,FALSE)))","v":""},{"$f":"preparation_cabasse!V28","v":""},null,{"$f":"IF(AE28=\"\",\"\",IF(AE28=preparation_cabasse!W28,\"OK\",\"FAUX\"))","v":""},"",{"$f":"IF(AE28=\"\",\"\",IF(AF28=\"OK\",\"\",VLOOKUP(AE28,index_cabasse!$C$5:$O$89,preparation_cabasse!$D28+1,FALSE)))","v":""},{"$f":"preparation_cabasse!Y28","v":""},null,{"$f":"IF(AJ28=\"\",\"\",IF(AJ28=preparation_cabasse!Z28,\"OK\",\"FAUX\"))","v":""},"",{"$f":"IF(AJ28=\"\",\"\",IF(AK28=\"OK\",\"\",VLOOKUP(AJ28,index_cabasse!$C$5:$O$89,preparation_cabasse!$D28+1,FALSE)))","v":""},{"$f":"preparation_cabasse!AB28","v":""},null,{"$f":"IF(AO28=\"\",\"\",IF(AO28=preparation_cabasse!AC28,\"OK\",\"FAUX\"))","v":""},"",{"$f":"IF(AO28=\"\",\"\",IF(AP28=\"OK\",\"\",VLOOKUP(AO28,index_cabasse!$C$5:$O$89,preparation_cabasse!$D28+1,FALSE)))","v":""},{"$f":"preparation_cabasse!AE28","v":""},null,{"$f":"IF(AT28=\"\",\"\",IF(AT28=preparation_cabasse!AF28,\"OK\",\"FAUX\"))","v":""},"",{"$f":"IF(AT28=\"\",\"\",IF(AU28=\"OK\",\"\",VLOOKUP(AT28,index_cabasse!$C$5:$O$89,preparation_cabasse!$D28+1,FALSE)))","v":""},{"$f":"preparation_cabasse!AH28","v":""},null,{"$f":"IF(AY28=\"\",\"\",IF(AY28=preparation_cabasse!AI28,\"OK\",\"FAUX\"))","v":""},"",{"$f":"IF(AY28=\"\",\"\",IF(AZ28=\"OK\",\"\",VLOOKUP(AY28,index_cabasse!$C$5:$O$89,preparation_cabasse!$D28+1,FALSE)))","v":""}]
[{"$f":"preparation_cabasse!B29","v":""},{"$f":"preparation_cabasse!C29","v":""},null,{"$f":"IF(preparation_cabasse!D29=\"\",\"\",preparation_cabasse!D29)","v":10},{"$f":"preparation_cabasse!G29","v":""},null,{"$f":"IF(F29=\"\",\"\",IF(F29=preparation_cabasse!H29,\"OK\",\"FAUX\"))","v":""},"",{"$f":"IF(F29=\"\",\"\",IF(G29=\"OK\",\"\",VLOOKUP(F29,index_cabasse!$C$5:$O$89,preparation_cabasse!$D29+1,FALSE)))","v":""},{"$f":"preparation_cabasse!J29","v":""},null,{"$f":"IF(K29=\"\",\"\",IF(K29=preparation_cabasse!K29,\"OK\",\"FAUX\"))","v":""},"",{"$f":"IF(K29=\"\",\"\",IF(L29=\"OK\",\"\",VLOOKUP(K29,index_cabasse!$C$5:$O$89,preparation_cabasse!$D29+1,FALSE)))","v":""},{"$f":"preparation_cabasse!M29","v":""},null,{"$f":"IF(P29=\"\",\"\",IF(P29=preparation_cabasse!N29,\"OK\",\"FAUX\"))","v":""},"",{"$f":"IF(P29=\"\",\"\",IF(Q29=\"OK\",\"\",VLOOKUP(P29,index_cabasse!$C$5:$O$89,preparation_cabasse!$D29+1,FALSE)))","v":""},{"$f":"preparation_cabasse!P29","v":""},null,{"$f":"IF(U29=\"\",\"\",IF(U29=preparation_cabasse!Q29,\"OK\",\"FAUX\"))","v":""},"",{"$f":"IF(U29=\"\",\"\",IF(V29=\"OK\",\"\",VLOOKUP(U29,index_cabasse!$C$5:$O$89,preparation_cabasse!$D29+1,FALSE)))","v":""},{"$f":"preparation_cabasse!S29","v":""},null,{"$f":"IF(Z29=\"\",\"\",IF(Z29=preparation_cabasse!T29,\"OK\",\"FAUX\"))","v":""},"",{"$f":"IF(Z29=\"\",\"\",IF(AA29=\"OK\",\"\",VLOOKUP(Z29,index_cabasse!$C$5:$O$89,preparation_cabasse!$D29+1,FALSE)))","v":""},{"$f":"preparation_cabasse!V29","v":""},null,{"$f":"IF(AE29=\"\",\"\",IF(AE29=preparation_cabasse!W29,\"OK\",\"FAUX\"))","v":""},"",{"$f":"IF(AE29=\"\",\"\",IF(AF29=\"OK\",\"\",VLOOKUP(AE29,index_cabasse!$C$5:$O$89,preparation_cabasse!$D29+1,FALSE)))","v":""},{"$f":"preparation_cabasse!Y29","v":""},null,{"$f":"IF(AJ29=\"\",\"\",IF(AJ29=preparation_cabasse!Z29,\"OK\",\"FAUX\"))","v":""},"",{"$f":"IF(AJ29=\"\",\"\",IF(AK29=\"OK\",\"\",VLOOKUP(AJ29,index_cabasse!$C$5:$O$89,preparation_cabasse!$D29+1,FALSE)))","v":""},{"$f":"preparation_cabasse!AB29","v":""},null,{"$f":"IF(AO29=\"\",\"\",IF(AO29=preparation_cabasse!AC29,\"OK\",\"FAUX\"))","v":""},"",{"$f":"IF(AO29=\"\",\"\",IF(AP29=\"OK\",\"\",VLOOKUP(AO29,index_cabasse!$C$5:$O$89,preparation_cabasse!$D29+1,FALSE)))","v":""},{"$f":"preparation_cabasse!AE29","v":""},null,{"$f":"IF(AT29=\"\",\"\",IF(AT29=preparation_cabasse!AF29,\"OK\",\"FAUX\"))","v":""},"",{"$f":"IF(AT29=\"\",\"\",IF(AU29=\"OK\",\"\",VLOOKUP(AT29,index_cabasse!$C$5:$O$89,preparation_cabasse!$D29+1,FALSE)))","v":""},{"$f":"preparation_cabasse!AH29","v":""},null,{"$f":"IF(AY29=\"\",\"\",IF(AY29=preparation_cabasse!AI29,\"OK\",\"FAUX\"))","v":""},"",{"$f":"IF(AY29=\"\",\"\",IF(AZ29=\"OK\",\"\",VLOOKUP(AY29,index_cabasse!$C$5:$O$89,preparation_cabasse!$D29+1,FALSE)))","v":""}]
[{"$f":"preparation_cabasse!B30","v":""},{"$f":"preparation_cabasse!C30","v":""},null,{"$f":"IF(preparation_cabasse!D30=\"\",\"\",preparation_cabasse!D30)","v":10},{"$f":"preparation_cabasse!G30","v":""},null,{"$f":"IF(F30=\"\",\"\",IF(F30=preparation_cabasse!H30,\"OK\",\"FAUX\"))","v":""},"",{"$f":"IF(F30=\"\",\"\",IF(G30=\"OK\",\"\",VLOOKUP(F30,index_cabasse!$C$5:$O$89,preparation_cabasse!$D30+1,FALSE)))","v":""},{"$f":"preparation_cabasse!J30","v":""},null,{"$f":"IF(K30=\"\",\"\",IF(K30=preparation_cabasse!K30,\"OK\",\"FAUX\"))","v":""},"",{"$f":"IF(K30=\"\",\"\",IF(L30=\"OK\",\"\",VLOOKUP(K30,index_cabasse!$C$5:$O$89,preparation_cabasse!$D30+1,FALSE)))","v":""},{"$f":"preparation_cabasse!M30","v":""},null,{"$f":"IF(P30=\"\",\"\",IF(P30=preparation_cabasse!N30,\"OK\",\"FAUX\"))","v":""},"",{"$f":"IF(P30=\"\",\"\",IF(Q30=\"OK\",\"\",VLOOKUP(P30,index_cabasse!$C$5:$O$89,preparation_cabasse!$D30+1,FALSE)))","v":""},{"$f":"preparation_cabasse!P30","v":""},null,{"$f":"IF(U30=\"\",\"\",IF(U30=preparation_cabasse!Q30,\"OK\",\"FAUX\"))","v":""},"",{"$f":"IF(U30=\"\",\"\",IF(V30=\"OK\",\"\",VLOOKUP(U30,index_cabasse!$C$5:$O$89,preparation_cabasse!$D30+1,FALSE)))","v":""},{"$f":"preparation_cabasse!S30","v":""},null,{"$f":"IF(Z30=\"\",\"\",IF(Z30=preparation_cabasse!T30,\"OK\",\"FAUX\"))","v":""},"",{"$f":"IF(Z30=\"\",\"\",IF(AA30=\"OK\",\"\",VLOOKUP(Z30,index_cabasse!$C$5:$O$89,preparation_cabasse!$D30+1,FALSE)))","v":""},{"$f":"preparation_cabasse!V30","v":""},null,{"$f":"IF(AE30=\"\",\"\",IF(AE30=preparation_cabasse!W30,\"OK\",\"FAUX\"))","v":""},"",{"$f":"IF(AE30=\"\",\"\",IF(AF30=\"OK\",\"\",VLOOKUP(AE30,index_cabasse!$C$5:$O$89,preparation_cabasse!$D30+1,FALSE)))","v":""},{"$f":"preparation_cabasse!Y30","v":""},null,{"$f":"IF(AJ30=\"\",\"\",IF(AJ30=preparation_cabasse!Z30,\"OK\",\"FAUX\"))","v":""},"",{"$f":"IF(AJ30=\"\",\"\",IF(AK30=\"OK\",\"\",VLOOKUP(AJ30,index_cabasse!$C$5:$O$89,preparation_cabasse!$D30+1,FALSE)))","v":""},{"$f":"preparation_cabasse!AB30","v":""},null,{"$f":"IF(AO30=\"\",\"\",IF(AO30=preparation_cabasse!AC30,\"OK\",\"FAUX\"))","v":""},"",{"$f":"IF(AO30=\"\",\"\",IF(AP30=\"OK\",\"\",VLOOKUP(AO30,index_cabasse!$C$5:$O$89,preparation_cabasse!$D30+1,FALSE)))","v":""},{"$f":"preparation_cabasse!AE30","v":""},null,{"$f":"IF(AT30=\"\",\"\",IF(AT30=preparation_cabasse!AF30,\"OK\",\"FAUX\"))","v":""},"",{"$f":"IF(AT30=\"\",\"\",IF(AU30=\"OK\",\"\",VLOOKUP(AT30,index_cabasse!$C$5:$O$89,preparation_cabasse!$D30+1,FALSE)))","v":""},{"$f":"preparation_cabasse!AH30","v":""},null,{"$f":"IF(AY30=\"\",\"\",IF(AY30=preparation_cabasse!AI30,\"OK\",\"FAUX\"))","v":""},"",{"$f":"IF(AY30=\"\",\"\",IF(AZ30=\"OK\",\"\",VLOOKUP(AY30,index_cabasse!$C$5:$O$89,preparation_cabasse!$D30+1,FALSE)))","v":""}]
[{"$f":"preparation_cabasse!B31","v":""},{"$f":"preparation_cabasse!C31","v":""},null,{"$f":"IF(preparation_cabasse!D31=\"\",\"\",preparation_cabasse!D31)","v":10},{"$f":"preparation_cabasse!G31","v":""},null,{"$f":"IF(F31=\"\",\"\",IF(F31=preparation_cabasse!H31,\"OK\",\"FAUX\"))","v":""},"",{"$f":"IF(F31=\"\",\"\",IF(G31=\"OK\",\"\",VLOOKUP(F31,index_cabasse!$C$5:$O$89,preparation_cabasse!$D31+1,FALSE)))","v":""},{"$f":"preparation_cabasse!J31","v":""},null,{"$f":"IF(K31=\"\",\"\",IF(K31=preparation_cabasse!K31,\"OK\",\"FAUX\"))","v":""},"",{"$f":"IF(K31=\"\",\"\",IF(L31=\"OK\",\"\",VLOOKUP(K31,index_cabasse!$C$5:$O$89,preparation_cabasse!$D31+1,FALSE)))","v":""},{"$f":"preparation_cabasse!M31","v":""},null,{"$f":"IF(P31=\"\",\"\",IF(P31=preparation_cabasse!N31,\"OK\",\"FAUX\"))","v":""},"",{"$f":"IF(P31=\"\",\"\",IF(Q31=\"OK\",\"\",VLOOKUP(P31,index_cabasse!$C$5:$O$89,preparation_cabasse!$D31+1,FALSE)))","v":""},{"$f":"preparation_cabasse!P31","v":""},null,{"$f":"IF(U31=\"\",\"\",IF(U31=preparation_cabasse!Q31,\"OK\",\"FAUX\"))","v":""},"",{"$f":"IF(U31=\"\",\"\",IF(V31=\"OK\",\"\",VLOOKUP(U31,index_cabasse!$C$5:$O$89,preparation_cabasse!$D31+1,FALSE)))","v":""},{"$f":"preparation_cabasse!S31","v":""},null,{"$f":"IF(Z31=\"\",\"\",IF(Z31=preparation_cabasse!T31,\"OK\",\"FAUX\"))","v":""},"",{"$f":"IF(Z31=\"\",\"\",IF(AA31=\"OK\",\"\",VLOOKUP(Z31,index_cabasse!$C$5:$O$89,preparation_cabasse!$D31+1,FALSE)))","v":""},{"$f":"preparation_cabasse!V31","v":""},null,{"$f":"IF(AE31=\"\",\"\",IF(AE31=preparation_cabasse!W31,\"OK\",\"FAUX\"))","v":""},"",{"$f":"IF(AE31=\"\",\"\",IF(AF31=\"OK\",\"\",VLOOKUP(AE31,index_cabasse!$C$5:$O$89,preparation_cabasse!$D31+1,FALSE)))","v":""},{"$f":"preparation_cabasse!Y31","v":""},null,{"$f":"IF(AJ31=\"\",\"\",IF(AJ31=preparation_cabasse!Z31,\"OK\",\"FAUX\"))","v":""},"",{"$f":"IF(AJ31=\"\",\"\",IF(AK31=\"OK\",\"\",VLOOKUP(AJ31,index_cabasse!$C$5:$O$89,preparation_cabasse!$D31+1,FALSE)))","v":""},{"$f":"preparation_cabasse!AB31","v":""},null,{"$f":"IF(AO31=\"\",\"\",IF(AO31=preparation_cabasse!AC31,\"OK\",\"FAUX\"))","v":""},"",{"$f":"IF(AO31=\"\",\"\",IF(AP31=\"OK\",\"\",VLOOKUP(AO31,index_cabasse!$C$5:$O$89,preparation_cabasse!$D31+1,FALSE)))","v":""},{"$f":"preparation_cabasse!AE31","v":""},null,{"$f":"IF(AT31=\"\",\"\",IF(AT31=preparation_cabasse!AF31,\"OK\",\"FAUX\"))","v":""},"",{"$f":"IF(AT31=\"\",\"\",IF(AU31=\"OK\",\"\",VLOOKUP(AT31,index_cabasse!$C$5:$O$89,preparation_cabasse!$D31+1,FALSE)))","v":""},{"$f":"preparation_cabasse!AH31","v":""},null,{"$f":"IF(AY31=\"\",\"\",IF(AY31=preparation_cabasse!AI31,\"OK\",\"FAUX\"))","v":""},"",{"$f":"IF(AY31=\"\",\"\",IF(AZ31=\"OK\",\"\",VLOOKUP(AY31,index_cabasse!$C$5:$O$89,preparation_cabasse!$D31+1,FALSE)))","v":""}]
[{"$f":"preparation_cabasse!B32","v":""},{"$f":"preparation_cabasse!C32","v":""},null,{"$f":"IF(preparation_cabasse!D32=\"\",\"\",preparation_cabasse!D32)","v":10},{"$f":"preparation_cabasse!G32","v":""},null,{"$f":"IF(F32=\"\",\"\",IF(F32=preparation_cabasse!H32,\"OK\",\"FAUX\"))","v":""},"",{"$f":"IF(F32=\"\",\"\",IF(G32=\"OK\",\"\",VLOOKUP(F32,index_cabasse!$C$5:$O$89,preparation_cabasse!$D32+1,FALSE)))","v":""},{"$f":"preparation_cabasse!J32","v":""},null,{"$f":"IF(K32=\"\",\"\",IF(K32=preparation_cabasse!K32,\"OK\",\"FAUX\"))","v":""},"",{"$f":"IF(K32=\"\",\"\",IF(L32=\"OK\",\"\",VLOOKUP(K32,index_cabasse!$C$5:$O$89,preparation_cabasse!$D32+1,FALSE)))","v":""},{"$f":"preparation_cabasse!M32","v":""},null,{"$f":"IF(P32=\"\",\"\",IF(P32=preparation_cabasse!N32,\"OK\",\"FAUX\"))","v":""},"",{"$f":"IF(P32=\"\",\"\",IF(Q32=\"OK\",\"\",VLOOKUP(P32,index_cabasse!$C$5:$O$89,preparation_cabasse!$D32+1,FALSE)))","v":""},{"$f":"preparation_cabasse!P32","v":""},null,{"$f":"IF(U32=\"\",\"\",IF(U32=preparation_cabasse!Q32,\"OK\",\"FAUX\"))","v":""},"",{"$f":"IF(U32=\"\",\"\",IF(V32=\"OK\",\"\",VLOOKUP(U32,index_cabasse!$C$5:$O$89,preparation_cabasse!$D32+1,FALSE)))","v":""},{"$f":"preparation_cabasse!S32","v":""},null,{"$f":"IF(Z32=\"\",\"\",IF(Z32=preparation_cabasse!T32,\"OK\",\"FAUX\"))","v":""},"",{"$f":"IF(Z32=\"\",\"\",IF(AA32=\"OK\",\"\",VLOOKUP(Z32,index_cabasse!$C$5:$O$89,preparation_cabasse!$D32+1,FALSE)))","v":""},{"$f":"preparation_cabasse!V32","v":""},null,{"$f":"IF(AE32=\"\",\"\",IF(AE32=preparation_cabasse!W32,\"OK\",\"FAUX\"))","v":""},"",{"$f":"IF(AE32=\"\",\"\",IF(AF32=\"OK\",\"\",VLOOKUP(AE32,index_cabasse!$C$5:$O$89,preparation_cabasse!$D32+1,FALSE)))","v":""},{"$f":"preparation_cabasse!Y32","v":""},null,{"$f":"IF(AJ32=\"\",\"\",IF(AJ32=preparation_cabasse!Z32,\"OK\",\"FAUX\"))","v":""},"",{"$f":"IF(AJ32=\"\",\"\",IF(AK32=\"OK\",\"\",VLOOKUP(AJ32,index_cabasse!$C$5:$O$89,preparation_cabasse!$D32+1,FALSE)))","v":""},{"$f":"preparation_cabasse!AB32","v":""},null,{"$f":"IF(AO32=\"\",\"\",IF(AO32=preparation_cabasse!AC32,\"OK\",\"FAUX\"))","v":""},"",{"$f":"IF(AO32=\"\",\"\",IF(AP32=\"OK\",\"\",VLOOKUP(AO32,index_cabasse!$C$5:$O$89,preparation_cabasse!$D32+1,FALSE)))","v":""},{"$f":"preparation_cabasse!AE32","v":""},null,{"$f":"IF(AT32=\"\",\"\",IF(AT32=preparation_cabasse!AF32,\"OK\",\"FAUX\"))","v":""},"",{"$f":"IF(AT32=\"\",\"\",IF(AU32=\"OK\",\"\",VLOOKUP(AT32,index_cabasse!$C$5:$O$89,preparation_cabasse!$D32+1,FALSE)))","v":""},{"$f":"preparation_cabasse!AH32","v":""},null,{"$f":"IF(AY32=\"\",\"\",IF(AY32=preparation_cabasse!AI32,\"OK\",\"FAUX\"))","v":""},"",{"$f":"IF(AY32=\"\",\"\",IF(AZ32=\"OK\",\"\",VLOOKUP(AY32,index_cabasse!$C$5:$O$89,preparation_cabasse!$D32+1,FALSE)))","v":""}]
[{"$f":"preparation_cabasse!B33","v":""},{"$f":"preparation_cabasse!C33","v":""},null,{"$f":"IF(preparation_cabasse!D33=\"\",\"\",preparation_cabasse!D33)","v":10},{"$f":"preparation_cabasse!G33","v":""},null,{"$f":"IF(F33=\"\",\"\",IF(F33=preparation_cabasse!H33,\"OK\",\"FAUX\"))","v":""},"",{"$f":"IF(F33=\"\",\"\",IF(G33=\"OK\",\"\",VLOOKUP(F33,index_cabasse!$C$5:$O$89,preparation_cabasse!$D33+1,FALSE)))","v":""},{"$f":"preparation_cabasse!J33","v":""},null,{"$f":"IF(K33=\"\",\"\",IF(K33=preparation_cabasse!K33,\"OK\",\"FAUX\"))","v":""},"",{"$f":"IF(K33=\"\",\"\",IF(L33=\"OK\",\"\",VLOOKUP(K33,index_cabasse!$C$5:$O$89,preparation_cabasse!$D33+1,FALSE)))","v":""},{"$f":"preparation_cabasse!M33","v":""},null,{"$f":"IF(P33=\"\",\"\",IF(P33=preparation_cabasse!N33,\"OK\",\"FAUX\"))","v":""},"",{"$f":"IF(P33=\"\",\"\",IF(Q33=\"OK\",\"\",VLOOKUP(P33,index_cabasse!$C$5:$O$89,preparation_cabasse!$D33+1,FALSE)))","v":""},{"$f":"preparation_cabasse!P33","v":""},null,{"$f":"IF(U33=\"\",\"\",IF(U33=preparation_cabasse!Q33,\"OK\",\"FAUX\"))","v":""},"",{"$f":"IF(U33=\"\",\"\",IF(V33=\"OK\",\"\",VLOOKUP(U33,index_cabasse!$C$5:$O$89,preparation_cabasse!$D33+1,FALSE)))","v":""},{"$f":"preparation_cabasse!S33","v":""},null,{"$f":"IF(Z33=\"\",\"\",IF(Z33=preparation_cabasse!T33,\"OK\",\"FAUX\"))","v":""},"",{"$f":"IF(Z33=\"\",\"\",IF(AA33=\"OK\",\"\",VLOOKUP(Z33,index_cabasse!$C$5:$O$89,preparation_cabasse!$D33+1,FALSE)))","v":""},{"$f":"preparation_cabasse!V33","v":""},null,{"$f":"IF(AE33=\"\",\"\",IF(AE33=preparation_cabasse!W33,\"OK\",\"FAUX\"))","v":""},"",{"$f":"IF(AE33=\"\",\"\",IF(AF33=\"OK\",\"\",VLOOKUP(AE33,index_cabasse!$C$5:$O$89,preparation_cabasse!$D33+1,FALSE)))","v":""},{"$f":"preparation_cabasse!Y33","v":""},null,{"$f":"IF(AJ33=\"\",\"\",IF(AJ33=preparation_cabasse!Z33,\"OK\",\"FAUX\"))","v":""},"",{"$f":"IF(AJ33=\"\",\"\",IF(AK33=\"OK\",\"\",VLOOKUP(AJ33,index_cabasse!$C$5:$O$89,preparation_cabasse!$D33+1,FALSE)))","v":""},{"$f":"preparation_cabasse!AB33","v":""},null,{"$f":"IF(AO33=\"\",\"\",IF(AO33=preparation_cabasse!AC33,\"OK\",\"FAUX\"))","v":""},"",{"$f":"IF(AO33=\"\",\"\",IF(AP33=\"OK\",\"\",VLOOKUP(AO33,index_cabasse!$C$5:$O$89,preparation_cabasse!$D33+1,FALSE)))","v":""},{"$f":"preparation_cabasse!AE33","v":""},null,{"$f":"IF(AT33=\"\",\"\",IF(AT33=preparation_cabasse!AF33,\"OK\",\"FAUX\"))","v":""},"",{"$f":"IF(AT33=\"\",\"\",IF(AU33=\"OK\",\"\",VLOOKUP(AT33,index_cabasse!$C$5:$O$89,preparation_cabasse!$D33+1,FALSE)))","v":""},{"$f":"preparation_cabasse!AH33","v":""},null,{"$f":"IF(AY33=\"\",\"\",IF(AY33=preparation_cabasse!AI33,\"OK\",\"FAUX\"))","v":""},"",{"$f":"IF(AY33=\"\",\"\",IF(AZ33=\"OK\",\"\",VLOOKUP(AY33,index_cabasse!$C$5:$O$89,preparation_cabasse!$D33+1,FALSE)))","v":""}]
[{"$f":"preparation_cabasse!B34","v":""},{"$f":"preparation_cabasse!C34","v":""},null,{"$f":"IF(preparation_cabasse!D34=\"\",\"\",preparation_cabasse!D34)","v":10},{"$f":"preparation_cabasse!G34","v":""},null,{"$f":"IF(F34=\"\",\"\",IF(F34=preparation_cabasse!H34,\"OK\",\"FAUX\"))","v":""},"",{"$f":"IF(F34=\"\",\"\",IF(G34=\"OK\",\"\",VLOOKUP(F34,index_cabasse!$C$5:$O$89,preparation_cabasse!$D34+1,FALSE)))","v":""},{"$f":"preparation_cabasse!J34","v":""},null,{"$f":"IF(K34=\"\",\"\",IF(K34=preparation_cabasse!K34,\"OK\",\"FAUX\"))","v":""},"",{"$f":"IF(K34=\"\",\"\",IF(L34=\"OK\",\"\",VLOOKUP(K34,index_cabasse!$C$5:$O$89,preparation_cabasse!$D34+1,FALSE)))","v":""},{"$f":"preparation_cabasse!M34","v":""},null,{"$f":"IF(P34=\"\",\"\",IF(P34=preparation_cabasse!N34,\"OK\",\"FAUX\"))","v":""},"",{"$f":"IF(P34=\"\",\"\",IF(Q34=\"OK\",\"\",VLOOKUP(P34,index_cabasse!$C$5:$O$89,preparation_cabasse!$D34+1,FALSE)))","v":""},{"$f":"preparation_cabasse!P34","v":""},null,{"$f":"IF(U34=\"\",\"\",IF(U34=preparation_cabasse!Q34,\"OK\",\"FAUX\"))","v":""},"",{"$f":"IF(U34=\"\",\"\",IF(V34=\"OK\",\"\",VLOOKUP(U34,index_cabasse!$C$5:$O$89,preparation_cabasse!$D34+1,FALSE)))","v":""},{"$f":"preparation_cabasse!S34","v":""},null,{"$f":"IF(Z34=\"\",\"\",IF(Z34=preparation_cabasse!T34,\"OK\",\"FAUX\"))","v":""},"",{"$f":"IF(Z34=\"\",\"\",IF(AA34=\"OK\",\"\",VLOOKUP(Z34,index_cabasse!$C$5:$O$89,preparation_cabasse!$D34+1,FALSE)))","v":""},{"$f":"preparation_cabasse!V34","v":""},null,{"$f":"IF(AE34=\"\",\"\",IF(AE34=preparation_cabasse!W34,\"OK\",\"FAUX\"))","v":""},"",{"$f":"IF(AE34=\"\",\"\",IF(AF34=\"OK\",\"\",VLOOKUP(AE34,index_cabasse!$C$5:$O$89,preparation_cabasse!$D34+1,FALSE)))","v":""},{"$f":"preparation_cabasse!Y34","v":""},null,{"$f":"IF(AJ34=\"\",\"\",IF(AJ34=preparation_cabasse!Z34,\"OK\",\"FAUX\"))","v":""},"",{"$f":"IF(AJ34=\"\",\"\",IF(AK34=\"OK\",\"\",VLOOKUP(AJ34,index_cabasse!$C$5:$O$89,preparation_cabasse!$D34+1,FALSE)))","v":""},{"$f":"preparation_cabasse!AB34","v":""},null,{"$f":"IF(AO34=\"\",\"\",IF(AO34=preparation_cabasse!AC34,\"OK\",\"FAUX\"))","v":""},"",{"$f":"IF(AO34=\"\",\"\",IF(AP34=\"OK\",\"\",VLOOKUP(AO34,index_cabasse!$C$5:$O$89,preparation_cabasse!$D34+1,FALSE)))","v":""},{"$f":"preparation_cabasse!AE34","v":""},null,{"$f":"IF(AT34=\"\",\"\",IF(AT34=preparation_cabasse!AF34,\"OK\",\"FAUX\"))","v":""},"",{"$f":"IF(AT34=\"\",\"\",IF(AU34=\"OK\",\"\",VLOOKUP(AT34,index_cabasse!$C$5:$O$89,preparation_cabasse!$D34+1,FALSE)))","v":""},{"$f":"preparation_cabasse!AH34","v":""},null,{"$f":"IF(AY34=\"\",\"\",IF(AY34=preparation_cabasse!AI34,\"OK\",\"FAUX\"))","v":""},"",{"$f":"IF(AY34=\"\",\"\",IF(AZ34=\"OK\",\"\",VLOOKUP(AY34,index_cabasse!$C$5:$O$89,preparation_cabasse!$D34+1,FALSE)))","v":""}]
[{"$f":"preparation_cabasse!B35","v":""},{"$f":"preparation_cabasse!C35","v":""},null,{"$f":"IF(preparation_cabasse!D35=\"\",\"\",preparation_cabasse!D35)","v":10},{"$f":"preparation_cabasse!G35","v":""},null,{"$f":"IF(F35=\"\",\"\",IF(F35=preparation_cabasse!H35,\"OK\",\"FAUX\"))","v":""},"",{"$f":"IF(F35=\"\",\"\",IF(G35=\"OK\",\"\",VLOOKUP(F35,index_cabasse!$C$5:$O$89,preparation_cabasse!$D35+1,FALSE)))","v":""},{"$f":"preparation_cabasse!J35","v":""},null,{"$f":"IF(K35=\"\",\"\",IF(K35=preparation_cabasse!K35,\"OK\",\"FAUX\"))","v":""},"",{"$f":"IF(K35=\"\",\"\",IF(L35=\"OK\",\"\",VLOOKUP(K35,index_cabasse!$C$5:$O$89,preparation_cabasse!$D35+1,FALSE)))","v":""},{"$f":"preparation_cabasse!M35","v":""},null,{"$f":"IF(P35=\"\",\"\",IF(P35=preparation_cabasse!N35,\"OK\",\"FAUX\"))","v":""},"",{"$f":"IF(P35=\"\",\"\",IF(Q35=\"OK\",\"\",VLOOKUP(P35,index_cabasse!$C$5:$O$89,preparation_cabasse!$D35+1,FALSE)))","v":""},{"$f":"preparation_cabasse!P35","v":""},null,{"$f":"IF(U35=\"\",\"\",IF(U35=preparation_cabasse!Q35,\"OK\",\"FAUX\"))","v":""},"",{"$f":"IF(U35=\"\",\"\",IF(V35=\"OK\",\"\",VLOOKUP(U35,index_cabasse!$C$5:$O$89,preparation_cabasse!$D35+1,FALSE)))","v":""},{"$f":"preparation_cabasse!S35","v":""},null,{"$f":"IF(Z35=\"\",\"\",IF(Z35=preparation_cabasse!T35,\"OK\",\"FAUX\"))","v":""},"",{"$f":"IF(Z35=\"\",\"\",IF(AA35=\"OK\",\"\",VLOOKUP(Z35,index_cabasse!$C$5:$O$89,preparation_cabasse!$D35+1,FALSE)))","v":""},{"$f":"preparation_cabasse!V35","v":""},null,{"$f":"IF(AE35=\"\",\"\",IF(AE35=preparation_cabasse!W35,\"OK\",\"FAUX\"))","v":""},"",{"$f":"IF(AE35=\"\",\"\",IF(AF35=\"OK\",\"\",VLOOKUP(AE35,index_cabasse!$C$5:$O$89,preparation_cabasse!$D35+1,FALSE)))","v":""},{"$f":"preparation_cabasse!Y35","v":""},null,{"$f":"IF(AJ35=\"\",\"\",IF(AJ35=preparation_cabasse!Z35,\"OK\",\"FAUX\"))","v":""},"",{"$f":"IF(AJ35=\"\",\"\",IF(AK35=\"OK\",\"\",VLOOKUP(AJ35,index_cabasse!$C$5:$O$89,preparation_cabasse!$D35+1,FALSE)))","v":""},{"$f":"preparation_cabasse!AB35","v":""},null,{"$f":"IF(AO35=\"\",\"\",IF(AO35=preparation_cabasse!AC35,\"OK\",\"FAUX\"))","v":""},"",{"$f":"IF(AO35=\"\",\"\",IF(AP35=\"OK\",\"\",VLOOKUP(AO35,index_cabasse!$C$5:$O$89,preparation_cabasse!$D35+1,FALSE)))","v":""},{"$f":"preparation_cabasse!AE35","v":""},null,{"$f":"IF(AT35=\"\",\"\",IF(AT35=preparation_cabasse!AF35,\"OK\",\"FAUX\"))","v":""},"",{"$f":"IF(AT35=\"\",\"\",IF(AU35=\"OK\",\"\",VLOOKUP(AT35,index_cabasse!$C$5:$O$89,preparation_cabasse!$D35+1,FALSE)))","v":""},{"$f":"preparation_cabasse!AH35","v":""},null,{"$f":"IF(AY35=\"\",\"\",IF(AY35=preparation_cabasse!AI35,\"OK\",\"FAUX\"))","v":""},"",{"$f":"IF(AY35=\"\",\"\",IF(AZ35=\"OK\",\"\",VLOOKUP(AY35,index_cabasse!$C$5:$O$89,preparation_cabasse!$D35+1,FALSE)))","v":""}]
[{"$f":"preparation_cabasse!B36","v":""},{"$f":"preparation_cabasse!C36","v":""},null,{"$f":"IF(preparation_cabasse!D36=\"\",\"\",preparation_cabasse!D36)","v":10},{"$f":"preparation_cabasse!G36","v":""},null,{"$f":"IF(F36=\"\",\"\",IF(F36=preparation_cabasse!H36,\"OK\",\"FAUX\"))","v":""},"",{"$f":"IF(F36=\"\",\"\",IF(G36=\"OK\",\"\",VLOOKUP(F36,index_cabasse!$C$5:$O$89,preparation_cabasse!$D36+1,FALSE)))","v":""},{"$f":"preparation_cabasse!J36","v":""},null,{"$f":"IF(K36=\"\",\"\",IF(K36=preparation_cabasse!K36,\"OK\",\"FAUX\"))","v":""},"",{"$f":"IF(K36=\"\",\"\",IF(L36=\"OK\",\"\",VLOOKUP(K36,index_cabasse!$C$5:$O$89,preparation_cabasse!$D36+1,FALSE)))","v":""},{"$f":"preparation_cabasse!M36","v":""},null,{"$f":"IF(P36=\"\",\"\",IF(P36=preparation_cabasse!N36,\"OK\",\"FAUX\"))","v":""},"",{"$f":"IF(P36=\"\",\"\",IF(Q36=\"OK\",\"\",VLOOKUP(P36,index_cabasse!$C$5:$O$89,preparation_cabasse!$D36+1,FALSE)))","v":""},{"$f":"preparation_cabasse!P36","v":""},null,{"$f":"IF(U36=\"\",\"\",IF(U36=preparation_cabasse!Q36,\"OK\",\"FAUX\"))","v":""},"",{"$f":"IF(U36=\"\",\"\",IF(V36=\"OK\",\"\",VLOOKUP(U36,index_cabasse!$C$5:$O$89,preparation_cabasse!$D36+1,FALSE)))","v":""},{"$f":"preparation_cabasse!S36","v":""},null,{"$f":"IF(Z36=\"\",\"\",IF(Z36=preparation_cabasse!T36,\"OK\",\"FAUX\"))","v":""},"",{"$f":"IF(Z36=\"\",\"\",IF(AA36=\"OK\",\"\",VLOOKUP(Z36,index_cabasse!$C$5:$O$89,preparation_cabasse!$D36+1,FALSE)))","v":""},{"$f":"preparation_cabasse!V36","v":""},null,{"$f":"IF(AE36=\"\",\"\",IF(AE36=preparation_cabasse!W36,\"OK\",\"FAUX\"))","v":""},"",{"$f":"IF(AE36=\"\",\"\",IF(AF36=\"OK\",\"\",VLOOKUP(AE36,index_cabasse!$C$5:$O$89,preparation_cabasse!$D36+1,FALSE)))","v":""},{"$f":"preparation_cabasse!Y36","v":""},null,{"$f":"IF(AJ36=\"\",\"\",IF(AJ36=preparation_cabasse!Z36,\"OK\",\"FAUX\"))","v":""},"",{"$f":"IF(AJ36=\"\",\"\",IF(AK36=\"OK\",\"\",VLOOKUP(AJ36,index_cabasse!$C$5:$O$89,preparation_cabasse!$D36+1,FALSE)))","v":""},{"$f":"preparation_cabasse!AB36","v":""},null,{"$f":"IF(AO36=\"\",\"\",IF(AO36=preparation_cabasse!AC36,\"OK\",\"FAUX\"))","v":""},"",{"$f":"IF(AO36=\"\",\"\",IF(AP36=\"OK\",\"\",VLOOKUP(AO36,index_cabasse!$C$5:$O$89,preparation_cabasse!$D36+1,FALSE)))","v":""},{"$f":"preparation_cabasse!AE36","v":""},null,{"$f":"IF(AT36=\"\",\"\",IF(AT36=preparation_cabasse!AF36,\"OK\",\"FAUX\"))","v":""},"",{"$f":"IF(AT36=\"\",\"\",IF(AU36=\"OK\",\"\",VLOOKUP(AT36,index_cabasse!$C$5:$O$89,preparation_cabasse!$D36+1,FALSE)))","v":""},{"$f":"preparation_cabasse!AH36","v":""},null,{"$f":"IF(AY36=\"\",\"\",IF(AY36=preparation_cabasse!AI36,\"OK\",\"FAUX\"))","v":""},"",{"$f":"IF(AY36=\"\",\"\",IF(AZ36=\"OK\",\"\",VLOOKUP(AY36,index_cabasse!$C$5:$O$89,preparation_cabasse!$D36+1,FALSE)))","v":""}]
[{"$f":"preparation_cabasse!B37","v":""},{"$f":"preparation_cabasse!C37","v":""},null,{"$f":"IF(preparation_cabasse!D37=\"\",\"\",preparation_cabasse!D37)","v":10},{"$f":"preparation_cabasse!G37","v":""},null,{"$f":"IF(F37=\"\",\"\",IF(F37=preparation_cabasse!H37,\"OK\",\"FAUX\"))","v":""},"",{"$f":"IF(F37=\"\",\"\",IF(G37=\"OK\",\"\",VLOOKUP(F37,index_cabasse!$C$5:$O$89,preparation_cabasse!$D37+1,FALSE)))","v":""},{"$f":"preparation_cabasse!J37","v":""},null,{"$f":"IF(K37=\"\",\"\",IF(K37=preparation_cabasse!K37,\"OK\",\"FAUX\"))","v":""},"",{"$f":"IF(K37=\"\",\"\",IF(L37=\"OK\",\"\",VLOOKUP(K37,index_cabasse!$C$5:$O$89,preparation_cabasse!$D37+1,FALSE)))","v":""},{"$f":"preparation_cabasse!M37","v":""},null,{"$f":"IF(P37=\"\",\"\",IF(P37=preparation_cabasse!N37,\"OK\",\"FAUX\"))","v":""},"",{"$f":"IF(P37=\"\",\"\",IF(Q37=\"OK\",\"\",VLOOKUP(P37,index_cabasse!$C$5:$O$89,preparation_cabasse!$D37+1,FALSE)))","v":""},{"$f":"preparation_cabasse!P37","v":""},null,{"$f":"IF(U37=\"\",\"\",IF(U37=preparation_cabasse!Q37,\"OK\",\"FAUX\"))","v":""},"",{"$f":"IF(U37=\"\",\"\",IF(V37=\"OK\",\"\",VLOOKUP(U37,index_cabasse!$C$5:$O$89,preparation_cabasse!$D37+1,FALSE)))","v":""},{"$f":"preparation_cabasse!S37","v":""},null,{"$f":"IF(Z37=\"\",\"\",IF(Z37=preparation_cabasse!T37,\"OK\",\"FAUX\"))","v":""},"",{"$f":"IF(Z37=\"\",\"\",IF(AA37=\"OK\",\"\",VLOOKUP(Z37,index_cabasse!$C$5:$O$89,preparation_cabasse!$D37+1,FALSE)))","v":""},{"$f":"preparation_cabasse!V37","v":""},null,{"$f":"IF(AE37=\"\",\"\",IF(AE37=preparation_cabasse!W37,\"OK\",\"FAUX\"))","v":""},"",{"$f":"IF(AE37=\"\",\"\",IF(AF37=\"OK\",\"\",VLOOKUP(AE37,index_cabasse!$C$5:$O$89,preparation_cabasse!$D37+1,FALSE)))","v":""},{"$f":"preparation_cabasse!Y37","v":""},null,{"$f":"IF(AJ37=\"\",\"\",IF(AJ37=preparation_cabasse!Z37,\"OK\",\"FAUX\"))","v":""},"",{"$f":"IF(AJ37=\"\",\"\",IF(AK37=\"OK\",\"\",VLOOKUP(AJ37,index_cabasse!$C$5:$O$89,preparation_cabasse!$D37+1,FALSE)))","v":""},{"$f":"preparation_cabasse!AB37","v":""},null,{"$f":"IF(AO37=\"\",\"\",IF(AO37=preparation_cabasse!AC37,\"OK\",\"FAUX\"))","v":""},"",{"$f":"IF(AO37=\"\",\"\",IF(AP37=\"OK\",\"\",VLOOKUP(AO37,index_cabasse!$C$5:$O$89,preparation_cabasse!$D37+1,FALSE)))","v":""},{"$f":"preparation_cabasse!AE37","v":""},null,{"$f":"IF(AT37=\"\",\"\",IF(AT37=preparation_cabasse!AF37,\"OK\",\"FAUX\"))","v":""},"",{"$f":"IF(AT37=\"\",\"\",IF(AU37=\"OK\",\"\",VLOOKUP(AT37,index_cabasse!$C$5:$O$89,preparation_cabasse!$D37+1,FALSE)))","v":""},{"$f":"preparation_cabasse!AH37","v":""},null,{"$f":"IF(AY37=\"\",\"\",IF(AY37=preparation_cabasse!AI37,\"OK\",\"FAUX\"))","v":""},"",{"$f":"IF(AY37=\"\",\"\",IF(AZ37=\"OK\",\"\",VLOOKUP(AY37,index_cabasse!$C$5:$O$89,preparation_cabasse!$D37+1,FALSE)))","v":""}]
[{"$f":"preparation_cabasse!B38","v":""},{"$f":"preparation_cabasse!C38","v":""},null,{"$f":"IF(preparation_cabasse!D38=\"\",\"\",preparation_cabasse!D38)","v":10},{"$f":"preparation_cabasse!G38","v":""},null,{"$f":"IF(F38=\"\",\"\",IF(F38=preparation_cabasse!H38,\"OK\",\"FAUX\"))","v":""},"",{"$f":"IF(F38=\"\",\"\",IF(G38=\"OK\",\"\",VLOOKUP(F38,index_cabasse!$C$5:$O$89,preparation_cabasse!$D38+1,FALSE)))","v":""},{"$f":"preparation_cabasse!J38","v":""},null,{"$f":"IF(K38=\"\",\"\",IF(K38=preparation_cabasse!K38,\"OK\",\"FAUX\"))","v":""},"",{"$f":"IF(K38=\"\",\"\",IF(L38=\"OK\",\"\",VLOOKUP(K38,index_cabasse!$C$5:$O$89,preparation_cabasse!$D38+1,FALSE)))","v":""},{"$f":"preparation_cabasse!M38","v":""},null,{"$f":"IF(P38=\"\",\"\",IF(P38=preparation_cabasse!N38,\"OK\",\"FAUX\"))","v":""},"",{"$f":"IF(P38=\"\",\"\",IF(Q38=\"OK\",\"\",VLOOKUP(P38,index_cabasse!$C$5:$O$89,preparation_cabasse!$D38+1,FALSE)))","v":""},{"$f":"preparation_cabasse!P38","v":""},null,{"$f":"IF(U38=\"\",\"\",IF(U38=preparation_cabasse!Q38,\"OK\",\"FAUX\"))","v":""},"",{"$f":"IF(U38=\"\",\"\",IF(V38=\"OK\",\"\",VLOOKUP(U38,index_cabasse!$C$5:$O$89,preparation_cabasse!$D38+1,FALSE)))","v":""},{"$f":"preparation_cabasse!S38","v":""},null,{"$f":"IF(Z38=\"\",\"\",IF(Z38=preparation_cabasse!T38,\"OK\",\"FAUX\"))","v":""},"",{"$f":"IF(Z38=\"\",\"\",IF(AA38=\"OK\",\"\",VLOOKUP(Z38,index_cabasse!$C$5:$O$89,preparation_cabasse!$D38+1,FALSE)))","v":""},{"$f":"preparation_cabasse!V38","v":""},null,{"$f":"IF(AE38=\"\",\"\",IF(AE38=preparation_cabasse!W38,\"OK\",\"FAUX\"))","v":""},"",{"$f":"IF(AE38=\"\",\"\",IF(AF38=\"OK\",\"\",VLOOKUP(AE38,index_cabasse!$C$5:$O$89,preparation_cabasse!$D38+1,FALSE)))","v":""},{"$f":"preparation_cabasse!Y38","v":""},null,{"$f":"IF(AJ38=\"\",\"\",IF(AJ38=preparation_cabasse!Z38,\"OK\",\"FAUX\"))","v":""},"",{"$f":"IF(AJ38=\"\",\"\",IF(AK38=\"OK\",\"\",VLOOKUP(AJ38,index_cabasse!$C$5:$O$89,preparation_cabasse!$D38+1,FALSE)))","v":""},{"$f":"preparation_cabasse!AB38","v":""},null,{"$f":"IF(AO38=\"\",\"\",IF(AO38=preparation_cabasse!AC38,\"OK\",\"FAUX\"))","v":""},"",{"$f":"IF(AO38=\"\",\"\",IF(AP38=\"OK\",\"\",VLOOKUP(AO38,index_cabasse!$C$5:$O$89,preparation_cabasse!$D38+1,FALSE)))","v":""},{"$f":"preparation_cabasse!AE38","v":""},null,{"$f":"IF(AT38=\"\",\"\",IF(AT38=preparation_cabasse!AF38,\"OK\",\"FAUX\"))","v":""},"",{"$f":"IF(AT38=\"\",\"\",IF(AU38=\"OK\",\"\",VLOOKUP(AT38,index_cabasse!$C$5:$O$89,preparation_cabasse!$D38+1,FALSE)))","v":""},{"$f":"preparation_cabasse!AH38","v":""},null,{"$f":"IF(AY38=\"\",\"\",IF(AY38=preparation_cabasse!AI38,\"OK\",\"FAUX\"))","v":""},"",{"$f":"IF(AY38=\"\",\"\",IF(AZ38=\"OK\",\"\",VLOOKUP(AY38,index_cabasse!$C$5:$O$89,preparation_cabasse!$D38+1,FALSE)))","v":""}]
["BALISES",null,null,null,1,null,null,null,null,2,null,null,null,null,3,null,null,null,null,4,null,null,null,null,5,null,null,null,null,6,null,null,null,null,7,null,null,null,null,8,null,null,null,null,9,null,null,null,null,10]

{"sheet":"index_cabasse","index":13,"n_rows":89,"n_cols":17,"rows_kept":89,"cut":false,"hidden":false,"merged":[[1,1,3,1],[1,16,3,16],[0,1,0,16],[1,2,3,2]]}
[null,"Balises C.O CABASSE"]
[null,"N°balise","Codes N°","Code","Code","Code","Code","Code","Code","Code","Code","Code","Code","Code","Code"]
[null,null,null,"Lettre","Lettre2","Lettre","Lettre4","Lettre","Lettre","Lettre","Lettre","Lettre","Lettre","Lettre","Lettre"]
["INDEX",null,null,1,2,3,4,5,6,7,8,9,10,11,12,"Distance"]
[1,16,4528,"P","CB","KH","LH","MH","PS","TD","XM","AAX","EEI","HHS","NNB",1,"Sur un poteau téléphonique"]
[2,17,{"$f":"C5+135","v":4663},"Q","CD","KI","LI","MI","PT","TE","XN","AAY","EEJ","HHT","NNC",1,"Sur un poteau téléphonique"]
[3,18,{"$f":"C6+135","v":4798},"R","CE","KJ","LJ","MJ","PU","TF","XO","AAZ","EEK","HHU","NND",1,"Sur un poteau téléphonique"]
[4,19,4933,"S","CF","KL","LK","MK","PV","TG","XP","BBA","EEL","HHV","NNE",1,"Sur un poteau électrique"]
[5,20,5068,"T","CG","KM","LM","ML","PW","TH","XQ","BBC","EEM","HHW","NNF",1,"Sur un rocher, à côté de la route"]
[6,21,5203,"U","CH","KN","LN","MN","PX","TI","XR","BBD","EEN","HHX","NNG",1,"Sur une dalle en béton"]
[7,22,5338,"V","CI","KO","LO","MO","PY","TJ","XS","BBE","EEO","HHY","NNH",1,"Sur un arbre, dans une haie d’arbres"]
[8,23,5473,"W","CJ","KP","LP","MP","PZ","TK","XT","BBF","EEP","HHZ","NNI",1,"Sur un arbre, dans une haie d’arbres"]
[9,24,5608,"X","CK","KQ","LQ","MQ","QA","TL","XU","BBG","EEQ","KKA","NNJ",1,"Sur une dalle à côté d’un chemin"]
[10,25,5743,"Y","CL","KR","LR","MR","QB","TM","XV","BBH","EER","KKB","NNK",1,"Sur un pont en bois"]
[11,26,5878,"Z","CM","EW","HI","MS","QC","TN","XW","BBI","EES","KKC","NNL",1,"Sur le muret d’une clôture"]
[12,27,6013,"AA","CN","EX","HJ","MT","QE","TO","XY","BBJ","EET","KKD","NNM",1,"Sur un poteau électrique"]
[13,28,6148,"BB","CO","EY","HK","MU","QF","TP","XZ","BBK","EEU","KKE","NNO",1,"Sur un rocher, à côté d’un chemin"]
[14,62,6283,"AM","DX","GI","IT","OD","RO","UY","ZI","CCT","GGD","LLN","PPX",1,"Sur un pylône en béton"]
[15,63,6418,"AN","DY","GJ","IU","OE","RP","UZ","ZJ","CCU","GGE","LLO","PPY",1,"Sur un rocher"]
[16,64,6553,"AO","DZ","GK","IV","OF","RQ","WA","ZK","CCV","GGF","LLP","PPZ",1,"Sur une poubelle"]
[17,65,6688,"AP","EA","GL","IW","OG","RR","WB","ZL","CCW","GGH","LLQ","RRA",1,"Au sol en bord de route"]
[18,66,6823,"AQ","EB","GM","IX","OH","RS","WC","ZM","CCX","GGI","LLR","RRB",1,"Sur une souche d’arbre"]
[19,67,6958,"AR","EC","GN","IY","OJ","RT","WD","ZN","CCY","GGJ","LLS","RRC",1,"Sur un rocher sous les arbres"]
[20,68,7093,"AS","ED","GO","IZ","OI","RU","WE","ZO","CCZ","GGK","LLT","RRD",1,"Sur une borne en bois"]
[21,69,7228,"AT","EF","GP","JA","OK","RV","WF","ZP","DDA","GGL","LLU","RRE",1,"Au bord de la falaise et du sentier"]
[22,1,6841,"A","BM","JS","KS","LS","PC","SM","WX","AAI","DDS","HHC","MML",2,"Sur une borne en bois"]
[23,2,{"$f":"C26-158","v":6683},"B","BN","JT","KT","LT","PD","SN","WY","AAJ","DDT","HHD","MMN",2,"Au sol, sur un chemin , près d’une intersection"]
[24,3,{"$f":"C27-158","v":6525},"C","BO","JU","KU","LU","PE","SO","WZ","AAK","DDU","HHE","MMO",2,"Au sol , sur un chemin"]
[25,14,6367,"N","BZ","KF","LF","MF","PQ","TB","XK","AAV","EEG","HHQ","MMZ",2,"Sur le tronc d’un chêne, dans un bosquet"]
[26,15,6209,"O","CA","KG","LG","MG","PR","TC","XL","AAW","EEH","HHR","NNA",2,"Sur une pierre, au bord du chemin"]
[27,29,6051,"CC","CP","EZ","HL","MV","QG","TQ","YA","BBL","EEV","KKF","NNP",2,"Sur un rocher, dans la forêt"]
[28,30,5893,"DD","CQ","FA","HM","MW","QH","TR","YB","BBM","EEW","KKG","NNQ",2,"Dans le creux d’un rocher, dans la forêt"]
[29,31,5735,"EE","CR","FB","HN","MX","QI","TS","YC","BBN","EEX","KKH","NNR",2,"Sur un rocher, à côté d’un sentier boisé"]
[30,32,5577,"FF","CS","FC","HO","MY","QJ","TT","YD","BBO","EEY","KKI","NNS",2,"Au sol, sur un sentier"]
[31,34,5419,"HH","CU","FE","HQ","NA","QL","TV","YF","BBQ","FFA","KKL","NNU",2,"Sur un pont en bois"]
[32,44,5261,"RR","DF","FP","IA","NK","QW","UF","YP","CCA","FFL","KKV","PPE",2,"Sur un rocher au bord d’un champ"]
[33,47,5103,"UU","DI","FS","ID","NO","QZ","UI","YS","CCE","FFO","KKY","PPH",2,"Sur un chêne, au bord d’un champ"]
[34,48,4945,"XX","DJ","FT","IE","NP","RA","UJ","YT","CCF","FFP","KKZ","PPI",2,"Au sol , sur un chemin"]
[35,49,4787,"YY","DK","FU","IF","NQ","RB","UK","YU","CCG","FFQ","LLA","PPJ",2,"Au sol , sur un chemin"]
[36,50,4629,"ZZ","DL","FV","IG","NR","RC","UL","YV","CCH","FFR","LLB","PPK",2,"Sur un pont à l’intersection de chemins"]
[37,51,4471,"AB","DM","FW","IH","NS","RD","UM","YW","CCI","FFS","LLC","PPL",2,"Sur un rocher, sous les arbres"]
[38,61,4313,"AL","DW","GH","IS","OC","RN","UX","ZH","CCS","GGC","LLM","PPW",2,"Sur un rocher, au bord d’un sentier"]
[39,70,4155,"AU","EG","GQ","JB","OL","RW","WG","ZQ","DDB","GGM","LLV","RRF",2,"Sur un rocher, sous un arbre"]
[40,72,3997,"AW","EJ","GS","JD","ON","RY","WI","ZS","DDE","GGO","LLX","RRH",2,"Sur un caniveau en béton"]
[41,73,3839,"AX","EI","GT","JE","OP","RZ","WJ","ZT","DDF","GGP","LLY","RRI",2,"Sur la porte d’une ruine"]
[42,81,3681,"BH","ER","HB","JN","OX","SH","WR","AAD","DDN","GGX","MMG","RRQ",2,"Sur un hêtre"]
[43,82,3523,"BI","ES","HC","JO","OY","SI","WS","AAE","DDO","GGY","MMH","RRS",2,"Sur la paroi de la falaise"]
[44,83,3365,"BJ","ET","HE","JP","OZ","SJ","WT","AAF","DDP","GGZ","MMI","RRT",2,"Sur une grosse pierre, au bord du sentier"]
[45,4,3021,"D","BP","JV","KV","LV","PF","SP","XA","AAL","DDV","HHF","MMP",3,"Au sol , sur un chemin"]
[46,5,{"$f":"C49+210","v":3231},"E","BQ","JW","KW","LW","PG","SQ","XB","AAM","DW","HHG","MMQ",3,"Sur une pierre, dans un bosquet de chênes à côté d’un chemin"]
[47,6,{"$f":"C50+210","v":3441},"F","BR","JX","KX","LX","PH","SR","XC","AAN","DDX","HHI","MMR",3,"Au sol , sur un chemin"]
[48,7,3651,"G","BS","JY","KY","LY","PJ","ST","XD","AAO","DDY","HHJ","MMS",3,"Sur un pont en bois"]
[49,8,3861,"H","BT","JZ","KZ","LZ","PI","SU","XE","AAP","DDZ","HHK","MMT",3,"Au sol, à l’intersection d’un chemin et d’un sentier"]
[50,9,4071,"I","BU","KA","LA","MA","PK","SV","XF","AAQ","EEA","HHL","MMU",3,"Au sol, sur un sentier"]
[51,10,4281,"J","BV","KB","LB","MB","PL","SW","XG","AAR","EEB","HHM","MMV",3,"Sur une dalle en béton au sol "]
[52,11,4491,"K","BW","KC","LC","MC","PM","SY","XH","AAS","EEC","HHN","MMW",3,"Sur une pierre,  sous un chêne "]
[53,12,4701,"L","BX","KD","LD","MD","PN","SZ","XJ","AAT","EED","HHO","MMX",3,"Sur une pierre,  sous un chêne"]
[54,13,4911,"M","BY","KE","LE","ME","PO","TA","XI","AAU","EEF","HHP","MMY",3,"Au sol , sur un chemin"]
[55,33,5121,"GG","CT","FD","HP","MZ","QK","TU","YE","BBP","EEZ","KKJ","NNT",3,"Sur un chêne, à l’intersection de chemins"]
[56,35,5331,"II","CV","FG","HR","NB","QM","TW","YG","BBR","FFB","KKM","NNV",3,"Sur un chêne, au bord d’un champ"]
[57,36,5541,"JJ","CW","FH","HS","NC","QN","TX","YH","BBS","FFC","KKN","NNW",3,"Sur une borne en béton, à côté d’un sentier"]
[58,37,5751,"KK","CX","FI","HT","ND","QO","TY","YI","BBT","FFD","KKO","NNX",3,"Sur un rocher, au bord d’un champ"]
[59,38,5961,"LL","CY","FJ","HU","NE","QP","TZ","JY","BBU","FFE","KKP","NNY",3,"Sur un banc en bois, au bord d’un chemin"]
[60,39,6171,"MM","CZ","FK","HV","NF","QR","UA","KY","BBV","FFG","KKQ","NNZ",3,"Sur un sentier au sol"]
[61,40,6381,"NN","DA","FL","HW","NG","QS","UB","YL","BBW","FFH","KKR","PPA",3,"Sur un banc en bois, au bord d’un chemin"]
[62,41,6591,"OO","DB","FM","HX","NH","QT","UC","YM","BBX","FFI","KKS","PPB",3,"Au sol, sur un petit sentier"]
[63,42,6801,"PP","DC","FN","HY","NI","QU","UD","YN","BBY","FFJ","KKT","PPC",3,"Au sol , sur un chemin"]
[64,43,7011,"QQ","DE","FO","HZ","NJ","QV","UE","YO","BBZ","FFK","KKU","PPD",3,"Sur une dalle, au bord d’un champ"]
[65,45,7221,"SS","DG","FQ","IB","NL","QX","UG","YQ","CCB","FFM","KKW","PPF",3,"Sur un banc en bois, au bord d’un champ"]
[66,46,7431,"TT","DH","FR","IC","NM","QY","UH","YR","CCD","FFN","KKX","PPG",3,"Sur un rocher, au bord d’un champ"]
[67,52,7641,"AC","DN","FX","IJ","NT","RE","UN","YX","CCJ","FFT","LLD","PPM",3,"Sur une souche d’arbre, au bord du chemin"]
[68,53,7851,"AD","DO","FY","IK","NU","RF","UO","YZ","CCK","FFU","LLE","PPN",3,"Sur un socle en béton au bord du chemin"]
[69,54,8061,"AE","DP","FZ","IL","NV","RG","UP","ZA","CCL","FFV","LLF","PPO",3,"Sur un petit rocher, sous les arbres"]
[70,55,8271,"AF","DQ","GA","IM","NW","RH","UQ","ZB","CCM","FFW","LLG","PPQ",3,"Sur un rocher au sol, en bordure du chemin"]
[71,56,8481,"AG","DR","GB","IN","NX","RI","UR","ZC","CCN","FFX","LLH","PPR",3,"Sur un petit chêne, sous les arbres"]
[72,57,8691,"AH","DS","GC","IO","NY","RJ","US","ZD","CCO","FFY","LLI","PPS",3,"Sur un chêne, au bord du chemin"]
[73,58,8901,"AI","DT","GD","IP","NZ","RK","UT","ZE","CCP","FFZ","LLJ","PPT",3,"Sur un bloc en béton d’un tas de ruines"]
[74,59,9111,"AJ","DU","GE","IQ","OA","RL","UV","ZF","CCQ","GGA","LLK","PPU",3,"Sur un rocher, au bord de la falaise à côté d’un grand pin"]
[75,60,9321,"AK","DV","GF","IR","OB","RM","UW","ZG","CCR","GGB","LLL","PPV",3,"Sur une borne en bois , au bord d’un sentier"]
[76,71,9531,"AV","EH","GR","JC","OM","RX","WH","ZR","DDC","GGN","LLW","RRG",3,"Sur un rocher, au bord de la route"]
[77,74,9741,"AY","EK","GU","JF","OQ","SA","WK","ZU","DDG","GGQ","LLZ","RRJ",3,"Sur le poteau d’un portail"]
[78,75,9951,"AZ","EL","GV","JG","OR","SB","WL","ZV","DDH","GGR","MMA","RRK",3,"Sur un rocher, au carrefour des chemins"]
[79,76,{"$f":"C82-546","v":9405},"BA","EM","GW","JH","OS","SC","WM","ZW","DDI","GGS","MMB","RRL",3,"Sur une souche d’arbre"]
[80,77,{"$f":"C83-546","v":8859},"BC","EN","GX","JI","OT","SD","WN","ZX","DDJ","GGT","MMC","RRM",3,"Sur des pierres empilées"]
[81,78,8313,"BD","EP","GY","JK","OU","SE","WO","ZY","DDK","GGU","MMD","RRN",3,"Sur un petit pont"]
[82,79,7767,"BE","EO","GZ","JL","OV","SF","WP","AAB","DDL","GGV","MME","RRO",3,"Sur un arbre devant la falaise"]
[83,80,7221,"BF","EQ","HA","JM","OW","SG","WQ","AAC","DDM","GGW","MMF","RRP",3,"Dans une petite grotte"]
[84,84,6675,"BK","EU","HF","JQ","PA","SK","WU","AAG","DDQ","HHA","MMJ","RRU",3,"Sur un rocher, sous les chênes"]
[85,85,6129,"BL","EV","HG","JR","PB","SL","WV","AAH","DDR","HHB","MMK","RRW",3,"Sur un rocher au sol, sur le chemin"]

{"sheet":"index_plateau","index":14,"n_rows":69,"n_cols":17,"rows_kept":69,"cut":false,"hidden":false,"merged":[[1,1,1,16]]}
[]
[null,"Balises Plateau C.O CABASSE"]
[]
["index","N° balise","Codes","Code lettre 1","Code lettre 2","Code lettre 3","Code lettre 4","Code lettre 5","Code lettre 6","Code lettre 7","Code lettre 8","Code lettre 9","Code lettre 10","Code lettre 11","Code lettre 12","Distance","Définition"]
[1,1,4528,"BAC","TOC","FIP","MER","DRE","YOI","KLM","POF","VEN","SAJ","CSQ","GHI",1,"Sur un pylone métallique"]
[2,2,{"$f":"C5+135","v":4663},"BAD","TOD","FIQ","MES","DRF","YOJ","KLN","POG","VEO","SAK","CSR","GHJ",1,"Sur une souche d'arbre"]
[3,3,{"$f":"C6+135","v":4798},"BAE","TOE","FIR","MET","DRG","YOK","KLO","POH","VEP","SAL","CST","GHK",1,"Sur un pylone métallique"]
[4,4,4933,"BAF","TOF","FIS","MEU","DRH","YOL","KLP","POI","VEQ","SAM","CSU","GHL",1,"Au sol sur un rocher"]
[5,5,5068,"BAG","TOG","FIT","MEV","DRI","YOM","KLQ","POJ","VER","SAN","CSV","GHM",1,"Au sol sur un rocher"]
[6,8,5203,"BAJ","TOJ","FIW","MEY","DRM","YOP","KLT","POM","VEU","SAQ","CSY","GHP",1,"Sur un rocher"]
[7,25,5338,"CBD","UPB","FJN","NAP","DSH","YVI","KMX","PND","WFM","RBI","DRP","HIG",1,"Sur une souche d'arbre"]
[8,27,5473,"CBF","UPD","FJP","NAR","DSJ","YXI","KMZ","PNF","WFO","RBK","DRR","HII",1,"Sur une pierre sous un pin"]
[9,28,5608,"CBG","UPE","FJQ","NAS","DSK","YYI","LMN","PNG","WFP","RBL","DRS","HIJ",1,"Sur un rocher"]
[10,29,5743,"CBH","UPF","FJR","NAT","DSL","YZI","LMO","PNH","WFQ","RBM","DRT","HIK",1,"Sur un chêne"]
[11,30,5878,"CBI","UPG","FJS","NAU","DSM","ZOI","LMP","PNI","WFR","RBN","DRU","HIL",1,"Sur un rocher"]
[12,31,6013,"CBJ","UPH","FJT","NAV","DSN","ZOJ","LMQ","PNJ","WFS","RBO","DRV","HIM",1,"Sur un rocher"]
[13,32,6148,"CBK","UPI","FJU","NAW","DSO","ZOK","LMR","PNK","WFT","RBP","DRW","HIN",1,"Sur une borne en bois"]
[14,64,6283,"AO","DZ","GK","IV","OF","RQ","WA","ZK","CCV","GGF","LLP","PPZ",1,"Sur une poubelle"]
[15,65,6418,"AP","EA","GL","IW","OG","RR","WB","ZL","CCW","GGH","LLQ","RRA",1,"Au sol en bord de route"]
[16,66,6553,"AQ","EB","GM","IX","OH","RS","WC","ZM","CCX","GGI","LLR","RRB",1,"Sur une souche d'arbre"]
[17,67,6688,"AR","EC","GN","IY","OI","RT","WD","ZN","CCY","GGJ","LLS","RRC",1,"Sur un rocher sous les arbres"]
[18,68,6823,"AS","ED","GO","IZ","OJ","RU","WE","ZO","CCZ","GGK","LLT","RRD",1,"Au sol sur une dalle "]
[19,69,6958,"AT","EF","GP","JA","OK","RV","WF","ZP","DDA","GGL","LLU","RRE",1,"Au brod de la falaise et du sentier"]
[20,94,7093,"CBV","UPT","IHF","MBH","DSZ","ZOW","MNC","PNV","XGE","SCA","ESH","HIY",1,"Sur un rocher sous un grand pin"]
[21,95,7228,"CBW","UPU","IHG","MBI","ERA","ZOX","MND","PNW","XGF","SCB","ESI","HIZ",1,"Sur un rocher an bord de chemin"]
[22,96,7363,"CBX","UPV","IHH","MBJ","ERB","ZOY","MNE","PNX","XGG","SCC","ESJ","IJA",1,"Sur un rocher sous les arbres"]
[23,6,6841,"BAH","TOH","FIU","MEW","DRJ","YON","KLR","POK","VES","SAO","CSW","GHN",2,"Sur une souche d'arbre"]
[24,7,{"$f":"C27-158","v":6683},"BAI","TOI","FIV","MEX","DRL","YOO","KLS","POL","VET","SAP","CSX","GHO",2,"Sur un pylone métallique"]
[25,9,{"$f":"C28-158","v":6525},"BAK","TOK","FIX","MEZ","DRN","YOQ","KLU","PON","VEV","SAR","CSZ","GHQ",2,"Sur une grosse pierre"]
[26,10,6367,"BAL","TOL","FIY","NAA","DRO","YOR","KLV","POO","VEW","SAS","DRA","GHR",2,"Sur une dalle en béton"]
[27,11,6209,"BAM","TOM","FIZ","NAB","DRP","YOS","KLW","POP","VEX","SAT","DRB","GHS",2,"Sur une pierre"]
[28,12,6051,"BAN","TON","FJA","NAC","DRQ","YOT","KLX","POQ","VEY","SAU","DRC","GHT",2,"Au pied d'un tronc d'arbre"]
[29,13,5893,"BAP","TOP","FJB","NAD","DRR","YOU","KY","POR","VEZ","SAV","DRD","GHU",2,"Au sol sur un rocher"]
[30,21,5735,"BAW","TOX","FJH","NAL","DRZ","YRI","KMT","POZ","WFH","RBE","DRL","HIC",2,"Sur une souche d'arbre"]
[31,23,5577,"BAZ","TOZ","FJL","NAN","DSF","YTI","KMV","PNB","WFK","RBG","DRN","HIE",2,"Sur une pierre sous un chêne"]
[32,24,5419,"CBC","UPA","FJM","NAO","DSG","YUI","KMW","PNC","WFL","RBH","DRO","HIF",2,"Sur un poteau en bois"]
[33,59,5261,"AJ","DU","GE","IQ","OA","RL","UV","ZF","CCQ","GGA","LLK","PPU",2,"Sur un rocher au bord de la falaise, à côté d'un grand pin"]
[34,61,5103,"AL","DW","GH","IS","OC","RN","UX","ZH","CCS","GGC","LLM","PPW",2,"Sur un rocher au bord du sentier"]
[35,62,4945,"AM","DX","GI","IT","OD","RO","UY","ZI","CCT","GGD","LLN","PPX",2,"Sur un pylone en béton"]
[36,63,4787,"AN","DY","GJ","IU","OE","RP","UZ","ZJ","CCU","GGE","LLO","PPY",2,"Sur un rocher"]
[37,70,4629,"AU","EG","GQ","JB","OL","RW","WG","ZQ","DDB","GGM","LLV","RRF",2,"Sur un rocher sous les arbres"]
[38,83,4471,"BJ","ET","HE","JP","OZ","SJ","WT","AAF","DDP","GGZ","MMI","RRS",2,"Sur une grosse pierre au bord du sentier"]
[39,84,4313,"CBL","UPJ","FJV","NAX","DSP","ZOL","LMS","PNL","WFU","RBQ","DRX","HIO",2,"Sur un rocher sous les chênes"]
[40,86,4155,"CBN","UPL","FJX","NAZ","DSR","ZON","LMU","PNN","WFW","RBS","DRZ","HIQ",2,"Sur un rocher près de la falaise"]
[41,87,3997,"CBO","UPM","FJY","MBA","DST","ZOP","LMV","PNO","WFX","RBT","ESA","HIR",2,"Sur un petit rocher dans la forêt"]
[42,88,3839,"CBP","UPN","FJZ","MBB","DSS","ZOQ","LMW","PNP","WFY","RBU","ESB","HIS",2,"Sur un rocher au sommet près de la falaise"]
[43,92,3681,"CBT","UPR","IHD","MBF","DSX","ZOU","MNA","PNT","XGC","RBY","ESF","HIW",2,"Sur un rocher au bord d'un sentier"]
[44,93,3523,"CBU","UPS","IHE","MBG","DSY","ZOV","MNB","PNU","XGD","RBZ","ESG","HIX",2,"Sur un rocher près d'une borne incendie"]
[45,14,3021,"BAO","TOQ","FJC","NAE","DRS","YOV","KLZ","POS","WFA","SAW","DRE","GHV",3,"Au sol sur une dalle en béton"]
[46,15,{"$f":"C49+210","v":3231},"BAQ","TOR","FJD","NAF","DRT","YOW","KMN","POT","WFB","SAY","DRF","GHW",3,"Sur une borne en bois"]
[47,16,{"$f":"C50+210","v":3441},"BAR","TOS","FJE","NAG","DRU","YOX","KMO","POU","WFC","SAZ","DRG","GHX",3,"Sur une grosse pierre"]
[48,17,3651,"BAS","TOT","FJF","NAH","DRV","YOY","KMP","POV","WFD","RBA","DRH","GHY",3,"Sur une borne en bois"]
[49,18,3861,"BAT","TOU","FJG","NAI","DRW","YOZ","KMQ","POW","WFE","RBB","DRI","GHZ",3,"Sur une borne en bois"]
[50,19,4071,"BAU","TOV","FJJ","NAJ","DRX","YPI","KMR","POX","WFF","RBC","DRJ","HIA",3,"Sur un rocher"]
[51,20,4281,"BAV","TOW","FJI","NAK","DRY","YQI","KMS","POY","WFG","RBD","DRK","HIB",3,"Sur un rocher"]
[52,22,4491,"BAX","TOY","FJK","NAM","DES","YSI","KMU","PNA","WFJ","RBF","DRM","HID",3,"Sur une pierre"]
[53,26,4701,"CBE","UPC","FJO","NAQ","DSI","YWI","KMY","PNE","WFN","RBJ","DRQ","HIH",3,"Sur une borne en bois"]
[54,52,4911,"AC","DN","FX","IJ","NT","RE","UN","YX","CCJ","FFT","LLD","PPM",3,"Sur une souche d'arbre, au bord du chemin"]
[55,53,5121,"AD","DO","FY","IK","NU","RF","UO","YZ","CCK","FFU","LLE","PPN",3,"Sur un socle en béton au bord du chemin"]
[56,54,5331,"AE","DP","FZ","IL","NV","RG","UP","ZA","CCL","FFV","LLF","PPO",3,"Sur un petit rocher sous les arbres"]
[57,55,5541,"AF","DQ","GA","IM","NW","RH","UQ","ZB","CCM","FFW","LLG","PPQ",3,"Sur un rocher au sol en bordure de chemin"]
[58,56,5751,"AG","DR","GB","IN","NX","RI","UR","ZC","CCN","FFX","LLH","PPR",3,"Sur un petit chêne sous les arbres"]
[59,57,5961,"AH","DS","GC","IO","NY","RJ","US","ZD","CCO","FFY","LLI","PPS",3,"Sur un chêne au bord du chemin"]
[60,58,6171,"AI","DT","GD","IP","NZ","RK","UT","ZE","CCP","FFZ","LLJ","PPT",3,"Sur un bloc en béton d'un tas de ruines"]
[61,60,6381,"AK","DV","GF","IR","OB","RM","UW","ZG","CCR","GGB","LLL","PPV",3,"Sur une borne en bois au bord du sentier"]
[62,85,6591,"CBM","UPK","FJW","NAY","DSQ","ZOM","LKMT","PNM","WFV","RBR","DRY","HIP",3,"Sur un rocher au sol sur le chemin"]
[63,89,6801,"CBQ","UPO","IHA","MBC","DSU","ZOR","LMX","PNQ","WFZ","RBV","ESC","HIT",3,"Sur un tronc d'arbre"]
[64,90,7011,"CBR","UPP","IHB","MBD","DSV","ZOS","LMY","PNR","XGA","RBW","ESD","HIU",3,"Sur une grosse pierre sous un pin dans la forêt"]
[65,91,7221,"CBS","UPQ","IHC","MBE","DSW","ZOT","LMZ","PNS","XGB","RBX","ESE","HIV",3,"Sur un rocher au pied d'un pin"]

{"sheet":"index_plateau_formatif","index":15,"n_rows":69,"n_cols":15,"rows_kept":69,"cut":false,"hidden":false,"merged":[[1,0,1,14]]}
[]
[]
[]
["Codes","Distance","Code lettre 1","Code lettre 2","Code lettre 3","Code lettre 4","Code lettre 5","Code lettre 6","Code lettre 7","Code lettre 8","Code lettre 9","Code lettre 10","Code lettre 11","Code lettre 12","Définition"]
[1015,1,"BAC","TOC","FIP","MER","DRE","YOI","KLM","POF","VEN","SAJ","CSQ","GHI","Sur un pylone métallique"]
[1069,1,"BAH","TOH","FIU","MEW","DRJ","YON","KLR","POK","VES","SAO","CSW","GHN","Sur une souche d'arbre"]
[1167,1,"BAR","TOS","FJE","NAG","DRU","YOX","KMO","POU","WFC","SAZ","DRG","GHX","Sur une grosse pierre"]
[1194,1,"BAU","TOV","FJJ","NAJ","DRX","YPI","KMR","POX","WFF","RBC","DRJ","HIA","Sur un rocher"]
[1201,1,"BAV","TOW","FJI","NAK","DRY","YQI","KMS","POY","WFG","RBD","DRK","HIB","Sur un rocher"]
[1254,2,"CBG","UPE","FJQ","NAS","DSK","YYI","LMN","PNG","WFP","RBL","DRS","HIJ","Sur un rocher"]
[1520,2,"AC","DN","FX","IJ","NT","RE","UN","YX","CCJ","FFT","LLD","PPM","Sur une souche d'arbre, au bord du chemin"]
[1601,1,"AK","DV","GF","IR","OB","RM","UW","ZG","CCR","GGB","LLL","PPV","Sur une borne en bois au bord du sentier"]
[1677,2,"AQ","EB","GM","IX","OH","RS","WC","ZM","CCX","GGI","LLR","RRB","Sur une souche d'arbre"]
[1965,2,"CBX","UPV","IHH","MBJ","ERB","ZOY","MNE","PNX","XGG","SCC","ESJ","IJA","Sur un rocher sous les arbres"]
[2083,2,"BAJ","TOJ","FIW","MEY","DRM","YOP","KLT","POM","VEU","SAQ","CSY","GHP","Sur un rocher"]
[2123,2,"BAN","TON","FJA","NAC","DRQ","YOT","KLX","POQ","VEY","SAU","DRC","GHT","Au pied d'un tronc d'arbre"]
[2187,2,"BAT","TOU","FJG","NAI","DRW","YOZ","KMQ","POW","WFE","RBB","DRI","GHZ","Sur une borne en bois"]
[2318,3,"CBJ","UPH","FJT","NAV","DSN","ZOJ","LMQ","PNJ","WFS","RBO","DRV","HIM","Sur un rocher"]
[2324,3,"CBK","UPI","FJU","NAW","DSO","ZOK","LMR","PNK","WFT","RBP","DRW","HIN","Sur une borne en bois"]
[2679,3,"AR","EC","GN","IY","OI","RT","WD","ZN","CCY","GGJ","LLS","RRC","Sur un rocher sous les arbres"]
[2691,3,"AT","EF","GP","JA","OK","RV","WF","ZP","DDA","GGL","LLU","RRE","Au brod de la falaise et du sentier"]
[2831,3,"BJ","ET","HE","JP","OZ","SJ","WT","AAF","DDP","GGZ","MMI","RRS","Sur une grosse pierre au bord du sentier"]
[2907,3,"CBR","UPP","IHB","MBD","DSV","ZOS","LMY","PNR","XGA","RBW","ESD","HIU","Sur une grosse pierre sous un pin dans la forêt"]
[3037,3,"BAE","TOE","FIR","MET","DRG","YOK","KLO","POH","VEP","SAL","CST","GHK","Sur un pylone métallique"]
[3150,2,"BAQ","TOR","FJD","NAF","DRT","YOW","KMN","POT","WFB","SAY","DRF","GHW","Sur une borne en bois"]
[3589,3,"AI","DT","GD","IP","NZ","RK","UT","ZE","CCP","FFZ","LLJ","PPT","Sur un bloc en béton d'un tas de ruines"]
[3619,2,"AL","DW","GH","IS","OC","RN","UX","ZH","CCS","GGC","LLM","PPW","Sur un rocher au bord du sentier"]
[3642,2,"AO","DZ","GK","IV","OF","RQ","WA","ZK","CCV","GGF","LLP","PPZ","Sur une poubelle"]
[3684,1,"AS","ED","GO","IZ","OJ","RU","WE","ZO","CCZ","GGK","LLT","RRD","Au sol sur une dalle "]
[3845,3,"CBL","UPJ","FJV","NAX","DSP","ZOL","LMS","PNL","WFU","RBQ","DRX","HIO","Sur un rocher sous les chênes"]
[3862,1,"CBN","UPL","FJX","NAZ","DSR","ZON","LMU","PNN","WFW","RBS","DRZ","HIQ","Sur un rocher près de la falaise"]
[3925,1,"CBT","UPR","IHD","MBF","DSX","ZOU","MNA","PNT","XGC","RBY","ESF","HIW","Sur un rocher au bord d'un sentier"]
[4026,1,"BAD","TOD","FIQ","MES","DRF","YOJ","KLN","POG","VEO","SAK","CSR","GHJ","Sur une souche d'arbre"]
[4077,1,"BAI","TOI","FIV","MEX","DRL","YOO","KLS","POL","VET","SAP","CSX","GHO","Sur un pylone métallique"]
[4115,1,"BAM","TOM","FIZ","NAB","DRP","YOS","KLW","POP","VEX","SAT","DRB","GHS","Sur une pierre"]
[4173,1,"BAS","TOT","FJF","NAH","DRV","YOY","KMP","POV","WFD","RBA","DRH","GHY","Sur une borne en bois"]
[4541,3,"AE","DP","FZ","IL","NV","RG","UP","ZA","CCL","FFV","LLF","PPO","Sur un petit rocher sous les arbres"]
[4573,3,"AH","DS","GC","IO","NY","RJ","US","ZD","CCO","FFY","LLI","PPS","Sur un chêne au bord du chemin"]
[4637,3,"AN","DY","GJ","IU","OE","RP","UZ","ZJ","CCU","GGE","LLO","PPY","Sur un rocher"]
[4881,3,"CBP","UPN","FJZ","MBB","DSS","ZOQ","LMW","PNP","WFY","RBU","ESB","HIS","Sur un rocher au sommet près de la falaise"]
[4953,3,"CBW","UPU","IHG","MBI","ERA","ZOX","MND","PNW","XGF","SCB","ESI","HIZ","Sur un rocher an bord de chemin"]
[5042,3,"BAF","TOF","FIS","MEU","DRH","YOL","KLP","POI","VEQ","SAM","CSU","GHL","Au sol sur un rocher"]
[5095,3,"BAK","TOK","FIX","MEZ","DRN","YOQ","KLU","PON","VEV","SAR","CSZ","GHQ","Sur une grosse pierre"]
[5268,2,"CBE","UPC","FJO","NAQ","DSI","YWI","KMY","PNE","WFN","RBJ","DRQ","HIH","Sur une borne en bois"]
[5628,3,"AM","DX","GI","IT","OD","RO","UY","ZI","CCT","GGD","LLN","PPX","Sur un pylone en béton"]
[5704,2,"AU","EG","GQ","JB","OL","RW","WG","ZQ","DDB","GGM","LLV","RRF","Sur un rocher sous les arbres"]
[5896,2,"CBQ","UPO","IHA","MBC","DSU","ZOR","LMX","PNQ","WFZ","RBV","ESC","HIT","Sur un tronc d'arbre"]
[6134,2,"BAP","TOP","FJB","NAD","DRR","YOU","KY","POR","VEZ","SAV","DRD","GHU","Au sol sur un rocher"]
[6241,1,"CBC","UPA","FJM","NAO","DSG","YUI","KMW","PNC","WFL","RBH","DRO","HIF","Sur un poteau en bois"]
[6271,1,"CBF","UPD","FJP","NAR","DSJ","YXI","KMZ","PNF","WFO","RBK","DRR","HII","Sur une pierre sous un pin"]
[6552,1,"AF","DQ","GA","IM","NW","RH","UQ","ZB","CCM","FFW","LLG","PPQ","Sur un rocher au sol en bordure de chemin"]
[6592,1,"AJ","DU","GE","IQ","OA","RL","UV","ZF","CCQ","GGA","LLK","PPU","Sur un rocher au bord de la falaise, à côté d'un grand pin"]
[6938,1,"CBU","UPS","IHE","MBG","DSY","ZOV","MNB","PNU","XGD","RBZ","ESG","HIX","Sur un rocher près d'une borne incendie"]
[7106,1,"BAL","TOL","FIY","NAA","DRO","YOR","KLV","POO","VEW","SAS","DRA","GHR","Sur une dalle en béton"]
[7140,2,"BAO","TOQ","FJC","NAE","DRS","YOV","KLZ","POS","WFA","SAW","DRE","GHV","Au sol sur une dalle en béton"]
[7234,2,"BAZ","TOZ","FJL","NAN","DSF","YTI","KMV","PNB","WFK","RBG","DRN","HIE","Sur une pierre sous un chêne"]
[7304,2,"CBI","UPG","FJS","NAU","DSM","ZOI","LMP","PNI","WFR","RBN","DRU","HIL","Sur un rocher"]
[7539,3,"AD","DO","FY","IK","NU","RF","UO","YZ","CCK","FFU","LLE","PPN","Sur un socle en béton au bord du chemin"]
[7650,2,"AP","EA","GL","IW","OG","RR","WB","ZL","CCW","GGH","LLQ","RRA","Au sol en bord de route"]
[7942,2,"CBV","UPT","IHF","MBH","DSZ","ZOW","MNC","PNV","XGE","SCA","ESH","HIY","Sur un rocher sous un grand pin"]
[8054,2,"BAG","TOG","FIT","MEV","DRI","YOM","KLQ","POJ","VER","SAN","CSV","GHM","Au sol sur un rocher"]
[9250,3,"CBD","UPB","FJN","NAP","DSH","YVI","KMX","PND","WFM","RBI","DRP","HIG","Sur une souche d'arbre"]
[9852,3,"CBM","UPK","FJW","NAY","DSQ","ZOM","LKMT","PNM","WFV","RBR","DRY","HIP","Sur un rocher au sol sur le chemin"]
[9910,3,"CBS","UPQ","IHC","MBE","DSW","ZOT","LMZ","PNS","XGB","RBX","ESE","HIV","Sur un rocher au pied d'un pin"]
["O213",2,"BAW","TOX","FJH","NAL","DRZ","YRI","KMT","POZ","WFH","RBE","DRL","HIC","Sur une souche d'arbre"]
["O226",2,"BAX","TOY","FJK","NAM","DES","YSI","KMU","PNA","WFJ","RBF","DRM","HID","Sur une pierre"]
["O295",1,"CBH","UPF","FJR","NAT","DSL","YZI","LMO","PNH","WFQ","RBM","DRT","HIK","Sur un chêne"]
["O567",1,"AG","DR","GB","IN","NX","RI","UR","ZC","CCN","FFX","LLH","PPR","Sur un petit chêne sous les arbres"]
["O878",1,"CBO","UPM","FJY","MBA","DST","ZOP","LMV","PNO","WFX","RBT","ESA","HIR","Sur un petit rocher dans la forêt"]

{"sheet":"base_formatage_alea_plateau","index":16,"n_rows":38,"n_cols":32,"rows_kept":38,"cut":false,"hidden":false,"merged":[]}
[]
[]
["NOM","PRENOM","N°\nbalise","CODE 1","Solution 1","N°\nbalise","CODE 2","Solution 2","N°\nbalise","CODE 3","Solution 3","N°\nbalise","CODE 4","Solution 4","N°\nbalise","CODE 5","Solution 5","N°\nbalise","CODE 6","Solution 6","N°\nbalise","CODE 7","Solution 7","N°\nbalise","CODE 8","Solution 8","N°\nbalise","CODE 9","Solution 9","N°\nbalise","CODE 10","Solution 10"]
[{"$f":"IF(index_classe!F3=\"\",\"\",index_classe!F3)","v":"BENZ"},{"$f":"IF(index_classe!G3=\"\",\"\",index_classe!G3)","v":"Nawel"}]
[{"$f":"IF(index_classe!F4=\"\",\"\",index_classe!F4)","v":"BERNA"},{"$f":"IF(index_classe!G4=\"\",\"\",index_classe!G4)","v":"Laurine"}]
[{"$f":"IF(index_classe!F5=\"\",\"\",index_classe!F5)","v":"CHEL"},{"$f":"IF(index_classe!G5=\"\",\"\",index_classe!G5)","v":"Sarah"}]
[{"$f":"IF(index_classe!F6=\"\",\"\",index_classe!F6)","v":"CLAUD"},{"$f":"IF(index_classe!G6=\"\",\"\",index_classe!G6)","v":"Maxime"}]
[{"$f":"IF(index_classe!F7=\"\",\"\",index_classe!F7)","v":"NAISSA"},{"$f":"IF(index_classe!G7=\"\",\"\",index_classe!G7)","v":"Estelle"}]
[{"$f":"IF(index_classe!F8=\"\",\"\",index_classe!F8)","v":"FA"},{"$f":"IF(index_classe!G8=\"\",\"\",index_classe!G8)","v":"Dylan"}]
[{"$f":"IF(index_classe!F9=\"\",\"\",index_classe!F9)","v":"FLEIN"},{"$f":"IF(index_classe!G9=\"\",\"\",index_classe!G9)","v":"Theo"}]
[{"$f":"IF(index_classe!F10=\"\",\"\",index_classe!F10)","v":"JEAON"},{"$f":"IF(index_classe!G10=\"\",\"\",index_classe!G10)","v":"Alexis"}]
[{"$f":"IF(index_classe!F11=\"\",\"\",index_classe!F11)","v":"KOLA"},{"$f":"IF(index_classe!G11=\"\",\"\",index_classe!G11)","v":"Alexandre"}]
[{"$f":"IF(index_classe!F12=\"\",\"\",index_classe!F12)","v":"LERHE"},{"$f":"IF(index_classe!G12=\"\",\"\",index_classe!G12)","v":"Melvin"}]
[{"$f":"IF(index_classe!F13=\"\",\"\",index_classe!F13)","v":"LOE"},{"$f":"IF(index_classe!G13=\"\",\"\",index_classe!G13)","v":"Mickael"}]
[{"$f":"IF(index_classe!F14=\"\",\"\",index_classe!F14)","v":"MORET"},{"$f":"IF(index_classe!G14=\"\",\"\",index_classe!G14)","v":"Alice"}]
[{"$f":"IF(index_classe!F15=\"\",\"\",index_classe!F15)","v":"NICAU"},{"$f":"IF(index_classe!G15=\"\",\"\",index_classe!G15)","v":"Romain"}]
[{"$f":"IF(index_classe!F16=\"\",\"\",index_classe!F16)","v":"RUI"},{"$f":"IF(index_classe!G16=\"\",\"\",index_classe!G16)","v":"Desiderio"}]
[{"$f":"IF(index_classe!F17=\"\",\"\",index_classe!F17)","v":"RI"},{"$f":"IF(index_classe!G17=\"\",\"\",index_classe!G17)","v":"Niko"}]
[{"$f":"IF(index_classe!F18=\"\",\"\",index_classe!F18)","v":"SAL"},{"$f":"IF(index_classe!G18=\"\",\"\",index_classe!G18)","v":"Calvin"}]
[{"$f":"IF(index_classe!F19=\"\",\"\",index_classe!F19)","v":"SIOUI"},{"$f":"IF(index_classe!G19=\"\",\"\",index_classe!G19)","v":"Salah"}]
[{"$f":"IF(index_classe!F20=\"\",\"\",index_classe!F20)","v":"TADEVA"},{"$f":"IF(index_classe!G20=\"\",\"\",index_classe!G20)","v":"Khatmat"}]
[{"$f":"IF(index_classe!F21=\"\",\"\",index_classe!F21)","v":"TEEC"},{"$f":"IF(index_classe!G21=\"\",\"\",index_classe!G21)","v":"Victor"}]
[{"$f":"IF(index_classe!F22=\"\",\"\",index_classe!F22)","v":"TEJOR"},{"$f":"IF(index_classe!G22=\"\",\"\",index_classe!G22)","v":"Carla"}]
[{"$f":"IF(index_classe!F23=\"\",\"\",index_classe!F23)","v":"THIER"},{"$f":"IF(index_classe!G23=\"\",\"\",index_classe!G23)","v":"Andrea"}]
[{"$f":"IF(index_classe!F24=\"\",\"\",index_classe!F24)","v":"YI"},{"$f":"IF(index_classe!G24=\"\",\"\",index_classe!G24)","v":"William"}]
[{"$f":"IF(index_classe!F25=\"\",\"\",index_classe!F25)","v":""},{"$f":"IF(index_classe!G25=\"\",\"\",index_classe!G25)","v":""}]
[{"$f":"IF(index_classe!F26=\"\",\"\",index_classe!F26)","v":""},{"$f":"IF(index_classe!G26=\"\",\"\",index_classe!G26)","v":""}]
[{"$f":"IF(index_classe!F27=\"\",\"\",index_classe!F27)","v":""},{"$f":"IF(index_classe!G27=\"\",\"\",index_classe!G27)","v":""}]
[{"$f":"IF(index_classe!F28=\"\",\"\",index_classe!F28)","v":""},{"$f":"IF(index_classe!G28=\"\",\"\",index_classe!G28)","v":""}]
[{"$f":"IF(index_classe!F29=\"\",\"\",index_classe!F29)","v":""},{"$f":"IF(index_classe!G29=\"\",\"\",index_classe!G29)","v":""}]
[{"$f":"IF(index_classe!F30=\"\",\"\",index_classe!F30)","v":""},{"$f":"IF(index_classe!G30=\"\",\"\",index_classe!G30)","v":""}]
[{"$f":"IF(index_classe!F31=\"\",\"\",index_classe!F31)","v":""},{"$f":"IF(index_classe!G31=\"\",\"\",index_classe!G31)","v":""}]
[{"$f":"IF(index_classe!F32=\"\",\"\",index_classe!F32)","v":""},{"$f":"IF(index_classe!G32=\"\",\"\",index_classe!G32)","v":""}]
[{"$f":"IF(index_classe!F33=\"\",\"\",index_classe!F33)","v":""},{"$f":"IF(index_classe!G33=\"\",\"\",index_classe!G33)","v":""}]
[{"$f":"IF(index_classe!F34=\"\",\"\",index_classe!F34)","v":""},{"$f":"IF(index_classe!G34=\"\",\"\",index_classe!G34)","v":""}]
[{"$f":"IF(index_classe!F35=\"\",\"\",index_classe!F35)","v":""},{"$f":"IF(index_classe!G35=\"\",\"\",index_classe!G35)","v":""}]
[{"$f":"IF(index_classe!F36=\"\",\"\",index_classe!F36)","v":""},{"$f":"IF(index_classe!G36=\"\",\"\",index_classe!G36)","v":""}]
[{"$f":"IF(index_classe!F37=\"\",\"\",index_classe!F37)","v":""},{"$f":"IF(index_classe!G37=\"\",\"\",index_classe!G37)","v":""}]