{"text_format":"1","workbook":"xlsx","n_sheets":4,"sheets":["ACCUEIL","TEST","IMPRIMER","BASE"],"not_rendered":{"charts":0,"images":19,"macros":1,"external_links":0,"defined_names":2,"comments":0,"pivot_tables":0},"unopened":[],"bounds":{"document_bytes":16777216,"sheet_cells":100000,"rows_first":2000,"rows_last":500,"rows_between":2000,"halvings":0,"cell_chars":16384,"cell_head_chars":4096},"cells_cut":0,"cells_raw":0,"read":"whole","date_system":"1900"}

{"sheet":"ACCUEIL","index":0,"n_rows":90,"n_cols":10,"rows_kept":90,"cut":false,"hidden":false,"merged":[[59,4,60,11],[89,3,90,9]]}
[]
[]
[]
[]
[]
[]
[]
[]
[]
[]
[]
[]
[null,null,null,null,null,null,null,null,null,"\u0097 S'informer sur les exigences institutionnelles"]
[null,null,null,null,null,null,null,null,null,"\u0097 Évaluer la compétence \"Valider l'attestation"]
[null,null,null,null,": Menu de navigation",null,null,null,null,"    scolaire du savoir nager (ASSN)\""]
[null,null,null,null,null,null,null,null,null,"\u0097 Imprimer jusqu'à 300 attestations selon le"]
[null,null,null,null,null,null,null,null,null,"    modèle officiel :"]
[null,null,null,null,null,"  : Cliquer pour suivre le lien"]
[]
[]
[]
[]
[]
[]
[null,null,null,null,null,"  : Cliquer pour dérouler la liste"]
[null,null,null,null,null,"    OU pour ouvrir les options"]
[null,null,null,null,null,"    de tri et de filtre"]
[]
[]
[]
[]
[]
[]
[]
[]
[]
[]
[null,null,null,null,null,null,null,null,"PARCOURS à réaliser en continuité, sans reprise d'appuis au bord du bassin et sans lunettes :"]
[]
[null,null,null,"1- À partir du bord de la piscine, entrer dans l'eau en chute arrière ;"]
[null,null,null,"2- se déplacer sur une distance de 3,5 mètres en direction d'un obstacle ;"]
[null,null,null,"3- franchir en immersion complète l'obstacle sur une distance de 1,5 mètre ;"]
[null,null,null,"4- se déplacer sur le ventre sur une distance de 15 mètres ;"]
[null,null,null,"5- au cours de ce déplacement, au signal sonore, réaliser un surplace vertical pendant 15 secondes puis reprendre"]
[null,null,null,"    le déplacement pour terminer la distance des 15 mètres ;"]
[null,null,null,"6- faire demi-tour sans reprise d'appuis et passer d'une position ventrale à une position dorsale ;"]
[null,null,null,"7- se déplacer sur le dos sur une distance de 15 mètres ;"]
[null,null,null,"8- au cours de ce déplacement, au signal sonore réaliser un surplace en position horizontale dorsale pendant 15 secondes,"]
[null,null,null,"    puis reprendre le déplacement pour terminer la distance des 15 mètres ;"]
[null,null,null,"9- se retourner sur le ventre pour franchir à nouveau l'obstacle en immersion complète ;"]
[null,null,null,"10- se déplacer sur le ventre pour revenir au point de départ."]
[]
[null,null,null,null,null,null,null,null,"CONNAISSANCES ET ATTITUDES :"]
[]
[null,null,null,"- Savoir identifier la personne responsable de la surveillance à alerter en cas de problème ;"]
[null,null,null,"- connaître les règles de base liées à l'hygiène et la sécurité dans un établissement de bains ou un espace surveillé ;"]
[null,null,null,"- savoir identifier les environnements et les circonstances pour lesquels la maîtrise du savoir-nager est adaptée."]
[]
[]
[null,null,null,null,"Consulter le texte complet (nécessite une connexion internet)"]
[]
[]
[]
[]
[]
[]
[]
[]
[]
[]
[]
[]
[]
[]
[]
[]
[]
[]
[]
[]
[]
[]
[]
[]
[]
[]
[]
[]
[]
[null,null,null,"Voir la vidéo du test (nécessite une connexion internet)      "]

{"sheet":"TEST","index":1,"n_rows":306,"n_cols":86,"rows_kept":306,"cut":false,"hidden":false,"merged":[[0,5,0,7],[0,10,0,12],[2,18,2,20],[0,17,0,19],[2,8,2,17]]}
[null,null,null,null,"ÉTABLISSEMENT :",null,null,null,null,"ACADÉMIE :",null,null,null,null,null,null,"TYPE DE PROFESSEUR :"]
[]
[null,null,null,null,null,null,null,null,"PARCOURS",null,null,null,null,null,null,null,null,null,"CONNAISSANCES ET ATTITUDES"]
[null,null,null,null,null,null,null,"Date de","Chute","Nage","Immesion","Nage","Surplace",null,"Nage","Surplace","Immesion","Nage",null,"Hygiène et","Utilités de","NOM du","NOM du","TITRE du","Date de","Choisir \"X\" pour","VALIDATION"]
[null,null,null,null,"NOM","Prénom","Classe","naissance","arrière","ventrale","1,5m","ventrale","vertical","Demi-tour","dorsale","horizontal","1,5m","ventrale","Alerte","sécurité","l'ASSN","professeur","professionnel agréé","professionnel agréé","validation","NE PAS IMPRIMER","DU"]
[null,null,null,null,null,null,null,null,null,"3,5m",null,"15m","15s",null,"15m","15s",null,"3,5m",null,null,null,null,null,null,null,"l'attestation","TEST"]
[null,null,null,1,null,null,null,null,null,null,null,null,null,null,null,null,null,null,null,null,null,null,null,null,null,null,{"$f":"IF(COUNTA(I7:U7)=0,\"\",IF(COUNTIFS(I7:U7,\"OUI\")=13,\"OUI\",\"NON\"))","v":""},{"$f":"IF(COUNTA(E7:Y7)=0,\"\",IF(AND(COUNTA(E7:Y7)<>0,OR($F$1=\"\",$K$1=\"\",$R$1=\"\")),\" informations à vérifier\",IF(AND($R$1=\"Professeur des écoles\",COUNTA(E7:Y7)<>0,OR(COUNTA(E7:Y7)<>21,$F$1=\"\",$K$1=\"\")),\" informations à vérifier\",IF(AND($R$1=\"Professeur d'EPS\",COUNTA(E7:Y7)<>0,OR(COUNTA(E7:V7)<>18,W7<>\"\",X7<>\"\",Y7=\"\")),\" informations à vérifier\",\"\"))))","v":""},null,null,null,null,null,null,null,null,null,null,null,null,null,null,null,null,null,null,null,null,null,null,null,null,null,null,null,null,null,null,null,"…",null,null,null,null,null,null,null,null,null,null,null,null,null,null,null,null,null,null,null,null,null,null,null,null,null,"…"]
[null,null,null,2,null,null,null,null,null,null,null,null,null,null,null,null,null,null,null,null,null,null,null,null,null,null,{"$f":"IF(COUNTA(I8:U8)=0,\"\",IF(COUNTIFS(I8:U8,\"OUI\")=13,\"OUI\",\"NON\"))","v":""},{"$f":"IF(COUNTA(E8:Y8)=0,\"\",IF(AND(COUNTA(E8:Y8)<>0,OR($F$1=\"\",$K$1=\"\",$R$1=\"\")),\" informations à vérifier\",IF(AND($R$1=\"Professeur des écoles\",COUNTA(E8:Y8)<>0,OR(COUNTA(E8:Y8)<>21,$F$1=\"\",$K$1=\"\")),\" informations à vérifier\",IF(AND($R$1=\"Professeur d'EPS\",COUNTA(E8:Y8)<>0,OR(COUNTA(E8:V8)<>18,W8<>\"\",X8<>\"\",Y8=\"\")),\" informations à vérifier\",\"\"))))","v":""}]
[null,null,null,3,null,null,null,null,null,null,null,null,null,null,null,null,null,null,null,null,null,null,null,null,null,null,"",""]
[null,null,null,4,null,null,null,null,null,null,null,null,null,null,null,null,null,null,null,null,null,null,null,null,null,null,"",""]
[null,null,null,5,null,null,null,null,null,null,null,null,null,null,null,null,null,null,null,null,null,null,null,null,null,null,"",""]
[null,null,null,6,null,null,null,null,null,null,null,null,null,null,null,null,null,null,null,null,null,null,null,null,null,null,"",""]
[null,null,null,7,null,null,null,null,null,null,null,null,null,null,null,null,null,null,null,null,null,null,null,null,null,null,"",""]
[null,null,null,8,null,null,null,null,null,null,null,null,null,null,null,null,null,null,null,null,null,null,null,null,null,null,"",""]
[null,null,null,9,null,null,null,null,null,null,null,null,null,null,null,null,null,null,null,null,null,null,null,null,null,null,"",""]
[null,null,null,10,null,null,null,null,null,null,null,null,null,null,null,null,null,null,null,null,null,null,null,null,null,null,"",""]
[null,null,null,11,null,null,null,null,null,null,null,null,null,null,null,null,null,null,null,null,null,null,null,null,null,null,"",""]
[null,null,null,12,null,null,null,null,null,null,null,null,null,null,null,null,null,null,null,null,null,null,null,null,null,null,"",""]
[null,null,null,13,null,null,null,null,null,null,null,null,null,null,null,null,null,null,null,null,null,null,null,null,null,null,"",""]
[null,null,null,14,null,null,null,null,null,null,null,null,null,null,null,null,null,null,null,null,null,null,null,null,null,null,"",""]
[null,null,null,15,null,null,null,null,null,null,null,null,null,null,null,null,null,null,null,null,null,null,null,null,null,null,"",""]
[null,null,null,16,null,null,null,null,null,null,null,null,null,null,null,null,null,null,null,null,null,null,null,null,null,null,"",""]
[null,null,null,17,null,null,null,null,null,null,null,null,null,null,null,null,null,null,null,null,null,null,null,null,null,null,"",""]
[null,null,null,18,null,null,null,null,null,null,null,null,null,null,null,null,null,null,null,null,null,null,null,null,null,null,"",""]
[null,null,null,19,null,null,null,null,null,null,null,null,null,null,null,null,null,null,null,null,null,null,null,null,null,null,"",""]
[null,null,null,20,null,null,null,null,null,null,null,null,null,null,null,null,null,null,null,null,null,null,null,null,null,null,"",""]
[null,null,null,21,null,null,null,null,null,null,null,null,null,null,null,null,null,null,null,null,null,null,null,null,null,null,"",""]
[null,null,null,22,null,null,null,null,null,null,null,null,null,null,null,null,null,null,null,null,null,null,null,null,null,null,"",""]
[null,null,null,23,null,null,null,null,null,null,null,null,null,null,null,null,null,null,null,null,null,null,null,null,null,null,"",""]
[null,null,null,24,null,null,null,null,null,null,null,null,null,null,null,null,null,null,null,null,null,null,null,null,null,null,"",""]
[null,null,null,25,null,null,null,null,null,null,null,null,null,null,null,null,null,null,null,null,null,null,null,null,null,null,"",""]
[null,null,null,26,null,null,null,null,null,null,null,null,null,null,null,null,null,null,null,null,null,null,null,null,null,null,"",""]
[null,null,null,27,null,null,null,null,null,null,null,null,null,null,null,null,null,null,null,null,null,null,null,null,null,null,"",""]
[null,null,null,28,null,null,null,null,null,null,null,null,null,null,null,null,null,null,null,null,null,null,null,null,null,null,"",""]
[null,null,null,29,null,null,null,null,null,null,null,null,null,null,null,null,null,null,null,null,null,null,null,null,null,null,"",""]
[null,null,null,30,null,null,null,null,null,null,null,null,null,null,null,null,null,null,null,null,null,null,null,null,null,null,"",""]
[null,null,null,31,null,null,null,null,null,null,null,null,null,null,null,null,null,null,null,null,null,null,null,null,null,null,"",""]
[null,null,null,32,null,null,null,null,null,null,null,null,null,null,null,null,null,null,null,null,null,null,null,null,null,null,"",""]
[null,null,null,33,null,null,null,null,null,null,null,null,null,null,null,null,null,null,null,null,null,null,null,null,null,null,"",""]
[null,null,null,34,null,null,null,null,null,null,null,null,null,null,null,null,null,null,null,null,null,null,null,null,null,null,"",""]
[null,null,null,35,null,null,null,null,null,null,null,null,null,null,null,null,null,null,null,null,null,null,null,null,null,null,"",""]
[null,null,null,36,null,null,null,null,null,null,null,null,null,null,null,null,null,null,null,null,null,null,null,null,null,null,"",""]
[null,null,null,37,null,null,null,null,null,null,null,null,null,null,null,null,null,null,null,null,null,null,null,null,null,null,"",""]
[null,null,null,38,null,null,null,null,null,null,null,null,null,null,null,null,null,null,null,null,null,null,null,null,null,null,"",""]
[null,null,null,39,null,null,null,null,null,null,null,null,null,null,null,null,null,null,null,null,null,null,null,null,null,null,"",""]
[null,null,null,40,null,null,null,null,null,null,null,null,null,null,null,null,null,null,null,null,null,null,null,null,null,null,"",""]
[null,null,null,41,null,null,null,null,null,null,null,null,null,null,null,null,null,null,null,null,null,null,null,null,null,null,"",""]
[null,null,null,42,null,null,null,null,null,null,null,null,null,null,null,null,null,null,null,null,null,null,null,null,null,null,"",""]
[null,null,null,43,null,null,null,null,null,null,null,null,null,null,null,null,null,null,null,null,null,null,null,null,null,null,"",""]
[null,null,null,44,null,null,null,null,null,null,null,null,null,null,null,null,null,null,null,null,null,null,null,null,null,null,"",""]
[null,null,null,45,null,null,null,null,null,null,null,null,null,null,null,null,null,null,null,null,null,null,null,null,null,null,"",""]
[null,null,null,46,null,null,null,null,null,null,null,null,null,null,null,null,null,null,null,null,null,null,null,null,null,null,"",""]
[null,null,null,47,null,null,null,null,null,null,null,null,null,null,null,null,null,null,null,null,null,null,null,null,null,null,"",""]
[null,null,null,48,null,null,null,null,null,null,null,null,null,null,null,null,null,null,null,null,null,null,null,null,null,null,"",""]
[null,null,null,49,null,null,null,null,null,null,null,null,null,null,null,null,null,null,null,null,null,null,null,null,null,null,"",""]
[null,null,null,50,null,null,null,null,null,null,null,null,null,null,null,null,null,null,null,null,null,null,null,null,null,null,"",""]
[null,null,null,51,null,null,null,null,null,null,null,null,null,null,null,null,null,null,null,null,null,null,null,null,null,null,"",""]
[null,null,null,52,null,null,null,null,null,null,null,null,null,null,null,null,null,null,null,null,null,null,null,null,null,null,"",""]
[null,null,null,53,null,null,null,null,null,null,null,null,null,null,null,null,null,null,null,null,null,null,null,null,null,null,"",""]
[null,null,null,54,null,null,null,null,null,null,null,null,null,null,null,null,null,null,null,null,null,null,null,null,null,null,"",""]
[null,null,null,55,null,null,null,null,null,null,null,null,null,null,null,null,null,null,null,null,null,null,null,null,null,null,"",""]
[null,null,null,56,null,null,null,null,null,null,null,null,null,null,null,null,null,null,null,null,null,null,null,null,null,null,"",""]
[null,null,null,57,null,null,null,null,null,null,null,null,null,null,null,null,null,null,null,null,null,null,null,null,null,null,"",""]
[null,null,null,58,null,null,null,null,null,null,null,null,null,null,null,null,null,null,null,null,null,null,null,null,null,null,"",""]
[null,null,null,59,null,null,null,null,null,null,null,null,null,null,null,null,null,null,null,null,null,null,null,null,null,null,"",""]
[null,null,null,60,null,null,null,null,null,null,null,null,null,null,null,null,null,null,null,null,null,null,null,null,null,null,"",""]
[null,null,null,61,null,null,null,null,null,null,null,null,null,null,null,null,null,null,null,null,null,null,null,null,null,null,"",""]
[null,null,null,62,null,null,null,null,null,null,null,null,null,null,null,null,null,null,null,null,null,null,null,null,null,null,"",""]
[null,null,null,63,null,null,null,null,null,null,null,null,null,null,null,null,null,null,null,null,null,null,null,null,null,null,"",""]
[null,null,null,64,null,null,null,null,null,null,null,null,null,null,null,null,null,null,null,null,null,null,null,null,null,null,"",""]
[null,null,null,65,null,null,null,null,null,null,null,null,null,null,null,null,null,null,null,null,null,null,null,null,null,null,"",""]
[null,null,null,66,null,null,null,null,null,null,null,null,null,null,null,null,null,null,null,null,null,null,null,null,null,null,{"$f":"IF(COUNTA(I72:U72)=0,\"\",IF(COUNTIFS(I72:U72,\"OUI\")=13,\"OUI\",\"NON\"))","v":""},{"$f":"IF(COUNTA(E72:Y72)=0,\"\",IF(AND(COUNTA(E72:Y72)<>0,OR($F$1=\"\",$K$1=\"\",$R$1=\"\")),\" informations à vérifier\",IF(AND($R$1=\"Professeur des écoles\",COUNTA(E72:Y72)<>0,OR(COUNTA(E72:Y72)<>21,$F$1=\"\",$K$1=\"\")),\" informations à vérifier\",IF(AND($R$1=\"Professeur d'EPS\",COUNTA(E72:Y72)<>0,OR(COUNTA(E72:V72)<>18,W72<>\"\",X72<>\"\",Y72=\"\")),\" informations à vérifier\",\"\"))))","v":""}]
[null,null,null,67,null,null,null,null,null,null,null,null,null,null,null,null,null,null,null,null,null,null,null,null,null,null,"",""]
[null,null,null,68,null,null,null,null,null,null,null,null,null,null,null,null,null,null,null,null,null,null,null,null,null,null,"",""]
[null,null,null,69,null,null,null,null,null,null,null,null,null,null,null,null,null,null,null,null,null,null,null,null,null,null,"",""]
[null,null,null,70,null,null,null,null,null,null,null,null,null,null,null,null,null,null,null,null,null,null,null,null,null,null,"",""]
[null,null,null,71,null,null,null,null,null,null,null,null,null,null,null,null,null,null,null,null,null,null,null,null,null,null,"",""]
[null,null,null,72,null,null,null,null,null,null,null,null,null,null,null,null,null,null,null,null,null,null,null,null,null,null,"",""]
[null,null,null,73,null,null,null,null,null,null,null,null,null,null,null,null,null,null,null,null,null,null,null,null,null,null,"",""]
[null,null,null,74,null,null,null,null,null,null,null,null,null,null,null,null,null,null,null,null,null,null,null,null,null,null,"",""]
[null,null,null,75,null,null,null,null,null,null,null,null,null,null,null,null,null,null,null,null,null,null,null,null,null,null,"",""]
[null,null,null,76,null,null,null,null,null,null,null,null,null,null,null,null,null,null,null,null,null,null,null,null,null,null,"",""]
[null,null,null,77,null,null,null,null,null,null,null,null,null,null,null,null,null,null,null,null,null,null,null,null,null,null,"",""]
[null,null,null,78,null,null,null,null,null,null,null,null,null,null,null,null,null,null,null,null,null,null,null,null,null,null,"",""]
[null,null,null,79,null,null,null,null,null,null,null,null,null,null,null,null,null,null,null,null,null,null,null,null,null,null,"",""]
[null,null,null,80,null,null,null,null,null,null,null,null,null,null,null,null,null,null,null,null,null,null,null,null,null,null,"",""]
[null,null,null,81,null,null,null,null,null,null,null,null,null,null,null,null,null,null,null,null,null,null,null,null,null,null,"",""]
[null,null,null,82,null,null,null,null,null,null,null,null,null,null,null,null,null,null,null,null,null,null,null,null,null,null,"",""]
[null,null,null,83,null,null,null,null,null,null,null,null,null,null,null,null,null,null,null,null,null,null,null,null,null,null,"",""]
[null,null,null,84,null,null,null,null,null,null,null,null,null,null,null,null,null,null,null,null,null,null,null,null,null,null,"",""]
[null,null,null,85,null,null,null,null,null,null,null,null,null,null,null,null,null,null,null,null,null,null,null,null,null,null,"",""]
[null,null,null,86,null,null,null,null,null,null,null,null,null,null,null,null,null,null,null,null,null,null,null,null,null,null,"",""]
[null,null,null,87,null,null,null,null,null,null,null,null,null,null,null,null,null,null,null,null,null,null,null,null,null,null,"",""]
[null,null,null,88,null,null,null,null,null,null,null,null,null,null,null,null,null,null,null,null,null,null,null,null,null,null,"",""]
[null,null,null,89,null,null,null,null,null,null,null,null,null,null,null,null,null,null,null,null,null,null,null,null,null,null,"",""]
[null,null,null,90,null,null,null,null,null,null,null,null,null,null,null,null,null,null,null,null,null,null,null,null,null,null,"",""]
[null,null,null,91,null,null,null,null,null,null,null,null,null,null,null,null,null,null,null,null,null,null,null,null,null,null,"",""]
[null,null,null,92,null,null,null,null,null,null,null,null,null,null,null,null,null,null,null,null,null,null,null,null,null,null,"",""]
[null,null,null,93,null,null,null,null,null,null,null,null,null,null,null,null,null,null,null,null,null,null,null,null,null,null,"",""]
[null,null,null,94,null,null,null,null,null,null,null,null,null,null,null,null,null,null,null,null,null,null,null,null,null,null,"",""]
[null,null,null,95,null,null,null,null,null,null,null,null,null,null,null,null,null,null,null,null,null,null,null,null,null,null,"",""]
[null,null,null,96,null,null,null,null,null,null,null,null,null,null,null,null,null,null,null,null,null,null,null,null,null,null,"",""]
[null,null,null,97,null,null,null,null,null,null,null,null,null,null,null,null,null,null,null,null,null,null,null,null,null,null,"",""]
[null,null,null,98,null,null,null,null,null,null,null,null,null,null,null,null,null,null,null,null,null,null,null,null,null,null,"",""]
[null,null,null,99,null,null,null,null,null,null,null,null,null,null,null,null,null,null,null,null,null,null,null,null,null,null,"",""]
[null,null,null,100,null,null,null,null,null,null,null,null,null,null,null,null,null,null,null,null,null,null,null,null,null,null,"",""]
[null,null,null,101,null,null,null,null,null,null,null,null,null,null,null,null,null,null,null,null,null,null,null,null,null,null,"",""]
[null,null,null,102,null,null,null,null,null,null,null,null,null,null,null,null,null,null,null,null,null,null,null,null,null,null,"",""]
[null,null,null,103,null,null,null,null,null,null,null,null,null,null,null,null,null,null,null,null,null,null,null,null,null,null,"",""]
[null,null,null,104,null,null,null,null,null,null,null,null,null,null,null,null,null,null,null,null,null,null,null,null,null,null,"",""]
[null,null,null,105,null,null,null,null,null,null,null,null,null,null,null,null,null,null,null,null,null,null,null,null,null,null,"",""]
[null,null,null,106,null,null,null,null,null,null,null,null,null,null,null,null,null,null,null,null,null,null,null,null,null,null,"",""]
[null,null,null,107,null,null,null,null,null,null,null,null,null,null,null,null,null,null,null,null,null,null,null,null,null,null,"",""]
[null,null,null,108,null,null,null,null,null,null,null,null,null,null,null,null,null,null,null,null,null,null,null,null,null,null,"",""]
[null,null,null,109,null,null,null,null,null,null,null,null,null,null,null,null,null,null,null,null,null,null,null,null,null,null,"",""]
[null,null,null,110,null,null,null,null,null,null,null,null,null,null,null,null,null,null,null,null,null,null,null,null,null,null,"",""]
[null,null,null,111,null,null,null,null,null,null,null,null,null,null,null,null,null,null,null,null,null,null,null,null,null,null,"",""]
[null,null,null,112,null,null,null,null,null,null,null,null,null,null,null,null,null,null,null,null,null,null,null,null,null,null,"",""]
[null,null,null,113,null,null,null,null,null,null,null,null,null,null,null,null,null,null,null,null,null,null,null,null,null,null,"",""]
[null,null,null,114,null,null,null,null,null,null,null,null,null,null,null,null,null,null,null,null,null,null,null,null,null,null,"",""]
[null,null,null,115,null,null,null,null,null,null,null,null,null,null,null,null,null,null,null,null,null,null,null,null,null,null,"",""]
[null,null,null,116,null,null,null,null,null,null,null,null,null,null,null,null,null,null,null,null,null,null,null,null,null,null,"",""]
[null,null,null,117,null,null,null,null,null,null,null,null,null,null,null,null,null,null,null,null,null,null,null,null,null,null,"",""]
[null,null,null,118,null,null,null,null,null,null,null,null,null,null,null,null,null,null,null,null,null,null,null,null,null,null,"",""]
[null,null,null,119,null,null,null,null,null,null,null,null,null,null,null,null,null,null,null,null,null,null,null,null,null,null,"",""]
[null,null,null,120,null,null,null,null,null,null,null,null,null,null,null,null,null,null,null,null,null,null,null,null,null,null,"",""]
[null,null,null,121,null,null,null,null,null,null,null,null,null,null,null,null,null,null,null,null,null,null,null,null,null,null,"",""]
[null,null,null,122,null,null,null,null,null,null,null,null,null,null,null,null,null,null,null,null,null,null,null,null,null,null,"",""]
[null,null,null,123,null,null,null,null,null,null,null,null,null,null,null,null,null,null,null,null,null,null,null,null,null,null,"",""]
[null,null,null,124,null,null,null,null,null,null,null,null,null,null,null,null,null,null,null,null,null,null,null,null,null,null,"",""]
[null,null,null,125,null,null,null,null,null,null,null,null,null,null,null,null,null,null,null,null,null,null,null,null,null,null,"",""]
[null,null,null,126,null,null,null,null,null,null,null,null,null,null,null,null,null,null,null,null,null,null,null,null,null,null,"",""]
[null,null,null,127,null,null,null,null,null,null,null,null,null,null,null,null,null,null,null,null,null,null,null,null,null,null,"",""]
[null,null,null,128,null,null,null,null,null,null,null,null,null,null,null,null,null,null,null,null,null,null,null,null,null,null,"",""]
[null,null,null,129,null,null,null,null,null,null,null,null,null,null,null,null,null,null,null,null,null,null,null,null,null,null,"",""]
[null,null,null,130,null,null,null,null,null,null,null,null,null,null,null,null,null,null,null,null,null,null,null,null,null,null,{"$f":"IF(COUNTA(I136:U136)=0,\"\",IF(COUNTIFS(I136:U136,\"OUI\")=13,\"OUI\",\"NON\"))","v":""},{"$f":"IF(COUNTA(E136:Y136)=0,\"\",IF(AND(COUNTA(E136:Y136)<>0,OR($F$1=\"\",$K$1=\"\",$R$1=\"\")),\" informations à vérifier\",IF(AND($R$1=\"Professeur des écoles\",COUNTA(E136:Y136)<>0,OR(COUNTA(E136:Y136)<>21,$F$1=\"\",$K$1=\"\")),\" informations à vérifier\",IF(AND($R$1=\"Professeur d'EPS\",COUNTA(E136:Y136)<>0,OR(COUNTA(E136:V136)<>18,W136<>\"\",X136<>\"\",Y136=\"\")),\" informations à vérifier\",\"\"))))","v":""}]
[null,null,null,131,null,null,null,null,null,null,null,null,null,null,null,null,null,null,null,null,null,null,null,null,null,null,"",""]
[null,null,null,132,null,null,null,null,null,null,null,null,null,null,null,null,null,null,null,null,null,null,null,null,null,null,"",""]
[null,null,null,133,null,null,null,null,null,null,null,null,null,null,null,null,null,null,null,null,null,null,null,null,null,null,"",""]
[null,null,null,134,null,null,null,null,null,null,null,null,null,null,null,null,null,null,null,null,null,null,null,null,null,null,"",""]
[null,null,null,135,null,null,null,null,null,null,null,null,null,null,null,null,null,null,null,null,null,null,null,null,null,null,"",""]
[null,null,null,136,null,null,null,null,null,null,null,null,null,null,null,null,null,null,null,null,null,null,null,null,null,null,"",""]
[null,null,null,137,null,null,null,null,null,null,null,null,null,null,null,null,null,null,null,null,null,null,null,null,null,null,"",""]
[null,null,null,138,null,null,null,null,null,null,null,null,null,null,null,null,null,null,null,null,null,null,null,null,null,null,"",""]
[null,null,null,139,null,null,null,null,null,null,null,null,null,null,null,null,null,null,null,null,null,null,null,null,null,null,"",""]
[null,null,null,140,null,null,null,null,null,null,null,null,null,null,null,null,null,null,null,null,null,null,null,null,null,null,"",""]
[null,null,null,141,null,null,null,null,null,null,null,null,null,null,null,null,null,null,null,null,null,null,null,null,null,null,"",""]
[null,null,null,142,null,null,null,null,null,null,null,null,null,null,null,null,null,null,null,null,null,null,null,null,null,null,"",""]
[null,null,null,143,null,null,null,null,null,null,null,null,null,null,null,null,null,null,null,null,null,null,null,null,null,null,"",""]
[null,null,null,144,null,null,null,null,null,null,null,null,null,null,null,null,null,null,null,null,null,null,null,null,null,null,"",""]
[null,null,null,145,null,null,null,null,null,null,null,null,null,null,null,null,null,null,null,null,null,null,null,null,null,null,"",""]
[null,null,null,146,null,null,null,null,null,null,null,null,null,null,null,null,null,null,null,null,null,null,null,null,null,null,"",""]
[null,null,null,147,null,null,null,null,null,null,null,null,null,null,null,null,null,null,null,null,null,null,null,null,null,null,"",""]
[null,null,null,148,null,null,null,null,null,null,null,null,null,null,null,null,null,null,null,null,null,null,null,null,null,null,"",""]
[null,null,null,149,null,null,null,null,null,null,null,null,null,null,null,null,null,null,null,null,null,null,null,null,null,null,"",""]
[null,null,null,150,null,null,null,null,null,null,null,null,null,null,null,null,null,null,null,null,null,null,null,null,null,null,"",""]
[null,null,null,151,null,null,null,null,null,null,null,null,null,null,null,null,null,null,null,null,null,null,null,null,null,null,"",""]
[null,null,null,152,null,null,null,null,null,null,null,null,null,null,null,null,null,null,null,null,null,null,null,null,null,null,"",""]
[null,null,null,153,null,null,null,null,null,null,null,null,null,null,null,null,null,null,null,null,null,null,null,null,null,null,"",""]
[null,null,null,154,null,null,null,null,null,null,null,null,null,null,null,null,null,null,null,null,null,null,null,null,null,null,"",""]
[null,null,null,155,null,null,null,null,null,null,null,null,null,null,null,null,null,null,null,null,null,null,null,null,null,null,"",""]
[null,null,null,156,null,null,null,null,null,null,null,null,null,null,null,null,null,null,null,null,null,null,null,null,null,null,"",""]
[null,null,null,157,null,null,null,null,null,null,null,null,null,null,null,null,null,null,null,null,null,null,null,null,null,null,"",""]
[null,null,null,158,null,null,null,null,null,null,null,null,null,null,null,null,null,null,null,null,null,null,null,null,null,null,"",""]
[null,null,null,159,null,null,null,null,null,null,null,null,null,null,null,null,null,null,null,null,null,null,null,null,null,null,"",""]
[null,null,null,160,null,null,null,null,null,null,null,null,null,null,null,null,null,null,null,null,null,null,null,null,null,null,"",""]
[null,null,null,161,null,null,null,null,null,null,null,null,null,null,null,null,null,null,null,null,null,null,null,null,null,null,"",""]
[null,null,null,162,null,null,null,null,null,null,null,null,null,null,null,null,null,null,null,null,null,null,null,null,null,null,"",""]
[null,null,null,163,null,null,null,null,null,null,null,null,null,null,null,null,null,null,null,null,null,null,null,null,null,null,"",""]
[null,null,null,164,null,null,null,null,null,null,null,null,null,null,null,null,null,null,null,null,null,null,null,null,null,null,"",""]
[null,null,null,165,null,null,null,null,null,null,null,null,null,null,null,null,null,null,null,null,null,null,null,null,null,null,"",""]
[null,null,null,166,null,null,null,null,null,null,null,null,null,null,null,null,null,null,null,null,null,null,null,null,null,null,"",""]
[null,null,null,167,null,null,null,null,null,null,null,null,null,null,null,null,null,null,null,null,null,null,null,null,null,null,"",""]
[null,null,null,168,null,null,null,null,null,null,null,null,null,null,null,null,null,null,null,null,null,null,null,null,null,null,"",""]
[null,null,null,169,null,null,null,null,null,null,null,null,null,null,null,null,null,null,null,null,null,null,null,null,null,null,"",""]
[null,null,null,170,null,null,null,null,null,null,null,null,null,null,null,null,null,null,null,null,null,null,null,null,null,null,"",""]
[null,null,null,171,null,null,null,null,null,null,null,null,null,null,null,null,null,null,null,null,null,null,null,null,null,null,"",""]
[null,null,null,172,null,null,null,null,null,null,null,null,null,null,null,null,null,null,null,null,null,null,null,null,null,null,"",""]
[null,null,null,173,null,null,null,null,null,null,null,null,null,null,null,null,null,null,null,null,null,null,null,null,null,null,"",""]
[null,null,null,174,null,null,null,null,null,null,null,null,null,null,null,null,null,null,null,null,null,null,null,null,null,null,"",""]
[null,null,null,175,null,null,null,null,null,null,null,null,null,null,null,null,null,null,null,null,null,null,null,null,null,null,"",""]
[null,null,null,176,null,null,null,null,null,null,null,null,null,null,null,null,null,null,null,null,null,null,null,null,null,null,"",""]
[null,null,null,177,null,null,null,null,null,null,null,null,null,null,null,null,null,null,null,null,null,null,null,null,null,null,"",""]
[null,null,null,178,null,null,null,null,null,null,null,null,null,null,null,null,null,null,null,null,null,null,null,null,null,null,"",""]
[null,null,null,179,null,null,null,null,null,null,null,null,null,null,null,null,null,null,null,null,null,null,null,null,null,null,"",""]
[null,null,null,180,null,null,null,null,null,null,null,null,null,null,null,null,null,null,null,null,null,null,null,null,null,null,"",""]
[null,null,null,181,null,null,null,null,null,null,null,null,null,null,null,null,null,null,null,null,null,null,null,null,null,null,"",""]
[null,null,null,182,null,null,null,null,null,null,null,null,null,null,null,null,null,null,null,null,null,null,null,null,null,null,"",""]
[null,null,null,183,null,null,null,null,null,null,null,null,null,null,null,null,null,null,null,null,null,null,null,null,null,null,"",""]
[null,null,null,184,null,null,null,null,null,null,null,null,null,null,null,null,null,null,null,null,null,null,null,null,null,null,"",""]
[null,null,null,185,null,null,null,null,null,null,null,null,null,null,null,null,null,null,null,null,null,null,null,null,null,null,"",""]
[null,null,null,186,null,null,null,null,null,null,null,null,null,null,null,null,null,null,null,null,null,null,null,null,null,null,"",""]
[null,null,null,187,null,null,null,null,null,null,null,null,null,null,null,null,null,null,null,null,null,null,null,null,null,null,"",""]
[null,null,null,188,null,null,null,null,null,null,null,null,null,null,null,null,null,null,null,null,null,null,null,null,null,null,"",""]
[null,null,null,189,null,null,null,null,null,null,null,null,null,null,null,null,null,null,null,null,null,null,null,null,null,null,"",""]
[null,null,null,190,null,null,null,null,null,null,null,null,null,null,null,null,null,null,null,null,null,null,null,null,null,null,"",""]
[null,null,null,191,null,null,null,null,null,null,null,null,null,null,null,null,null,null,null,null,null,null,null,null,null,null,"",""]
[null,null,null,192,null,null,null,null,null,null,null,null,null,null,null,null,null,null,null,null,null,null,null,null,null,null,"",""]
[null,null,null,193,null,null,null,null,null,null,null,null,null,null,null,null,null,null,null,null,null,null,null,null,null,null,"",""]
[null,null,null,194,null,null,null,null,null,null,null,null,null,null,null,null,null,null,null,null,null,null,null,null,null,null,{"$f":"IF(COUNTA(I200:U200)=0,\"\",IF(COUNTIFS(I200:U200,\"OUI\")=13,\"OUI\",\"NON\"))","v":""},{"$f":"IF(COUNTA(E200:Y200)=0,\"\",IF(AND(COUNTA(E200:Y200)<>0,OR($F$1=\"\",$K$1=\"\",$R$1=\"\")),\" informations à vérifier\",IF(AND($R$1=\"Professeur des écoles\",COUNTA(E200:Y200)<>0,OR(COUNTA(E200:Y200)<>21,$F$1=\"\",$K$1=\"\")),\" informations à vérifier\",IF(AND($R$1=\"Professeur d'EPS\",COUNTA(E200:Y200)<>0,OR(COUNTA(E200:V200)<>18,W200<>\"\",X200<>\"\",Y200=\"\")),\" informations à vérifier\",\"\"))))","v":""}]
[null,null,null,195,null,null,null,null,null,null,null,null,null,null,null,null,null,null,null,null,null,null,null,null,null,null,"",""]
[null,null,null,196,null,null,null,null,null,null,null,null,null,null,null,null,null,null,null,null,null,null,null,null,null,null,"",""]
[null,null,null,197,null,null,null,null,null,null,null,null,null,null,null,null,null,null,null,null,null,null,null,null,null,null,"",""]
[null,null,null,198,null,null,null,null,null,null,null,null,null,null,null,null,null,null,null,null,null,null,null,null,null,null,"",""]
[null,null,null,199,null,null,null,null,null,null,null,null,null,null,null,null,null,null,null,null,null,null,null,null,null,null,"",""]
[null,null,null,200,null,null,null,null,null,null,null,null,null,null,null,null,null,null,null,null,null,null,null,null,null,null,"",""]
[null,null,null,201,null,null,null,null,null,null,null,null,null,null,null,null,null,null,null,null,null,null,null,null,null,null,{"$f":"IF(COUNTA(I207:U207)=0,\"\",IF(COUNTIFS(I207:U207,\"OUI\")=13,\"OUI\",\"NON\"))","v":""},""]
[null,null,null,202,null,null,null,null,null,null,null,null,null,null,null,null,null,null,null,null,null,null,null,null,null,null,"",""]
[null,null,null,203,null,null,null,null,null,null,null,null,null,null,null,null,null,null,null,null,null,null,null,null,null,null,"",""]
[null,null,null,204,null,null,null,null,null,null,null,null,null,null,null,null,null,null,null,null,null,null,null,null,null,null,"",""]
[null,null,null,205,null,null,null,null,null,null,null,null,null,null,null,null,null,null,null,null,null,null,null,null,null,null,"",""]
[null,null,null,206,null,null,null,null,null,null,null,null,null,null,null,null,null,null,null,null,null,null,null,null,null,null,"",""]
[null,null,null,207,null,null,null,null,null,null,null,null,null,null,null,null,null,null,null,null,null,null,null,null,null,null,"",""]
[null,null,null,208,null,null,null,null,null,null,null,null,null,null,null,null,null,null,null,null,null,null,null,null,null,null,"",""]
[null,null,null,209,null,null,null,null,null,null,null,null,null,null,null,null,null,null,null,null,null,null,null,null,null,null,"",""]
[null,null,null,210,null,null,null,null,null,null,null,null,null,null,null,null,null,null,null,null,null,null,null,null,null,null,"",""]
[null,null,null,211,null,null,null,null,null,null,null,null,null,null,null,null,null,null,null,null,null,null,null,null,null,null,"",""]
[null,null,null,212,null,null,null,null,null,null,null,null,null,null,null,null,null,null,null,null,null,null,null,null,null,null,"",""]
[null,null,null,213,null,null,null,null,null,null,null,null,null,null,null,null,null,null,null,null,null,null,null,null,null,null,"",""]
[null,null,null,214,null,null,null,null,null,null,null,null,null,null,null,null,null,null,null,null,null,null,null,null,null,null,"",""]
[null,null,null,215,null,null,null,null,null,null,null,null,null,null,null,null,null,null,null,null,null,null,null,null,null,null,"",""]
[null,null,null,216,null,null,null,null,null,null,null,null,null,null,null,null,null,null,null,null,null,null,null,null,null,null,"",""]
[null,null,null,217,null,null,null,null,null,null,null,null,null,null,null,null,null,null,null,null,null,null,null,null,null,null,"",""]
[null,null,null,218,null,null,null,null,null,null,null,null,null,null,null,null,null,null,null,null,null,null,null,null,null,null,"",""]
[null,null,null,219,null,null,null,null,null,null,null,null,null,null,null,null,null,null,null,null,null,null,null,null,null,null,"",""]
[null,null,null,220,null,null,null,null,null,null,null,null,null,null,null,null,null,null,null,null,null,null,null,null,null,null,"",""]
[null,null,null,221,null,null,null,null,null,null,null,null,null,null,null,null,null,null,null,null,null,null,null,null,null,null,"",""]
[null,null,null,222,null,null,null,null,null,null,null,null,null,null,null,null,null,null,null,null,null,null,null,null,null,null,"",""]
[null,null,null,223,null,null,null,null,null,null,null,null,null,null,null,null,null,null,null,null,null,null,null,null,null,null,"",""]
[null,null,null,224,null,null,null,null,null,null,null,null,null,null,null,null,null,null,null,null,null,null,null,null,null,null,"",""]
[null,null,null,225,null,null,null,null,null,null,null,null,null,null,null,null,null,null,null,null,null,null,null,null,null,null,"",""]
[null,null,null,226,null,null,null,null,null,null,null,null,null,null,null,null,null,null,null,null,null,null,null,null,null,null,"",""]
[null,null,null,227,null,null,null,null,null,null,null,null,null,null,null,null,null,null,null,null,null,null,null,null,null,null,"",""]
[null,null,null,228,null,null,null,null,null,null,null,null,null,null,null,null,null,null,null,null,null,null,null,null,null,null,"",""]
[null,null,null,229,null,null,null,null,null,null,null,null,null,null,null,null,null,null,null,null,null,null,null,null,null,null,"",""]
[null,null,null,230,null,null,null,null,null,null,null,null,null,null,null,null,null,null,null,null,null,null,null,null,null,null,"",""]
[null,null,null,231,null,null,null,null,null,null,null,null,null,null,null,null,null,null,null,null,null,null,null,null,null,null,"",""]
[null,null,null,232,null,null,null,null,null,null,null,null,null,null,null,null,null,null,null,null,null,null,null,null,null,null,"",""]
[null,null,null,233,null,null,null,null,null,null,null,null,null,null,null,null,null,null,null,null,null,null,null,null,null,null,"",""]
[null,null,null,234,null,null,null,null,null,null,null,null,null,null,null,null,null,null,null,null,null,null,null,null,null,null,"",""]
[null,null,null,235,null,null,null,null,null,null,null,null,null,null,null,null,null,null,null,null,null,null,null,null,null,null,"",""]
[null,null,null,236,null,null,null,null,null,null,null,null,null,null,null,null,null,null,null,null,null,null,null,null,null,null,"",""]
[null,null,null,237,null,null,null,null,null,null,null,null,null,null,null,null,null,null,null,null,null,null,null,null,null,null,"",""]
[null,null,null,238,null,null,null,null,null,null,null,null,null,null,null,null,null,null,null,null,null,null,null,null,null,null,"",""]
[null,null,null,239,null,null,null,null,null,null,null,null,null,null,null,null,null,null,null,null,null,null,null,null,null,null,"",""]
[null,null,null,240,null,null,null,null,null,null,null,null,null,null,null,null,null,null,null,null,null,null,null,null,null,null,"",""]
[null,null,null,241,null,null,null,null,null,null,null,null,null,null,null,null,null,null,null,null,null,null,null,null,null,null,"",""]
[null,null,null,242,null,null,null,null,null,null,null,null,null,null,null,null,null,null,null,null,null,null,null,null,null,null,"",""]
[null,null,null,243,null,null,null,null,null,null,null,null,null,null,null,null,null,null,null,null,null,null,null,null,null,null,"",""]
[null,null,null,244,null,null,null,null,null,null,null,null,null,null,null,null,null,null,null,null,null,null,null,null,null,null,"",""]
[null,null,null,245,null,null,null,null,null,null,null,null,null,null,null,null,null,null,null,null,null,null,null,null,null,null,"",""]
[null,null,null,246,null,null,null,null,null,null,null,null,null,null,null,null,null,null,null,null,null,null,null,null,null,null,"",""]
[null,null,null,247,null,null,null,null,null,null,null,null,null,null,null,null,null,null,null,null,null,null,null,null,null,null,"",""]
[null,null,null,248,null,null,null,null,null,null,null,null,null,null,null,null,null,null,null,null,null,null,null,null,null,null,"",""]
[null,null,null,249,null,null,null,null,null,null,null,null,null,null,null,null,null,null,null,null,null,null,null,null,null,null,"",""]
[null,null,null,250,null,null,null,null,null,null,null,null,null,null,null,null,null,null,null,null,null,null,null,null,null,null,"",""]
[null,null,null,251,null,null,null,null,null,null,null,null,null,null,null,null,null,null,null,null,null,null,null,null,null,null,"",""]
[null,null,null,252,null,null,null,null,null,null,null,null,null,null,null,null,null,null,null,null,null,null,null,null,null,null,"",""]
[null,null,null,253,null,null,null,null,null,null,null,null,null,null,null,null,null,null,null,null,null,null,null,null,null,null,"",""]
[null,null,null,254,null,null,null,null,null,null,null,null,null,null,null,null,null,null,null,null,null,null,null,null,null,null,"",""]
[null,null,null,255,null,null,null,null,null,null,null,null,null,null,null,null,null,null,null,null,null,null,null,null,null,null,"",""]
[null,null,null,256,null,null,null,null,null,null,null,null,null,null,null,null,null,null,null,null,null,null,null,null,null,null,"",""]
[null,null,null,257,null,null,null,null,null,null,null,null,null,null,null,null,null,null,null,null,null,null,null,null,null,null,"",""]
[null,null,null,258,null,null,null,null,null,null,null,null,null,null,null,null,null,null,null,null,null,null,null,null,null,null,"",{"$f":"IF(COUNTA(E264:Y264)=0,\"\",IF(AND(COUNTA(E264:Y264)<>0,OR($F$1=\"\",$K$1=\"\",$R$1=\"\")),\" informations à vérifier\",IF(AND($R$1=\"Professeur des écoles\",COUNTA(E264:Y264)<>0,OR(COUNTA(E264:Y264)<>21,$F$1=\"\",$K$1=\"\")),\" informations à vérifier\",IF(AND($R$1=\"Professeur d'EPS\",COUNTA(E264:Y264)<>0,OR(COUNTA(E264:V264)<>18,W264<>\"\",X264<>\"\",Y264=\"\")),\" informations à vérifier\",\"\"))))","v":""}]
[null,null,null,259,null,null,null,null,null,null,null,null,null,null,null,null,null,null,null,null,null,null,null,null,null,null,"",""]
[null,null,null,260,null,null,null,null,null,null,null,null,null,null,null,null,null,null,null,null,null,null,null,null,null,null,"",""]
[null,null,null,261,null,null,null,null,null,null,null,null,null,null,null,null,null,null,null,null,null,null,null,null,null,null,"",""]
[null,null,null,262,null,null,null,null,null,null,null,null,null,null,null,null,null,null,null,null,null,null,null,null,null,null,"",""]
[null,null,null,263,null,null,null,null,null,null,null,null,null,null,null,null,null,null,null,null,null,null,null,null,null,null,"",""]
[null,null,null,264,null,null,null,null,null,null,null,null,null,null,null,null,null,null,null,null,null,null,null,null,null,null,"",""]
[null,null,null,265,null,null,null,null,null,null,null,null,null,null,null,null,null,null,null,null,null,null,null,null,null,null,{"$f":"IF(COUNTA(I271:U271)=0,\"\",IF(COUNTIFS(I271:U271,\"OUI\")=13,\"OUI\",\"NON\"))","v":""},""]
[null,null,null,266,null,null,null,null,null,null,null,null,null,null,null,null,null,null,null,null,null,null,null,null,null,null,"",""]
[null,null,null,267,null,null,null,null,null,null,null,null,null,null,null,null,null,null,null,null,null,null,null,null,null,null,"",""]
[null,null,null,268,null,null,null,null,null,null,null,null,null,null,null,null,null,null,null,null,null,null,null,null,null,null,"",""]
[null,null,null,269,null,null,null,null,null,null,null,null,null,null,null,null,null,null,null,null,null,null,null,null,null,null,"",""]
[null,null,null,270,null,null,null,null,null,null,null,null,null,null,null,null,null,null,null,null,null,null,null,null,null,null,"",""]
[null,null,null,271,null,null,null,null,null,null,null,null,null,null,null,null,null,null,null,null,null,null,null,null,null,null,"",""]
[null,null,null,272,null,null,null,null,null,null,null,null,null,null,null,null,null,null,null,null,null,null,null,null,null,null,"",""]
[null,null,null,273,null,null,null,null,null,null,null,null,null,null,null,null,null,null,null,null,null,null,null,null,null,null,"",""]
[null,null,null,274,null,null,null,null,null,null,null,null,null,null,null,null,null,null,null,null,null,null,null,null,null,null,"",""]
[null,null,null,275,null,null,null,null,null,null,null,null,null,null,null,null,null,null,null,null,null,null,null,null,null,null,"",""]
[null,null,null,276,null,null,null,null,null,null,null,null,null,null,null,null,null,null,null,null,null,null,null,null,null,null,"",""]
[null,null,null,277,null,null,null,null,null,null,null,null,null,null,null,null,null,null,null,null,null,null,null,null,null,null,"",""]
[null,null,null,278,null,null,null,null,null,null,null,null,null,null,null,null,null,null,null,null,null,null,null,null,null,null,"",""]
[null,null,null,279,null,null,null,null,null,null,null,null,null,null,null,null,null,null,null,null,null,null,null,null,null,null,"",""]
[null,null,null,280,null,null,null,null,null,null,null,null,null,null,null,null,null,null,null,null,null,null,null,null,null,null,"",""]
[null,null,null,281,null,null,null,null,null,null,null,null,null,null,null,null,null,null,null,null,null,null,null,null,null,null,"",""]
[null,null,null,282,null,null,null,null,null,null,null,null,null,null,null,null,null,null,null,null,null,null,null,null,null,null,"",""]
[null,null,null,283,null,null,null,null,null,null,null,null,null,null,null,null,null,null,null,null,null,null,null,null,null,null,"",""]
[null,null,null,284,null,null,null,null,null,null,null,null,null,null,null,null,null,null,null,null,null,null,null,null,null,null,"",""]
[null,null,null,285,null,null,null,null,null,null,null,null,null,null,null,null,null,null,null,null,null,null,null,null,null,null,"",""]
[null,null,null,286,null,null,null,null,null,null,null,null,null,null,null,null,null,null,null,null,null,null,null,null,null,null,"",""]
[null,null,null,287,null,null,null,null,null,null,null,null,null,null,null,null,null,null,null,null,null,null,null,null,null,null,"",""]
[null,null,null,288,null,null,null,null,null,null,null,null,null,null,null,null,null,null,null,null,null,null,null,null,null,null,"",""]
[null,null,null,289,null,null,null,null,null,null,null,null,null,null,null,null,null,null,null,null,null,null,null,null,null,null,"",""]
[null,null,null,290,null,null,null,null,null,null,null,null,null,null,null,null,null,null,null,null,null,null,null,null,null,null,"",""]
[null,null,null,291,null,null,null,null,null,null,null,null,null,null,null,null,null,null,null,null,null,null,null,null,null,null,"",""]
[null,null,null,292,null,null,null,null,null,null,null,null,null,null,null,null,null,null,null,null,null,null,null,null,null,null,"",""]
[null,null,null,293,null,null,null,null,null,null,null,null,null,null,null,null,null,null,null,null,null,null,null,null,null,null,"",""]
[null,null,null,294,null,null,null,null,null,null,null,null,null,null,null,null,null,null,null,null,null,null,null,null,null,null,"",""]
[null,null,null,295,null,null,null,null,null,null,null,null,null,null,null,null,null,null,null,null,null,null,null,null,null,null,"",""]
[null,null,null,296,null,null,null,null,null,null,null,null,null,null,null,null,null,null,null,null,null,null,null,null,null,null,"",""]
[null,null,null,297,null,null,null,null,null,null,null,null,null,null,null,null,null,null,null,null,null,null,null,null,null,null,"",""]
[null,null,null,298,null,null,null,null,null,null,null,null,null,null,null,null,null,null,null,null,null,null,null,null,null,null,"",""]
[null,null,null,299,null,null,null,null,null,null,null,null,null,null,null,null,null,null,null,null,null,null,null,null,null,null,"",""]
[null,null,null,300,null,null,null,null,null,null,null,null,null,null,null,null,null,null,null,null,null,null,null,null,null,null,"",""]

{"sheet":"IMPRIMER","index":2,"n_rows":301,"n_cols":48,"rows_kept":301,"cut":false,"hidden":false,"merged":[[41,11,41,14],[15,11,15,12],[11,12,11,14],[13,12,13,14],[19,11,19,14],[37,13,37,14],[15,13,15,14],[33,12,33,14],[35,12,35,14],[48,10,48,13],[52,9,52,11],[56,9,56,11],[60,9,60,10],[61,9,61,10],[60,12,60,14],[59,12,59,14],[59,9,59,10],[72,10,72,13],[76,9,76,11],[80,9,80,11],[84,9,84,10],[85,9,85,10],[84,12,84,14],[83,9,83,10],[83,12,83,14]]}
[null,null,null,null,null,null,null,null,null,null,null,null,null,null,null,null,null,null,null,null,null,null,null,null,null,null,"Collage macro IMPRIMER",null,null,null,null,null,null,null,null,null,null,null,null,null,"…",null,null,null,null,null,null,"…"]
[null,null,null,null,null,null,null,null,null,null,null,null,null,null,null,null,null,null,null,null,null,null,null,null,null,null,{"$f":"IF(BASE!$K6=\"\",\"\",BASE!$K6)","v":""}]
[null,null,null,null,null,null,null,null,null,"Académie de",null,null,null,null,null,null,null,null,null,null,null,null,null,null,null,null,{"$f":"IF(BASE!$K7=\"\",\"\",BASE!$K7)","v":""}]
[null,null,null,null,null,null,null,null,null,null,null,null,null,null,null,null,null,null,null,null,null,null,null,null,null,null,{"$f":"IF(BASE!$K8=\"\",\"\",BASE!$K8)","v":""}]
[null,null,null,null,null,null,null,null,null,{"$f":"IF(ISERROR(INDEX(BASE!$M$6:$X$305,MATCH($E$40,BASE!$M$6:$M$305,0),11)),\"\",INDEX(BASE!$M$6:$X$305,MATCH($E$40,BASE!$M$6:$M$305,0),11))","v":""},null,null,null,null,null,null,null,null,null,null,null,null,null,null,null,null,{"$f":"IF(BASE!$K9=\"\",\"\",BASE!$K9)","v":""}]
[null,null,null,null,null,null,null,null,null,null,null,null,null,null,null,null,null,null,null,null,null,null,null,null,null,null,{"$f":"IF(BASE!$K10=\"\",\"\",BASE!$K10)","v":""}]
[null,null,null,null,null,null,null,null,null,"Cachet de l'établissement et signature",null,null,null,null,null,null,null,null,null,null,null,null,null,null,null,null,{"$f":"IF(BASE!$K11=\"\",\"\",BASE!$K11)","v":""}]
[null,null,null,null,null,null,null,null,null,"du directeur de l'école",null,null,null,null,null,null,null,null,null,null,null,null,null,null,null,null,{"$f":"IF(BASE!$K12=\"\",\"\",BASE!$K12)","v":""}]
[null,null,null,null,null,null,null,null,null,"ou du chef d'établissement",null,null,null,null,null,null,null,null,null,null,null,null,null,null,null,null,{"$f":"IF(BASE!$K13=\"\",\"\",BASE!$K13)","v":""}]
[null,null,null,null,null,null,null,null,null,null,null,null,null,null,null,null,null,null,null,null,null,null,null,null,null,null,{"$f":"IF(BASE!$K14=\"\",\"\",BASE!$K14)","v":""}]
[null,null,null,null,null,null,null,null,null,null,null,null,null,null,null,null,null,null,null,null,null,null,null,null,null,null,{"$f":"IF(BASE!$K15=\"\",\"\",BASE!$K15)","v":""}]
[null,null,null,null,null,null,null,null,null,null,null,"NOM :",{"$f":"IF(ISERROR(INDEX(BASE!$M$6:$X$305,MATCH($E$40,BASE!$M$6:$M$305,0),3)),\"\",INDEX(BASE!$M$6:$X$305,MATCH($E$40,BASE!$M$6:$M$305,0),3))","v":""},null,null,null,null,null,null,null,null,null,null,null,null,null,{"$f":"IF(BASE!$K16=\"\",\"\",BASE!$K16)","v":""}]
[null,null,null,null,null,null,null,null,null,null,null,null,null,null,null,null,null,null,null,null,null,null,null,null,null,null,{"$f":"IF(BASE!$K17=\"\",\"\",BASE!$K17)","v":""}]
[null,null,null,null,null,null,null,null,null,null,null,"Prénom :",{"$f":"IF(ISERROR(INDEX(BASE!$M$6:$X$305,MATCH($E$40,BASE!$M$6:$M$305,0),4)),\"\",INDEX(BASE!$M$6:$X$305,MATCH($E$40,BASE!$M$6:$M$305,0),4))","v":""},null,null,null,null,null,null,null,null,null,null,null,null,null,{"$f":"IF(BASE!$K18=\"\",\"\",BASE!$K18)","v":""}]
[null,null,null,null,null,null,null,null,null,null,null,null,null,null,null,null,null,null,null,null,null,null,null,null,null,null,{"$f":"IF(BASE!$K19=\"\",\"\",BASE!$K19)","v":""}]
[null,null,null,null,null,null,null,null,null,null,null,"Date de naissance :",null,{"$f":"IF(ISERROR(INDEX(BASE!$M$6:$X$305,MATCH($E$40,BASE!$M$6:$M$305,0),6)),\"\",INDEX(BASE!$M$6:$X$305,MATCH($E$40,BASE!$M$6:$M$305,0),6))","v":""},null,null,null,null,null,null,null,null,null,null,null,null,{"$f":"IF(BASE!$K20=\"\",\"\",BASE!$K20)","v":""}]
[null,null,null,null,null,null,null,null,null,null,null,null,null,null,null,null,null,null,null,null,null,null,null,null,null,null,{"$f":"IF(BASE!$K21=\"\",\"\",BASE!$K21)","v":""}]
[null,null,null,null,null,null,null,null,null,null,null,"École / collège :",null,null,null,null,null,null,null,null,null,null,null,null,null,null,{"$f":"IF(BASE!$K22=\"\",\"\",BASE!$K22)","v":""}]
[null,null,null,null,null,null,null,null,null,null,null,null,null,null,null,null,null,null,null,null,null,null,null,null,null,null,{"$f":"IF(BASE!$K23=\"\",\"\",BASE!$K23)","v":""}]
[null,null,null,null,null,null,null,null,null,null,null,{"$f":"IF(ISERROR(INDEX(BASE!$M$6:$X$305,MATCH($E$40,BASE!$M$6:$M$305,0),12)),\"\",INDEX(BASE!$M$6:$X$305,MATCH($E$40,BASE!$M$6:$M$305,0),12))","v":""},null,null,null,null,null,null,null,null,null,null,null,null,null,null,{"$f":"IF(BASE!$K24=\"\",\"\",BASE!$K24)","v":""}]
[null,null,null,null,null,null,null,null,null,null,null,null,null,null,null,null,null,null,null,null,null,null,null,null,null,null,{"$f":"IF(BASE!$K25=\"\",\"\",BASE!$K25)","v":""}]
[null,null,null,null,null,null,null,null,null,null,null,null,null,null,null,null,null,null,null,null,null,null,null,null,null,null,{"$f":"IF(BASE!$K26=\"\",\"\",BASE!$K26)","v":""}]
[null,null,null,null,null,null,null,null,null,null,null,null,null,null,null,null,null,null,null,null,null,null,null,null,null,null,{"$f":"IF(BASE!$K27=\"\",\"\",BASE!$K27)","v":""}]
[null,null,null,null,null,null,null,null,null,null,null,null,null,null,null,null,null,null,null,null,null,null,null,null,null,null,{"$f":"IF(BASE!$K28=\"\",\"\",BASE!$K28)","v":""}]
[null,null,null,null,null,null,null,null,null,"Académie de",null,null,null,null,null,null,null,null,null,null,null,null,null,null,null,null,{"$f":"IF(BASE!$K29=\"\",\"\",BASE!$K29)","v":""}]
[null,null,null,null,null,null,null,null,null,null,null,null,null,null,null,null,null,null,null,null,null,null,null,null,null,null,{"$f":"IF(BASE!$K30=\"\",\"\",BASE!$K30)","v":""}]
[null,null,null,null,null,null,null,null,null,{"$f":"IF(ISERROR(INDEX(BASE!$M$6:$X$305,MATCH($E$42,BASE!$M$6:$M$305,0),11)),\"\",INDEX(BASE!$M$6:$X$305,MATCH($E$42,BASE!$M$6:$M$305,0),11))","v":""},null,null,null,null,null,null,null,null,null,null,null,null,null,null,null,null,{"$f":"IF(BASE!$K31=\"\",\"\",BASE!$K31)","v":""}]
[null,null,null,null,null,null,null,null,null,null,null,null,null,null,null,null,null,null,null,null,null,null,null,null,null,null,{"$f":"IF(BASE!$K32=\"\",\"\",BASE!$K32)","v":""}]
[null,null,null,null,null,null,null,null,null,"Cachet de l'établissement et signature",null,null,null,null,null,null,null,null,null,null,null,null,null,null,null,null,{"$f":"IF(BASE!$K33=\"\",\"\",BASE!$K33)","v":""}]
[null,null,null,null,null,null,null,null,null,"du directeur de l'école",null,null,null,null,null,null,null,null,null,null,null,null,null,null,null,null,{"$f":"IF(BASE!$K34=\"\",\"\",BASE!$K34)","v":""}]
[null,null,null,null,null,null,null,null,null,"ou du chef d'établissement",null,null,null,null,null,null,null,null,null,null,null,null,null,null,null,null,{"$f":"IF(BASE!$K35=\"\",\"\",BASE!$K35)","v":""}]
[null,null,null,null,null,null,null,null,null,null,null,null,null,null,null,null,null,null,null,null,null,null,null,null,null,null,{"$f":"IF(BASE!$K36=\"\",\"\",BASE!$K36)","v":""}]
[null,null,null,null,null,null,null,null,null,null,null,null,null,null,null,null,null,null,null,null,null,null,null,null,null,null,{"$f":"IF(BASE!$K37=\"\",\"\",BASE!$K37)","v":""}]
[null,null,null,null,null,null,null,null,null,null,null,"NOM :",{"$f":"IF(ISERROR(INDEX(BASE!$M$6:$X$305,MATCH($E$42,BASE!$M$6:$M$305,0),3)),\"\",INDEX(BASE!$M$6:$X$305,MATCH($E$42,BASE!$M$6:$M$305,0),3))","v":""},null,null,null,null,null,null,null,null,null,null,null,null,null,{"$f":"IF(BASE!$K38=\"\",\"\",BASE!$K38)","v":""}]
[null,null,null,null,null,null,null,null,null,null,null,null,null,null,null,null,null,null,null,null,null,null,null,null,null,null,{"$f":"IF(BASE!$K39=\"\",\"\",BASE!$K39)","v":""}]
[null,null,null,null,null,null,null,null,null,null,null,"Prénom :",{"$f":"IF(ISERROR(INDEX(BASE!$M$6:$X$305,MATCH($E$42,BASE!$M$6:$M$305,0),4)),\"\",INDEX(BASE!$M$6:$X$305,MATCH($E$42,BASE!$M$6:$M$305,0),4))","v":""},null,null,null,null,null,null,null,null,null,null,null,null,null,{"$f":"IF(BASE!$K40=\"\",\"\",BASE!$K40)","v":""}]
[null,null,null,null,null,null,null,null,null,null,null,null,null,null,null,null,null,null,null,null,null,null,null,null,null,null,{"$f":"IF(BASE!$K41=\"\",\"\",BASE!$K41)","v":""}]
[null,null,null,null,null,null,null,null,null,null,null,"Date de naissance :",null,{"$f":"IF(ISERROR(INDEX(BASE!$M$6:$X$305,MATCH($E$42,BASE!$M$6:$M$305,0),6)),\"\",INDEX(BASE!$M$6:$X$305,MATCH($E$42,BASE!$M$6:$M$305,0),6))","v":""},null,null,null,null,null,null,null,null,null,null,null,null,{"$f":"IF(BASE!$K42=\"\",\"\",BASE!$K42)","v":""}]
[null,null,null,null,null,null,null,null,null,null,null,null,null,null,null,null,null,null,null,null,null,null,null,null,null,null,{"$f":"IF(BASE!$K43=\"\",\"\",BASE!$K43)","v":""}]
[null,null,null,"Élève n°1 :",null,null,null,null,null,null,null,"École / collège :",null,null,null,null,null,null,null,null,null,null,null,null,null,null,{"$f":"IF(BASE!$K44=\"\",\"\",BASE!$K44)","v":""}]
[null,null,null,null,null,null,null,null,null,null,null,null,null,null,null,null,null,null,null,null,null,null,null,null,null,null,{"$f":"IF(BASE!$K45=\"\",\"\",BASE!$K45)","v":""}]
[null,null,null,"Élève n°2 :",null,null,null,null,null,null,null,{"$f":"IF(ISERROR(INDEX(BASE!$M$6:$X$305,MATCH($E$42,BASE!$M$6:$M$305,0),12)),\"\",INDEX(BASE!$M$6:$X$305,MATCH($E$42,BASE!$M$6:$M$305,0),12))","v":""},null,null,null,null,null,null,null,null,null,null,null,null,null,null,{"$f":"IF(BASE!$K46=\"\",\"\",BASE!$K46)","v":""}]
[null,null,null,null,{"$f":"IF(AND($E$40=\"\",$E$42=\"\"),\"\",IF($E$40=$E$42,\"ATTENTION : l'élève est déjà sélectionné\",\"\"))","v":""},null,null,null,null,null,null,null,null,null,null,null,null,null,null,null,null,null,null,null,null,null,{"$f":"IF(BASE!$K47=\"\",\"\",BASE!$K47)","v":""}]
[null,null,null,null,null,null,null,null,null,null,null,null,null,null,null,null,null,null,null,null,null,null,null,null,null,null,{"$f":"IF(BASE!$K48=\"\",\"\",BASE!$K48)","v":""}]
[null,null,null,null,null,null,null,null,null,null,null,null,null,null,null,null,null,null,null,null,null,null,null,null,null,null,{"$f":"IF(BASE!$K49=\"\",\"\",BASE!$K49)","v":""}]
[null,null,null,null,null,null,null,null,null,null,null,null,null,null,null,null,null,null,null,null,null,null,null,null,null,null,{"$f":"IF(BASE!$K50=\"\",\"\",BASE!$K50)","v":""}]
[null,null,null,null,null,null,null,null,null,null,null,null,null,null,null,null,null,null,null,null,null,null,null,null,null,null,{"$f":"IF(BASE!$K51=\"\",\"\",BASE!$K51)","v":""}]
[null,null,null,null,null,null,null,null,null,null,null,null,null,null,null,null,null,null,null,null,null,null,null,null,null,null,{"$f":"IF(BASE!$K52=\"\",\"\",BASE!$K52)","v":""}]
[null,null,null,null,null,null,null,null,null,"Le professeur des écoles et le",{"$f":"IF(ISERROR(INDEX(BASE!$M$6:$X$305,MATCH($E$40,BASE!$M$6:$M$305,0),10)),\"\",INDEX(BASE!$M$6:$X$305,MATCH($E$40,BASE!$M$6:$M$305,0),10))","v":""},null,null,null,", ou",null,null,null,null,null,null,null,null,null,null,null,{"$f":"IF(BASE!$K53=\"\",\"\",BASE!$K53)","v":""}]
[null,null,null,null,null,null,null,null,null,null,null,null,null,null,null,null,null,null,null,null,null,null,null,null,null,null,{"$f":"IF(BASE!$K54=\"\",\"\",BASE!$K54)","v":""}]
[null,null,null,null,null,null,null,null,null,"le professeur d'éducation physique et sportive",null,null,"(1), certifie(nt) que l'élève",null,null,null,null,null,null,null,null,null,null,null,null,null,{"$f":"IF(BASE!$K55=\"\",\"\",BASE!$K55)","v":""}]
[null,null,null,null,null,null,null,null,null,null,null,null,null,null,null,null,null,null,null,null,null,null,null,null,null,null,{"$f":"IF(BASE!$K56=\"\",\"\",BASE!$K56)","v":""}]
[null,null,null,null,null,null,null,null,null,{"$f":"IF(ISERROR(INDEX(BASE!$M$6:$X$305,MATCH($E$40,BASE!$M$6:$M$305,0),1)),\"\",INDEX(BASE!$M$6:$X$305,MATCH($E$40,BASE!$M$6:$M$305,0),1))","v":""},null,null,"maîtrise le savoir-nager défini par",null,null,null,null,null,null,null,null,null,null,null,null,null,{"$f":"IF(BASE!$K57=\"\",\"\",BASE!$K57)","v":""}]
[null,null,null,null,null,null,null,null,null,null,null,null,null,null,null,null,null,null,null,null,null,null,null,null,null,null,{"$f":"IF(BASE!$K58=\"\",\"\",BASE!$K58)","v":""}]
[null,null,null,null,null,null,null,null,null,"l'arrêté du 9 juillet 2015 (parcours de capacités, connaissances et attitudes).",null,null,null,null,null,null,null,null,null,null,null,null,null,null,null,null,{"$f":"IF(BASE!$K59=\"\",\"\",BASE!$K59)","v":""}]
[null,null,null,null,null,null,null,null,null,null,null,null,null,null,null,null,null,null,null,null,null,null,null,null,null,null,{"$f":"IF(BASE!$K60=\"\",\"\",BASE!$K60)","v":""}]
[null,null,null,null,null,null,null,null,null,{"$f":"IF(ISERROR(INDEX(BASE!$M$6:$X$305,MATCH($E$40,BASE!$M$6:$M$305,0),7)),\"\",INDEX(BASE!$M$6:$X$305,MATCH($E$40,BASE!$M$6:$M$305,0),7))","v":""},null,null,null,null,null,null,null,null,null,null,null,null,null,null,null,null,{"$f":"IF(BASE!$K61=\"\",\"\",BASE!$K61)","v":""}]
[null,null,null,null,null,null,null,null,null,null,null,null,null,null,null,null,null,null,null,null,null,null,null,null,null,null,{"$f":"IF(BASE!$K62=\"\",\"\",BASE!$K62)","v":""}]
[null,null,null,null,null,null,null,null,null,"NOMS et signatures du",null,null,null,null,null,null,null,null,null,null,null,null,null,null,null,null,{"$f":"IF(BASE!$K63=\"\",\"\",BASE!$K63)","v":""}]
[null,null,null,null,null,null,null,null,null,"Professionnel agréé (et titre)",null,null,"Professeur",null,null,null,null,null,null,null,null,null,null,null,null,null,{"$f":"IF(BASE!$K64=\"\",\"\",BASE!$K64)","v":""}]
[null,null,null,null,null,null,null,null,null,{"$f":"IF(ISERROR(INDEX(BASE!$M$6:$X$305,MATCH($E$40,BASE!$M$6:$M$305,0),9)),\"\",INDEX(BASE!$M$6:$X$305,MATCH($E$40,BASE!$M$6:$M$305,0),9))","v":""},null,null,{"$f":"IF(ISERROR(INDEX(BASE!$M$6:$X$305,MATCH($E$40,BASE!$M$6:$M$305,0),8)),\"\",INDEX(BASE!$M$6:$X$305,MATCH($E$40,BASE!$M$6:$M$305,0),8))","v":""},null,null,null,null,null,null,null,null,null,null,null,null,null,{"$f":"IF(BASE!$K65=\"\",\"\",BASE!$K65)","v":""}]
[null,null,null,null,null,null,null,null,null,{"$f":"IF(ISERROR(INDEX(BASE!$M$6:$X$305,MATCH($E$40,BASE!$M$6:$M$305,0),10)),\"\",INDEX(BASE!$M$6:$X$305,MATCH($E$40,BASE!$M$6:$M$305,0),10))","v":""},null,null,null,null,null,null,null,null,null,null,null,null,null,null,null,null,{"$f":"IF(BASE!$K66=\"\",\"\",BASE!$K66)","v":""}]
[null,null,null,null,null,null,null,null,null,null,null,null,null,null,null,null,null,null,null,null,null,null,null,null,null,null,{"$f":"IF(BASE!$K67=\"\",\"\",BASE!$K67)","v":""}]
[null,null,null,null,null,null,null,null,null,null,null,null,null,null,null,null,null,null,null,null,null,null,null,null,null,null,{"$f":"IF(BASE!$K68=\"\",\"\",BASE!$K68)","v":""}]
[null,null,null,null,null,null,null,null,null,null,null,null,null,null,null,null,null,null,null,null,null,null,null,null,null,null,{"$f":"IF(BASE!$K69=\"\",\"\",BASE!$K69)","v":""}]
[null,null,null,null,null,null,null,null,null,null,null,null,null,null,null,null,null,null,null,null,null,null,null,null,null,null,{"$f":"IF(BASE!$K70=\"\",\"\",BASE!$K70)","v":""}]
[null,null,null,null,null,null,null,null,null,"(1) compléter ou rayer la mention inutile",null,null,null,null,null,null,null,null,null,null,null,null,null,null,null,null,{"$f":"IF(BASE!$K71=\"\",\"\",BASE!$K71)","v":""}]
[null,null,null,null,null,null,null,null,null,null,null,null,null,null,null,null,null,null,null,null,null,null,null,null,null,null,{"$f":"IF(BASE!$K72=\"\",\"\",BASE!$K72)","v":""}]
[null,null,null,null,null,null,null,null,null,null,null,null,null,null,null,null,null,null,null,null,null,null,null,null,null,null,{"$f":"IF(BASE!$K73=\"\",\"\",BASE!$K73)","v":""}]
[null,null,null,null,null,null,null,null,null,null,null,null,null,null,null,null,null,null,null,null,null,null,null,null,null,null,{"$f":"IF(BASE!$K74=\"\",\"\",BASE!$K74)","v":""}]
[null,null,null,null,null,null,null,null,null,null,null,null,null,null,null,null,null,null,null,null,null,null,null,null,null,null,{"$f":"IF(BASE!$K75=\"\",\"\",BASE!$K75)","v":""}]
[null,null,null,null,null,null,null,null,null,null,null,null,null,null,null,null,null,null,null,null,null,null,null,null,null,null,{"$f":"IF(BASE!$K76=\"\",\"\",BASE!$K76)","v":""}]
[null,null,null,null,null,null,null,null,null,"Le professeur des écoles et le",{"$f":"IF(ISERROR(INDEX(BASE!$M$6:$X$305,MATCH($E$42,BASE!$M$6:$M$305,0),10)),\"\",INDEX(BASE!$M$6:$X$305,MATCH($E$42,BASE!$M$6:$M$305,0),10))","v":""},null,null,null,", ou",null,null,null,null,null,null,null,null,null,null,null,{"$f":"IF(BASE!$K77=\"\",\"\",BASE!$K77)","v":""}]
[null,null,null,null,null,null,null,null,null,null,null,null,null,null,null,null,null,null,null,null,null,null,null,null,null,null,{"$f":"IF(BASE!$K78=\"\",\"\",BASE!$K78)","v":""}]
[null,null,null,null,null,null,null,null,null,"le professeur d'éducation physique et sportive",null,null,"(1), certifie(nt) que l'élève",null,null,null,null,null,null,null,null,null,null,null,null,null,{"$f":"IF(BASE!$K79=\"\",\"\",BASE!$K79)","v":""}]
[null,null,null,null,null,null,null,null,null,null,null,null,null,null,null,null,null,null,null,null,null,null,null,null,null,null,{"$f":"IF(BASE!$K80=\"\",\"\",BASE!$K80)","v":""}]
[null,null,null,null,null,null,null,null,null,{"$f":"IF(ISERROR(INDEX(BASE!$M$6:$X$305,MATCH($E$42,BASE!$M$6:$M$305,0),1)),\"\",INDEX(BASE!$M$6:$X$305,MATCH($E$42,BASE!$M$6:$M$305,0),1))","v":""},null,null,"maîtrise le savoir-nager défini par",null,null,null,null,null,null,null,null,null,null,null,null,null,{"$f":"IF(BASE!$K81=\"\",\"\",BASE!$K81)","v":""}]
[null,null,null,null,null,null,null,null,null,null,null,null,null,null,null,null,null,null,null,null,null,null,null,null,null,null,{"$f":"IF(BASE!$K82=\"\",\"\",BASE!$K82)","v":""}]
[null,null,null,null,null,null,null,null,null,"l'arrêté du 9 juillet 2015 (parcours de capacités, connaissances et attitudes).",null,null,null,null,null,null,null,null,null,null,null,null,null,null,null,null,{"$f":"IF(BASE!$K83=\"\",\"\",BASE!$K83)","v":""}]
[null,null,null,null,null,null,null,null,null,null,null,null,null,null,null,null,null,null,null,null,null,null,null,null,null,null,{"$f":"IF(BASE!$K84=\"\",\"\",BASE!$K84)","v":""}]
[null,null,null,null,null,null,null,null,null,{"$f":"IF(ISERROR(INDEX(BASE!$M$6:$X$305,MATCH($E$42,BASE!$M$6:$M$305,0),7)),\"\",INDEX(BASE!$M$6:$X$305,MATCH($E$42,BASE!$M$6:$M$305,0),7))","v":""},null,null,null,null,null,null,null,null,null,null,null,null,null,null,null,null,{"$f":"IF(BASE!$K85=\"\",\"\",BASE!$K85)","v":""}]
[null,null,null,null,null,null,null,null,null,null,null,null,null,null,null,null,null,null,null,null,null,null,null,null,null,null,{"$f":"IF(BASE!$K86=\"\",\"\",BASE!$K86)","v":""}]
[null,null,null,null,null,null,null,null,null,"NOMS et signatures du",null,null,null,null,null,null,null,null,null,null,null,null,null,null,null,null,{"$f":"IF(BASE!$K87=\"\",\"\",BASE!$K87)","v":""}]
[null,null,null,null,null,null,null,null,null,"Professionnel agréé (et titre)",null,null,"Professeur",null,null,null,null,null,null,null,null,null,null,null,null,null,{"$f":"IF(BASE!$K88=\"\",\"\",BASE!$K88)","v":""}]
[null,null,null,null,null,null,null,null,null,{"$f":"IF(ISERROR(INDEX(BASE!$M$6:$X$305,MATCH($E$42,BASE!$M$6:$M$305,0),9)),\"\",INDEX(BASE!$M$6:$X$305,MATCH($E$42,BASE!$M$6:$M$305,0),9))","v":""},null,null,{"$f":"IF(ISERROR(INDEX(BASE!$M$6:$X$305,MATCH($E$42,BASE!$M$6:$M$305,0),8)),\"\",INDEX(BASE!$M$6:$X$305,MATCH($E$42,BASE!$M$6:$M$305,0),8))","v":""},null,null,null,null,null,null,null,null,null,null,null,null,null,{"$f":"IF(BASE!$K89=\"\",\"\",BASE!$K89)","v":""}]
[null,null,null,null,null,null,null,null,null,{"$f":"IF(ISERROR(INDEX(BASE!$M$6:$X$305,MATCH($E$42,BASE!$M$6:$M$305,0),10)),\"\",INDEX(BASE!$M$6:$X$305,MATCH($E$42,BASE!$M$6:$M$305,0),10))","v":""},null,null,null,null,null,null,null,null,null,null,null,null,null,null,null,null,{"$f":"IF(BASE!$K90=\"\",\"\",BASE!$K90)","v":""}]
[null,null,null,null,null,null,null,null,null,null,null,null,null,null,null,null,null,null,null,null,null,null,null,null,null,null,{"$f":"IF(BASE!$K91=\"\",\"\",BASE!$K91)","v":""}]
[null,null,null,null,null,null,null,null,null,null,null,null,null,null,null,null,null,null,null,null,null,null,null,null,null,null,{"$f":"IF(BASE!$K92=\"\",\"\",BASE!$K92)","v":""}]
[null,null,null,null,null,null,null,null,null,null,null,null,null,null,null,null,null,null,null,null,null,null,null,null,null,null,{"$f":"IF(BASE!$K93=\"\",\"\",BASE!$K93)","v":""}]
[null,null,null,null,null,null,null,null,null,null,null,null,null,null,null,null,null,null,null,null,null,null,null,null,null,null,{"$f":"IF(BASE!$K94=\"\",\"\",BASE!$K94)","v":""}]
[null,null,null,null,null,null,null,null,null,"(1) compléter ou rayer la mention inutile",null,null,null,null,null,null,null,null,null,null,null,null,null,null,null,null,{"$f":"IF(BASE!$K95=\"\",\"\",BASE!$K95)","v":""}]
[null,null,null,null,null,null,null,null,null,null,null,null,null,null,null,null,null,null,null,null,null,null,null,null,null,null,{"$f":"IF(BASE!$K96=\"\",\"\",BASE!$K96)","v":""}]
[null,null,null,null,null,null,null,null,null,null,null,null,null,null,null,null,null,null,null,null,null,null,null,null,null,null,{"$f":"IF(BASE!$K97=\"\",\"\",BASE!$K97)","v":""}]
[null,null,null,null,null,null,null,null,null,null,null,null,null,null,null,null,null,null,null,null,null,null,null,null,null,null,{"$f":"IF(BASE!$K98=\"\",\"\",BASE!$K98)","v":""}]
[null,null,null,null,null,null,null,null,null,null,null,null,null,null,null,null,null,null,null,null,null,null,null,null,null,null,{"$f":"IF(BASE!$K99=\"\",\"\",BASE!$K99)","v":""}]
[null,null,null,null,null,null,null,null,null,null,null,null,null,null,null,null,null,null,null,null,null,null,null,null,null,null,{"$f":"IF(BASE!$K100=\"\",\"\",BASE!$K100)","v":""}]
[null,null,null,null,null,null,null,null,null,null,null,null,null,null,null,null,null,null,null,null,null,null,null,null,null,null,{"$f":"IF(BASE!$K101=\"\",\"\",BASE!$K101)","v":""}]
[null,null,null,null,null,null,null,null,null,null,null,null,null,null,null,null,null,null,null,null,null,null,null,null,null,null,{"$f":"IF(BASE!$K102=\"\",\"\",BASE!$K102)","v":""}]
[null,null,null,null,null,null,null,null,null,null,null,null,null,null,null,null,null,null,null,null,null,null,null,null,null,null,{"$f":"IF(BASE!$K103=\"\",\"\",BASE!$K103)","v":""}]
[null,null,null,null,null,null,null,null,null,null,null,null,null,null,null,null,null,null,null,null,null,null,null,null,null,null,{"$f":"IF(BASE!$K104=\"\",\"\",BASE!$K104)","v":""}]
[null,null,null,null,null,null,null,null,null,null,null,null,null,null,null,null,null,null,null,null,null,null,null,null,null,null,{"$f":"IF(BASE!$K105=\"\",\"\",BASE!$K105)","v":""}]
[null,null,null,null,null,null,null,null,null,null,null,null,null,null,null,null,null,null,null,null,null,null,null,null,null,null,{"$f":"IF(BASE!$K106=\"\",\"\",BASE!$K106)","v":""}]
[null,null,null,null,null,null,null,null,null,null,null,null,null,null,null,null,null,null,null,null,null,null,null,null,null,null,{"$f":"IF(BASE!$K107=\"\",\"\",BASE!$K107)","v":""}]
[null,null,null,null,null,null,null,null,null,null,null,null,null,null,null,null,null,null,null,null,null,null,null,null,null,null,{"$f":"IF(BASE!$K108=\"\",\"\",BASE!$K108)","v":""}]
[null,null,null,null,null,null,null,null,null,null,null,null,null,null,null,null,null,null,null,null,null,null,null,null,null,null,{"$f":"IF(BASE!$K109=\"\",\"\",BASE!$K109)","v":""}]
[null,null,null,null,null,null,null,null,null,null,null,null,null,null,null,null,null,null,null,null,null,null,null,null,null,null,{"$f":"IF(BASE!$K110=\"\",\"\",BASE!$K110)","v":""}]
[null,null,null,null,null,null,null,null,null,null,null,null,null,null,null,null,null,null,null,null,null,null,null,null,null,null,{"$f":"IF(BASE!$K111=\"\",\"\",BASE!$K111)","v":""}]
[null,null,null,null,null,null,null,null,null,null,null,null,null,null,null,null,null,null,null,null,null,null,null,null,null,null,{"$f":"IF(BASE!$K112=\"\",\"\",BASE!$K112)","v":""}]
[null,null,null,null,null,null,null,null,null,null,null,null,null,null,null,null,null,null,null,null,null,null,null,null,null,null,{"$f":"IF(BASE!$K113=\"\",\"\",BASE!$K113)","v":""}]
[null,null,null,null,null,null,null,null,null,null,null,null,null,null,null,null,null,null,null,null,null,null,null,null,null,null,{"$f":"IF(BASE!$K114=\"\",\"\",BASE!$K114)","v":""}]
[null,null,null,null,null,null,null,null,null,null,null,null,null,null,null,null,null,null,null,null,null,null,null,null,null,null,{"$f":"IF(BASE!$K115=\"\",\"\",BASE!$K115)","v":""}]
[null,null,null,null,null,null,null,null,null,null,null,null,null,null,null,null,null,null,null,null,null,null,null,null,null,null,{"$f":"IF(BASE!$K116=\"\",\"\",BASE!$K116)","v":""}]
[null,null,null,null,null,null,null,null,null,null,null,null,null,null,null,null,null,null,null,null,null,null,null,null,null,null,{"$f":"IF(BASE!$K117=\"\",\"\",BASE!$K117)","v":""}]
[null,null,null,null,null,null,null,null,null,null,null,null,null,null,null,null,null,null,null,null,null,null,null,null,null,null,{"$f":"IF(BASE!$K118=\"\",\"\",BASE!$K118)","v":""}]
[null,null,null,null,null,null,null,null,null,null,null,null,null,null,null,null,null,null,null,null,null,null,null,null,null,null,{"$f":"IF(BASE!$K119=\"\",\"\",BASE!$K119)","v":""}]
[null,null,null,null,null,null,null,null,null,null,null,null,null,null,null,null,null,null,null,null,null,null,null,null,null,null,{"$f":"IF(BASE!$K120=\"\",\"\",BASE!$K120)","v":""}]
[null,null,null,null,null,null,null,null,null,null,null,null,null,null,null,null,null,null,null,null,null,null,null,null,null,null,{"$f":"IF(BASE!$K121=\"\",\"\",BASE!$K121)","v":""}]
[null,null,null,null,null,null,null,null,null,null,null,null,null,null,null,null,null,null,null,null,null,null,null,null,null,null,{"$f":"IF(BASE!$K122=\"\",\"\",BASE!$K122)","v":""}]
[null,null,null,null,null,null,null,null,null,null,null,null,null,null,null,null,null,null,null,null,null,null,null,null,null,null,{"$f":"IF(BASE!$K123=\"\",\"\",BASE!$K123)","v":""}]
[null,null,null,null,null,null,null,null,null,null,null,null,null,null,null,null,null,null,null,null,null,null,null,null,null,null,{"$f":"IF(BASE!$K124=\"\",\"\",BASE!$K124)","v":""}]
[null,null,null,null,null,null,null,null,null,null,null,null,null,null,null,null,null,null,null,null,null,null,null,null,null,null,{"$f":"IF(BASE!$K125=\"\",\"\",BASE!$K125)","v":""}]
[null,null,null,null,null,null,null,null,null,null,null,null,null,null,null,null,null,null,null,null,null,null,null,null,null,null,{"$f":"IF(BASE!$K126=\"\",\"\",BASE!$K126)","v":""}]
[null,null,null,null,null,null,null,null,null,null,null,null,null,null,null,null,null,null,null,null,null,null,null,null,null,null,{"$f":"IF(BASE!$K127=\"\",\"\",BASE!$K127)","v":""}]
[null,null,null,null,null,null,null,null,null,null,null,null,null,null,null,null,null,null,null,null,null,null,null,null,null,null,{"$f":"IF(BASE!$K128=\"\",\"\",BASE!$K128)","v":""}]
[null,null,null,null,null,null,null,null,null,null,null,null,null,null,null,null,null,null,null,null,null,null,null,null,null,null,{"$f":"IF(BASE!$K129=\"\",\"\",BASE!$K129)","v":""}]
[null,null,null,null,null,null,null,null,null,null,null,null,null,null,null,null,null,null,null,null,null,null,null,null,null,null,{"$f":"IF(BASE!$K130=\"\",\"\",BASE!$K130)","v":""}]
[null,null,null,null,null,null,null,null,null,null,null,null,null,null,null,null,null,null,null,null,null,null,null,null,null,null,{"$f":"IF(BASE!$K131=\"\",\"\",BASE!$K131)","v":""}]
[null,null,null,null,null,null,null,null,null,null,null,null,null,null,null,null,null,null,null,null,null,null,null,null,null,null,{"$f":"IF(BASE!$K132=\"\",\"\",BASE!$K132)","v":""}]
[null,null,null,null,null,null,null,null,null,null,null,null,null,null,null,null,null,null,null,null,null,null,null,null,null,null,{"$f":"IF(BASE!$K133=\"\",\"\",BASE!$K133)","v":""}]
[null,null,null,null,null,null,null,null,null,null,null,null,null,null,null,null,null,null,null,null,null,null,null,null,null,null,{"$f":"IF(BASE!$K134=\"\",\"\",BASE!$K134)","v":""}]
[null,null,null,null,null,null,null,null,null,null,null,null,null,null,null,null,null,null,null,null,null,null,null,null,null,null,{"$f":"IF(BASE!$K135=\"\",\"\",BASE!$K135)","v":""}]
[null,null,null,null,null,null,null,null,null,null,null,null,null,null,null,null,null,null,null,null,null,null,null,null,null,null,{"$f":"IF(BASE!$K136=\"\",\"\",BASE!$K136)","v":""}]
[null,null,null,null,null,null,null,null,null,null,null,null,null,null,null,null,null,null,null,null,null,null,null,null,null,null,{"$f":"IF(BASE!$K137=\"\",\"\",BASE!$K137)","v":""}]
[null,null,null,null,null,null,null,null,null,null,null,null,null,null,null,null,null,null,null,null,null,null,null,null,null,null,{"$f":"IF(BASE!$K138=\"\",\"\",BASE!$K138)","v":""}]
[null,null,null,null,null,null,null,null,null,null,null,null,null,null,null,null,null,null,null,null,null,null,null,null,null,null,{"$f":"IF(BASE!$K139=\"\",\"\",BASE!$K139)","v":""}]
[null,null,null,null,null,null,null,null,null,null,null,null,null,null,null,null,null,null,null,null,null,null,null,null,null,null,{"$f":"IF(BASE!$K140=\"\",\"\",BASE!$K140)","v":""}]
[null,null,null,null,null,null,null,null,null,null,null,null,null,null,null,null,null,null,null,null,null,null,null,null,null,null,{"$f":"IF(BASE!$K141=\"\",\"\",BASE!$K141)","v":""}]
[null,null,null,null,null,null,null,null,null,null,null,null,null,null,null,null,null,null,null,null,null,null,null,null,null,null,{"$f":"IF(BASE!$K142=\"\",\"\",BASE!$K142)","v":""}]
[null,null,null,null,null,null,null,null,null,null,null,null,null,null,null,null,null,null,null,null,null,null,null,null,null,null,{"$f":"IF(BASE!$K143=\"\",\"\",BASE!$K143)","v":""}]
[null,null,null,null,null,null,null,null,null,null,null,null,null,null,null,null,null,null,null,null,null,null,null,null,null,null,{"$f":"IF(BASE!$K144=\"\",\"\",BASE!$K144)","v":""}]
[null,null,null,null,null,null,null,null,null,null,null,null,null,null,null,null,null,null,null,null,null,null,null,null,null,null,{"$f":"IF(BASE!$K145=\"\",\"\",BASE!$K145)","v":""}]
[null,null,null,null,null,null,null,null,null,null,null,null,null,null,null,null,null,null,null,null,null,null,null,null,null,null,{"$f":"IF(BASE!$K146=\"\",\"\",BASE!$K146)","v":""}]
[null,null,null,null,null,null,null,null,null,null,null,null,null,null,null,null,null,null,null,null,null,null,null,null,null,null,{"$f":"IF(BASE!$K147=\"\",\"\",BASE!$K147)","v":""}]
[null,null,null,null,null,null,null,null,null,null,null,null,null,null,null,null,null,null,null,null,null,null,null,null,null,null,{"$f":"IF(BASE!$K148=\"\",\"\",BASE!$K148)","v":""}]
[null,null,null,null,null,null,null,null,null,null,null,null,null,null,null,null,null,null,null,null,null,null,null,null,null,null,{"$f":"IF(BASE!$K149=\"\",\"\",BASE!$K149)","v":""}]
[null,null,null,null,null,null,null,null,null,null,null,null,null,null,null,null,null,null,null,null,null,null,null,null,null,null,{"$f":"IF(BASE!$K150=\"\",\"\",BASE!$K150)","v":""}]
[null,null,null,null,null,null,null,null,null,null,null,null,null,null,null,null,null,null,null,null,null,null,null,null,null,null,{"$f":"IF(BASE!$K151=\"\",\"\",BASE!$K151)","v":""}]
[null,null,null,null,null,null,null,null,null,null,null,null,null,null,null,null,null,null,null,null,null,null,null,null,null,null,{"$f":"IF(BASE!$K152=\"\",\"\",BASE!$K152)","v":""}]
[null,null,null,null,null,null,null,null,null,null,null,null,null,null,null,null,null,null,null,null,null,null,null,null,null,null,{"$f":"IF(BASE!$K153=\"\",\"\",BASE!$K153)","v":""}]
[null,null,null,null,null,null,null,null,null,null,null,null,null,null,null,null,null,null,null,null,null,null,null,null,null,null,{"$f":"IF(BASE!$K154=\"\",\"\",BASE!$K154)","v":""}]
[null,null,null,null,null,null,null,null,null,null,null,null,null,null,null,null,null,null,null,null,null,null,null,null,null,null,{"$f":"IF(BASE!$K155=\"\",\"\",BASE!$K155)","v":""}]
[null,null,null,null,null,null,null,null,null,null,null,null,null,null,null,null,null,null,null,null,null,null,null,null,null,null,{"$f":"IF(BASE!$K156=\"\",\"\",BASE!$K156)","v":""}]
[null,null,null,null,null,null,null,null,null,null,null,null,null,null,null,null,null,null,null,null,null,null,null,null,null,null,{"$f":"IF(BASE!$K157=\"\",\"\",BASE!$K157)","v":""}]
[null,null,null,null,null,null,null,null,null,null,null,null,null,null,null,null,null,null,null,null,null,null,null,null,null,null,{"$f":"IF(BASE!$K158=\"\",\"\",BASE!$K158)","v":""}]
[null,null,null,null,null,null,null,null,null,null,null,null,null,null,null,null,null,null,null,null,null,null,null,null,null,null,{"$f":"IF(BASE!$K159=\"\",\"\",BASE!$K159)","v":""}]
[null,null,null,null,null,null,null,null,null,null,null,null,null,null,null,null,null,null,null,null,null,null,null,null,null,null,{"$f":"IF(BASE!$K160=\"\",\"\",BASE!$K160)","v":""}]
[null,null,null,null,null,null,null,null,null,null,null,null,null,null,null,null,null,null,null,null,null,null,null,null,null,null,{"$f":"IF(BASE!$K161=\"\",\"\",BASE!$K161)","v":""}]
[null,null,null,null,null,null,null,null,null,null,null,null,null,null,null,null,null,null,null,null,null,null,null,null,null,null,{"$f":"IF(BASE!$K162=\"\",\"\",BASE!$K162)","v":""}]
[null,null,null,null,null,null,null,null,null,null,null,null,null,null,null,null,null,null,null,null,null,null,null,null,null,null,{"$f":"IF(BASE!$K163=\"\",\"\",BASE!$K163)","v":""}]
[null,null,null,null,null,null,null,null,null,null,null,null,null,null,null,null,null,null,null,null,null,null,null,null,null,null,{"$f":"IF(BASE!$K164=\"\",\"\",BASE!$K164)","v":""}]
[null,null,null,null,null,null,null,null,null,null,null,null,null,null,null,null,null,null,null,null,null,null,null,null,null,null,{"$f":"IF(BASE!$K165=\"\",\"\",BASE!$K165)","v":""}]
[null,null,null,null,null,null,null,null,null,null,null,null,null,null,null,null,null,null,null,null,null,null,null,null,null,null,{"$f":"IF(BASE!$K166=\"\",\"\",BASE!$K166)","v":""}]
[null,null,null,null,null,null,null,null,null,null,null,null,null,null,null,null,null,null,null,null,null,null,null,null,null,null,{"$f":"IF(BASE!$K167=\"\",\"\",BASE!$K167)","v":""}]
[null,null,null,null,null,null,null,null,null,null,null,null,null,null,null,null,null,null,null,null,null,null,null,null,null,null,{"$f":"IF(BASE!$K168=\"\",\"\",BASE!$K168)","v":""}]
[null,null,null,null,null,null,null,null,null,null,null,null,null,null,null,null,null,null,null,null,null,null,null,null,null,null,{"$f":"IF(BASE!$K169=\"\",\"\",BASE!$K169)","v":""}]
[null,null,null,null,null,null,null,null,null,null,null,null,null,null,null,null,null,null,null,null,null,null,null,null,null,null,{"$f":"IF(BASE!$K170=\"\",\"\",BASE!$K170)","v":""}]
[null,null,null,null,null,null,null,null,null,null,null,null,null,null,null,null,null,null,null,null,null,null,null,null,null,null,{"$f":"IF(BASE!$K171=\"\",\"\",BASE!$K171)","v":""}]
[null,null,null,null,null,null,null,null,null,null,null,null,null,null,null,null,null,null,null,null,null,null,null,null,null,null,{"$f":"IF(BASE!$K172=\"\",\"\",BASE!$K172)","v":""}]
[null,null,null,null,null,null,null,null,null,null,null,null,null,null,null,null,null,null,null,null,null,null,null,null,null,null,{"$f":"IF(BASE!$K173=\"\",\"\",BASE!$K173)","v":""}]
[null,null,null,null,null,null,null,null,null,null,null,null,null,null,null,null,null,null,null,null,null,null,null,null,null,null,{"$f":"IF(BASE!$K174=\"\",\"\",BASE!$K174)","v":""}]
[null,null,null,null,null,null,null,null,null,null,null,null,null,null,null,null,null,null,null,null,null,null,null,null,null,null,{"$f":"IF(BASE!$K175=\"\",\"\",BASE!$K175)","v":""}]
[null,null,null,null,null,null,null,null,null,null,null,null,null,null,null,null,null,null,null,null,null,null,null,null,null,null,{"$f":"IF(BASE!$K176=\"\",\"\",BASE!$K176)","v":""}]
[null,null,null,null,null,null,null,null,null,null,null,null,null,null,null,null,null,null,null,null,null,null,null,null,null,null,{"$f":"IF(BASE!$K177=\"\",\"\",BASE!$K177)","v":""}]
[null,null,null,null,null,null,null,null,null,null,null,null,null,null,null,null,null,null,null,null,null,null,null,null,null,null,{"$f":"IF(BASE!$K178=\"\",\"\",BASE!$K178)","v":""}]
[null,null,null,null,null,null,null,null,null,null,null,null,null,null,null,null,null,null,null,null,null,null,null,null,null,null,{"$f":"IF(BASE!$K179=\"\",\"\",BASE!$K179)","v":""}]
[null,null,null,null,null,null,null,null,null,null,null,null,null,null,null,null,null,null,null,null,null,null,null,null,null,null,{"$f":"IF(BASE!$K180=\"\",\"\",BASE!$K180)","v":""}]
[null,null,null,null,null,null,null,null,null,null,null,null,null,null,null,null,null,null,null,null,null,null,null,null,null,null,{"$f":"IF(BASE!$K181=\"\",\"\",BASE!$K181)","v":""}]
[null,null,null,null,null,null,null,null,null,null,null,null,null,null,null,null,null,null,null,null,null,null,null,null,null,null,{"$f":"IF(BASE!$K182=\"\",\"\",BASE!$K182)","v":""}]
[null,null,null,null,null,null,null,null,null,null,null,null,null,null,null,null,null,null,null,null,null,null,null,null,null,null,{"$f":"IF(BASE!$K183=\"\",\"\",BASE!$K183)","v":""}]
[null,null,null,null,null,null,null,null,null,null,null,null,null,null,null,null,null,null,null,null,null,null,null,null,null,null,{"$f":"IF(BASE!$K184=\"\",\"\",BASE!$K184)","v":""}]
[null,null,null,null,null,null,null,null,null,null,null,null,null,null,null,null,null,null,null,null,null,null,null,null,null,null,{"$f":"IF(BASE!$K185=\"\",\"\",BASE!$K185)","v":""}]
[null,null,null,null,null,null,null,null,null,null,null,null,null,null,null,null,null,null,null,null,null,null,null,null,null,null,{"$f":"IF(BASE!$K186=\"\",\"\",BASE!$K186)","v":""}]
[null,null,null,null,null,null,null,null,null,null,null,null,null,null,null,null,null,null,null,null,null,null,null,null,null,null,{"$f":"IF(BASE!$K187=\"\",\"\",BASE!$K187)","v":""}]
[null,null,null,null,null,null,null,null,null,null,null,null,null,null,null,null,null,null,null,null,null,null,null,null,null,null,{"$f":"IF(BASE!$K188=\"\",\"\",BASE!$K188)","v":""}]
[null,null,null,null,null,null,null,null,null,null,null,null,null,null,null,null,null,null,null,null,null,null,null,null,null,null,{"$f":"IF(BASE!$K189=\"\",\"\",BASE!$K189)","v":""}]
[null,null,null,null,null,null,null,null,null,null,null,null,null,null,null,null,null,null,null,null,null,null,null,null,null,null,{"$f":"IF(BASE!$K190=\"\",\"\",BASE!$K190)","v":""}]
[null,null,null,null,null,null,null,null,null,null,null,null,null,null,null,null,null,null,null,null,null,null,null,null,null,null,{"$f":"IF(BASE!$K191=\"\",\"\",BASE!$K191)","v":""}]
[null,null,null,null,null,null,null,null,null,null,null,null,null,null,null,null,null,null,null,null,null,null,null,null,null,null,{"$f":"IF(BASE!$K192=\"\",\"\",BASE!$K192)","v":""}]
[null,null,null,null,null,null,null,null,null,null,null,null,null,null,null,null,null,null,null,null,null,null,null,null,null,null,{"$f":"IF(BASE!$K193=\"\",\"\",BASE!$K193)","v":""}]
[null,null,null,null,null,null,null,null,null,null,null,null,null,null,null,null,null,null,null,null,null,null,null,null,null,null,{"$f":"IF(BASE!$K194=\"\",\"\",BASE!$K194)","v":""}]
[null,null,null,null,null,null,null,null,null,null,null,null,null,null,null,null,null,null,null,null,null,null,null,null,null,null,{"$f":"IF(BASE!$K195=\"\",\"\",BASE!$K195)","v":""}]
[null,null,null,null,null,null,null,null,null,null,null,null,null,null,null,null,null,null,null,null,null,null,null,null,null,null,{"$f":"IF(BASE!$K196=\"\",\"\",BASE!$K196)","v":""}]
[null,null,null,null,null,null,null,null,null,null,null,null,null,null,null,null,null,null,null,null,null,null,null,null,null,null,{"$f":"IF(BASE!$K197=\"\",\"\",BASE!$K197)","v":""}]
[null,null,null,null,null,null,null,null,null,null,null,null,null,null,null,null,null,null,null,null,null,null,null,null,null,null,{"$f":"IF(BASE!$K198=\"\",\"\",BASE!$K198)","v":""}]
[null,null,null,null,null,null,null,null,null,null,null,null,null,null,null,null,null,null,null,null,null,null,null,null,null,null,{"$f":"IF(BASE!$K199=\"\",\"\",BASE!$K199)","v":""}]
[null,null,null,null,null,null,null,null,null,null,null,null,null,null,null,null,null,null,null,null,null,null,null,null,null,null,{"$f":"IF(BASE!$K200=\"\",\"\",BASE!$K200)","v":""}]
[null,null,null,null,null,null,null,null,null,null,null,null,null,null,null,null,null,null,null,null,null,null,null,null,null,null,{"$f":"IF(BASE!$K201=\"\",\"\",BASE!$K201)","v":""}]
[null,null,null,null,null,null,null,null,null,null,null,null,null,null,null,null,null,null,null,null,null,null,null,null,null,null,{"$f":"IF(BASE!$K202=\"\",\"\",BASE!$K202)","v":""}]
[null,null,null,null,null,null,null,null,null,null,null,null,null,null,null,null,null,null,null,null,null,null,null,null,null,null,{"$f":"IF(BASE!$K203=\"\",\"\",BASE!$K203)","v":""}]
[null,null,null,null,null,null,null,null,null,null,null,null,null,null,null,null,null,null,null,null,null,null,null,null,null,null,{"$f":"IF(BASE!$K204=\"\",\"\",BASE!$K204)","v":""}]
[null,null,null,null,null,null,null,null,null,null,null,null,null,null,null,null,null,null,null,null,null,null,null,null,null,null,{"$f":"IF(BASE!$K205=\"\",\"\",BASE!$K205)","v":""}]
[null,null,null,null,null,null,null,null,null,null,null,null,null,null,null,null,null,null,null,null,null,null,null,null,null,null,{"$f":"IF(BASE!$K206=\"\",\"\",BASE!$K206)","v":""}]
[null,null,null,null,null,null,null,null,null,null,null,null,null,null,null,null,null,null,null,null,null,null,null,null,null,null,{"$f":"IF(BASE!$K207=\"\",\"\",BASE!$K207)","v":""}]
[null,null,null,null,null,null,null,null,null,null,null,null,null,null,null,null,null,null,null,null,null,null,null,null,null,null,{"$f":"IF(BASE!$K208=\"\",\"\",BASE!$K208)","v":""}]
[null,null,null,null,null,null,null,null,null,null,null,null,null,null,null,null,null,null,null,null,null,null,null,null,null,null,{"$f":"IF(BASE!$K209=\"\",\"\",BASE!$K209)","v":""}]
[null,null,null,null,null,null,null,null,null,null,null,null,null,null,null,null,null,null,null,null,null,null,null,null,null,null,{"$f":"IF(BASE!$K210=\"\",\"\",BASE!$K210)","v":""}]
[null,null,null,null,null,null,null,null,null,null,null,null,null,null,null,null,null,null,null,null,null,null,null,null,null,null,{"$f":"IF(BASE!$K211=\"\",\"\",BASE!$K211)","v":""}]
[null,null,null,null,null,null,null,null,null,null,null,null,null,null,null,null,null,null,null,null,null,null,null,null,null,null,{"$f":"IF(BASE!$K212=\"\",\"\",BASE!$K212)","v":""}]
[null,null,null,null,null,null,null,null,null,null,null,null,null,null,null,null,null,null,null,null,null,null,null,null,null,null,{"$f":"IF(BASE!$K213=\"\",\"\",BASE!$K213)","v":""}]
[null,null,null,null,null,null,null,null,null,null,null,null,null,null,null,null,null,null,null,null,null,null,null,null,null,null,{"$f":"IF(BASE!$K214=\"\",\"\",BASE!$K214)","v":""}]
[null,null,null,null,null,null,null,null,null,null,null,null,null,null,null,null,null,null,null,null,null,null,null,null,null,null,{"$f":"IF(BASE!$K215=\"\",\"\",BASE!$K215)","v":""}]
[null,null,null,null,null,null,null,null,null,null,null,null,null,null,null,null,null,null,null,null,null,null,null,null,null,null,{"$f":"IF(BASE!$K216=\"\",\"\",BASE!$K216)","v":""}]
[null,null,null,null,null,null,null,null,null,null,null,null,null,null,null,null,null,null,null,null,null,null,null,null,null,null,{"$f":"IF(BASE!$K217=\"\",\"\",BASE!$K217)","v":""}]
[null,null,null,null,null,null,null,null,null,null,null,null,null,null,null,null,null,null,null,null,null,null,null,null,null,null,{"$f":"IF(BASE!$K218=\"\",\"\",BASE!$K218)","v":""}]
[null,null,null,null,null,null,null,null,null,null,null,null,null,null,null,null,null,null,null,null,null,null,null,null,null,null,{"$f":"IF(BASE!$K219=\"\",\"\",BASE!$K219)","v":""}]
[null,null,null,null,null,null,null,null,null,null,null,null,null,null,null,null,null,null,null,null,null,null,null,null,null,null,{"$f":"IF(BASE!$K220=\"\",\"\",BASE!$K220)","v":""}]
[null,null,null,null,null,null,null,null,null,null,null,null,null,null,null,null,null,null,null,null,null,null,null,null,null,null,{"$f":"IF(BASE!$K221=\"\",\"\",BASE!$K221)","v":""}]
[null,null,null,null,null,null,null,null,null,null,null,null,null,null,null,null,null,null,null,null,null,null,null,null,null,null,{"$f":"IF(BASE!$K222=\"\",\"\",BASE!$K222)","v":""}]
[null,null,null,null,null,null,null,null,null,null,null,null,null,null,null,null,null,null,null,null,null,null,null,null,null,null,{"$f":"IF(BASE!$K223=\"\",\"\",BASE!$K223)","v":""}]
[null,null,null,null,null,null,null,null,null,null,null,null,null,null,null,null,null,null,null,null,null,null,null,null,null,null,{"$f":"IF(BASE!$K224=\"\",\"\",BASE!$K224)","v":""}]
[null,null,null,null,null,null,null,null,null,null,null,null,null,null,null,null,null,null,null,null,null,null,null,null,null,null,{"$f":"IF(BASE!$K225=\"\",\"\",BASE!$K225)","v":""}]
[null,null,null,null,null,null,null,null,null,null,null,null,null,null,null,null,null,null,null,null,null,null,null,null,null,null,{"$f":"IF(BASE!$K226=\"\",\"\",BASE!$K226)","v":""}]
[null,null,null,null,null,null,null,null,null,null,null,null,null,null,null,null,null,null,null,null,null,null,null,null,null,null,{"$f":"IF(BASE!$K227=\"\",\"\",BASE!$K227)","v":""}]
[null,null,null,null,null,null,null,null,null,null,null,null,null,null,null,null,null,null,null,null,null,null,null,null,null,null,{"$f":"IF(BASE!$K228=\"\",\"\",BASE!$K228)","v":""}]
[null,null,null,null,null,null,null,null,null,null,null,null,null,null,null,null,null,null,null,null,null,null,null,null,null,null,{"$f":"IF(BASE!$K229=\"\",\"\",BASE!$K229)","v":""}]
[null,null,null,null,null,null,null,null,null,null,null,null,null,null,null,null,null,null,null,null,null,null,null,null,null,null,{"$f":"IF(BASE!$K230=\"\",\"\",BASE!$K230)","v":""}]
[null,null,null,null,null,null,null,null,null,null,null,null,null,null,null,null,null,null,null,null,null,null,null,null,null,null,{"$f":"IF(BASE!$K231=\"\",\"\",BASE!$K231)","v":""}]
[null,null,null,null,null,null,null,null,null,null,null,null,null,null,null,null,null,null,null,null,null,null,null,null,null,null,{"$f":"IF(BASE!$K232=\"\",\"\",BASE!$K232)","v":""}]
[null,null,null,null,null,null,null,null,null,null,null,null,null,null,null,null,null,null,null,null,null,null,null,null,null,null,{"$f":"IF(BASE!$K233=\"\",\"\",BASE!$K233)","v":""}]
[null,null,null,null,null,null,null,null,null,null,null,null,null,null,null,null,null,null,null,null,null,null,null,null,null,null,{"$f":"IF(BASE!$K234=\"\",\"\",BASE!$K234)","v":""}]
[null,null,null,null,null,null,null,null,null,null,null,null,null,null,null,null,null,null,null,null,null,null,null,null,null,null,{"$f":"IF(BASE!$K235=\"\",\"\",BASE!$K235)","v":""}]
[null,null,null,null,null,null,null,null,null,null,null,null,null,null,null,null,null,null,null,null,null,null,null,null,null,null,{"$f":"IF(BASE!$K236=\"\",\"\",BASE!$K236)","v":""}]
[null,null,null,null,null,null,null,null,null,null,null,null,null,null,null,null,null,null,null,null,null,null,null,null,null,null,{"$f":"IF(BASE!$K237=\"\",\"\",BASE!$K237)","v":""}]
[null,null,null,null,null,null,null,null,null,null,null,null,null,null,null,null,null,null,null,null,null,null,null,null,null,null,{"$f":"IF(BASE!$K238=\"\",\"\",BASE!$K238)","v":""}]
[null,null,null,null,null,null,null,null,null,null,null,null,null,null,null,null,null,null,null,null,null,null,null,null,null,null,{"$f":"IF(BASE!$K239=\"\",\"\",BASE!$K239)","v":""}]
[null,null,null,null,null,null,null,null,null,null,null,null,null,null,null,null,null,null,null,null,null,null,null,null,null,null,{"$f":"IF(BASE!$K240=\"\",\"\",BASE!$K240)","v":""}]
[null,null,null,null,null,null,null,null,null,null,null,null,null,null,null,null,null,null,null,null,null,null,null,null,null,null,{"$f":"IF(BASE!$K241=\"\",\"\",BASE!$K241)","v":""}]
[null,null,null,null,null,null,null,null,null,null,null,null,null,null,null,null,null,null,null,null,null,null,null,null,null,null,{"$f":"IF(BASE!$K242=\"\",\"\",BASE!$K242)","v":""}]
[null,null,null,null,null,null,null,null,null,null,null,null,null,null,null,null,null,null,null,null,null,null,null,null,null,null,{"$f":"IF(BASE!$K243=\"\",\"\",BASE!$K243)","v":""}]
[null,null,null,null,null,null,null,null,null,null,null,null,null,null,null,null,null,null,null,null,null,null,null,null,null,null,{"$f":"IF(BASE!$K244=\"\",\"\",BASE!$K244)","v":""}]
[null,null,null,null,null,null,null,null,null,null,null,null,null,null,null,null,null,null,null,null,null,null,null,null,null,null,{"$f":"IF(BASE!$K245=\"\",\"\",BASE!$K245)","v":""}]
[null,null,null,null,null,null,null,null,null,null,null,null,null,null,null,null,null,null,null,null,null,null,null,null,null,null,{"$f":"IF(BASE!$K246=\"\",\"\",BASE!$K246)","v":""}]
[null,null,null,null,null,null,null,null,null,null,null,null,null,null,null,null,null,null,null,null,null,null,null,null,null,null,{"$f":"IF(BASE!$K247=\"\",\"\",BASE!$K247)","v":""}]
[null,null,null,null,null,null,null,null,null,null,null,null,null,null,null,null,null,null,null,null,null,null,null,null,null,null,{"$f":"IF(BASE!$K248=\"\",\"\",BASE!$K248)","v":""}]
[null,null,null,null,null,null,null,null,null,null,null,null,null,null,null,null,null,null,null,null,null,null,null,null,null,null,{"$f":"IF(BASE!$K249=\"\",\"\",BASE!$K249)","v":""}]
[null,null,null,null,null,null,null,null,null,null,null,null,null,null,null,null,null,null,null,null,null,null,null,null,null,null,{"$f":"IF(BASE!$K250=\"\",\"\",BASE!$K250)","v":""}]
[null,null,null,null,null,null,null,null,null,null,null,null,null,null,null,null,null,null,null,null,null,null,null,null,null,null,{"$f":"IF(BASE!$K251=\"\",\"\",BASE!$K251)","v":""}]
[null,null,null,null,null,null,null,null,null,null,null,null,null,null,null,null,null,null,null,null,null,null,null,null,null,null,{"$f":"IF(BASE!$K252=\"\",\"\",BASE!$K252)","v":""}]
[null,null,null,null,null,null,null,null,null,null,null,null,null,null,null,null,null,null,null,null,null,null,null,null,null,null,{"$f":"IF(BASE!$K253=\"\",\"\",BASE!$K253)","v":""}]
[null,null,null,null,null,null,null,null,null,null,null,null,null,null,null,null,null,null,null,null,null,null,null,null,null,null,{"$f":"IF(BASE!$K254=\"\",\"\",BASE!$K254)","v":""}]
[null,null,null,null,null,null,null,null,null,null,null,null,null,null,null,null,null,null,null,null,null,null,null,null,null,null,{"$f":"IF(BASE!$K255=\"\",\"\",BASE!$K255)","v":""}]
[null,null,null,null,null,null,null,null,null,null,null,null,null,null,null,null,null,null,null,null,null,null,null,null,null,null,{"$f":"IF(BASE!$K256=\"\",\"\",BASE!$K256)","v":""}]
[null,null,null,null,null,null,null,null,null,null,null,null,null,null,null,null,null,null,null,null,null,null,null,null,null,null,{"$f":"IF(BASE!$K257=\"\",\"\",BASE!$K257)","v":""}]
[null,null,null,null,null,null,null,null,null,null,null,null,null,null,null,null,null,null,null,null,null,null,null,null,null,null,{"$f":"IF(BASE!$K258=\"\",\"\",BASE!$K258)","v":""}]
[null,null,null,null,null,null,null,null,null,null,null,null,null,null,null,null,null,null,null,null,null,null,null,null,null,null,{"$f":"IF(BASE!$K259=\"\",\"\",BASE!$K259)","v":""}]
[null,null,null,null,null,null,null,null,null,null,null,null,null,null,null,null,null,null,null,null,null,null,null,null,null,null,{"$f":"IF(BASE!$K260=\"\",\"\",BASE!$K260)","v":""}]
[null,null,null,null,null,null,null,null,null,null,null,null,null,null,null,null,null,null,null,null,null,null,null,null,null,null,{"$f":"IF(BASE!$K261=\"\",\"\",BASE!$K261)","v":""}]
[null,null,null,null,null,null,null,null,null,null,null,null,null,null,null,null,null,null,null,null,null,null,null,null,null,null,{"$f":"IF(BASE!$K262=\"\",\"\",BASE!$K262)","v":""}]
[null,null,null,null,null,null,null,null,null,null,null,null,null,null,null,null,null,null,null,null,null,null,null,null,null,null,{"$f":"IF(BASE!$K263=\"\",\"\",BASE!$K263)","v":""}]
[null,null,null,null,null,null,null,null,null,null,null,null,null,null,null,null,null,null,null,null,null,null,null,null,null,null,{"$f":"IF(BASE!$K264=\"\",\"\",BASE!$K264)","v":""}]
[null,null,null,null,null,null,null,null,null,null,null,null,null,null,null,null,null,null,null,null,null,null,null,null,null,null,{"$f":"IF(BASE!$K265=\"\",\"\",BASE!$K265)","v":""}]
[null,null,null,null,null,null,null,null,null,null,null,null,null,null,null,null,null,null,null,null,null,null,null,null,null,null,{"$f":"IF(BASE!$K266=\"\",\"\",BASE!$K266)","v":""}]
[null,null,null,null,null,null,null,null,null,null,null,null,null,null,null,null,null,null,null,null,null,null,null,null,null,null,{"$f":"IF(BASE!$K267=\"\",\"\",BASE!$K267)","v":""}]
[null,null,null,null,null,null,null,null,null,null,null,null,null,null,null,null,null,null,null,null,null,null,null,null,null,null,{"$f":"IF(BASE!$K268=\"\",\"\",BASE!$K268)","v":""}]
[null,null,null,null,null,null,null,null,null,null,null,null,null,null,null,null,null,null,null,null,null,null,null,null,null,null,{"$f":"IF(BASE!$K269=\"\",\"\",BASE!$K269)","v":""}]
[null,null,null,null,null,null,null,null,null,null,null,null,null,null,null,null,null,null,null,null,null,null,null,null,null,null,{"$f":"IF(BASE!$K270=\"\",\"\",BASE!$K270)","v":""}]
[null,null,null,null,null,null,null,null,null,null,null,null,null,null,null,null,null,null,null,null,null,null,null,null,null,null,{"$f":"IF(BASE!$K271=\"\",\"\",BASE!$K271)","v":""}]
[null,null,null,null,null,null,null,null,null,null,null,null,null,null,null,null,null,null,null,null,null,null,null,null,null,null,{"$f":"IF(BASE!$K272=\"\",\"\",BASE!$K272)","v":""}]
[null,null,null,null,null,null,null,null,null,null,null,null,null,null,null,null,null,null,null,null,null,null,null,null,null,null,{"$f":"IF(BASE!$K273=\"\",\"\",BASE!$K273)","v":""}]
[null,null,null,null,null,null,null,null,null,null,null,null,null,null,null,null,null,null,null,null,null,null,null,null,null,null,{"$f":"IF(BASE!$K274=\"\",\"\",BASE!$K274)","v":""}]
[null,null,null,null,null,null,null,null,null,null,null,null,null,null,null,null,null,null,null,null,null,null,null,null,null,null,{"$f":"IF(BASE!$K275=\"\",\"\",BASE!$K275)","v":""}]
[null,null,null,null,null,null,null,null,null,null,null,null,null,null,null,null,null,null,null,null,null,null,null,null,null,null,{"$f":"IF(BASE!$K276=\"\",\"\",BASE!$K276)","v":""}]
[null,null,null,null,null,null,null,null,null,null,null,null,null,null,null,null,null,null,null,null,null,null,null,null,null,null,{"$f":"IF(BASE!$K277=\"\",\"\",BASE!$K277)","v":""}]
[null,null,null,null,null,null,null,null,null,null,null,null,null,null,null,null,null,null,null,null,null,null,null,null,null,null,{"$f":"IF(BASE!$K278=\"\",\"\",BASE!$K278)","v":""}]
[null,null,null,null,null,null,null,null,null,null,null,null,null,null,null,null,null,null,null,null,null,null,null,null,null,null,{"$f":"IF(BASE!$K279=\"\",\"\",BASE!$K279)","v":""}]
[null,null,null,null,null,null,null,null,null,null,null,null,null,null,null,null,null,null,null,null,null,null,null,null,null,null,{"$f":"IF(BASE!$K280=\"\",\"\",BASE!$K280)","v":""}]
[null,null,null,null,null,null,null,null,null,null,null,null,null,null,null,null,null,null,null,null,null,null,null,null,null,null,{"$f":"IF(BASE!$K281=\"\",\"\",BASE!$K281)","v":""}]
[null,null,null,null,null,null,null,null,null,null,null,null,null,null,null,null,null,null,null,null,null,null,null,null,null,null,{"$f":"IF(BASE!$K282=\"\",\"\",BASE!$K282)","v":""}]
[null,null,null,null,null,null,null,null,null,null,null,null,null,null,null,null,null,null,null,null,null,null,null,null,null,null,{"$f":"IF(BASE!$K283=\"\",\"\",BASE!$K283)","v":""}]
[null,null,null,null,null,null,null,null,null,null,null,null,null,null,null,null,null,null,null,null,null,null,null,null,null,null,{"$f":"IF(BASE!$K284=\"\",\"\",BASE!$K284)","v":""}]
[null,null,null,null,null,null,null,null,null,null,null,null,null,null,null,null,null,null,null,null,null,null,null,null,null,null,{"$f":"IF(BASE!$K285=\"\",\"\",BASE!$K285)","v":""}]
[null,null,null,null,null,null,null,null,null,null,null,null,null,null,null,null,null,null,null,null,null,null,null,null,null,null,{"$f":"IF(BASE!$K286=\"\",\"\",BASE!$K286)","v":""}]
[null,null,null,null,null,null,null,null,null,null,null,null,null,null,null,null,null,null,null,null,null,null,null,null,null,null,{"$f":"IF(BASE!$K287=\"\",\"\",BASE!$K287)","v":""}]
[null,null,null,null,null,null,null,null,null,null,null,null,null,null,null,null,null,null,null,null,null,null,null,null,null,null,{"$f":"IF(BASE!$K288=\"\",\"\",BASE!$K288)","v":""}]
[null,null,null,null,null,null,null,null,null,null,null,null,null,null,null,null,null,null,null,null,null,null,null,null,null,null,{"$f":"IF(BASE!$K289=\"\",\"\",BASE!$K289)","v":""}]
[null,null,null,null,null,null,null,null,null,null,null,null,null,null,null,null,null,null,null,null,null,null,null,null,null,null,{"$f":"IF(BASE!$K290=\"\",\"\",BASE!$K290)","v":""}]
[null,null,null,null,null,null,null,null,null,null,null,null,null,null,null,null,null,null,null,null,null,null,null,null,null,null,{"$f":"IF(BASE!$K291=\"\",\"\",BASE!$K291)","v":""}]
[null,null,null,null,null,null,null,null,null,null,null,null,null,null,null,null,null,null,null,null,null,null,null,null,null,null,{"$f":"IF(BASE!$K292=\"\",\"\",BASE!$K292)","v":""}]
[null,null,null,null,null,null,null,null,null,null,null,null,null,null,null,null,null,null,null,null,null,null,null,null,null,null,{"$f":"IF(BASE!$K293=\"\",\"\",BASE!$K293)","v":""}]
[null,null,null,null,null,null,null,null,null,null,null,null,null,null,null,null,null,null,null,null,null,null,null,null,null,null,{"$f":"IF(BASE!$K294=\"\",\"\",BASE!$K294)","v":""}]
[null,null,null,null,null,null,null,null,null,null,null,null,null,null,null,null,null,null,null,null,null,null,null,null,null,null,{"$f":"IF(BASE!$K295=\"\",\"\",BASE!$K295)","v":""}]
[null,null,null,null,null,null,null,null,null,null,null,null,null,null,null,null,null,null,null,null,null,null,null,null,null,null,{"$f":"IF(BASE!$K296=\"\",\"\",BASE!$K296)","v":""}]
[null,null,null,null,null,null,null,null,null,null,null,null,null,null,null,null,null,null,null,null,null,null,null,null,null,null,{"$f":"IF(BASE!$K297=\"\",\"\",BASE!$K297)","v":""}]
[null,null,null,null,null,null,null,null,null,null,null,null,null,null,null,null,null,null,null,null,null,null,null,null,null,null,{"$f":"IF(BASE!$K298=\"\",\"\",BASE!$K298)","v":""}]
[null,null,null,null,null,null,null,null,null,null,null,null,null,null,null,null,null,null,null,null,null,null,null,null,null,null,{"$f":"IF(BASE!$K299=\"\",\"\",BASE!$K299)","v":""}]
[null,null,null,null,null,null,null,null,null,null,null,null,null,null,null,null,null,null,null,null,null,null,null,null,null,null,{"$f":"IF(BASE!$K300=\"\",\"\",BASE!$K300)","v":""}]
[null,null,null,null,null,null,null,null,null,null,null,null,null,null,null,null,null,null,null,null,null,null,null,null,null,null,{"$f":"IF(BASE!$K301=\"\",\"\",BASE!$K301)","v":""}]
[null,null,null,null,null,null,null,null,null,null,null,null,null,null,null,null,null,null,null,null,null,null,null,null,null,null,{"$f":"IF(BASE!$K302=\"\",\"\",BASE!$K302)","v":""}]
[null,null,null,null,null,null,null,null,null,null,null,null,null,null,null,null,null,null,null,null,null,null,null,null,null,null,{"$f":"IF(BASE!$K303=\"\",\"\",BASE!$K303)","v":""}]
[null,null,null,null,null,null,null,null,null,null,null,null,null,null,null,null,null,null,null,null,null,null,null,null,null,null,{"$f":"IF(BASE!$K304=\"\",\"\",BASE!$K304)","v":""}]
[null,null,null,null,null,null,null,null,null,null,null,null,null,null,null,null,null,null,null,null,null,null,null,null,null,null,{"$f":"IF(BASE!$K305=\"\",\"\",BASE!$K305)","v":""}]

{"sheet":"BASE","index":3,"n_rows":305,"n_cols":24,"rows_kept":305,"cut":false,"hidden":true,"merged":[[0,0,8,0]]}
["ACCUEIL"]
[null,null,"PAGE TEST",null,null,null,null,"PAGE IMPRIMER"]
[null,null,"Liste","Liste","Liste"]
[null,null,"OUI/NON","Type de professeur","impression",null,null,null,null,null,"Liste d'impression"]
[null,null,null,null,null,null,null,null,null,null,null,null,"NOM + Prénom","N°","NOM","Prénom","Classe","Date N","Date V","NOM professeur","NOM professionnel","Titre professionnel","Académie","Établissement"]
[null,null,"OUI","Professeur des écoles","X",null,null,1,{"$f":"IF(TEST!Z7=\"X\",\"\",IF(TEST!AA7=\"OUI\",TEST!E7&IF(TEST!F7=\"\",\"\",\" \"&TEST!F7),\"\"))","v":""},{"$f":"IF(I6=\"\",\"\",H6)","v":""},{"$f":"IF(ISERROR(INDEX($H$6:$I$305,SMALL($J$6:$J$305,H6),2)),\"\",INDEX($H$6:$I$305,SMALL($J$6:$J$305,H6),2))","v":""},null,{"$f":"O6&IF(P6=\"\",\"\",\" \"&P6)","v":""},1,{"$f":"IF(TEST!E7=\"\",\"\",TEST!E7)","v":""},{"$f":"IF(TEST!F7=\"\",\"\",TEST!F7)","v":""},{"$f":"IF(TEST!G7=\"\",\"\",TEST!G7)","v":""},{"$f":"IF(TEST!H7=\"\",\"\",TEST!H7)","v":""},{"$f":"IF(TEST!Y7=\"\",\"\",TEST!Y7)","v":""},{"$f":"IF(TEST!V7=\"\",\"\",TEST!V7)","v":""},{"$f":"IF(TEST!W7=\"\",\"\",TEST!W7)","v":""},{"$f":"IF(TEST!X7=\"\",\"\",TEST!X7)","v":""},{"$f":"IF(OR(M6=\"\",TEST!$K$1=\"\"),\"\",TEST!$K$1)","v":""},{"$f":"IF(OR(M6=\"\",TEST!$F$1=\"\"),\"\",TEST!$F$1)","v":""}]
[null,null,"NON","Professeur d'EPS",null,null,null,2,{"$f":"IF(TEST!Z8=\"X\",\"\",IF(TEST!AA8=\"OUI\",TEST!E8&IF(TEST!F8=\"\",\"\",\" \"&TEST!F8),\"\"))","v":""},{"$f":"IF(I7=\"\",\"\",H7)","v":""},{"$f":"IF(ISERROR(INDEX($H$6:$I$305,SMALL($J$6:$J$305,H7),2)),\"\",INDEX($H$6:$I$305,SMALL($J$6:$J$305,H7),2))","v":""},null,{"$f":"O7&IF(P7=\"\",\"\",\" \"&P7)","v":""},2,{"$f":"IF(TEST!E8=\"\",\"\",TEST!E8)","v":""},{"$f":"IF(TEST!F8=\"\",\"\",TEST!F8)","v":""},{"$f":"IF(TEST!G8=\"\",\"\",TEST!G8)","v":""},{"$f":"IF(TEST!H8=\"\",\"\",TEST!H8)","v":""},{"$f":"IF(TEST!Y8=\"\",\"\",TEST!Y8)","v":""},{"$f":"IF(TEST!V8=\"\",\"\",TEST!V8)","v":""},{"$f":"IF(TEST!W8=\"\",\"\",TEST!W8)","v":""},{"$f":"IF(TEST!X8=\"\",\"\",TEST!X8)","v":""},{"$f":"IF(OR(M7=\"\",TEST!$K$1=\"\"),\"\",TEST!$K$1)","v":""},{"$f":"IF(OR(M7=\"\",TEST!$F$1=\"\"),\"\",TEST!$F$1)","v":""}]
[null,null,null,null,null,null,null,3,{"$f":"IF(TEST!Z9=\"X\",\"\",IF(TEST!AA9=\"OUI\",TEST!E9&IF(TEST!F9=\"\",\"\",\" \"&TEST!F9),\"\"))","v":""},"","",null,"",3,{"$f":"IF(TEST!E9=\"\",\"\",TEST!E9)","v":""},{"$f":"IF(TEST!F9=\"\",\"\",TEST!F9)","v":""},{"$f":"IF(TEST!G9=\"\",\"\",TEST!G9)","v":""},{"$f":"IF(TEST!H9=\"\",\"\",TEST!H9)","v":""},{"$f":"IF(TEST!Y9=\"\",\"\",TEST!Y9)","v":""},{"$f":"IF(TEST!V9=\"\",\"\",TEST!V9)","v":""},{"$f":"IF(TEST!W9=\"\",\"\",TEST!W9)","v":""},{"$f":"IF(TEST!X9=\"\",\"\",TEST!X9)","v":""},{"$f":"IF(OR(M8=\"\",TEST!$K$1=\"\"),\"\",TEST!$K$1)","v":""},{"$f":"IF(OR(M8=\"\",TEST!$F$1=\"\"),\"\",TEST!$F$1)","v":""}]
[null,null,null,null,null,null,null,4,{"$f":"IF(TEST!Z10=\"X\",\"\",IF(TEST!AA10=\"OUI\",TEST!E10&IF(TEST!F10=\"\",\"\",\" \"&TEST!F10),\"\"))","v":""},"","",null,"",4,{"$f":"IF(TEST!E10=\"\",\"\",TEST!E10)","v":""},{"$f":"IF(TEST!F10=\"\",\"\",TEST!F10)","v":""},{"$f":"IF(TEST!G10=\"\",\"\",TEST!G10)","v":""},{"$f":"IF(TEST!H10=\"\",\"\",TEST!H10)","v":""},{"$f":"IF(TEST!Y10=\"\",\"\",TEST!Y10)","v":""},{"$f":"IF(TEST!V10=\"\",\"\",TEST!V10)","v":""},{"$f":"IF(TEST!W10=\"\",\"\",TEST!W10)","v":""},{"$f":"IF(TEST!X10=\"\",\"\",TEST!X10)","v":""},{"$f":"IF(OR(M9=\"\",TEST!$K$1=\"\"),\"\",TEST!$K$1)","v":""},{"$f":"IF(OR(M9=\"\",TEST!$F$1=\"\"),\"\",TEST!$F$1)","v":""}]
[null,null,null,null,null,null,null,5,{"$f":"IF(TEST!Z11=\"X\",\"\",IF(TEST!AA11=\"OUI\",TEST!E11&IF(TEST!F11=\"\",\"\",\" \"&TEST!F11),\"\"))","v":""},"","",null,"",5,{"$f":"IF(TEST!E11=\"\",\"\",TEST!E11)","v":""},{"$f":"IF(TEST!F11=\"\",\"\",TEST!F11)","v":""},{"$f":"IF(TEST!G11=\"\",\"\",TEST!G11)","v":""},{"$f":"IF(TEST!H11=\"\",\"\",TEST!H11)","v":""},{"$f":"IF(TEST!Y11=\"\",\"\",TEST!Y11)","v":""},{"$f":"IF(TEST!V11=\"\",\"\",TEST!V11)","v":""},{"$f":"IF(TEST!W11=\"\",\"\",TEST!W11)","v":""},{"$f":"IF(TEST!X11=\"\",\"\",TEST!X11)","v":""},{"$f":"IF(OR(M10=\"\",TEST!$K$1=\"\"),\"\",TEST!$K$1)","v":""},{"$f":"IF(OR(M10=\"\",TEST!$F$1=\"\"),\"\",TEST!$F$1)","v":""}]
[null,null,null,null,null,null,null,6,{"$f":"IF(TEST!Z12=\"X\",\"\",IF(TEST!AA12=\"OUI\",TEST!E12&IF(TEST!F12=\"\",\"\",\" \"&TEST!F12),\"\"))","v":""},"","",null,"",6,{"$f":"IF(TEST!E12=\"\",\"\",TEST!E12)","v":""},{"$f":"IF(TEST!F12=\"\",\"\",TEST!F12)","v":""},{"$f":"IF(TEST!G12=\"\",\"\",TEST!G12)","v":""},{"$f":"IF(TEST!H12=\"\",\"\",TEST!H12)","v":""},{"$f":"IF(TEST!Y12=\"\",\"\",TEST!Y12)","v":""},{"$f":"IF(TEST!V12=\"\",\"\",TEST!V12)","v":""},{"$f":"IF(TEST!W12=\"\",\"\",TEST!W12)","v":""},{"$f":"IF(TEST!X12=\"\",\"\",TEST!X12)","v":""},{"$f":"IF(OR(M11=\"\",TEST!$K$1=\"\"),\"\",TEST!$K$1)","v":""},{"$f":"IF(OR(M11=\"\",TEST!$F$1=\"\"),\"\",TEST!$F$1)","v":""}]
[null,null,null,null,null,null,null,7,{"$f":"IF(TEST!Z13=\"X\",\"\",IF(TEST!AA13=\"OUI\",TEST!E13&IF(TEST!F13=\"\",\"\",\" \"&TEST!F13),\"\"))","v":""},"","",null,"",7,{"$f":"IF(TEST!E13=\"\",\"\",TEST!E13)","v":""},{"$f":"IF(TEST!F13=\"\",\"\",TEST!F13)","v":""},{"$f":"IF(TEST!G13=\"\",\"\",TEST!G13)","v":""},{"$f":"IF(TEST!H13=\"\",\"\",TEST!H13)","v":""},{"$f":"IF(TEST!Y13=\"\",\"\",TEST!Y13)","v":""},{"$f":"IF(TEST!V13=\"\",\"\",TEST!V13)","v":""},{"$f":"IF(TEST!W13=\"\",\"\",TEST!W13)","v":""},{"$f":"IF(TEST!X13=\"\",\"\",TEST!X13)","v":""},{"$f":"IF(OR(M12=\"\",TEST!$K$1=\"\"),\"\",TEST!$K$1)","v":""},{"$f":"IF(OR(M12=\"\",TEST!$F$1=\"\"),\"\",TEST!$F$1)","v":""}]
[null,null,null,null,null,null,null,8,{"$f":"IF(TEST!Z14=\"X\",\"\",IF(TEST!AA14=\"OUI\",TEST!E14&IF(TEST!F14=\"\",\"\",\" \"&TEST!F14),\"\"))","v":""},"","",null,"",8,{"$f":"IF(TEST!E14=\"\",\"\",TEST!E14)","v":""},{"$f":"IF(TEST!F14=\"\",\"\",TEST!F14)","v":""},{"$f":"IF(TEST!G14=\"\",\"\",TEST!G14)","v":""},{"$f":"IF(TEST!H14=\"\",\"\",TEST!H14)","v":""},{"$f":"IF(TEST!Y14=\"\",\"\",TEST!Y14)","v":""},{"$f":"IF(TEST!V14=\"\",\"\",TEST!V14)","v":""},{"$f":"IF(TEST!W14=\"\",\"\",TEST!W14)","v":""},{"$f":"IF(TEST!X14=\"\",\"\",TEST!X14)","v":""},{"$f":"IF(OR(M13=\"\",TEST!$K$1=\"\"),\"\",TEST!$K$1)","v":""},{"$f":"IF(OR(M13=\"\",TEST!$F$1=\"\"),\"\",TEST!$F$1)","v":""}]
[null,null,null,null,null,null,null,9,{"$f":"IF(TEST!Z15=\"X\",\"\",IF(TEST!AA15=\"OUI\",TEST!E15&IF(TEST!F15=\"\",\"\",\" \"&TEST!F15),\"\"))","v":""},"","",null,"",9,{"$f":"IF(TEST!E15=\"\",\"\",TEST!E15)","v":""},{"$f":"IF(TEST!F15=\"\",\"\",TEST!F15)","v":""},{"$f":"IF(TEST!G15=\"\",\"\",TEST!G15)","v":""},{"$f":"IF(TEST!H15=\"\",\"\",TEST!H15)","v":""},{"$f":"IF(TEST!Y15=\"\",\"\",TEST!Y15)","v":""},{"$f":"IF(TEST!V15=\"\",\"\",TEST!V15)","v":""},{"$f":"IF(TEST!W15=\"\",\"\",TEST!W15)","v":""},{"$f":"IF(TEST!X15=\"\",\"\",TEST!X15)","v":""},{"$f":"IF(OR(M14=\"\",TEST!$K$1=\"\"),\"\",TEST!$K$1)","v":""},{"$f":"IF(OR(M14=\"\",TEST!$F$1=\"\"),\"\",TEST!$F$1)","v":""}]
[null,null,null,null,null,null,null,10,{"$f":"IF(TEST!Z16=\"X\",\"\",IF(TEST!AA16=\"OUI\",TEST!E16&IF(TEST!F16=\"\",\"\",\" \"&TEST!F16),\"\"))","v":""},"","",null,"",10,{"$f":"IF(TEST!E16=\"\",\"\",TEST!E16)","v":""},{"$f":"IF(TEST!F16=\"\",\"\",TEST!F16)","v":""},{"$f":"IF(TEST!G16=\"\",\"\",TEST!G16)","v":""},{"$f":"IF(TEST!H16=\"\",\"\",TEST!H16)","v":""},{"$f":"IF(TEST!Y16=\"\",\"\",TEST!Y16)","v":""},{"$f":"IF(TEST!V16=\"\",\"\",TEST!V16)","v":""},{"$f":"IF(TEST!W16=\"\",\"\",TEST!W16)","v":""},{"$f":"IF(TEST!X16=\"\",\"\",TEST!X16)","v":""},{"$f":"IF(OR(M15=\"\",TEST!$K$1=\"\"),\"\",TEST!$K$1)","v":""},{"$f":"IF(OR(M15=\"\",TEST!$F$1=\"\"),\"\",TEST!$F$1)","v":""}]
[null,null,null,null,null,null,null,11,{"$f":"IF(TEST!Z17=\"X\",\"\",IF(TEST!AA17=\"OUI\",TEST!E17&IF(TEST!F17=\"\",\"\",\" \"&TEST!F17),\"\"))","v":""},"","",null,"",11,{"$f":"IF(TEST!E17=\"\",\"\",TEST!E17)","v":""},{"$f":"IF(TEST!F17=\"\",\"\",TEST!F17)","v":""},{"$f":"IF(TEST!G17=\"\",\"\",TEST!G17)","v":""},{"$f":"IF(TEST!H17=\"\",\"\",TEST!H17)","v":""},{"$f":"IF(TEST!Y17=\"\",\"\",TEST!Y17)","v":""},{"$f":"IF(TEST!V17=\"\",\"\",TEST!V17)","v":""},{"$f":"IF(TEST!W17=\"\",\"\",TEST!W17)","v":""},{"$f":"IF(TEST!X17=\"\",\"\",TEST!X17)","v":""},{"$f":"IF(OR(M16=\"\",TEST!$K$1=\"\"),\"\",TEST!$K$1)","v":""},{"$f":"IF(OR(M16=\"\",TEST!$F$1=\"\"),\"\",TEST!$F$1)","v":""}]
[null,null,null,null,null,null,null,12,{"$f":"IF(TEST!Z18=\"X\",\"\",IF(TEST!AA18=\"OUI\",TEST!E18&IF(TEST!F18=\"\",\"\",\" \"&TEST!F18),\"\"))","v":""},"","",null,"",12,{"$f":"IF(TEST!E18=\"\",\"\",TEST!E18)","v":""},{"$f":"IF(TEST!F18=\"\",\"\",TEST!F18)","v":""},{"$f":"IF(TEST!G18=\"\",\"\",TEST!G18)","v":""},{"$f":"IF(TEST!H18=\"\",\"\",TEST!H18)","v":""},{"$f":"IF(TEST!Y18=\"\",\"\",TEST!Y18)","v":""},{"$f":"IF(TEST!V18=\"\",\"\",TEST!V18)","v":""},{"$f":"IF(TEST!W18=\"\",\"\",TEST!W18)","v":""},{"$f":"IF(TEST!X18=\"\",\"\",TEST!X18)","v":""},{"$f":"IF(OR(M17=\"\",TEST!$K$1=\"\"),\"\",TEST!$K$1)","v":""},{"$f":"IF(OR(M17=\"\",TEST!$F$1=\"\"),\"\",TEST!$F$1)","v":""}]
[null,null,null,null,null,null,null,13,{"$f":"IF(TEST!Z19=\"X\",\"\",IF(TEST!AA19=\"OUI\",TEST!E19&IF(TEST!F19=\"\",\"\",\" \"&TEST!F19),\"\"))","v":""},"","",null,"",13,{"$f":"IF(TEST!E19=\"\",\"\",TEST!E19)","v":""},{"$f":"IF(TEST!F19=\"\",\"\",TEST!F19)","v":""},{"$f":"IF(TEST!G19=\"\",\"\",TEST!G19)","v":""},{"$f":"IF(TEST!H19=\"\",\"\",TEST!H19)","v":""},{"$f":"IF(TEST!Y19=\"\",\"\",TEST!Y19)","v":""},{"$f":"IF(TEST!V19=\"\",\"\",TEST!V19)","v":""},{"$f":"IF(TEST!W19=\"\",\"\",TEST!W19)","v":""},{"$f":"IF(TEST!X19=\"\",\"\",TEST!X19)","v":""},{"$f":"IF(OR(M18=\"\",TEST!$K$1=\"\"),\"\",TEST!$K$1)","v":""},{"$f":"IF(OR(M18=\"\",TEST!$F$1=\"\"),\"\",TEST!$F$1)","v":""}]
[null,null,null,null,null,null,null,14,{"$f":"IF(TEST!Z20=\"X\",\"\",IF(TEST!AA20=\"OUI\",TEST!E20&IF(TEST!F20=\"\",\"\",\" \"&TEST!F20),\"\"))","v":""},"","",null,"",14,{"$f":"IF(TEST!E20=\"\",\"\",TEST!E20)","v":""},{"$f":"IF(TEST!F20=\"\",\"\",TEST!F20)","v":""},{"$f":"IF(TEST!G20=\"\",\"\",TEST!G20)","v":""},{"$f":"IF(TEST!H20=\"\",\"\",TEST!H20)","v":""},{"$f":"IF(TEST!Y20=\"\",\"\",TEST!Y20)","v":""},{"$f":"IF(TEST!V20=\"\",\"\",TEST!V20)","v":""},{"$f":"IF(TEST!W20=\"\",\"\",TEST!W20)","v":""},{"$f":"IF(TEST!X20=\"\",\"\",TEST!X20)","v":""},{"$f":"IF(OR(M19=\"\",TEST!$K$1=\"\"),\"\",TEST!$K$1)","v":""},{"$f":"IF(OR(M19=\"\",TEST!$F$1=\"\"),\"\",TEST!$F$1)","v":""}]
[null,null,null,null,null,null,null,15,{"$f":"IF(TEST!Z21=\"X\",\"\",IF(TEST!AA21=\"OUI\",TEST!E21&IF(TEST!F21=\"\",\"\",\" \"&TEST!F21),\"\"))","v":""},"","",null,"",15,{"$f":"IF(TEST!E21=\"\",\"\",TEST!E21)","v":""},{"$f":"IF(TEST!F21=\"\",\"\",TEST!F21)","v":""},{"$f":"IF(TEST!G21=\"\",\"\",TEST!G21)","v":""},{"$f":"IF(TEST!H21=\"\",\"\",TEST!H21)","v":""},{"$f":"IF(TEST!Y21=\"\",\"\",TEST!Y21)","v":""},{"$f":"IF(TEST!V21=\"\",\"\",TEST!V21)","v":""},{"$f":"IF(TEST!W21=\"\",\"\",TEST!W21)","v":""},{"$f":"IF(TEST!X21=\"\",\"\",TEST!X21)","v":""},{"$f":"IF(OR(M20=\"\",TEST!$K$1=\"\"),\"\",TEST!$K$1)","v":""},{"$f":"IF(OR(M20=\"\",TEST!$F$1=\"\"),\"\",TEST!$F$1)","v":""}]
[null,null,null,null,null,null,null,16,{"$f":"IF(TEST!Z22=\"X\",\"\",IF(TEST!AA22=\"OUI\",TEST!E22&IF(TEST!F22=\"\",\"\",\" \"&TEST!F22),\"\"))","v":""},"","",null,"",16,{"$f":"IF(TEST!E22=\"\",\"\",TEST!E22)","v":""},{"$f":"IF(TEST!F22=\"\",\"\",TEST!F22)","v":""},{"$f":"IF(TEST!G22=\"\",\"\",TEST!G22)","v":""},{"$f":"IF(TEST!H22=\"\",\"\",TEST!H22)","v":""},{"$f":"IF(TEST!Y22=\"\",\"\",TEST!Y22)","v":""},{"$f":"IF(TEST!V22=\"\",\"\",TEST!V22)","v":""},{"$f":"IF(TEST!W22=\"\",\"\",TEST!W22)","v":""},{"$f":"IF(TEST!X22=\"\",\"\",TEST!X22)","v":""},{"$f":"IF(OR(M21=\"\",TEST!$K$1=\"\"),\"\",TEST!$K$1)","v":""},{"$f":"IF(OR(M21=\"\",TEST!$F$1=\"\"),\"\",TEST!$F$1)","v":""}]
[null,null,null,null,null,null,null,17,{"$f":"IF(TEST!Z23=\"X\",\"\",IF(TEST!AA23=\"OUI\",TEST!E23&IF(TEST!F23=\"\",\"\",\" \"&TEST!F23),\"\"))","v":""},"","",null,"",17,{"$f":"IF(TEST!E23=\"\",\"\",TEST!E23)","v":""},{"$f":"IF(TEST!F23=\"\",\"\",TEST!F23)","v":""},{"$f":"IF(TEST!G23=\"\",\"\",TEST!G23)","v":""},{"$f":"IF(TEST!H23=\"\",\"\",TEST!H23)","v":""},{"$f":"IF(TEST!Y23=\"\",\"\",TEST!Y23)","v":""},{"$f":"IF(TEST!V23=\"\",\"\",TEST!V23)","v":""},{"$f":"IF(TEST!W23=\"\",\"\",TEST!W23)","v":""},{"$f":"IF(TEST!X23=\"\",\"\",TEST!X23)","v":""},{"$f":"IF(OR(M22=\"\",TEST!$K$1=\"\"),\"\",TEST!$K$1)","v":""},{"$f":"IF(OR(M22=\"\",TEST!$F$1=\"\"),\"\",TEST!$F$1)","v":""}]
[null,null,null,null,null,null,null,18,{"$f":"IF(TEST!Z24=\"X\",\"\",IF(TEST!AA24=\"OUI\",TEST!E24&IF(TEST!F24=\"\",\"\",\" \"&TEST!F24),\"\"))","v":""},"","",null,"",18,{"$f":"IF(TEST!E24=\"\",\"\",TEST!E24)","v":""},{"$f":"IF(TEST!F24=\"\",\"\",TEST!F24)","v":""},{"$f":"IF(TEST!G24=\"\",\"\",TEST!G24)","v":""},{"$f":"IF(TEST!H24=\"\",\"\",TEST!H24)","v":""},{"$f":"IF(TEST!Y24=\"\",\"\",TEST!Y24)","v":""},{"$f":"IF(TEST!V24=\"\",\"\",TEST!V24)","v":""},{"$f":"IF(TEST!W24=\"\",\"\",TEST!W24)","v":""},{"$f":"IF(TEST!X24=\"\",\"\",TEST!X24)","v":""},{"$f":"IF(OR(M23=\"\",TEST!$K$1=\"\"),\"\",TEST!$K$1)","v":""},{"$f":"IF(OR(M23=\"\",TEST!$F$1=\"\"),\"\",TEST!$F$1)","v":""}]
[null,null,null,null,null,null,null,19,{"$f":"IF(TEST!Z25=\"X\",\"\",IF(TEST!AA25=\"OUI\",TEST!E25&IF(TEST!F25=\"\",\"\",\" \"&TEST!F25),\"\"))","v":""},"","",null,"",19,{"$f":"IF(TEST!E25=\"\",\"\",TEST!E25)","v":""},{"$f":"IF(TEST!F25=\"\",\"\",TEST!F25)","v":""},{"$f":"IF(TEST!G25=\"\",\"\",TEST!G25)","v":""},{"$f":"IF(TEST!H25=\"\",\"\",TEST!H25)","v":""},{"$f":"IF(TEST!Y25=\"\",\"\",TEST!Y25)","v":""},{"$f":"IF(TEST!V25=\"\",\"\",TEST!V25)","v":""},{"$f":"IF(TEST!W25=\"\",\"\",TEST!W25)","v":""},{"$f":"IF(TEST!X25=\"\",\"\",TEST!X25)","v":""},{"$f":"IF(OR(M24=\"\",TEST!$K$1=\"\"),\"\",TEST!$K$1)","v":""},{"$f":"IF(OR(M24=\"\",TEST!$F$1=\"\"),\"\",TEST!$F$1)","v":""}]
[null,null,null,null,null,null,null,20,{"$f":"IF(TEST!Z26=\"X\",\"\",IF(TEST!AA26=\"OUI\",TEST!E26&IF(TEST!F26=\"\",\"\",\" \"&TEST!F26),\"\"))","v":""},"","",null,"",20,{"$f":"IF(TEST!E26=\"\",\"\",TEST!E26)","v":""},{"$f":"IF(TEST!F26=\"\",\"\",TEST!F26)","v":""},{"$f":"IF(TEST!G26=\"\",\"\",TEST!G26)","v":""},{"$f":"IF(TEST!H26=\"\",\"\",TEST!H26)","v":""},{"$f":"IF(TEST!Y26=\"\",\"\",TEST!Y26)","v":""},{"$f":"IF(TEST!V26=\"\",\"\",TEST!V26)","v":""},{"$f":"IF(TEST!W26=\"\",\"\",TEST!W26)","v":""},{"$f":"IF(TEST!X26=\"\",\"\",TEST!X26)","v":""},{"$f":"IF(OR(M25=\"\",TEST!$K$1=\"\"),\"\",TEST!$K$1)","v":""},{"$f":"IF(OR(M25=\"\",TEST!$F$1=\"\"),\"\",TEST!$F$1)","v":""}]
[null,null,null,null,null,null,null,21,{"$f":"IF(TEST!Z27=\"X\",\"\",IF(TEST!AA27=\"OUI\",TEST!E27&IF(TEST!F27=\"\",\"\",\" \"&TEST!F27),\"\"))","v":""},"","",null,"",21,{"$f":"IF(TEST!E27=\"\",\"\",TEST!E27)","v":""},{"$f":"IF(TEST!F27=\"\",\"\",TEST!F27)","v":""},{"$f":"IF(TEST!G27=\"\",\"\",TEST!G27)","v":""},{"$f":"IF(TEST!H27=\"\",\"\",TEST!H27)","v":""},{"$f":"IF(TEST!Y27=\"\",\"\",TEST!Y27)","v":""},{"$f":"IF(TEST!V27=\"\",\"\",TEST!V27)","v":""},{"$f":"IF(TEST!W27=\"\",\"\",TEST!W27)","v":""},{"$f":"IF(TEST!X27=\"\",\"\",TEST!X27)","v":""},{"$f":"IF(OR(M26=\"\",TEST!$K$1=\"\"),\"\",TEST!$K$1)","v":""},{"$f":"IF(OR(M26=\"\",TEST!$F$1=\"\"),\"\",TEST!$F$1)","v":""}]
[null,null,null,null,null,null,null,22,{"$f":"IF(TEST!Z28=\"X\",\"\",IF(TEST!AA28=\"OUI\",TEST!E28&IF(TEST!F28=\"\",\"\",\" \"&TEST!F28),\"\"))","v":""},"","",null,"",22,{"$f":"IF(TEST!E28=\"\",\"\",TEST!E28)","v":""},{"$f":"IF(TEST!F28=\"\",\"\",TEST!F28)","v":""},{"$f":"IF(TEST!G28=\"\",\"\",TEST!G28)","v":""},{"$f":"IF(TEST!H28=\"\",\"\",TEST!H28)","v":""},{"$f":"IF(TEST!Y28=\"\",\"\",TEST!Y28)","v":""},{"$f":"IF(TEST!V28=\"\",\"\",TEST!V28)","v":""},{"$f":"IF(TEST!W28=\"\",\"\",TEST!W28)","v":""},{"$f":"IF(TEST!X28=\"\",\"\",TEST!X28)","v":""},{"$f":"IF(OR(M27=\"\",TEST!$K$1=\"\"),\"\",TEST!$K$1)","v":""},{"$f":"IF(OR(M27=\"\",TEST!$F$1=\"\"),\"\",TEST!$F$1)","v":""}]
[null,null,null,null,null,null,null,23,{"$f":"IF(TEST!Z29=\"X\",\"\",IF(TEST!AA29=\"OUI\",TEST!E29&IF(TEST!F29=\"\",\"\",\" \"&TEST!F29),\"\"))","v":""},"","",null,"",23,{"$f":"IF(TEST!E29=\"\",\"\",TEST!E29)","v":""},{"$f":"IF(TEST!F29=\"\",\"\",TEST!F29)","v":""},{"$f":"IF(TEST!G29=\"\",\"\",TEST!G29)","v":""},{"$f":"IF(TEST!H29=\"\",\"\",TEST!H29)","v":""},{"$f":"IF(TEST!Y29=\"\",\"\",TEST!Y29)","v":""},{"$f":"IF(TEST!V29=\"\",\"\",TEST!V29)","v":""},{"$f":"IF(TEST!W29=\"\",\"\",TEST!W29)","v":""},{"$f":"IF(TEST!X29=\"\",\"\",TEST!X29)","v":""},{"$f":"IF(OR(M28=\"\",TEST!$K$1=\"\"),\"\",TEST!$K$1)","v":""},{"$f":"IF(OR(M28=\"\",TEST!$F$1=\"\"),\"\",TEST!$F$1)","v":""}]
[null,null,null,null,null,null,null,24,{"$f":"IF(TEST!Z30=\"X\",\"\",IF(TEST!AA30=\"OUI\",TEST!E30&IF(TEST!F30=\"\",\"\",\" \"&TEST!F30),\"\"))","v":""},"","",null,"",24,{"$f":"IF(TEST!E30=\"\",\"\",TEST!E30)","v":""},{"$f":"IF(TEST!F30=\"\",\"\",TEST!F30)","v":""},{"$f":"IF(TEST!G30=\"\",\"\",TEST!G30)","v":""},{"$f":"IF(TEST!H30=\"\",\"\",TEST!H30)","v":""},{"$f":"IF(TEST!Y30=\"\",\"\",TEST!Y30)","v":""},{"$f":"IF(TEST!V30=\"\",\"\",TEST!V30)","v":""},{"$f":"IF(TEST!W30=\"\",\"\",TEST!W30)","v":""},{"$f":"IF(TEST!X30=\"\",\"\",TEST!X30)","v":""},{"$f":"IF(OR(M29=\"\",TEST!$K$1=\"\"),\"\",TEST!$K$1)","v":""},{"$f":"IF(OR(M29=\"\",TEST!$F$1=\"\"),\"\",TEST!$F$1)","v":""}]
[null,null,null,null,null,null,null,25,{"$f":"IF(TEST!Z31=\"X\",\"\",IF(TEST!AA31=\"OUI\",TEST!E31&IF(TEST!F31=\"\",\"\",\" \"&TEST!F31),\"\"))","v":""},"","",null,"",25,{"$f":"IF(TEST!E31=\"\",\"\",TEST!E31)","v":""},{"$f":"IF(TEST!F31=\"\",\"\",TEST!F31)","v":""},{"$f":"IF(TEST!G31=\"\",\"\",TEST!G31)","v":""},{"$f":"IF(TEST!H31=\"\",\"\",TEST!H31)","v":""},{"$f":"IF(TEST!Y31=\"\",\"\",TEST!Y31)","v":""},{"$f":"IF(TEST!V31=\"\",\"\",TEST!V31)","v":""},{"$f":"IF(TEST!W31=\"\",\"\",TEST!W31)","v":""},{"$f":"IF(TEST!X31=\"\",\"\",TEST!X31)","v":""},{"$f":"IF(OR(M30=\"\",TEST!$K$1=\"\"),\"\",TEST!$K$1)","v":""},{"$f":"IF(OR(M30=\"\",TEST!$F$1=\"\"),\"\",TEST!$F$1)","v":""}]
[null,null,null,null,null,null,null,26,{"$f":"IF(TEST!Z32=\"X\",\"\",IF(TEST!AA32=\"OUI\",TEST!E32&IF(TEST!F32=\"\",\"\",\" \"&TEST!F32),\"\"))","v":""},"","",null,"",26,{"$f":"IF(TEST!E32=\"\",\"\",TEST!E32)","v":""},{"$f":"IF(TEST!F32=\"\",\"\",TEST!F32)","v":""},{"$f":"IF(TEST!G32=\"\",\"\",TEST!G32)","v":""},{"$f":"IF(TEST!H32=\"\",\"\",TEST!H32)","v":""},{"$f":"IF(TEST!Y32=\"\",\"\",TEST!Y32)","v":""},{"$f":"IF(TEST!V32=\"\",\"\",TEST!V32)","v":""},{"$f":"IF(TEST!W32=\"\",\"\",TEST!W32)","v":""},{"$f":"IF(TEST!X32=\"\",\"\",TEST!X32)","v":""},{"$f":"IF(OR(M31=\"\",TEST!$K$1=\"\"),\"\",TEST!$K$1)","v":""},{"$f":"IF(OR(M31=\"\",TEST!$F$1=\"\"),\"\",TEST!$F$1)","v":""}]
[null,null,null,null,null,null,null,27,{"$f":"IF(TEST!Z33=\"X\",\"\",IF(TEST!AA33=\"OUI\",TEST!E33&IF(TEST!F33=\"\",\"\",\" \"&TEST!F33),\"\"))","v":""},"","",null,"",27,{"$f":"IF(TEST!E33=\"\",\"\",TEST!E33)","v":""},{"$f":"IF(TEST!F33=\"\",\"\",TEST!F33)","v":""},{"$f":"IF(TEST!G33=\"\",\"\",TEST!G33)","v":""},{"$f":"IF(TEST!H33=\"\",\"\",TEST!H33)","v":""},{"$f":"IF(TEST!Y33=\"\",\"\",TEST!Y33)","v":""},{"$f":"IF(TEST!V33=\"\",\"\",TEST!V33)","v":""},{"$f":"IF(TEST!W33=\"\",\"\",TEST!W33)","v":""},{"$f":"IF(TEST!X33=\"\",\"\",TEST!X33)","v":""},{"$f":"IF(OR(M32=\"\",TEST!$K$1=\"\"),\"\",TEST!$K$1)","v":""},{"$f":"IF(OR(M32=\"\",TEST!$F$1=\"\"),\"\",TEST!$F$1)","v":""}]
[null,null,null,null,null,null,null,28,{"$f":"IF(TEST!Z34=\"X\",\"\",IF(TEST!AA34=\"OUI\",TEST!E34&IF(TEST!F34=\"\",\"\",\" \"&TEST!F34),\"\"))","v":""},"","",null,"",28,{"$f":"IF(TEST!E34=\"\",\"\",TEST!E34)","v":""},{"$f":"IF(TEST!F34=\"\",\"\",TEST!F34)","v":""},{"$f":"IF(TEST!G34=\"\",\"\",TEST!G34)","v":""},{"$f":"IF(TEST!H34=\"\",\"\",TEST!H34)","v":""},{"$f":"IF(TEST!Y34=\"\",\"\",TEST!Y34)","v":""},{"$f":"IF(TEST!V34=\"\",\"\",TEST!V34)","v":""},{"$f":"IF(TEST!W34=\"\",\"\",TEST!W34)","v":""},{"$f":"IF(TEST!X34=\"\",\"\",TEST!X34)","v":""},{"$f":"IF(OR(M33=\"\",TEST!$K$1=\"\"),\"\",TEST!$K$1)","v":""},{"$f":"IF(OR(M33=\"\",TEST!$F$1=\"\"),\"\",TEST!$F$1)","v":""}]
[null,null,null,null,null,null,null,29,{"$f":"IF(TEST!Z35=\"X\",\"\",IF(TEST!AA35=\"OUI\",TEST!E35&IF(TEST!F35=\"\",\"\",\" \"&TEST!F35),\"\"))","v":""},"","",null,"",29,{"$f":"IF(TEST!E35=\"\",\"\",TEST!E35)","v":""},{"$f":"IF(TEST!F35=\"\",\"\",TEST!F35)","v":""},{"$f":"IF(TEST!G35=\"\",\"\",TEST!G35)","v":""},{"$f":"IF(TEST!H35=\"\",\"\",TEST!H35)","v":""},{"$f":"IF(TEST!Y35=\"\",\"\",TEST!Y35)","v":""},{"$f":"IF(TEST!V35=\"\",\"\",TEST!V35)","v":""},{"$f":"IF(TEST!W35=\"\",\"\",TEST!W35)","v":""},{"$f":"IF(TEST!X35=\"\",\"\",TEST!X35)","v":""},{"$f":"IF(OR(M34=\"\",TEST!$K$1=\"\"),\"\",TEST!$K$1)","v":""},{"$f":"IF(OR(M34=\"\",TEST!$F$1=\"\"),\"\",TEST!$F$1)","v":""}]
[null,null,null,null,null,null,null,30,{"$f":"IF(TEST!Z36=\"X\",\"\",IF(TEST!AA36=\"OUI\",TEST!E36&IF(TEST!F36=\"\",\"\",\" \"&TEST!F36),\"\"))","v":""},"","",null,"",30,{"$f":"IF(TEST!E36=\"\",\"\",TEST!E36)","v":""},{"$f":"IF(TEST!F36=\"\",\"\",TEST!F36)","v":""},{"$f":"IF(TEST!G36=\"\",\"\",TEST!G36)","v":""},{"$f":"IF(TEST!H36=\"\",\"\",TEST!H36)","v":""},{"$f":"IF(TEST!Y36=\"\",\"\",TEST!Y36)","v":""},{"$f":"IF(TEST!V36=\"\",\"\",TEST!V36)","v":""},{"$f":"IF(TEST!W36=\"\",\"\",TEST!W36)","v":""},{"$f":"IF(TEST!X36=\"\",\"\",TEST!X36)","v":""},{"$f":"IF(OR(M35=\"\",TEST!$K$1=\"\"),\"\",TEST!$K$1)","v":""},{"$f":"IF(OR(M35=\"\",TEST!$F$1=\"\"),\"\",TEST!$F$1)","v":""}]
[null,null,null,null,null,null,null,31,{"$f":"IF(TEST!Z37=\"X\",\"\",IF(TEST!AA37=\"OUI\",TEST!E37&IF(TEST!F37=\"\",\"\",\" \"&TEST!F37),\"\"))","v":""},"","",null,"",31,{"$f":"IF(TEST!E37=\"\",\"\",TEST!E37)","v":""},{"$f":"IF(TEST!F37=\"\",\"\",TEST!F37)","v":""},{"$f":"IF(TEST!G37=\"\",\"\",TEST!G37)","v":""},{"$f":"IF(TEST!H37=\"\",\"\",TEST!H37)","v":""},{"$f":"IF(TEST!Y37=\"\",\"\",TEST!Y37)","v":""},{"$f":"IF(TEST!V37=\"\",\"\",TEST!V37)","v":""},{"$f":"IF(TEST!W37=\"\",\"\",TEST!W37)","v":""},{"$f":"IF(TEST!X37=\"\",\"\",TEST!X37)","v":""},{"$f":"IF(OR(M36=\"\",TEST!$K$1=\"\"),\"\",TEST!$K$1)","v":""},{"$f":"IF(OR(M36=\"\",TEST!$F$1=\"\"),\"\",TEST!$F$1)","v":""}]
[null,null,null,null,null,null,null,32,{"$f":"IF(TEST!Z38=\"X\",\"\",IF(TEST!AA38=\"OUI\",TEST!E38&IF(TEST!F38=\"\",\"\",\" \"&TEST!F38),\"\"))","v":""},"","",null,"",32,{"$f":"IF(TEST!E38=\"\",\"\",TEST!E38)","v":""},{"$f":"IF(TEST!F38=\"\",\"\",TEST!F38)","v":""},{"$f":"IF(TEST!G38=\"\",\"\",TEST!G38)","v":""},{"$f":"IF(TEST!H38=\"\",\"\",TEST!H38)","v":""},{"$f":"IF(TEST!Y38=\"\",\"\",TEST!Y38)","v":""},{"$f":"IF(TEST!V38=\"\",\"\",TEST!V38)","v":""},{"$f":"IF(TEST!W38=\"\",\"\",TEST!W38)","v":""},{"$f":"IF(TEST!X38=\"\",\"\",TEST!X38)","v":""},{"$f":"IF(OR(M37=\"\",TEST!$K$1=\"\"),\"\",TEST!$K$1)","v":""},{"$f":"IF(OR(M37=\"\",TEST!$F$1=\"\"),\"\",TEST!$F$1)","v":""}]
[null,null,null,null,null,null,null,33,{"$f":"IF(TEST!Z39=\"X\",\"\",IF(TEST!AA39=\"OUI\",TEST!E39&IF(TEST!F39=\"\",\"\",\" \"&TEST!F39),\"\"))","v":""},"","",null,"",33,{"$f":"IF(TEST!E39=\"\",\"\",TEST!E39)","v":""},{"$f":"IF(TEST!F39=\"\",\"\",TEST!F39)","v":""},{"$f":"IF(TEST!G39=\"\",\"\",TEST!G39)","v":""},{"$f":"IF(TEST!H39=\"\",\"\",TEST!H39)","v":""},{"$f":"IF(TEST!Y39=\"\",\"\",TEST!Y39)","v":""},{"$f":"IF(TEST!V39=\"\",\"\",TEST!V39)","v":""},{"$f":"IF(TEST!W39=\"\",\"\",TEST!W39)","v":""},{"$f":"IF(TEST!X39=\"\",\"\",TEST!X39)","v":""},{"$f":"IF(OR(M38=\"\",TEST!$K$1=\"\"),\"\",TEST!$K$1)","v":""},{"$f":"IF(OR(M38=\"\",TEST!$F$1=\"\"),\"\",TEST!$F$1)","v":""}]
[null,null,null,null,null,null,null,34,{"$f":"IF(TEST!Z40=\"X\",\"\",IF(TEST!AA40=\"OUI\",TEST!E40&IF(TEST!F40=\"\",\"\",\" \"&TEST!F40),\"\"))","v":""},"","",null,"",34,{"$f":"IF(TEST!E40=\"\",\"\",TEST!E40)","v":""},{"$f":"IF(TEST!F40=\"\",\"\",TEST!F40)","v":""},{"$f":"IF(TEST!G40=\"\",\"\",TEST!G40)","v":""},{"$f":"IF(TEST!H40=\"\",\"\",TEST!H40)","v":""},{"$f":"IF(TEST!Y40=\"\",\"\",TEST!Y40)","v":""},{"$f":"IF(TEST!V40=\"\",\"\",TEST!V40)","v":""},{"$f":"IF(TEST!W40=\"\",\"\",TEST!W40)","v":""},{"$f":"IF(TEST!X40=\"\",\"\",TEST!X40)","v":""},{"$f":"IF(OR(M39=\"\",TEST!$K$1=\"\"),\"\",TEST!$K$1)","v":""},{"$f":"IF(OR(M39=\"\",TEST!$F$1=\"\"),\"\",TEST!$F$1)","v":""}]
[null,null,null,null,null,null,null,35,{"$f":"IF(TEST!Z41=\"X\",\"\",IF(TEST!AA41=\"OUI\",TEST!E41&IF(TEST!F41=\"\",\"\",\" \"&TEST!F41),\"\"))","v":""},"","",null,"",35,{"$f":"IF(TEST!E41=\"\",\"\",TEST!E41)","v":""},{"$f":"IF(TEST!F41=\"\",\"\",TEST!F41)","v":""},{"$f":"IF(TEST!G41=\"\",\"\",TEST!G41)","v":""},{"$f":"IF(TEST!H41=\"\",\"\",TEST!H41)","v":""},{"$f":"IF(TEST!Y41=\"\",\"\",TEST!Y41)","v":""},{"$f":"IF(TEST!V41=\"\",\"\",TEST!V41)","v":""},{"$f":"IF(TEST!W41=\"\",\"\",TEST!W41)","v":""},{"$f":"IF(TEST!X41=\"\",\"\",TEST!X41)","v":""},{"$f":"IF(OR(M40=\"\",TEST!$K$1=\"\"),\"\",TEST!$K$1)","v":""},{"$f":"IF(OR(M40=\"\",TEST!$F$1=\"\"),\"\",TEST!$F$1)","v":""}]
[null,null,null,null,null,null,null,36,{"$f":"IF(TEST!Z42=\"X\",\"\",IF(TEST!AA42=\"OUI\",TEST!E42&IF(TEST!F42=\"\",\"\",\" \"&TEST!F42),\"\"))","v":""},"","",null,"",36,{"$f":"IF(TEST!E42=\"\",\"\",TEST!E42)","v":""},{"$f":"IF(TEST!F42=\"\",\"\",TEST!F42)","v":""},{"$f":"IF(TEST!G42=\"\",\"\",TEST!G42)","v":""},{"$f":"IF(TEST!H42=\"\",\"\",TEST!H42)","v":""},{"$f":"IF(TEST!Y42=\"\",\"\",TEST!Y42)","v":""},{"$f":"IF(TEST!V42=\"\",\"\",TEST!V42)","v":""},{"$f":"IF(TEST!W42=\"\",\"\",TEST!W42)","v":""},{"$f":"IF(TEST!X42=\"\",\"\",TEST!X42)","v":""},{"$f":"IF(OR(M41=\"\",TEST!$K$1=\"\"),\"\",TEST!$K$1)","v":""},{"$f":"IF(OR(M41=\"\",TEST!$F$1=\"\"),\"\",TEST!$F$1)","v":""}]
[null,null,null,null,null,null,null,37,{"$f":"IF(TEST!Z43=\"X\",\"\",IF(TEST!AA43=\"OUI\",TEST!E43&IF(TEST!F43=\"\",\"\",\" \"&TEST!F43),\"\"))","v":""},"","",null,"",37,{"$f":"IF(TEST!E43=\"\",\"\",TEST!E43)","v":""},{"$f":"IF(TEST!F43=\"\",\"\",TEST!F43)","v":""},{"$f":"IF(TEST!G43=\"\",\"\",TEST!G43)","v":""},{"$f":"IF(TEST!H43=\"\",\"\",TEST!H43)","v":""},{"$f":"IF(TEST!Y43=\"\",\"\",TEST!Y43)","v":""},{"$f":"IF(TEST!V43=\"\",\"\",TEST!V43)","v":""},{"$f":"IF(TEST!W43=\"\",\"\",TEST!W43)","v":""},{"$f":"IF(TEST!X43=\"\",\"\",TEST!X43)","v":""},{"$f":"IF(OR(M42=\"\",TEST!$K$1=\"\"),\"\",TEST!$K$1)","v":""},{"$f":"IF(OR(M42=\"\",TEST!$F$1=\"\"),\"\",TEST!$F$1)","v":""}]
[null,null,null,null,null,null,null,38,{"$f":"IF(TEST!Z44=\"X\",\"\",IF(TEST!AA44=\"OUI\",TEST!E44&IF(TEST!F44=\"\",\"\",\" \"&TEST!F44),\"\"))","v":""},"","",null,"",38,{"$f":"IF(TEST!E44=\"\",\"\",TEST!E44)","v":""},{"$f":"IF(TEST!F44=\"\",\"\",TEST!F44)","v":""},{"$f":"IF(TEST!G44=\"\",\"\",TEST!G44)","v":""},{"$f":"IF(TEST!H44=\"\",\"\",TEST!H44)","v":""},{"$f":"IF(TEST!Y44=\"\",\"\",TEST!Y44)","v":""},{"$f":"IF(TEST!V44=\"\",\"\",TEST!V44)","v":""},{"$f":"IF(TEST!W44=\"\",\"\",TEST!W44)","v":""},{"$f":"IF(TEST!X44=\"\",\"\",TEST!X44)","v":""},{"$f":"IF(OR(M43=\"\",TEST!$K$1=\"\"),\"\",TEST!$K$1)","v":""},{"$f":"IF(OR(M43=\"\",TEST!$F$1=\"\"),\"\",TEST!$F$1)","v":""}]
[null,null,null,null,null,null,null,39,{"$f":"IF(TEST!Z45=\"X\",\"\",IF(TEST!AA45=\"OUI\",TEST!E45&IF(TEST!F45=\"\",\"\",\" \"&TEST!F45),\"\"))","v":""},"","",null,"",39,{"$f":"IF(TEST!E45=\"\",\"\",TEST!E45)","v":""},{"$f":"IF(TEST!F45=\"\",\"\",TEST!F45)","v":""},{"$f":"IF(TEST!G45=\"\",\"\",TEST!G45)","v":""},{"$f":"IF(TEST!H45=\"\",\"\",TEST!H45)","v":""},{"$f":"IF(TEST!Y45=\"\",\"\",TEST!Y45)","v":""},{"$f":"IF(TEST!V45=\"\",\"\",TEST!V45)","v":""},{"$f":"IF(TEST!W45=\"\",\"\",TEST!W45)","v":""},{"$f":"IF(TEST!X45=\"\",\"\",TEST!X45)","v":""},{"$f":"IF(OR(M44=\"\",TEST!$K$1=\"\"),\"\",TEST!$K$1)","v":""},{"$f":"IF(OR(M44=\"\",TEST!$F$1=\"\"),\"\",TEST!$F$1)","v":""}]
[null,null,null,null,null,null,null,40,{"$f":"IF(TEST!Z46=\"X\",\"\",IF(TEST!AA46=\"OUI\",TEST!E46&IF(TEST!F46=\"\",\"\",\" \"&TEST!F46),\"\"))","v":""},"","",null,"",40,{"$f":"IF(TEST!E46=\"\",\"\",TEST!E46)","v":""},{"$f":"IF(TEST!F46=\"\",\"\",TEST!F46)","v":""},{"$f":"IF(TEST!G46=\"\",\"\",TEST!G46)","v":""},{"$f":"IF(TEST!H46=\"\",\"\",TEST!H46)","v":""},{"$f":"IF(TEST!Y46=\"\",\"\",TEST!Y46)","v":""},{"$f":"IF(TEST!V46=\"\",\"\",TEST!V46)","v":""},{"$f":"IF(TEST!W46=\"\",\"\",TEST!W46)","v":""},{"$f":"IF(TEST!X46=\"\",\"\",TEST!X46)","v":""},{"$f":"IF(OR(M45=\"\",TEST!$K$1=\"\"),\"\",TEST!$K$1)","v":""},{"$f":"IF(OR(M45=\"\",TEST!$F$1=\"\"),\"\",TEST!$F$1)","v":""}]
[null,null,null,null,null,null,null,41,{"$f":"IF(TEST!Z47=\"X\",\"\",IF(TEST!AA47=\"OUI\",TEST!E47&IF(TEST!F47=\"\",\"\",\" \"&TEST!F47),\"\"))","v":""},"","",null,"",41,{"$f":"IF(TEST!E47=\"\",\"\",TEST!E47)","v":""},{"$f":"IF(TEST!F47=\"\",\"\",TEST!F47)","v":""},{"$f":"IF(TEST!G47=\"\",\"\",TEST!G47)","v":""},{"$f":"IF(TEST!H47=\"\",\"\",TEST!H47)","v":""},{"$f":"IF(TEST!Y47=\"\",\"\",TEST!Y47)","v":""},{"$f":"IF(TEST!V47=\"\",\"\",TEST!V47)","v":""},{"$f":"IF(TEST!W47=\"\",\"\",TEST!W47)","v":""},{"$f":"IF(TEST!X47=\"\",\"\",TEST!X47)","v":""},{"$f":"IF(OR(M46=\"\",TEST!$K$1=\"\"),\"\",TEST!$K$1)","v":""},{"$f":"IF(OR(M46=\"\",TEST!$F$1=\"\"),\"\",TEST!$F$1)","v":""}]
[null,null,null,null,null,null,null,42,{"$f":"IF(TEST!Z48=\"X\",\"\",IF(TEST!AA48=\"OUI\",TEST!E48&IF(TEST!F48=\"\",\"\",\" \"&TEST!F48),\"\"))","v":""},"","",null,"",42,{"$f":"IF(TEST!E48=\"\",\"\",TEST!E48)","v":""},{"$f":"IF(TEST!F48=\"\",\"\",TEST!F48)","v":""},{"$f":"IF(TEST!G48=\"\",\"\",TEST!G48)","v":""},{"$f":"IF(TEST!H48=\"\",\"\",TEST!H48)","v":""},{"$f":"IF(TEST!Y48=\"\",\"\",TEST!Y48)","v":""},{"$f":"IF(TEST!V48=\"\",\"\",TEST!V48)","v":""},{"$f":"IF(TEST!W48=\"\",\"\",TEST!W48)","v":""},{"$f":"IF(TEST!X48=\"\",\"\",TEST!X48)","v":""},{"$f":"IF(OR(M47=\"\",TEST!$K$1=\"\"),\"\",TEST!$K$1)","v":""},{"$f":"IF(OR(M47=\"\",TEST!$F$1=\"\"),\"\",TEST!$F$1)","v":""}]
[null,null,null,null,null,null,null,43,{"$f":"IF(TEST!Z49=\"X\",\"\",IF(TEST!AA49=\"OUI\",TEST!E49&IF(TEST!F49=\"\",\"\",\" \"&TEST!F49),\"\"))","v":""},"","",null,"",43,{"$f":"IF(TEST!E49=\"\",\"\",TEST!E49)","v":""},{"$f":"IF(TEST!F49=\"\",\"\",TEST!F49)","v":""},{"$f":"IF(TEST!G49=\"\",\"\",TEST!G49)","v":""},{"$f":"IF(TEST!H49=\"\",\"\",TEST!H49)","v":""},{"$f":"IF(TEST!Y49=\"\",\"\",TEST!Y49)","v":""},{"$f":"IF(TEST!V49=\"\",\"\",TEST!V49)","v":""},{"$f":"IF(TEST!W49=\"\",\"\",TEST!W49)","v":""},{"$f":"IF(TEST!X49=\"\",\"\",TEST!X49)","v":""},{"$f":"IF(OR(M48=\"\",TEST!$K$1=\"\"),\"\",TEST!$K$1)","v":""},{"$f":"IF(OR(M48=\"\",TEST!$F$1=\"\"),\"\",TEST!$F$1)","v":""}]
[null,null,null,null,null,null,null,44,{"$f":"IF(TEST!Z50=\"X\",\"\",IF(TEST!AA50=\"OUI\",TEST!E50&IF(TEST!F50=\"\",\"\",\" \"&TEST!F50),\"\"))","v":""},"","",null,"",44,{"$f":"IF(TEST!E50=\"\",\"\",TEST!E50)","v":""},{"$f":"IF(TEST!F50=\"\",\"\",TEST!F50)","v":""},{"$f":"IF(TEST!G50=\"\",\"\",TEST!G50)","v":""},{"$f":"IF(TEST!H50=\"\",\"\",TEST!H50)","v":""},{"$f":"IF(TEST!Y50=\"\",\"\",TEST!Y50)","v":""},{"$f":"IF(TEST!V50=\"\",\"\",TEST!V50)","v":""},{"$f":"IF(TEST!W50=\"\",\"\",TEST!W50)","v":""},{"$f":"IF(TEST!X50=\"\",\"\",TEST!X50)","v":""},{"$f":"IF(OR(M49=\"\",TEST!$K$1=\"\"),\"\",TEST!$K$1)","v":""},{"$f":"IF(OR(M49=\"\",TEST!$F$1=\"\"),\"\",TEST!$F$1)","v":""}]
[null,null,null,null,null,null,null,45,{"$f":"IF(TEST!Z51=\"X\",\"\",IF(TEST!AA51=\"OUI\",TEST!E51&IF(TEST!F51=\"\",\"\",\" \"&TEST!F51),\"\"))","v":""},"","",null,"",45,{"$f":"IF(TEST!E51=\"\",\"\",TEST!E51)","v":""},{"$f":"IF(TEST!F51=\"\",\"\",TEST!F51)","v":""},{"$f":"IF(TEST!G51=\"\",\"\",TEST!G51)","v":""},{"$f":"IF(TEST!H51=\"\",\"\",TEST!H51)","v":""},{"$f":"IF(TEST!Y51=\"\",\"\",TEST!Y51)","v":""},{"$f":"IF(TEST!V51=\"\",\"\",TEST!V51)","v":""},{"$f":"IF(TEST!W51=\"\",\"\",TEST!W51)","v":""},{"$f":"IF(TEST!X51=\"\",\"\",TEST!X51)","v":""},{"$f":"IF(OR(M50=\"\",TEST!$K$1=\"\"),\"\",TEST!$K$1)","v":""},{"$f":"IF(OR(M50=\"\",TEST!$F$1=\"\"),\"\",TEST!$F$1)","v":""}]
[null,null,null,null,null,null,null,46,{"$f":"IF(TEST!Z52=\"X\",\"\",IF(TEST!AA52=\"OUI\",TEST!E52&IF(TEST!F52=\"\",\"\",\" \"&TEST!F52),\"\"))","v":""},"","",null,"",46,{"$f":"IF(TEST!E52=\"\",\"\",TEST!E52)","v":""},{"$f":"IF(TEST!F52=\"\",\"\",TEST!F52)","v":""},{"$f":"IF(TEST!G52=\"\",\"\",TEST!G52)","v":""},{"$f":"IF(TEST!H52=\"\",\"\",TEST!H52)","v":""},{"$f":"IF(TEST!Y52=\"\",\"\",TEST!Y52)","v":""},{"$f":"IF(TEST!V52=\"\",\"\",TEST!V52)","v":""},{"$f":"IF(TEST!W52=\"\",\"\",TEST!W52)","v":""},{"$f":"IF(TEST!X52=\"\",\"\",TEST!X52)","v":""},{"$f":"IF(OR(M51=\"\",TEST!$K$1=\"\"),\"\",TEST!$K$1)","v":""},{"$f":"IF(OR(M51=\"\",TEST!$F$1=\"\"),\"\",TEST!$F$1)","v":""}]
[null,null,null,null,null,null,null,47,{"$f":"IF(TEST!Z53=\"X\",\"\",IF(TEST!AA53=\"OUI\",TEST!E53&IF(TEST!F53=\"\",\"\",\" \"&TEST!F53),\"\"))","v":""},"","",null,"",47,{"$f":"IF(TEST!E53=\"\",\"\",TEST!E53)","v":""},{"$f":"IF(TEST!F53=\"\",\"\",TEST!F53)","v":""},{"$f":"IF(TEST!G53=\"\",\"\",TEST!G53)","v":""},{"$f":"IF(TEST!H53=\"\",\"\",TEST!H53)","v":""},{"$f":"IF(TEST!Y53=\"\",\"\",TEST!Y53)","v":""},{"$f":"IF(TEST!V53=\"\",\"\",TEST!V53)","v":""},{"$f":"IF(TEST!W53=\"\",\"\",TEST!W53)","v":""},{"$f":"IF(TEST!X53=\"\",\"\",TEST!X53)","v":""},{"$f":"IF(OR(M52=\"\",TEST!$K$1=\"\"),\"\",TEST!$K$1)","v":""},{"$f":"IF(OR(M52=\"\",TEST!$F$1=\"\"),\"\",TEST!$F$1)","v":""}]
[null,null,null,null,null,null,null,48,{"$f":"IF(TEST!Z54=\"X\",\"\",IF(TEST!AA54=\"OUI\",TEST!E54&IF(TEST!F54=\"\",\"\",\" \"&TEST!F54),\"\"))","v":""},"","",null,"",48,{"$f":"IF(TEST!E54=\"\",\"\",TEST!E54)","v":""},{"$f":"IF(TEST!F54=\"\",\"\",TEST!F54)","v":""},{"$f":"IF(TEST!G54=\"\",\"\",TEST!G54)","v":""},{"$f":"IF(TEST!H54=\"\",\"\",TEST!H54)","v":""},{"$f":"IF(TEST!Y54=\"\",\"\",TEST!Y54)","v":""},{"$f":"IF(TEST!V54=\"\",\"\",TEST!V54)","v":""},{"$f":"IF(TEST!W54=\"\",\"\",TEST!W54)","v":""},{"$f":"IF(TEST!X54=\"\",\"\",TEST!X54)","v":""},{"$f":"IF(OR(M53=\"\",TEST!$K$1=\"\"),\"\",TEST!$K$1)","v":""},{"$f":"IF(OR(M53=\"\",TEST!$F$1=\"\"),\"\",TEST!$F$1)","v":""}]
[null,null,null,null,null,null,null,49,{"$f":"IF(TEST!Z55=\"X\",\"\",IF(TEST!AA55=\"OUI\",TEST!E55&IF(TEST!F55=\"\",\"\",\" \"&TEST!F55),\"\"))","v":""},"","",null,"",49,{"$f":"IF(TEST!E55=\"\",\"\",TEST!E55)","v":""},{"$f":"IF(TEST!F55=\"\",\"\",TEST!F55)","v":""},{"$f":"IF(TEST!G55=\"\",\"\",TEST!G55)","v":""},{"$f":"IF(TEST!H55=\"\",\"\",TEST!H55)","v":""},{"$f":"IF(TEST!Y55=\"\",\"\",TEST!Y55)","v":""},{"$f":"IF(TEST!V55=\"\",\"\",TEST!V55)","v":""},{"$f":"IF(TEST!W55=\"\",\"\",TEST!W55)","v":""},{"$f":"IF(TEST!X55=\"\",\"\",TEST!X55)","v":""},{"$f":"IF(OR(M54=\"\",TEST!$K$1=\"\"),\"\",TEST!$K$1)","v":""},{"$f":"IF(OR(M54=\"\",TEST!$F$1=\"\"),\"\",TEST!$F$1)","v":""}]
[null,null,null,null,null,null,null,50,{"$f":"IF(TEST!Z56=\"X\",\"\",IF(TEST!AA56=\"OUI\",TEST!E56&IF(TEST!F56=\"\",\"\",\" \"&TEST!F56),\"\"))","v":""},"","",null,"",50,{"$f":"IF(TEST!E56=\"\",\"\",TEST!E56)","v":""},{"$f":"IF(TEST!F56=\"\",\"\",TEST!F56)","v":""},{"$f":"IF(TEST!G56=\"\",\"\",TEST!G56)","v":""},{"$f":"IF(TEST!H56=\"\",\"\",TEST!H56)","v":""},{"$f":"IF(TEST!Y56=\"\",\"\",TEST!Y56)","v":""},{"$f":"IF(TEST!V56=\"\",\"\",TEST!V56)","v":""},{"$f":"IF(TEST!W56=\"\",\"\",TEST!W56)","v":""},{"$f":"IF(TEST!X56=\"\",\"\",TEST!X56)","v":""},{"$f":"IF(OR(M55=\"\",TEST!$K$1=\"\"),\"\",TEST!$K$1)","v":""},{"$f":"IF(OR(M55=\"\",TEST!$F$1=\"\"),\"\",TEST!$F$1)","v":""}]
[null,null,null,null,null,null,null,51,{"$f":"IF(TEST!Z57=\"X\",\"\",IF(TEST!AA57=\"OUI\",TEST!E57&IF(TEST!F57=\"\",\"\",\" \"&TEST!F57),\"\"))","v":""},"","",null,"",51,{"$f":"IF(TEST!E57=\"\",\"\",TEST!E57)","v":""},{"$f":"IF(TEST!F57=\"\",\"\",TEST!F57)","v":""},{"$f":"IF(TEST!G57=\"\",\"\",TEST!G57)","v":""},{"$f":"IF(TEST!H57=\"\",\"\",TEST!H57)","v":""},{"$f":"IF(TEST!Y57=\"\",\"\",TEST!Y57)","v":""},{"$f":"IF(TEST!V57=\"\",\"\",TEST!V57)","v":""},{"$f":"IF(TEST!W57=\"\",\"\",TEST!W57)","v":""},{"$f":"IF(TEST!X57=\"\",\"\",TEST!X57)","v":""},{"$f":"IF(OR(M56=\"\",TEST!$K$1=\"\"),\"\",TEST!$K$1)","v":""},{"$f":"IF(OR(M56=\"\",TEST!$F$1=\"\"),\"\",TEST!$F$1)","v":""}]
[null,null,null,null,null,null,null,52,{"$f":"IF(TEST!Z58=\"X\",\"\",IF(TEST!AA58=\"OUI\",TEST!E58&IF(TEST!F58=\"\",\"\",\" \"&TEST!F58),\"\"))","v":""},"","",null,"",52,{"$f":"IF(TEST!E58=\"\",\"\",TEST!E58)","v":""},{"$f":"IF(TEST!F58=\"\",\"\",TEST!F58)","v":""},{"$f":"IF(TEST!G58=\"\",\"\",TEST!G58)","v":""},{"$f":"IF(TEST!H58=\"\",\"\",TEST!H58)","v":""},{"$f":"IF(TEST!Y58=\"\",\"\",TEST!Y58)","v":""},{"$f":"IF(TEST!V58=\"\",\"\",TEST!V58)","v":""},{"$f":"IF(TEST!W58=\"\",\"\",TEST!W58)","v":""},{"$f":"IF(TEST!X58=\"\",\"\",TEST!X58)","v":""},{"$f":"IF(OR(M57=\"\",TEST!$K$1=\"\"),\"\",TEST!$K$1)","v":""},{"$f":"IF(OR(M57=\"\",TEST!$F$1=\"\"),\"\",TEST!$F$1)","v":""}]
[null,null,null,null,null,null,null,53,{"$f":"IF(TEST!Z59=\"X\",\"\",IF(TEST!AA59=\"OUI\",TEST!E59&IF(TEST!F59=\"\",\"\",\" \"&TEST!F59),\"\"))","v":""},"","",null,"",53,{"$f":"IF(TEST!E59=\"\",\"\",TEST!E59)","v":""},{"$f":"IF(TEST!F59=\"\",\"\",TEST!F59)","v":""},{"$f":"IF(TEST!G59=\"\",\"\",TEST!G59)","v":""},{"$f":"IF(TEST!H59=\"\",\"\",TEST!H59)","v":""},{"$f":"IF(TEST!Y59=\"\",\"\",TEST!Y59)","v":""},{"$f":"IF(TEST!V59=\"\",\"\",TEST!V59)","v":""},{"$f":"IF(TEST!W59=\"\",\"\",TEST!W59)","v":""},{"$f":"IF(TEST!X59=\"\",\"\",TEST!X59)","v":""},{"$f":"IF(OR(M58=\"\",TEST!$K$1=\"\"),\"\",TEST!$K$1)","v":""},{"$f":"IF(OR(M58=\"\",TEST!$F$1=\"\"),\"\",TEST!$F$1)","v":""}]
[null,null,null,null,null,null,null,54,{"$f":"IF(TEST!Z60=\"X\",\"\",IF(TEST!AA60=\"OUI\",TEST!E60&IF(TEST!F60=\"\",\"\",\" \"&TEST!F60),\"\"))","v":""},"","",null,"",54,{"$f":"IF(TEST!E60=\"\",\"\",TEST!E60)","v":""},{"$f":"IF(TEST!F60=\"\",\"\",TEST!F60)","v":""},{"$f":"IF(TEST!G60=\"\",\"\",TEST!G60)","v":""},{"$f":"IF(TEST!H60=\"\",\"\",TEST!H60)","v":""},{"$f":"IF(TEST!Y60=\"\",\"\",TEST!Y60)","v":""},{"$f":"IF(TEST!V60=\"\",\"\",TEST!V60)","v":""},{"$f":"IF(TEST!W60=\"\",\"\",TEST!W60)","v":""},{"$f":"IF(TEST!X60=\"\",\"\",TEST!X60)","v":""},{"$f":"IF(OR(M59=\"\",TEST!$K$1=\"\"),\"\",TEST!$K$1)","v":""},{"$f":"IF(OR(M59=\"\",TEST!$F$1=\"\"),\"\",TEST!$F$1)","v":""}]
[null,null,null,null,null,null,null,55,{"$f":"IF(TEST!Z61=\"X\",\"\",IF(TEST!AA61=\"OUI\",TEST!E61&IF(TEST!F61=\"\",\"\",\" \"&TEST!F61),\"\"))","v":""},"","",null,"",55,{"$f":"IF(TEST!E61=\"\",\"\",TEST!E61)","v":""},{"$f":"IF(TEST!F61=\"\",\"\",TEST!F61)","v":""},{"$f":"IF(TEST!G61=\"\",\"\",TEST!G61)","v":""},{"$f":"IF(TEST!H61=\"\",\"\",TEST!H61)","v":""},{"$f":"IF(TEST!Y61=\"\",\"\",TEST!Y61)","v":""},{"$f":"IF(TEST!V61=\"\",\"\",TEST!V61)","v":""},{"$f":"IF(TEST!W61=\"\",\"\",TEST!W61)","v":""},{"$f":"IF(TEST!X61=\"\",\"\",TEST!X61)","v":""},{"$f":"IF(OR(M60=\"\",TEST!$K$1=\"\"),\"\",TEST!$K$1)","v":""},{"$f":"IF(OR(M60=\"\",TEST!$F$1=\"\"),\"\",TEST!$F$1)","v":""}]
[null,null,null,null,null,null,null,56,{"$f":"IF(TEST!Z62=\"X\",\"\",IF(TEST!AA62=\"OUI\",TEST!E62&IF(TEST!F62=\"\",\"\",\" \"&TEST!F62),\"\"))","v":""},"","",null,"",56,{"$f":"IF(TEST!E62=\"\",\"\",TEST!E62)","v":""},{"$f":"IF(TEST!F62=\"\",\"\",TEST!F62)","v":""},{"$f":"IF(TEST!G62=\"\",\"\",TEST!G62)","v":""},{"$f":"IF(TEST!H62=\"\",\"\",TEST!H62)","v":""},{"$f":"IF(TEST!Y62=\"\",\"\",TEST!Y62)","v":""},{"$f":"IF(TEST!V62=\"\",\"\",TEST!V62)","v":""},{"$f":"IF(TEST!W62=\"\",\"\",TEST!W62)","v":""},{"$f":"IF(TEST!X62=\"\",\"\",TEST!X62)","v":""},{"$f":"IF(OR(M61=\"\",TEST!$K$1=\"\"),\"\",TEST!$K$1)","v":""},{"$f":"IF(OR(M61=\"\",TEST!$F$1=\"\"),\"\",TEST!$F$1)","v":""}]
[null,null,null,null,null,null,null,57,{"$f":"IF(TEST!Z63=\"X\",\"\",IF(TEST!AA63=\"OUI\",TEST!E63&IF(TEST!F63=\"\",\"\",\" \"&TEST!F63),\"\"))","v":""},"","",null,"",57,{"$f":"IF(TEST!E63=\"\",\"\",TEST!E63)","v":""},{"$f":"IF(TEST!F63=\"\",\"\",TEST!F63)","v":""},{"$f":"IF(TEST!G63=\"\",\"\",TEST!G63)","v":""},{"$f":"IF(TEST!H63=\"\",\"\",TEST!H63)","v":""},{"$f":"IF(TEST!Y63=\"\",\"\",TEST!Y63)","v":""},{"$f":"IF(TEST!V63=\"\",\"\",TEST!V63)","v":""},{"$f":"IF(TEST!W63=\"\",\"\",TEST!W63)","v":""},{"$f":"IF(TEST!X63=\"\",\"\",TEST!X63)","v":""},{"$f":"IF(OR(M62=\"\",TEST!$K$1=\"\"),\"\",TEST!$K$1)","v":""},{"$f":"IF(OR(M62=\"\",TEST!$F$1=\"\"),\"\",TEST!$F$1)","v":""}]
[null,null,null,null,null,null,null,58,{"$f":"IF(TEST!Z64=\"X\",\"\",IF(TEST!AA64=\"OUI\",TEST!E64&IF(TEST!F64=\"\",\"\",\" \"&TEST!F64),\"\"))","v":""},"","",null,"",58,{"$f":"IF(TEST!E64=\"\",\"\",TEST!E64)","v":""},{"$f":"IF(TEST!F64=\"\",\"\",TEST!F64)","v":""},{"$f":"IF(TEST!G64=\"\",\"\",TEST!G64)","v":""},{"$f":"IF(TEST!H64=\"\",\"\",TEST!H64)","v":""},{"$f":"IF(TEST!Y64=\"\",\"\",TEST!Y64)","v":""},{"$f":"IF(TEST!V64=\"\",\"\",TEST!V64)","v":""},{"$f":"IF(TEST!W64=\"\",\"\",TEST!W64)","v":""},{"$f":"IF(TEST!X64=\"\",\"\",TEST!X64)","v":""},{"$f":"IF(OR(M63=\"\",TEST!$K$1=\"\"),\"\",TEST!$K$1)","v":""},{"$f":"IF(OR(M63=\"\",TEST!$F$1=\"\"),\"\",TEST!$F$1)","v":""}]
[null,null,null,null,null,null,null,59,{"$f":"IF(TEST!Z65=\"X\",\"\",IF(TEST!AA65=\"OUI\",TEST!E65&IF(TEST!F65=\"\",\"\",\" \"&TEST!F65),\"\"))","v":""},"","",null,"",59,{"$f":"IF(TEST!E65=\"\",\"\",TEST!E65)","v":""},{"$f":"IF(TEST!F65=\"\",\"\",TEST!F65)","v":""},{"$f":"IF(TEST!G65=\"\",\"\",TEST!G65)","v":""},{"$f":"IF(TEST!H65=\"\",\"\",TEST!H65)","v":""},{"$f":"IF(TEST!Y65=\"\",\"\",TEST!Y65)","v":""},{"$f":"IF(TEST!V65=\"\",\"\",TEST!V65)","v":""},{"$f":"IF(TEST!W65=\"\",\"\",TEST!W65)","v":""},{"$f":"IF(TEST!X65=\"\",\"\",TEST!X65)","v":""},{"$f":"IF(OR(M64=\"\",TEST!$K$1=\"\"),\"\",TEST!$K$1)","v":""},{"$f":"IF(OR(M64=\"\",TEST!$F$1=\"\"),\"\",TEST!$F$1)","v":""}]
[null,null,null,null,null,null,null,60,{"$f":"IF(TEST!Z66=\"X\",\"\",IF(TEST!AA66=\"OUI\",TEST!E66&IF(TEST!F66=\"\",\"\",\" \"&TEST!F66),\"\"))","v":""},"","",null,"",60,{"$f":"IF(TEST!E66=\"\",\"\",TEST!E66)","v":""},{"$f":"IF(TEST!F66=\"\",\"\",TEST!F66)","v":""},{"$f":"IF(TEST!G66=\"\",\"\",TEST!G66)","v":""},{"$f":"IF(TEST!H66=\"\",\"\",TEST!H66)","v":""},{"$f":"IF(TEST!Y66=\"\",\"\",TEST!Y66)","v":""},{"$f":"IF(TEST!V66=\"\",\"\",TEST!V66)","v":""},{"$f":"IF(TEST!W66=\"\",\"\",TEST!W66)","v":""},{"$f":"IF(TEST!X66=\"\",\"\",TEST!X66)","v":""},{"$f":"IF(OR(M65=\"\",TEST!$K$1=\"\"),\"\",TEST!$K$1)","v":""},{"$f":"IF(OR(M65=\"\",TEST!$F$1=\"\"),\"\",TEST!$F$1)","v":""}]
[null,null,null,null,null,null,null,61,{"$f":"IF(TEST!Z67=\"X\",\"\",IF(TEST!AA67=\"OUI\",TEST!E67&IF(TEST!F67=\"\",\"\",\" \"&TEST!F67),\"\"))","v":""},"","",null,"",61,{"$f":"IF(TEST!E67=\"\",\"\",TEST!E67)","v":""},{"$f":"IF(TEST!F67=\"\",\"\",TEST!F67)","v":""},{"$f":"IF(TEST!G67=\"\",\"\",TEST!G67)","v":""},{"$f":"IF(TEST!H67=\"\",\"\",TEST!H67)","v":""},{"$f":"IF(TEST!Y67=\"\",\"\",TEST!Y67)","v":""},{"$f":"IF(TEST!V67=\"\",\"\",TEST!V67)","v":""},{"$f":"IF(TEST!W67=\"\",\"\",TEST!W67)","v":""},{"$f":"IF(TEST!X67=\"\",\"\",TEST!X67)","v":""},{"$f":"IF(OR(M66=\"\",TEST!$K$1=\"\"),\"\",TEST!$K$1)","v":""},{"$f":"IF(OR(M66=\"\",TEST!$F$1=\"\"),\"\",TEST!$F$1)","v":""}]
[null,null,null,null,null,null,null,62,{"$f":"IF(TEST!Z68=\"X\",\"\",IF(TEST!AA68=\"OUI\",TEST!E68&IF(TEST!F68=\"\",\"\",\" \"&TEST!F68),\"\"))","v":""},"","",null,"",62,{"$f":"IF(TEST!E68=\"\",\"\",TEST!E68)","v":""},{"$f":"IF(TEST!F68=\"\",\"\",TEST!F68)","v":""},{"$f":"IF(TEST!G68=\"\",\"\",TEST!G68)","v":""},{"$f":"IF(TEST!H68=\"\",\"\",TEST!H68)","v":""},{"$f":"IF(TEST!Y68=\"\",\"\",TEST!Y68)","v":""},{"$f":"IF(TEST!V68=\"\",\"\",TEST!V68)","v":""},{"$f":"IF(TEST!W68=\"\",\"\",TEST!W68)","v":""},{"$f":"IF(TEST!X68=\"\",\"\",TEST!X68)","v":""},{"$f":"IF(OR(M67=\"\",TEST!$K$1=\"\"),\"\",TEST!$K$1)","v":""},{"$f":"IF(OR(M67=\"\",TEST!$F$1=\"\"),\"\",TEST!$F$1)","v":""}]
[null,null,null,null,null,null,null,63,{"$f":"IF(TEST!Z69=\"X\",\"\",IF(TEST!AA69=\"OUI\",TEST!E69&IF(TEST!F69=\"\",\"\",\" \"&TEST!F69),\"\"))","v":""},"","",null,"",63,{"$f":"IF(TEST!E69=\"\",\"\",TEST!E69)","v":""},{"$f":"IF(TEST!F69=\"\",\"\",TEST!F69)","v":""},{"$f":"IF(TEST!G69=\"\",\"\",TEST!G69)","v":""},{"$f":"IF(TEST!H69=\"\",\"\",TEST!H69)","v":""},{"$f":"IF(TEST!Y69=\"\",\"\",TEST!Y69)","v":""},{"$f":"IF(TEST!V69=\"\",\"\",TEST!V69)","v":""},{"$f":"IF(TEST!W69=\"\",\"\",TEST!W69)","v":""},{"$f":"IF(TEST!X69=\"\",\"\",TEST!X69)","v":""},{"$f":"IF(OR(M68=\"\",TEST!$K$1=\"\"),\"\",TEST!$K$1)","v":""},{"$f":"IF(OR(M68=\"\",TEST!$F$1=\"\"),\"\",TEST!$F$1)","v":""}]
[null,null,null,null,null,null,null,64,{"$f":"IF(TEST!Z70=\"X\",\"\",IF(TEST!AA70=\"OUI\",TEST!E70&IF(TEST!F70=\"\",\"\",\" \"&TEST!F70),\"\"))","v":""},"","",null,"",64,{"$f":"IF(TEST!E70=\"\",\"\",TEST!E70)","v":""},{"$f":"IF(TEST!F70=\"\",\"\",TEST!F70)","v":""},{"$f":"IF(TEST!G70=\"\",\"\",TEST!G70)","v":""},{"$f":"IF(TEST!H70=\"\",\"\",TEST!H70)","v":""},{"$f":"IF(TEST!Y70=\"\",\"\",TEST!Y70)","v":""},{"$f":"IF(TEST!V70=\"\",\"\",TEST!V70)","v":""},{"$f":"IF(TEST!W70=\"\",\"\",TEST!W70)","v":""},{"$f":"IF(TEST!X70=\"\",\"\",TEST!X70)","v":""},{"$f":"IF(OR(M69=\"\",TEST!$K$1=\"\"),\"\",TEST!$K$1)","v":""},{"$f":"IF(OR(M69=\"\",TEST!$F$1=\"\"),\"\",TEST!$F$1)","v":""}]
[null,null,null,null,null,null,null,65,{"$f":"IF(TEST!Z71=\"X\",\"\",IF(TEST!AA71=\"OUI\",TEST!E71&IF(TEST!F71=\"\",\"\",\" \"&TEST!F71),\"\"))","v":""},"","",null,"",65,{"$f":"IF(TEST!E71=\"\",\"\",TEST!E71)","v":""},{"$f":"IF(TEST!F71=\"\",\"\",TEST!F71)","v":""},{"$f":"IF(TEST!G71=\"\",\"\",TEST!G71)","v":""},{"$f":"IF(TEST!H71=\"\",\"\",TEST!H71)","v":""},{"$f":"IF(TEST!Y71=\"\",\"\",TEST!Y71)","v":""},{"$f":"IF(TEST!V71=\"\",\"\",TEST!V71)","v":""},{"$f":"IF(TEST!W71=\"\",\"\",TEST!W71)","v":""},{"$f":"IF(TEST!X71=\"\",\"\",TEST!X71)","v":""},{"$f":"IF(OR(M70=\"\",TEST!$K$1=\"\"),\"\",TEST!$K$1)","v":""},{"$f":"IF(OR(M70=\"\",TEST!$F$1=\"\"),\"\",TEST!$F$1)","v":""}]
[null,null,null,null,null,null,null,66,{"$f":"IF(TEST!Z72=\"X\",\"\",IF(TEST!AA72=\"OUI\",TEST!E72&IF(TEST!F72=\"\",\"\",\" \"&TEST!F72),\"\"))","v":""},{"$f":"IF(I71=\"\",\"\",H71)","v":""},{"$f":"IF(ISERROR(INDEX($H$6:$I$305,SMALL($J$6:$J$305,H71),2)),\"\",INDEX($H$6:$I$305,SMALL($J$6:$J$305,H71),2))","v":""},null,{"$f":"O71&IF(P71=\"\",\"\",\" \"&P71)","v":""},66,{"$f":"IF(TEST!E72=\"\",\"\",TEST!E72)","v":""},{"$f":"IF(TEST!F72=\"\",\"\",TEST!F72)","v":""},{"$f":"IF(TEST!G72=\"\",\"\",TEST!G72)","v":""},{"$f":"IF(TEST!H72=\"\",\"\",TEST!H72)","v":""},{"$f":"IF(TEST!Y72=\"\",\"\",TEST!Y72)","v":""},{"$f":"IF(TEST!V72=\"\",\"\",TEST!V72)","v":""},{"$f":"IF(TEST!W72=\"\",\"\",TEST!W72)","v":""},{"$f":"IF(TEST!X72=\"\",\"\",TEST!X72)","v":""},{"$f":"IF(OR(M71=\"\",TEST!$K$1=\"\"),\"\",TEST!$K$1)","v":""},{"$f":"IF(OR(M71=\"\",TEST!$F$1=\"\"),\"\",TEST!$F$1)","v":""}]
[null,null,null,null,null,null,null,67,{"$f":"IF(TEST!Z73=\"X\",\"\",IF(TEST!AA73=\"OUI\",TEST!E73&IF(TEST!F73=\"\",\"\",\" \"&TEST!F73),\"\"))","v":""},"","",null,"",67,{"$f":"IF(TEST!E73=\"\",\"\",TEST!E73)","v":""},{"$f":"IF(TEST!F73=\"\",\"\",TEST!F73)","v":""},{"$f":"IF(TEST!G73=\"\",\"\",TEST!G73)","v":""},{"$f":"IF(TEST!H73=\"\",\"\",TEST!H73)","v":""},{"$f":"IF(TEST!Y73=\"\",\"\",TEST!Y73)","v":""},{"$f":"IF(TEST!V73=\"\",\"\",TEST!V73)","v":""},{"$f":"IF(TEST!W73=\"\",\"\",TEST!W73)","v":""},{"$f":"IF(TEST!X73=\"\",\"\",TEST!X73)","v":""},{"$f":"IF(OR(M72=\"\",TEST!$K$1=\"\"),\"\",TEST!$K$1)","v":""},{"$f":"IF(OR(M72=\"\",TEST!$F$1=\"\"),\"\",TEST!$F$1)","v":""}]
[null,null,null,null,null,null,null,68,{"$f":"IF(TEST!Z74=\"X\",\"\",IF(TEST!AA74=\"OUI\",TEST!E74&IF(TEST!F74=\"\",\"\",\" \"&TEST!F74),\"\"))","v":""},"","",null,"",68,{"$f":"IF(TEST!E74=\"\",\"\",TEST!E74)","v":""},{"$f":"IF(TEST!F74=\"\",\"\",TEST!F74)","v":""},{"$f":"IF(TEST!G74=\"\",\"\",TEST!G74)","v":""},{"$f":"IF(TEST!H74=\"\",\"\",TEST!H74)","v":""},{"$f":"IF(TEST!Y74=\"\",\"\",TEST!Y74)","v":""},{"$f":"IF(TEST!V74=\"\",\"\",TEST!V74)","v":""},{"$f":"IF(TEST!W74=\"\",\"\",TEST!W74)","v":""},{"$f":"IF(TEST!X74=\"\",\"\",TEST!X74)","v":""},{"$f":"IF(OR(M73=\"\",TEST!$K$1=\"\"),\"\",TEST!$K$1)","v":""},{"$f":"IF(OR(M73=\"\",TEST!$F$1=\"\"),\"\",TEST!$F$1)","v":""}]
[null,null,null,null,null,null,null,69,{"$f":"IF(TEST!Z75=\"X\",\"\",IF(TEST!AA75=\"OUI\",TEST!E75&IF(TEST!F75=\"\",\"\",\" \"&TEST!F75),\"\"))","v":""},"","",null,"",69,{"$f":"IF(TEST!E75=\"\",\"\",TEST!E75)","v":""},{"$f":"IF(TEST!F75=\"\",\"\",TEST!F75)","v":""},{"$f":"IF(TEST!G75=\"\",\"\",TEST!G75)","v":""},{"$f":"IF(TEST!H75=\"\",\"\",TEST!H75)","v":""},{"$f":"IF(TEST!Y75=\"\",\"\",TEST!Y75)","v":""},{"$f":"IF(TEST!V75=\"\",\"\",TEST!V75)","v":""},{"$f":"IF(TEST!W75=\"\",\"\",TEST!W75)","v":""},{"$f":"IF(TEST!X75=\"\",\"\",TEST!X75)","v":""},{"$f":"IF(OR(M74=\"\",TEST!$K$1=\"\"),\"\",TEST!$K$1)","v":""},{"$f":"IF(OR(M74=\"\",TEST!$F$1=\"\"),\"\",TEST!$F$1)","v":""}]
[null,null,null,null,null,null,null,70,{"$f":"IF(TEST!Z76=\"X\",\"\",IF(TEST!AA76=\"OUI\",TEST!E76&IF(TEST!F76=\"\",\"\",\" \"&TEST!F76),\"\"))","v":""},"","",null,"",70,{"$f":"IF(TEST!E76=\"\",\"\",TEST!E76)","v":""},{"$f":"IF(TEST!F76=\"\",\"\",TEST!F76)","v":""},{"$f":"IF(TEST!G76=\"\",\"\",TEST!G76)","v":""},{"$f":"IF(TEST!H76=\"\",\"\",TEST!H76)","v":""},{"$f":"IF(TEST!Y76=\"\",\"\",TEST!Y76)","v":""},{"$f":"IF(TEST!V76=\"\",\"\",TEST!V76)","v":""},{"$f":"IF(TEST!W76=\"\",\"\",TEST!W76)","v":""},{"$f":"IF(TEST!X76=\"\",\"\",TEST!X76)","v":""},{"$f":"IF(OR(M75=\"\",TEST!$K$1=\"\"),\"\",TEST!$K$1)","v":""},{"$f":"IF(OR(M75=\"\",TEST!$F$1=\"\"),\"\",TEST!$F$1)","v":""}]
[null,null,null,null,null,null,null,71,{"$f":"IF(TEST!Z77=\"X\",\"\",IF(TEST!AA77=\"OUI\",TEST!E77&IF(TEST!F77=\"\",\"\",\" \"&TEST!F77),\"\"))","v":""},"","",null,"",71,{"$f":"IF(TEST!E77=\"\",\"\",TEST!E77)","v":""},{"$f":"IF(TEST!F77=\"\",\"\",TEST!F77)","v":""},{"$f":"IF(TEST!G77=\"\",\"\",TEST!G77)","v":""},{"$f":"IF(TEST!H77=\"\",\"\",TEST!H77)","v":""},{"$f":"IF(TEST!Y77=\"\",\"\",TEST!Y77)","v":""},{"$f":"IF(TEST!V77=\"\",\"\",TEST!V77)","v":""},{"$f":"IF(TEST!W77=\"\",\"\",TEST!W77)","v":""},{"$f":"IF(TEST!X77=\"\",\"\",TEST!X77)","v":""},{"$f":"IF(OR(M76=\"\",TEST!$K$1=\"\"),\"\",TEST!$K$1)","v":""},{"$f":"IF(OR(M76=\"\",TEST!$F$1=\"\"),\"\",TEST!$F$1)","v":""}]
[null,null,null,null,null,null,null,72,{"$f":"IF(TEST!Z78=\"X\",\"\",IF(TEST!AA78=\"OUI\",TEST!E78&IF(TEST!F78=\"\",\"\",\" \"&TEST!F78),\"\"))","v":""},"","",null,"",72,{"$f":"IF(TEST!E78=\"\",\"\",TEST!E78)","v":""},{"$f":"IF(TEST!F78=\"\",\"\",TEST!F78)","v":""},{"$f":"IF(TEST!G78=\"\",\"\",TEST!G78)","v":""},{"$f":"IF(TEST!H78=\"\",\"\",TEST!H78)","v":""},{"$f":"IF(TEST!Y78=\"\",\"\",TEST!Y78)","v":""},{"$f":"IF(TEST!V78=\"\",\"\",TEST!V78)","v":""},{"$f":"IF(TEST!W78=\"\",\"\",TEST!W78)","v":""},{"$f":"IF(TEST!X78=\"\",\"\",TEST!X78)","v":""},{"$f":"IF(OR(M77=\"\",TEST!$K$1=\"\"),\"\",TEST!$K$1)","v":""},{"$f":"IF(OR(M77=\"\",TEST!$F$1=\"\"),\"\",TEST!$F$1)","v":""}]
[null,null,null,null,null,null,null,73,{"$f":"IF(TEST!Z79=\"X\",\"\",IF(TEST!AA79=\"OUI\",TEST!E79&IF(TEST!F79=\"\",\"\",\" \"&TEST!F79),\"\"))","v":""},"","",null,"",73,{"$f":"IF(TEST!E79=\"\",\"\",TEST!E79)","v":""},{"$f":"IF(TEST!F79=\"\",\"\",TEST!F79)","v":""},{"$f":"IF(TEST!G79=\"\",\"\",TEST!G79)","v":""},{"$f":"IF(TEST!H79=\"\",\"\",TEST!H79)","v":""},{"$f":"IF(TEST!Y79=\"\",\"\",TEST!Y79)","v":""},{"$f":"IF(TEST!V79=\"\",\"\",TEST!V79)","v":""},{"$f":"IF(TEST!W79=\"\",\"\",TEST!W79)","v":""},{"$f":"IF(TEST!X79=\"\",\"\",TEST!X79)","v":""},{"$f":"IF(OR(M78=\"\",TEST!$K$1=\"\"),\"\",TEST!$K$1)","v":""},{"$f":"IF(OR(M78=\"\",TEST!$F$1=\"\"),\"\",TEST!$F$1)","v":""}]
[null,null,null,null,null,null,null,74,{"$f":"IF(TEST!Z80=\"X\",\"\",IF(TEST!AA80=\"OUI\",TEST!E80&IF(TEST!F80=\"\",\"\",\" \"&TEST!F80),\"\"))","v":""},"","",null,"",74,{"$f":"IF(TEST!E80=\"\",\"\",TEST!E80)","v":""},{"$f":"IF(TEST!F80=\"\",\"\",TEST!F80)","v":""},{"$f":"IF(TEST!G80=\"\",\"\",TEST!G80)","v":""},{"$f":"IF(TEST!H80=\"\",\"\",TEST!H80)","v":""},{"$f":"IF(TEST!Y80=\"\",\"\",TEST!Y80)","v":""},{"$f":"IF(TEST!V80=\"\",\"\",TEST!V80)","v":""},{"$f":"IF(TEST!W80=\"\",\"\",TEST!W80)","v":""},{"$f":"IF(TEST!X80=\"\",\"\",TEST!X80)","v":""},{"$f":"IF(OR(M79=\"\",TEST!$K$1=\"\"),\"\",TEST!$K$1)","v":""},{"$f":"IF(OR(M79=\"\",TEST!$F$1=\"\"),\"\",TEST!$F$1)","v":""}]
[null,null,null,null,null,null,null,75,{"$f":"IF(TEST!Z81=\"X\",\"\",IF(TEST!AA81=\"OUI\",TEST!E81&IF(TEST!F81=\"\",\"\",\" \"&TEST!F81),\"\"))","v":""},"","",null,"",75,{"$f":"IF(TEST!E81=\"\",\"\",TEST!E81)","v":""},{"$f":"IF(TEST!F81=\"\",\"\",TEST!F81)","v":""},{"$f":"IF(TEST!G81=\"\",\"\",TEST!G81)","v":""},{"$f":"IF(TEST!H81=\"\",\"\",TEST!H81)","v":""},{"$f":"IF(TEST!Y81=\"\",\"\",TEST!Y81)","v":""},{"$f":"IF(TEST!V81=\"\",\"\",TEST!V81)","v":""},{"$f":"IF(TEST!W81=\"\",\"\",TEST!W81)","v":""},{"$f":"IF(TEST!X81=\"\",\"\",TEST!X81)","v":""},{"$f":"IF(OR(M80=\"\",TEST!$K$1=\"\"),\"\",TEST!$K$1)","v":""},{"$f":"IF(OR(M80=\"\",TEST!$F$1=\"\"),\"\",TEST!$F$1)","v":""}]
[null,null,null,null,null,null,null,76,{"$f":"IF(TEST!Z82=\"X\",\"\",IF(TEST!AA82=\"OUI\",TEST!E82&IF(TEST!F82=\"\",\"\",\" \"&TEST!F82),\"\"))","v":""},"","",null,"",76,{"$f":"IF(TEST!E82=\"\",\"\",TEST!E82)","v":""},{"$f":"IF(TEST!F82=\"\",\"\",TEST!F82)","v":""},{"$f":"IF(TEST!G82=\"\",\"\",TEST!G82)","v":""},{"$f":"IF(TEST!H82=\"\",\"\",TEST!H82)","v":""},{"$f":"IF(TEST!Y82=\"\",\"\",TEST!Y82)","v":""},{"$f":"IF(TEST!V82=\"\",\"\",TEST!V82)","v":""},{"$f":"IF(TEST!W82=\"\",\"\",TEST!W82)","v":""},{"$f":"IF(TEST!X82=\"\",\"\",TEST!X82)","v":""},{"$f":"IF(OR(M81=\"\",TEST!$K$1=\"\"),\"\",TEST!$K$1)","v":""},{"$f":"IF(OR(M81=\"\",TEST!$F$1=\"\"),\"\",TEST!$F$1)","v":""}]
[null,null,null,null,null,null,null,77,{"$f":"IF(TEST!Z83=\"X\",\"\",IF(TEST!AA83=\"OUI\",TEST!E83&IF(TEST!F83=\"\",\"\",\" \"&TEST!F83),\"\"))","v":""},"","",null,"",77,{"$f":"IF(TEST!E83=\"\",\"\",TEST!E83)","v":""},{"$f":"IF(TEST!F83=\"\",\"\",TEST!F83)","v":""},{"$f":"IF(TEST!G83=\"\",\"\",TEST!G83)","v":""},{"$f":"IF(TEST!H83=\"\",\"\",TEST!H83)","v":""},{"$f":"IF(TEST!Y83=\"\",\"\",TEST!Y83)","v":""},{"$f":"IF(TEST!V83=\"\",\"\",TEST!V83)","v":""},{"$f":"IF(TEST!W83=\"\",\"\",TEST!W83)","v":""},{"$f":"IF(TEST!X83=\"\",\"\",TEST!X83)","v":""},{"$f":"IF(OR(M82=\"\",TEST!$K$1=\"\"),\"\",TEST!$K$1)","v":""},{"$f":"IF(OR(M82=\"\",TEST!$F$1=\"\"),\"\",TEST!$F$1)","v":""}]
[null,null,null,null,null,null,null,78,{"$f":"IF(TEST!Z84=\"X\",\"\",IF(TEST!AA84=\"OUI\",TEST!E84&IF(TEST!F84=\"\",\"\",\" \"&TEST!F84),\"\"))","v":""},"","",null,"",78,{"$f":"IF(TEST!E84=\"\",\"\",TEST!E84)","v":""},{"$f":"IF(TEST!F84=\"\",\"\",TEST!F84)","v":""},{"$f":"IF(TEST!G84=\"\",\"\",TEST!G84)","v":""},{"$f":"IF(TEST!H84=\"\",\"\",TEST!H84)","v":""},{"$f":"IF(TEST!Y84=\"\",\"\",TEST!Y84)","v":""},{"$f":"IF(TEST!V84=\"\",\"\",TEST!V84)","v":""},{"$f":"IF(TEST!W84=\"\",\"\",TEST!W84)","v":""},{"$f":"IF(TEST!X84=\"\",\"\",TEST!X84)","v":""},{"$f":"IF(OR(M83=\"\",TEST!$K$1=\"\"),\"\",TEST!$K$1)","v":""},{"$f":"IF(OR(M83=\"\",TEST!$F$1=\"\"),\"\",TEST!$F$1)","v":""}]
[null,null,null,null,null,null,null,79,{"$f":"IF(TEST!Z85=\"X\",\"\",IF(TEST!AA85=\"OUI\",TEST!E85&IF(TEST!F85=\"\",\"\",\" \"&TEST!F85),\"\"))","v":""},"","",null,"",79,{"$f":"IF(TEST!E85=\"\",\"\",TEST!E85)","v":""},{"$f":"IF(TEST!F85=\"\",\"\",TEST!F85)","v":""},{"$f":"IF(TEST!G85=\"\",\"\",TEST!G85)","v":""},{"$f":"IF(TEST!H85=\"\",\"\",TEST!H85)","v":""},{"$f":"IF(TEST!Y85=\"\",\"\",TEST!Y85)","v":""},{"$f":"IF(TEST!V85=\"\",\"\",TEST!V85)","v":""},{"$f":"IF(TEST!W85=\"\",\"\",TEST!W85)","v":""},{"$f":"IF(TEST!X85=\"\",\"\",TEST!X85)","v":""},{"$f":"IF(OR(M84=\"\",TEST!$K$1=\"\"),\"\",TEST!$K$1)","v":""},{"$f":"IF(OR(M84=\"\",TEST!$F$1=\"\"),\"\",TEST!$F$1)","v":""}]
[null,null,null,null,null,null,null,80,{"$f":"IF(TEST!Z86=\"X\",\"\",IF(TEST!AA86=\"OUI\",TEST!E86&IF(TEST!F86=\"\",\"\",\" \"&TEST!F86),\"\"))","v":""},"","",null,"",80,{"$f":"IF(TEST!E86=\"\",\"\",TEST!E86)","v":""},{"$f":"IF(TEST!F86=\"\",\"\",TEST!F86)","v":""},{"$f":"IF(TEST!G86=\"\",\"\",TEST!G86)","v":""},{"$f":"IF(TEST!H86=\"\",\"\",TEST!H86)","v":""},{"$f":"IF(TEST!Y86=\"\",\"\",TEST!Y86)","v":""},{"$f":"IF(TEST!V86=\"\",\"\",TEST!V86)","v":""},{"$f":"IF(TEST!W86=\"\",\"\",TEST!W86)","v":""},{"$f":"IF(TEST!X86=\"\",\"\",TEST!X86)","v":""},{"$f":"IF(OR(M85=\"\",TEST!$K$1=\"\"),\"\",TEST!$K$1)","v":""},{"$f":"IF(OR(M85=\"\",TEST!$F$1=\"\"),\"\",TEST!$F$1)","v":""}]
[null,null,null,null,null,null,null,81,{"$f":"IF(TEST!Z87=\"X\",\"\",IF(TEST!AA87=\"OUI\",TEST!E87&IF(TEST!F87=\"\",\"\",\" \"&TEST!F87),\"\"))","v":""},"","",null,"",81,{"$f":"IF(TEST!E87=\"\",\"\",TEST!E87)","v":""},{"$f":"IF(TEST!F87=\"\",\"\",TEST!F87)","v":""},{"$f":"IF(TEST!G87=\"\",\"\",TEST!G87)","v":""},{"$f":"IF(TEST!H87=\"\",\"\",TEST!H87)","v":""},{"$f":"IF(TEST!Y87=\"\",\"\",TEST!Y87)","v":""},{"$f":"IF(TEST!V87=\"\",\"\",TEST!V87)","v":""},{"$f":"IF(TEST!W87=\"\",\"\",TEST!W87)","v":""},{"$f":"IF(TEST!X87=\"\",\"\",TEST!X87)","v":""},{"$f":"IF(OR(M86=\"\",TEST!$K$1=\"\"),\"\",TEST!$K$1)","v":""},{"$f":"IF(OR(M86=\"\",TEST!$F$1=\"\"),\"\",TEST!$F$1)","v":""}]
[null,null,null,null,null,null,null,82,{"$f":"IF(TEST!Z88=\"X\",\"\",IF(TEST!AA88=\"OUI\",TEST!E88&IF(TEST!F88=\"\",\"\",\" \"&TEST!F88),\"\"))","v":""},"","",null,"",82,{"$f":"IF(TEST!E88=\"\",\"\",TEST!E88)","v":""},{"$f":"IF(TEST!F88=\"\",\"\",TEST!F88)","v":""},{"$f":"IF(TEST!G88=\"\",\"\",TEST!G88)","v":""},{"$f":"IF(TEST!H88=\"\",\"\",TEST!H88)","v":""},{"$f":"IF(TEST!Y88=\"\",\"\",TEST!Y88)","v":""},{"$f":"IF(TEST!V88=\"\",\"\",TEST!V88)","v":""},{"$f":"IF(TEST!W88=\"\",\"\",TEST!W88)","v":""},{"$f":"IF(TEST!X88=\"\",\"\",TEST!X88)","v":""},{"$f":"IF(OR(M87=\"\",TEST!$K$1=\"\"),\"\",TEST!$K$1)","v":""},{"$f":"IF(OR(M87=\"\",TEST!$F$1=\"\"),\"\",TEST!$F$1)","v":""}]
[null,null,null,null,null,null,null,83,{"$f":"IF(TEST!Z89=\"X\",\"\",IF(TEST!AA89=\"OUI\",TEST!E89&IF(TEST!F89=\"\",\"\",\" \"&TEST!F89),\"\"))","v":""},"","",null,"",83,{"$f":"IF(TEST!E89=\"\",\"\",TEST!E89)","v":""},{"$f":"IF(TEST!F89=\"\",\"\",TEST!F89)","v":""},{"$f":"IF(TEST!G89=\"\",\"\",TEST!G89)","v":""},{"$f":"IF(TEST!H89=\"\",\"\",TEST!H89)","v":""},{"$f":"IF(TEST!Y89=\"\",\"\",TEST!Y89)","v":""},{"$f":"IF(TEST!V89=\"\",\"\",TEST!V89)","v":""},{"$f":"IF(TEST!W89=\"\",\"\",TEST!W89)","v":""},{"$f":"IF(TEST!X89=\"\",\"\",TEST!X89)","v":""},{"$f":"IF(OR(M88=\"\",TEST!$K$1=\"\"),\"\",TEST!$K$1)","v":""},{"$f":"IF(OR(M88=\"\",TEST!$F$1=\"\"),\"\",TEST!$F$1)","v":""}]
[null,null,null,null,null,null,null,84,{"$f":"IF(TEST!Z90=\"X\",\"\",IF(TEST!AA90=\"OUI\",TEST!E90&IF(TEST!F90=\"\",\"\",\" \"&TEST!F90),\"\"))","v":""},"","",null,"",84,{"$f":"IF(TEST!E90=\"\",\"\",TEST!E90)","v":""},{"$f":"IF(TEST!F90=\"\",\"\",TEST!F90)","v":""},{"$f":"IF(TEST!G90=\"\",\"\",TEST!G90)","v":""},{"$f":"IF(TEST!H90=\"\",\"\",TEST!H90)","v":""},{"$f":"IF(TEST!Y90=\"\",\"\",TEST!Y90)","v":""},{"$f":"IF(TEST!V90=\"\",\"\",TEST!V90)","v":""},{"$f":"IF(TEST!W90=\"\",\"\",TEST!W90)","v":""},{"$f":"IF(TEST!X90=\"\",\"\",TEST!X90)","v":""},{"$f":"IF(OR(M89=\"\",TEST!$K$1=\"\"),\"\",TEST!$K$1)","v":""},{"$f":"IF(OR(M89=\"\",TEST!$F$1=\"\"),\"\",TEST!$F$1)","v":""}]
[null,null,null,null,null,null,null,85,{"$f":"IF(TEST!Z91=\"X\",\"\",IF(TEST!AA91=\"OUI\",TEST!E91&IF(TEST!F91=\"\",\"\",\" \"&TEST!F91),\"\"))","v":""},"","",null,"",85,{"$f":"IF(TEST!E91=\"\",\"\",TEST!E91)","v":""},{"$f":"IF(TEST!F91=\"\",\"\",TEST!F91)","v":""},{"$f":"IF(TEST!G91=\"\",\"\",TEST!G91)","v":""},{"$f":"IF(TEST!H91=\"\",\"\",TEST!H91)","v":""},{"$f":"IF(TEST!Y91=\"\",\"\",TEST!Y91)","v":""},{"$f":"IF(TEST!V91=\"\",\"\",TEST!V91)","v":""},{"$f":"IF(TEST!W91=\"\",\"\",TEST!W91)","v":""},{"$f":"IF(TEST!X91=\"\",\"\",TEST!X91)","v":""},{"$f":"IF(OR(M90=\"\",TEST!$K$1=\"\"),\"\",TEST!$K$1)","v":""},{"$f":"IF(OR(M90=\"\",TEST!$F$1=\"\"),\"\",TEST!$F$1)","v":""}]
[null,null,null,null,null,null,null,86,{"$f":"IF(TEST!Z92=\"X\",\"\",IF(TEST!AA92=\"OUI\",TEST!E92&IF(TEST!F92=\"\",\"\",\" \"&TEST!F92),\"\"))","v":""},"","",null,"",86,{"$f":"IF(TEST!E92=\"\",\"\",TEST!E92)","v":""},{"$f":"IF(TEST!F92=\"\",\"\",TEST!F92)","v":""},{"$f":"IF(TEST!G92=\"\",\"\",TEST!G92)","v":""},{"$f":"IF(TEST!H92=\"\",\"\",TEST!H92)","v":""},{"$f":"IF(TEST!Y92=\"\",\"\",TEST!Y92)","v":""},{"$f":"IF(TEST!V92=\"\",\"\",TEST!V92)","v":""},{"$f":"IF(TEST!W92=\"\",\"\",TEST!W92)","v":""},{"$f":"IF(TEST!X92=\"\",\"\",TEST!X92)","v":""},{"$f":"IF(OR(M91=\"\",TEST!$K$1=\"\"),\"\",TEST!$K$1)","v":""},{"$f":"IF(OR(M91=\"\",TEST!$F$1=\"\"),\"\",TEST!$F$1)","v":""}]
[null,null,null,null,null,null,null,87,{"$f":"IF(TEST!Z93=\"X\",\"\",IF(TEST!AA93=\"OUI\",TEST!E93&IF(TEST!F93=\"\",\"\",\" \"&TEST!F93),\"\"))","v":""},"","",null,"",87,{"$f":"IF(TEST!E93=\"\",\"\",TEST!E93)","v":""},{"$f":"IF(TEST!F93=\"\",\"\",TEST!F93)","v":""},{"$f":"IF(TEST!G93=\"\",\"\",TEST!G93)","v":""},{"$f":"IF(TEST!H93=\"\",\"\",TEST!H93)","v":""},{"$f":"IF(TEST!Y93=\"\",\"\",TEST!Y93)","v":""},{"$f":"IF(TEST!V93=\"\",\"\",TEST!V93)","v":""},{"$f":"IF(TEST!W93=\"\",\"\",TEST!W93)","v":""},{"$f":"IF(TEST!X93=\"\",\"\",TEST!X93)","v":""},{"$f":"IF(OR(M92=\"\",TEST!$K$1=\"\"),\"\",TEST!$K$1)","v":""},{"$f":"IF(OR(M92=\"\",TEST!$F$1=\"\"),\"\",TEST!$F$1)","v":""}]
[null,null,null,null,null,null,null,88,{"$f":"IF(TEST!Z94=\"X\",\"\",IF(TEST!AA94=\"OUI\",TEST!E94&IF(TEST!F94=\"\",\"\",\" \"&TEST!F94),\"\"))","v":""},"","",null,"",88,{"$f":"IF(TEST!E94=\"\",\"\",TEST!E94)","v":""},{"$f":"IF(TEST!F94=\"\",\"\",TEST!F94)","v":""},{"$f":"IF(TEST!G94=\"\",\"\",TEST!G94)","v":""},{"$f":"IF(TEST!H94=\"\",\"\",TEST!H94)","v":""},{"$f":"IF(TEST!Y94=\"\",\"\",TEST!Y94)","v":""},{"$f":"IF(TEST!V94=\"\",\"\",TEST!V94)","v":""},{"$f":"IF(TEST!W94=\"\",\"\",TEST!W94)","v":""},{"$f":"IF(TEST!X94=\"\",\"\",TEST!X94)","v":""},{"$f":"IF(OR(M93=\"\",TEST!$K$1=\"\"),\"\",TEST!$K$1)","v":""},{"$f":"IF(OR(M93=\"\",TEST!$F$1=\"\"),\"\",TEST!$F$1)","v":""}]
[null,null,null,null,null,null,null,89,{"$f":"IF(TEST!Z95=\"X\",\"\",IF(TEST!AA95=\"OUI\",TEST!E95&IF(TEST!F95=\"\",\"\",\" \"&TEST!F95),\"\"))","v":""},"","",null,"",89,{"$f":"IF(TEST!E95=\"\",\"\",TEST!E95)","v":""},{"$f":"IF(TEST!F95=\"\",\"\",TEST!F95)","v":""},{"$f":"IF(TEST!G95=\"\",\"\",TEST!G95)","v":""},{"$f":"IF(TEST!H95=\"\",\"\",TEST!H95)","v":""},{"$f":"IF(TEST!Y95=\"\",\"\",TEST!Y95)","v":""},{"$f":"IF(TEST!V95=\"\",\"\",TEST!V95)","v":""},{"$f":"IF(TEST!W95=\"\",\"\",TEST!W95)","v":""},{"$f":"IF(TEST!X95=\"\",\"\",TEST!X95)","v":""},{"$f":"IF(OR(M94=\"\",TEST!$K$1=\"\"),\"\",TEST!$K$1)","v":""},{"$f":"IF(OR(M94=\"\",TEST!$F$1=\"\"),\"\",TEST!$F$1)","v":""}]
[null,null,null,null,null,null,null,90,{"$f":"IF(TEST!Z96=\"X\",\"\",IF(TEST!AA96=\"OUI\",TEST!E96&IF(TEST!F96=\"\",\"\",\" \"&TEST!F96),\"\"))","v":""},"","",null,"",90,{"$f":"IF(TEST!E96=\"\",\"\",TEST!E96)","v":""},{"$f":"IF(TEST!F96=\"\",\"\",TEST!F96)","v":""},{"$f":"IF(TEST!G96=\"\",\"\",TEST!G96)","v":""},{"$f":"IF(TEST!H96=\"\",\"\",TEST!H96)","v":""},{"$f":"IF(TEST!Y96=\"\",\"\",TEST!Y96)","v":""},{"$f":"IF(TEST!V96=\"\",\"\",TEST!V96)","v":""},{"$f":"IF(TEST!W96=\"\",\"\",TEST!W96)","v":""},{"$f":"IF(TEST!X96=\"\",\"\",TEST!X96)","v":""},{"$f":"IF(OR(M95=\"\",TEST!$K$1=\"\"),\"\",TEST!$K$1)","v":""},{"$f":"IF(OR(M95=\"\",TEST!$F$1=\"\"),\"\",TEST!$F$1)","v":""}]
[null,null,null,null,null,null,null,91,{"$f":"IF(TEST!Z97=\"X\",\"\",IF(TEST!AA97=\"OUI\",TEST!E97&IF(TEST!F97=\"\",\"\",\" \"&TEST!F97),\"\"))","v":""},"","",null,"",91,{"$f":"IF(TEST!E97=\"\",\"\",TEST!E97)","v":""},{"$f":"IF(TEST!F97=\"\",\"\",TEST!F97)","v":""},{"$f":"IF(TEST!G97=\"\",\"\",TEST!G97)","v":""},{"$f":"IF(TEST!H97=\"\",\"\",TEST!H97)","v":""},{"$f":"IF(TEST!Y97=\"\",\"\",TEST!Y97)","v":""},{"$f":"IF(TEST!V97=\"\",\"\",TEST!V97)","v":""},{"$f":"IF(TEST!W97=\"\",\"\",TEST!W97)","v":""},{"$f":"IF(TEST!X97=\"\",\"\",TEST!X97)","v":""},{"$f":"IF(OR(M96=\"\",TEST!$K$1=\"\"),\"\",TEST!$K$1)","v":""},{"$f":"IF(OR(M96=\"\",TEST!$F$1=\"\"),\"\",TEST!$F$1)","v":""}]
[null,null,null,null,null,null,null,92,{"$f":"IF(TEST!Z98=\"X\",\"\",IF(TEST!AA98=\"OUI\",TEST!E98&IF(TEST!F98=\"\",\"\",\" \"&TEST!F98),\"\"))","v":""},"","",null,"",92,{"$f":"IF(TEST!E98=\"\",\"\",TEST!E98)","v":""},{"$f":"IF(TEST!F98=\"\",\"\",TEST!F98)","v":""},{"$f":"IF(TEST!G98=\"\",\"\",TEST!G98)","v":""},{"$f":"IF(TEST!H98=\"\",\"\",TEST!H98)","v":""},{"$f":"IF(TEST!Y98=\"\",\"\",TEST!Y98)","v":""},{"$f":"IF(TEST!V98=\"\",\"\",TEST!V98)","v":""},{"$f":"IF(TEST!W98=\"\",\"\",TEST!W98)","v":""},{"$f":"IF(TEST!X98=\"\",\"\",TEST!X98)","v":""},{"$f":"IF(OR(M97=\"\",TEST!$K$1=\"\"),\"\",TEST!$K$1)","v":""},{"$f":"IF(OR(M97=\"\",TEST!$F$1=\"\"),\"\",TEST!$F$1)","v":""}]
[null,null,null,null,null,null,null,93,{"$f":"IF(TEST!Z99=\"X\",\"\",IF(TEST!AA99=\"OUI\",TEST!E99&IF(TEST!F99=\"\",\"\",\" \"&TEST!F99),\"\"))","v":""},"","",null,"",93,{"$f":"IF(TEST!E99=\"\",\"\",TEST!E99)","v":""},{"$f":"IF(TEST!F99=\"\",\"\",TEST!F99)","v":""},{"$f":"IF(TEST!G99=\"\",\"\",TEST!G99)","v":""},{"$f":"IF(TEST!H99=\"\",\"\",TEST!H99)","v":""},{"$f":"IF(TEST!Y99=\"\",\"\",TEST!Y99)","v":""},{"$f":"IF(TEST!V99=\"\",\"\",TEST!V99)","v":""},{"$f":"IF(TEST!W99=\"\",\"\",TEST!W99)","v":""},{"$f":"IF(TEST!X99=\"\",\"\",TEST!X99)","v":""},{"$f":"IF(OR(M98=\"\",TEST!$K$1=\"\"),\"\",TEST!$K$1)","v":""},{"$f":"IF(OR(M98=\"\",TEST!$F$1=\"\"),\"\",TEST!$F$1)","v":""}]
[null,null,null,null,null,null,null,94,{"$f":"IF(TEST!Z100=\"X\",\"\",IF(TEST!AA100=\"OUI\",TEST!E100&IF(TEST!F100=\"\",\"\",\" \"&TEST!F100),\"\"))","v":""},"","",null,"",94,{"$f":"IF(TEST!E100=\"\",\"\",TEST!E100)","v":""},{"$f":"IF(TEST!F100=\"\",\"\",TEST!F100)","v":""},{"$f":"IF(TEST!G100=\"\",\"\",TEST!G100)","v":""},{"$f":"IF(TEST!H100=\"\",\"\",TEST!H100)","v":""},{"$f":"IF(TEST!Y100=\"\",\"\",TEST!Y100)","v":""},{"$f":"IF(TEST!V100=\"\",\"\",TEST!V100)","v":""},{"$f":"IF(TEST!W100=\"\",\"\",TEST!W100)","v":""},{"$f":"IF(TEST!X100=\"\",\"\",TEST!X100)","v":""},{"$f":"IF(OR(M99=\"\",TEST!$K$1=\"\"),\"\",TEST!$K$1)","v":""},{"$f":"IF(OR(M99=\"\",TEST!$F$1=\"\"),\"\",TEST!$F$1)","v":""}]
[null,null,null,null,null,null,null,95,{"$f":"IF(TEST!Z101=\"X\",\"\",IF(TEST!AA101=\"OUI\",TEST!E101&IF(TEST!F101=\"\",\"\",\" \"&TEST!F101),\"\"))","v":""},"","",null,"",95,{"$f":"IF(TEST!E101=\"\",\"\",TEST!E101)","v":""},{"$f":"IF(TEST!F101=\"\",\"\",TEST!F101)","v":""},{"$f":"IF(TEST!G101=\"\",\"\",TEST!G101)","v":""},{"$f":"IF(TEST!H101=\"\",\"\",TEST!H101)","v":""},{"$f":"IF(TEST!Y101=\"\",\"\",TEST!Y101)","v":""},{"$f":"IF(TEST!V101=\"\",\"\",TEST!V101)","v":""},{"$f":"IF(TEST!W101=\"\",\"\",TEST!W101)","v":""},{"$f":"IF(TEST!X101=\"\",\"\",TEST!X101)","v":""},{"$f":"IF(OR(M100=\"\",TEST!$K$1=\"\"),\"\",TEST!$K$1)","v":""},{"$f":"IF(OR(M100=\"\",TEST!$F$1=\"\"),\"\",TEST!$F$1)","v":""}]
[null,null,null,null,null,null,null,96,{"$f":"IF(TEST!Z102=\"X\",\"\",IF(TEST!AA102=\"OUI\",TEST!E102&IF(TEST!F102=\"\",\"\",\" \"&TEST!F102),\"\"))","v":""},"","",null,"",96,{"$f":"IF(TEST!E102=\"\",\"\",TEST!E102)","v":""},{"$f":"IF(TEST!F102=\"\",\"\",TEST!F102)","v":""},{"$f":"IF(TEST!G102=\"\",\"\",TEST!G102)","v":""},{"$f":"IF(TEST!H102=\"\",\"\",TEST!H102)","v":""},{"$f":"IF(TEST!Y102=\"\",\"\",TEST!Y102)","v":""},{"$f":"IF(TEST!V102=\"\",\"\",TEST!V102)","v":""},{"$f":"IF(TEST!W102=\"\",\"\",TEST!W102)","v":""},{"$f":"IF(TEST!X102=\"\",\"\",TEST!X102)","v":""},{"$f":"IF(OR(M101=\"\",TEST!$K$1=\"\"),\"\",TEST!$K$1)","v":""},{"$f":"IF(OR(M101=\"\",TEST!$F$1=\"\"),\"\",TEST!$F$1)","v":""}]
[null,null,null,null,null,null,null,97,{"$f":"IF(TEST!Z103=\"X\",\"\",IF(TEST!AA103=\"OUI\",TEST!E103&IF(TEST!F103=\"\",\"\",\" \"&TEST!F103),\"\"))","v":""},"","",null,"",97,{"$f":"IF(TEST!E103=\"\",\"\",TEST!E103)","v":""},{"$f":"IF(TEST!F103=\"\",\"\",TEST!F103)","v":""},{"$f":"IF(TEST!G103=\"\",\"\",TEST!G103)","v":""},{"$f":"IF(TEST!H103=\"\",\"\",TEST!H103)","v":""},{"$f":"IF(TEST!Y103=\"\",\"\",TEST!Y103)","v":""},{"$f":"IF(TEST!V103=\"\",\"\",TEST!V103)","v":""},{"$f":"IF(TEST!W103=\"\",\"\",TEST!W103)","v":""},{"$f":"IF(TEST!X103=\"\",\"\",TEST!X103)","v":""},{"$f":"IF(OR(M102=\"\",TEST!$K$1=\"\"),\"\",TEST!$K$1)","v":""},{"$f":"IF(OR(M102=\"\",TEST!$F$1=\"\"),\"\",TEST!$F$1)","v":""}]
[null,null,null,null,null,null,null,98,{"$f":"IF(TEST!Z104=\"X\",\"\",IF(TEST!AA104=\"OUI\",TEST!E104&IF(TEST!F104=\"\",\"\",\" \"&TEST!F104),\"\"))","v":""},"","",null,"",98,{"$f":"IF(TEST!E104=\"\",\"\",TEST!E104)","v":""},{"$f":"IF(TEST!F104=\"\",\"\",TEST!F104)","v":""},{"$f":"IF(TEST!G104=\"\",\"\",TEST!G104)","v":""},{"$f":"IF(TEST!H104=\"\",\"\",TEST!H104)","v":""},{"$f":"IF(TEST!Y104=\"\",\"\",TEST!Y104)","v":""},{"$f":"IF(TEST!V104=\"\",\"\",TEST!V104)","v":""},{"$f":"IF(TEST!W104=\"\",\"\",TEST!W104)","v":""},{"$f":"IF(TEST!X104=\"\",\"\",TEST!X104)","v":""},{"$f":"IF(OR(M103=\"\",TEST!$K$1=\"\"),\"\",TEST!$K$1)","v":""},{"$f":"IF(OR(M103=\"\",TEST!$F$1=\"\"),\"\",TEST!$F$1)","v":""}]
[null,null,null,null,null,null,null,99,{"$f":"IF(TEST!Z105=\"X\",\"\",IF(TEST!AA105=\"OUI\",TEST!E105&IF(TEST!F105=\"\",\"\",\" \"&TEST!F105),\"\"))","v":""},"","",null,"",99,{"$f":"IF(TEST!E105=\"\",\"\",TEST!E105)","v":""},{"$f":"IF(TEST!F105=\"\",\"\",TEST!F105)","v":""},{"$f":"IF(TEST!G105=\"\",\"\",TEST!G105)","v":""},{"$f":"IF(TEST!H105=\"\",\"\",TEST!H105)","v":""},{"$f":"IF(TEST!Y105=\"\",\"\",TEST!Y105)","v":""},{"$f":"IF(TEST!V105=\"\",\"\",TEST!V105)","v":""},{"$f":"IF(TEST!W105=\"\",\"\",TEST!W105)","v":""},{"$f":"IF(TEST!X105=\"\",\"\",TEST!X105)","v":""},{"$f":"IF(OR(M104=\"\",TEST!$K$1=\"\"),\"\",TEST!$K$1)","v":""},{"$f":"IF(OR(M104=\"\",TEST!$F$1=\"\"),\"\",TEST!$F$1)","v":""}]
[null,null,null,null,null,null,null,100,{"$f":"IF(TEST!Z106=\"X\",\"\",IF(TEST!AA106=\"OUI\",TEST!E106&IF(TEST!F106=\"\",\"\",\" \"&TEST!F106),\"\"))","v":""},"","",null,"",100,{"$f":"IF(TEST!E106=\"\",\"\",TEST!E106)","v":""},{"$f":"IF(TEST!F106=\"\",\"\",TEST!F106)","v":""},{"$f":"IF(TEST!G106=\"\",\"\",TEST!G106)","v":""},{"$f":"IF(TEST!H106=\"\",\"\",TEST!H106)","v":""},{"$f":"IF(TEST!Y106=\"\",\"\",TEST!Y106)","v":""},{"$f":"IF(TEST!V106=\"\",\"\",TEST!V106)","v":""},{"$f":"IF(TEST!W106=\"\",\"\",TEST!W106)","v":""},{"$f":"IF(TEST!X106=\"\",\"\",TEST!X106)","v":""},{"$f":"IF(OR(M105=\"\",TEST!$K$1=\"\"),\"\",TEST!$K$1)","v":""},{"$f":"IF(OR(M105=\"\",TEST!$F$1=\"\"),\"\",TEST!$F$1)","v":""}]
[null,null,null,null,null,null,null,101,{"$f":"IF(TEST!Z107=\"X\",\"\",IF(TEST!AA107=\"OUI\",TEST!E107&IF(TEST!F107=\"\",\"\",\" \"&TEST!F107),\"\"))","v":""},"","",null,"",101,{"$f":"IF(TEST!E107=\"\",\"\",TEST!E107)","v":""},{"$f":"IF(TEST!F107=\"\",\"\",TEST!F107)","v":""},{"$f":"IF(TEST!G107=\"\",\"\",TEST!G107)","v":""},{"$f":"IF(TEST!H107=\"\",\"\",TEST!H107)","v":""},{"$f":"IF(TEST!Y107=\"\",\"\",TEST!Y107)","v":""},{"$f":"IF(TEST!V107=\"\",\"\",TEST!V107)","v":""},{"$f":"IF(TEST!W107=\"\",\"\",TEST!W107)","v":""},{"$f":"IF(TEST!X107=\"\",\"\",TEST!X107)","v":""},{"$f":"IF(OR(M106=\"\",TEST!$K$1=\"\"),\"\",TEST!$K$1)","v":""},{"$f":"IF(OR(M106=\"\",TEST!$F$1=\"\"),\"\",TEST!$F$1)","v":""}]
[null,null,null,null,null,null,null,102,{"$f":"IF(TEST!Z108=\"X\",\"\",IF(TEST!AA108=\"OUI\",TEST!E108&IF(TEST!F108=\"\",\"\",\" \"&TEST!F108),\"\"))","v":""},"","",null,"",102,{"$f":"IF(TEST!E108=\"\",\"\",TEST!E108)","v":""},{"$f":"IF(TEST!F108=\"\",\"\",TEST!F108)","v":""},{"$f":"IF(TEST!G108=\"\",\"\",TEST!G108)","v":""},{"$f":"IF(TEST!H108=\"\",\"\",TEST!H108)","v":""},{"$f":"IF(TEST!Y108=\"\",\"\",TEST!Y108)","v":""},{"$f":"IF(TEST!V108=\"\",\"\",TEST!V108)","v":""},{"$f":"IF(TEST!W108=\"\",\"\",TEST!W108)","v":""},{"$f":"IF(TEST!X108=\"\",\"\",TEST!X108)","v":""},{"$f":"IF(OR(M107=\"\",TEST!$K$1=\"\"),\"\",TEST!$K$1)","v":""},{"$f":"IF(OR(M107=\"\",TEST!$F$1=\"\"),\"\",TEST!$F$1)","v":""}]
[null,null,null,null,null,null,null,103,{"$f":"IF(TEST!Z109=\"X\",\"\",IF(TEST!AA109=\"OUI\",TEST!E109&IF(TEST!F109=\"\",\"\",\" \"&TEST!F109),\"\"))","v":""},"","",null,"",103,{"$f":"IF(TEST!E109=\"\",\"\",TEST!E109)","v":""},{"$f":"IF(TEST!F109=\"\",\"\",TEST!F109)","v":""},{"$f":"IF(TEST!G109=\"\",\"\",TEST!G109)","v":""},{"$f":"IF(TEST!H109=\"\",\"\",TEST!H109)","v":""},{"$f":"IF(TEST!Y109=\"\",\"\",TEST!Y109)","v":""},{"$f":"IF(TEST!V109=\"\",\"\",TEST!V109)","v":""},{"$f":"IF(TEST!W109=\"\",\"\",TEST!W109)","v":""},{"$f":"IF(TEST!X109=\"\",\"\",TEST!X109)","v":""},{"$f":"IF(OR(M108=\"\",TEST!$K$1=\"\"),\"\",TEST!$K$1)","v":""},{"$f":"IF(OR(M108=\"\",TEST!$F$1=\"\"),\"\",TEST!$F$1)","v":""}]
[null,null,null,null,null,null,null,104,{"$f":"IF(TEST!Z110=\"X\",\"\",IF(TEST!AA110=\"OUI\",TEST!E110&IF(TEST!F110=\"\",\"\",\" \"&TEST!F110),\"\"))","v":""},"","",null,"",104,{"$f":"IF(TEST!E110=\"\",\"\",TEST!E110)","v":""},{"$f":"IF(TEST!F110=\"\",\"\",TEST!F110)","v":""},{"$f":"IF(TEST!G110=\"\",\"\",TEST!G110)","v":""},{"$f":"IF(TEST!H110=\"\",\"\",TEST!H110)","v":""},{"$f":"IF(TEST!Y110=\"\",\"\",TEST!Y110)","v":""},{"$f":"IF(TEST!V110=\"\",\"\",TEST!V110)","v":""},{"$f":"IF(TEST!W110=\"\",\"\",TEST!W110)","v":""},{"$f":"IF(TEST!X110=\"\",\"\",TEST!X110)","v":""},{"$f":"IF(OR(M109=\"\",TEST!$K$1=\"\"),\"\",TEST!$K$1)","v":""},{"$f":"IF(OR(M109=\"\",TEST!$F$1=\"\"),\"\",TEST!$F$1)","v":""}]
[null,null,null,null,null,null,null,105,{"$f":"IF(TEST!Z111=\"X\",\"\",IF(TEST!AA111=\"OUI\",TEST!E111&IF(TEST!F111=\"\",\"\",\" \"&TEST!F111),\"\"))","v":""},"","",null,"",105,{"$f":"IF(TEST!E111=\"\",\"\",TEST!E111)","v":""},{"$f":"IF(TEST!F111=\"\",\"\",TEST!F111)","v":""},{"$f":"IF(TEST!G111=\"\",\"\",TEST!G111)","v":""},{"$f":"IF(TEST!H111=\"\",\"\",TEST!H111)","v":""},{"$f":"IF(TEST!Y111=\"\",\"\",TEST!Y111)","v":""},{"$f":"IF(TEST!V111=\"\",\"\",TEST!V111)","v":""},{"$f":"IF(TEST!W111=\"\",\"\",TEST!W111)","v":""},{"$f":"IF(TEST!X111=\"\",\"\",TEST!X111)","v":""},{"$f":"IF(OR(M110=\"\",TEST!$K$1=\"\"),\"\",TEST!$K$1)","v":""},{"$f":"IF(OR(M110=\"\",TEST!$F$1=\"\"),\"\",TEST!$F$1)","v":""}]
[null,null,null,null,null,null,null,106,{"$f":"IF(TEST!Z112=\"X\",\"\",IF(TEST!AA112=\"OUI\",TEST!E112&IF(TEST!F112=\"\",\"\",\" \"&TEST!F112),\"\"))","v":""},"","",null,"",106,{"$f":"IF(TEST!E112=\"\",\"\",TEST!E112)","v":""},{"$f":"IF(TEST!F112=\"\",\"\",TEST!F112)","v":""},{"$f":"IF(TEST!G112=\"\",\"\",TEST!G112)","v":""},{"$f":"IF(TEST!H112=\"\",\"\",TEST!H112)","v":""},{"$f":"IF(TEST!Y112=\"\",\"\",TEST!Y112)","v":""},{"$f":"IF(TEST!V112=\"\",\"\",TEST!V112)","v":""},{"$f":"IF(TEST!W112=\"\",\"\",TEST!W112)","v":""},{"$f":"IF(TEST!X112=\"\",\"\",TEST!X112)","v":""},{"$f":"IF(OR(M111=\"\",TEST!$K$1=\"\"),\"\",TEST!$K$1)","v":""},{"$f":"IF(OR(M111=\"\",TEST!$F$1=\"\"),\"\",TEST!$F$1)","v":""}]
[null,null,null,null,null,null,null,107,{"$f":"IF(TEST!Z113=\"X\",\"\",IF(TEST!AA113=\"OUI\",TEST!E113&IF(TEST!F113=\"\",\"\",\" \"&TEST!F113),\"\"))","v":""},"","",null,"",107,{"$f":"IF(TEST!E113=\"\",\"\",TEST!E113)","v":""},{"$f":"IF(TEST!F113=\"\",\"\",TEST!F113)","v":""},{"$f":"IF(TEST!G113=\"\",\"\",TEST!G113)","v":""},{"$f":"IF(TEST!H113=\"\",\"\",TEST!H113)","v":""},{"$f":"IF(TEST!Y113=\"\",\"\",TEST!Y113)","v":""},{"$f":"IF(TEST!V113=\"\",\"\",TEST!V113)","v":""},{"$f":"IF(TEST!W113=\"\",\"\",TEST!W113)","v":""},{"$f":"IF(TEST!X113=\"\",\"\",TEST!X113)","v":""},{"$f":"IF(OR(M112=\"\",TEST!$K$1=\"\"),\"\",TEST!$K$1)","v":""},{"$f":"IF(OR(M112=\"\",TEST!$F$1=\"\"),\"\",TEST!$F$1)","v":""}]
[null,null,null,null,null,null,null,108,{"$f":"IF(TEST!Z114=\"X\",\"\",IF(TEST!AA114=\"OUI\",TEST!E114&IF(TEST!F114=\"\",\"\",\" \"&TEST!F114),\"\"))","v":""},"","",null,"",108,{"$f":"IF(TEST!E114=\"\",\"\",TEST!E114)","v":""},{"$f":"IF(TEST!F114=\"\",\"\",TEST!F114)","v":""},{"$f":"IF(TEST!G114=\"\",\"\",TEST!G114)","v":""},{"$f":"IF(TEST!H114=\"\",\"\",TEST!H114)","v":""},{"$f":"IF(TEST!Y114=\"\",\"\",TEST!Y114)","v":""},{"$f":"IF(TEST!V114=\"\",\"\",TEST!V114)","v":""},{"$f":"IF(TEST!W114=\"\",\"\",TEST!W114)","v":""},{"$f":"IF(TEST!X114=\"\",\"\",TEST!X114)","v":""},{"$f":"IF(OR(M113=\"\",TEST!$K$1=\"\"),\"\",TEST!$K$1)","v":""},{"$f":"IF(OR(M113=\"\",TEST!$F$1=\"\"),\"\",TEST!$F$1)","v":""}]
[null,null,null,null,null,null,null,109,{"$f":"IF(TEST!Z115=\"X\",\"\",IF(TEST!AA115=\"OUI\",TEST!E115&IF(TEST!F115=\"\",\"\",\" \"&TEST!F115),\"\"))","v":""},"","",null,"",109,{"$f":"IF(TEST!E115=\"\",\"\",TEST!E115)","v":""},{"$f":"IF(TEST!F115=\"\",\"\",TEST!F115)","v":""},{"$f":"IF(TEST!G115=\"\",\"\",TEST!G115)","v":""},{"$f":"IF(TEST!H115=\"\",\"\",TEST!H115)","v":""},{"$f":"IF(TEST!Y115=\"\",\"\",TEST!Y115)","v":""},{"$f":"IF(TEST!V115=\"\",\"\",TEST!V115)","v":""},{"$f":"IF(TEST!W115=\"\",\"\",TEST!W115)","v":""},{"$f":"IF(TEST!X115=\"\",\"\",TEST!X115)","v":""},{"$f":"IF(OR(M114=\"\",TEST!$K$1=\"\"),\"\",TEST!$K$1)","v":""},{"$f":"IF(OR(M114=\"\",TEST!$F$1=\"\"),\"\",TEST!$F$1)","v":""}]
[null,null,null,null,null,null,null,110,{"$f":"IF(TEST!Z116=\"X\",\"\",IF(TEST!AA116=\"OUI\",TEST!E116&IF(TEST!F116=\"\",\"\",\" \"&TEST!F116),\"\"))","v":""},"","",null,"",110,{"$f":"IF(TEST!E116=\"\",\"\",TEST!E116)","v":""},{"$f":"IF(TEST!F116=\"\",\"\",TEST!F116)","v":""},{"$f":"IF(TEST!G116=\"\",\"\",TEST!G116)","v":""},{"$f":"IF(TEST!H116=\"\",\"\",TEST!H116)","v":""},{"$f":"IF(TEST!Y116=\"\",\"\",TEST!Y116)","v":""},{"$f":"IF(TEST!V116=\"\",\"\",TEST!V116)","v":""},{"$f":"IF(TEST!W116=\"\",\"\",TEST!W116)","v":""},{"$f":"IF(TEST!X116=\"\",\"\",TEST!X116)","v":""},{"$f":"IF(OR(M115=\"\",TEST!$K$1=\"\"),\"\",TEST!$K$1)","v":""},{"$f":"IF(OR(M115=\"\",TEST!$F$1=\"\"),\"\",TEST!$F$1)","v":""}]
[null,null,null,null,null,null,null,111,{"$f":"IF(TEST!Z117=\"X\",\"\",IF(TEST!AA117=\"OUI\",TEST!E117&IF(TEST!F117=\"\",\"\",\" \"&TEST!F117),\"\"))","v":""},"","",null,"",111,{"$f":"IF(TEST!E117=\"\",\"\",TEST!E117)","v":""},{"$f":"IF(TEST!F117=\"\",\"\",TEST!F117)","v":""},{"$f":"IF(TEST!G117=\"\",\"\",TEST!G117)","v":""},{"$f":"IF(TEST!H117=\"\",\"\",TEST!H117)","v":""},{"$f":"IF(TEST!Y117=\"\",\"\",TEST!Y117)","v":""},{"$f":"IF(TEST!V117=\"\",\"\",TEST!V117)","v":""},{"$f":"IF(TEST!W117=\"\",\"\",TEST!W117)","v":""},{"$f":"IF(TEST!X117=\"\",\"\",TEST!X117)","v":""},{"$f":"IF(OR(M116=\"\",TEST!$K$1=\"\"),\"\",TEST!$K$1)","v":""},{"$f":"IF(OR(M116=\"\",TEST!$F$1=\"\"),\"\",TEST!$F$1)","v":""}]
[null,null,null,null,null,null,null,112,{"$f":"IF(TEST!Z118=\"X\",\"\",IF(TEST!AA118=\"OUI\",TEST!E118&IF(TEST!F118=\"\",\"\",\" \"&TEST!F118),\"\"))","v":""},"","",null,"",112,{"$f":"IF(TEST!E118=\"\",\"\",TEST!E118)","v":""},{"$f":"IF(TEST!F118=\"\",\"\",TEST!F118)","v":""},{"$f":"IF(TEST!G118=\"\",\"\",TEST!G118)","v":""},{"$f":"IF(TEST!H118=\"\",\"\",TEST!H118)","v":""},{"$f":"IF(TEST!Y118=\"\",\"\",TEST!Y118)","v":""},{"$f":"IF(TEST!V118=\"\",\"\",TEST!V118)","v":""},{"$f":"IF(TEST!W118=\"\",\"\",TEST!W118)","v":""},{"$f":"IF(TEST!X118=\"\",\"\",TEST!X118)","v":""},{"$f":"IF(OR(M117=\"\",TEST!$K$1=\"\"),\"\",TEST!$K$1)","v":""},{"$f":"IF(OR(M117=\"\",TEST!$F$1=\"\"),\"\",TEST!$F$1)","v":""}]
[null,null,null,null,null,null,null,113,{"$f":"IF(TEST!Z119=\"X\",\"\",IF(TEST!AA119=\"OUI\",TEST!E119&IF(TEST!F119=\"\",\"\",\" \"&TEST!F119),\"\"))","v":""},"","",null,"",113,{"$f":"IF(TEST!E119=\"\",\"\",TEST!E119)","v":""},{"$f":"IF(TEST!F119=\"\",\"\",TEST!F119)","v":""},{"$f":"IF(TEST!G119=\"\",\"\",TEST!G119)","v":""},{"$f":"IF(TEST!H119=\"\",\"\",TEST!H119)","v":""},{"$f":"IF(TEST!Y119=\"\",\"\",TEST!Y119)","v":""},{"$f":"IF(TEST!V119=\"\",\"\",TEST!V119)","v":""},{"$f":"IF(TEST!W119=\"\",\"\",TEST!W119)","v":""},{"$f":"IF(TEST!X119=\"\",\"\",TEST!X119)","v":""},{"$f":"IF(OR(M118=\"\",TEST!$K$1=\"\"),\"\",TEST!$K$1)","v":""},{"$f":"IF(OR(M118=\"\",TEST!$F$1=\"\"),\"\",TEST!$F$1)","v":""}]
[null,null,null,null,null,null,null,114,{"$f":"IF(TEST!Z120=\"X\",\"\",IF(TEST!AA120=\"OUI\",TEST!E120&IF(TEST!F120=\"\",\"\",\" \"&TEST!F120),\"\"))","v":""},"","",null,"",114,{"$f":"IF(TEST!E120=\"\",\"\",TEST!E120)","v":""},{"$f":"IF(TEST!F120=\"\",\"\",TEST!F120)","v":""},{"$f":"IF(TEST!G120=\"\",\"\",TEST!G120)","v":""},{"$f":"IF(TEST!H120=\"\",\"\",TEST!H120)","v":""},{"$f":"IF(TEST!Y120=\"\",\"\",TEST!Y120)","v":""},{"$f":"IF(TEST!V120=\"\",\"\",TEST!V120)","v":""},{"$f":"IF(TEST!W120=\"\",\"\",TEST!W120)","v":""},{"$f":"IF(TEST!X120=\"\",\"\",TEST!X120)","v":""},{"$f":"IF(OR(M119=\"\",TEST!$K$1=\"\"),\"\",TEST!$K$1)","v":""},{"$f":"IF(OR(M119=\"\",TEST!$F$1=\"\"),\"\",TEST!$F$1)","v":""}]
[null,null,null,null,null,null,null,115,{"$f":"IF(TEST!Z121=\"X\",\"\",IF(TEST!AA121=\"OUI\",TEST!E121&IF(TEST!F121=\"\",\"\",\" \"&TEST!F121),\"\"))","v":""},"","",null,"",115,{"$f":"IF(TEST!E121=\"\",\"\",TEST!E121)","v":""},{"$f":"IF(TEST!F121=\"\",\"\",TEST!F121)","v":""},{"$f":"IF(TEST!G121=\"\",\"\",TEST!G121)","v":""},{"$f":"IF(TEST!H121=\"\",\"\",TEST!H121)","v":""},{"$f":"IF(TEST!Y121=\"\",\"\",TEST!Y121)","v":""},{"$f":"IF(TEST!V121=\"\",\"\",TEST!V121)","v":""},{"$f":"IF(TEST!W121=\"\",\"\",TEST!W121)","v":""},{"$f":"IF(TEST!X121=\"\",\"\",TEST!X121)","v":""},{"$f":"IF(OR(M120=\"\",TEST!$K$1=\"\"),\"\",TEST!$K$1)","v":""},{"$f":"IF(OR(M120=\"\",TEST!$F$1=\"\"),\"\",TEST!$F$1)","v":""}]
[null,null,null,null,null,null,null,116,{"$f":"IF(TEST!Z122=\"X\",\"\",IF(TEST!AA122=\"OUI\",TEST!E122&IF(TEST!F122=\"\",\"\",\" \"&TEST!F122),\"\"))","v":""},"","",null,"",116,{"$f":"IF(TEST!E122=\"\",\"\",TEST!E122)","v":""},{"$f":"IF(TEST!F122=\"\",\"\",TEST!F122)","v":""},{"$f":"IF(TEST!G122=\"\",\"\",TEST!G122)","v":""},{"$f":"IF(TEST!H122=\"\",\"\",TEST!H122)","v":""},{"$f":"IF(TEST!Y122=\"\",\"\",TEST!Y122)","v":""},{"$f":"IF(TEST!V122=\"\",\"\",TEST!V122)","v":""},{"$f":"IF(TEST!W122=\"\",\"\",TEST!W122)","v":""},{"$f":"IF(TEST!X122=\"\",\"\",TEST!X122)","v":""},{"$f":"IF(OR(M121=\"\",TEST!$K$1=\"\"),\"\",TEST!$K$1)","v":""},{"$f":"IF(OR(M121=\"\",TEST!$F$1=\"\"),\"\",TEST!$F$1)","v":""}]
[null,null,null,null,null,null,null,117,{"$f":"IF(TEST!Z123=\"X\",\"\",IF(TEST!AA123=\"OUI\",TEST!E123&IF(TEST!F123=\"\",\"\",\" \"&TEST!F123),\"\"))","v":""},"","",null,"",117,{"$f":"IF(TEST!E123=\"\",\"\",TEST!E123)","v":""},{"$f":"IF(TEST!F123=\"\",\"\",TEST!F123)","v":""},{"$f":"IF(TEST!G123=\"\",\"\",TEST!G123)","v":""},{"$f":"IF(TEST!H123=\"\",\"\",TEST!H123)","v":""},{"$f":"IF(TEST!Y123=\"\",\"\",TEST!Y123)","v":""},{"$f":"IF(TEST!V123=\"\",\"\",TEST!V123)","v":""},{"$f":"IF(TEST!W123=\"\",\"\",TEST!W123)","v":""},{"$f":"IF(TEST!X123=\"\",\"\",TEST!X123)","v":""},{"$f":"IF(OR(M122=\"\",TEST!$K$1=\"\"),\"\",TEST!$K$1)","v":""},{"$f":"IF(OR(M122=\"\",TEST!$F$1=\"\"),\"\",TEST!$F$1)","v":""}]
[null,null,null,null,null,null,null,118,{"$f":"IF(TEST!Z124=\"X\",\"\",IF(TEST!AA124=\"OUI\",TEST!E124&IF(TEST!F124=\"\",\"\",\" \"&TEST!F124),\"\"))","v":""},"","",null,"",118,{"$f":"IF(TEST!E124=\"\",\"\",TEST!E124)","v":""},{"$f":"IF(TEST!F124=\"\",\"\",TEST!F124)","v":""},{"$f":"IF(TEST!G124=\"\",\"\",TEST!G124)","v":""},{"$f":"IF(TEST!H124=\"\",\"\",TEST!H124)","v":""},{"$f":"IF(TEST!Y124=\"\",\"\",TEST!Y124)","v":""},{"$f":"IF(TEST!V124=\"\",\"\",TEST!V124)","v":""},{"$f":"IF(TEST!W124=\"\",\"\",TEST!W124)","v":""},{"$f":"IF(TEST!X124=\"\",\"\",TEST!X124)","v":""},{"$f":"IF(OR(M123=\"\",TEST!$K$1=\"\"),\"\",TEST!$K$1)","v":""},{"$f":"IF(OR(M123=\"\",TEST!$F$1=\"\"),\"\",TEST!$F$1)","v":""}]
[null,null,null,null,null,null,null,119,{"$f":"IF(TEST!Z125=\"X\",\"\",IF(TEST!AA125=\"OUI\",TEST!E125&IF(TEST!F125=\"\",\"\",\" \"&TEST!F125),\"\"))","v":""},"","",null,"",119,{"$f":"IF(TEST!E125=\"\",\"\",TEST!E125)","v":""},{"$f":"IF(TEST!F125=\"\",\"\",TEST!F125)","v":""},{"$f":"IF(TEST!G125=\"\",\"\",TEST!G125)","v":""},{"$f":"IF(TEST!H125=\"\",\"\",TEST!H125)","v":""},{"$f":"IF(TEST!Y125=\"\",\"\",TEST!Y125)","v":""},{"$f":"IF(TEST!V125=\"\",\"\",TEST!V125)","v":""},{"$f":"IF(TEST!W125=\"\",\"\",TEST!W125)","v":""},{"$f":"IF(TEST!X125=\"\",\"\",TEST!X125)","v":""},{"$f":"IF(OR(M124=\"\",TEST!$K$1=\"\"),\"\",TEST!$K$1)","v":""},{"$f":"IF(OR(M124=\"\",TEST!$F$1=\"\"),\"\",TEST!$F$1)","v":""}]
[null,null,null,null,null,null,null,120,{"$f":"IF(TEST!Z126=\"X\",\"\",IF(TEST!AA126=\"OUI\",TEST!E126&IF(TEST!F126=\"\",\"\",\" \"&TEST!F126),\"\"))","v":""},"","",null,"",120,{"$f":"IF(TEST!E126=\"\",\"\",TEST!E126)","v":""},{"$f":"IF(TEST!F126=\"\",\"\",TEST!F126)","v":""},{"$f":"IF(TEST!G126=\"\",\"\",TEST!G126)","v":""},{"$f":"IF(TEST!H126=\"\",\"\",TEST!H126)","v":""},{"$f":"IF(TEST!Y126=\"\",\"\",TEST!Y126)","v":""},{"$f":"IF(TEST!V126=\"\",\"\",TEST!V126)","v":""},{"$f":"IF(TEST!W126=\"\",\"\",TEST!W126)","v":""},{"$f":"IF(TEST!X126=\"\",\"\",TEST!X126)","v":""},{"$f":"IF(OR(M125=\"\",TEST!$K$1=\"\"),\"\",TEST!$K$1)","v":""},{"$f":"IF(OR(M125=\"\",TEST!$F$1=\"\"),\"\",TEST!$F$1)","v":""}]
[null,null,null,null,null,null,null,121,{"$f":"IF(TEST!Z127=\"X\",\"\",IF(TEST!AA127=\"OUI\",TEST!E127&IF(TEST!F127=\"\",\"\",\" \"&TEST!F127),\"\"))","v":""},"","",null,"",121,{"$f":"IF(TEST!E127=\"\",\"\",TEST!E127)","v":""},{"$f":"IF(TEST!F127=\"\",\"\",TEST!F127)","v":""},{"$f":"IF(TEST!G127=\"\",\"\",TEST!G127)","v":""},{"$f":"IF(TEST!H127=\"\",\"\",TEST!H127)","v":""},{"$f":"IF(TEST!Y127=\"\",\"\",TEST!Y127)","v":""},{"$f":"IF(TEST!V127=\"\",\"\",TEST!V127)","v":""},{"$f":"IF(TEST!W127=\"\",\"\",TEST!W127)","v":""},{"$f":"IF(TEST!X127=\"\",\"\",TEST!X127)","v":""},{"$f":"IF(OR(M126=\"\",TEST!$K$1=\"\"),\"\",TEST!$K$1)","v":""},{"$f":"IF(OR(M126=\"\",TEST!$F$1=\"\"),\"\",TEST!$F$1)","v":""}]
[null,null,null,null,null,null,null,122,{"$f":"IF(TEST!Z128=\"X\",\"\",IF(TEST!AA128=\"OUI\",TEST!E128&IF(TEST!F128=\"\",\"\",\" \"&TEST!F128),\"\"))","v":""},"","",null,"",122,{"$f":"IF(TEST!E128=\"\",\"\",TEST!E128)","v":""},{"$f":"IF(TEST!F128=\"\",\"\",TEST!F128)","v":""},{"$f":"IF(TEST!G128=\"\",\"\",TEST!G128)","v":""},{"$f":"IF(TEST!H128=\"\",\"\",TEST!H128)","v":""},{"$f":"IF(TEST!Y128=\"\",\"\",TEST!Y128)","v":""},{"$f":"IF(TEST!V128=\"\",\"\",TEST!V128)","v":""},{"$f":"IF(TEST!W128=\"\",\"\",TEST!W128)","v":""},{"$f":"IF(TEST!X128=\"\",\"\",TEST!X128)","v":""},{"$f":"IF(OR(M127=\"\",TEST!$K$1=\"\"),\"\",TEST!$K$1)","v":""},{"$f":"IF(OR(M127=\"\",TEST!$F$1=\"\"),\"\",TEST!$F$1)","v":""}]
[null,null,null,null,null,null,null,123,{"$f":"IF(TEST!Z129=\"X\",\"\",IF(TEST!AA129=\"OUI\",TEST!E129&IF(TEST!F129=\"\",\"\",\" \"&TEST!F129),\"\"))","v":""},"","",null,"",123,{"$f":"IF(TEST!E129=\"\",\"\",TEST!E129)","v":""},{"$f":"IF(TEST!F129=\"\",\"\",TEST!F129)","v":""},{"$f":"IF(TEST!G129=\"\",\"\",TEST!G129)","v":""},{"$f":"IF(TEST!H129=\"\",\"\",TEST!H129)","v":""},{"$f":"IF(TEST!Y129=\"\",\"\",TEST!Y129)","v":""},{"$f":"IF(TEST!V129=\"\",\"\",TEST!V129)","v":""},{"$f":"IF(TEST!W129=\"\",\"\",TEST!W129)","v":""},{"$f":"IF(TEST!X129=\"\",\"\",TEST!X129)","v":""},{"$f":"IF(OR(M128=\"\",TEST!$K$1=\"\"),\"\",TEST!$K$1)","v":""},{"$f":"IF(OR(M128=\"\",TEST!$F$1=\"\"),\"\",TEST!$F$1)","v":""}]
[null,null,null,null,null,null,null,124,{"$f":"IF(TEST!Z130=\"X\",\"\",IF(TEST!AA130=\"OUI\",TEST!E130&IF(TEST!F130=\"\",\"\",\" \"&TEST!F130),\"\"))","v":""},"","",null,"",124,{"$f":"IF(TEST!E130=\"\",\"\",TEST!E130)","v":""},{"$f":"IF(TEST!F130=\"\",\"\",TEST!F130)","v":""},{"$f":"IF(TEST!G130=\"\",\"\",TEST!G130)","v":""},{"$f":"IF(TEST!H130=\"\",\"\",TEST!H130)","v":""},{"$f":"IF(TEST!Y130=\"\",\"\",TEST!Y130)","v":""},{"$f":"IF(TEST!V130=\"\",\"\",TEST!V130)","v":""},{"$f":"IF(TEST!W130=\"\",\"\",TEST!W130)","v":""},{"$f":"IF(TEST!X130=\"\",\"\",TEST!X130)","v":""},{"$f":"IF(OR(M129=\"\",TEST!$K$1=\"\"),\"\",TEST!$K$1)","v":""},{"$f":"IF(OR(M129=\"\",TEST!$F$1=\"\"),\"\",TEST!$F$1)","v":""}]
[null,null,null,null,null,null,null,125,{"$f":"IF(TEST!Z131=\"X\",\"\",IF(TEST!AA131=\"OUI\",TEST!E131&IF(TEST!F131=\"\",\"\",\" \"&TEST!F131),\"\"))","v":""},"","",null,"",125,{"$f":"IF(TEST!E131=\"\",\"\",TEST!E131)","v":""},{"$f":"IF(TEST!F131=\"\",\"\",TEST!F131)","v":""},{"$f":"IF(TEST!G131=\"\",\"\",TEST!G131)","v":""},{"$f":"IF(TEST!H131=\"\",\"\",TEST!H131)","v":""},{"$f":"IF(TEST!Y131=\"\",\"\",TEST!Y131)","v":""},{"$f":"IF(TEST!V131=\"\",\"\",TEST!V131)","v":""},{"$f":"IF(TEST!W131=\"\",\"\",TEST!W131)","v":""},{"$f":"IF(TEST!X131=\"\",\"\",TEST!X131)","v":""},{"$f":"IF(OR(M130=\"\",TEST!$K$1=\"\"),\"\",TEST!$K$1)","v":""},{"$f":"IF(OR(M130=\"\",TEST!$F$1=\"\"),\"\",TEST!$F$1)","v":""}]
[null,null,null,null,null,null,null,126,{"$f":"IF(TEST!Z132=\"X\",\"\",IF(TEST!AA132=\"OUI\",TEST!E132&IF(TEST!F132=\"\",\"\",\" \"&TEST!F132),\"\"))","v":""},"","",null,"",126,{"$f":"IF(TEST!E132=\"\",\"\",TEST!E132)","v":""},{"$f":"IF(TEST!F132=\"\",\"\",TEST!F132)","v":""},{"$f":"IF(TEST!G132=\"\",\"\",TEST!G132)","v":""},{"$f":"IF(TEST!H132=\"\",\"\",TEST!H132)","v":""},{"$f":"IF(TEST!Y132=\"\",\"\",TEST!Y132)","v":""},{"$f":"IF(TEST!V132=\"\",\"\",TEST!V132)","v":""},{"$f":"IF(TEST!W132=\"\",\"\",TEST!W132)","v":""},{"$f":"IF(TEST!X132=\"\",\"\",TEST!X132)","v":""},{"$f":"IF(OR(M131=\"\",TEST!$K$1=\"\"),\"\",TEST!$K$1)","v":""},{"$f":"IF(OR(M131=\"\",TEST!$F$1=\"\"),\"\",TEST!$F$1)","v":""}]
[null,null,null,null,null,null,null,127,{"$f":"IF(TEST!Z133=\"X\",\"\",IF(TEST!AA133=\"OUI\",TEST!E133&IF(TEST!F133=\"\",\"\",\" \"&TEST!F133),\"\"))","v":""},"","",null,"",127,{"$f":"IF(TEST!E133=\"\",\"\",TEST!E133)","v":""},{"$f":"IF(TEST!F133=\"\",\"\",TEST!F133)","v":""},{"$f":"IF(TEST!G133=\"\",\"\",TEST!G133)","v":""},{"$f":"IF(TEST!H133=\"\",\"\",TEST!H133)","v":""},{"$f":"IF(TEST!Y133=\"\",\"\",TEST!Y133)","v":""},{"$f":"IF(TEST!V133=\"\",\"\",TEST!V133)","v":""},{"$f":"IF(TEST!W133=\"\",\"\",TEST!W133)","v":""},{"$f":"IF(TEST!X133=\"\",\"\",TEST!X133)","v":""},{"$f":"IF(OR(M132=\"\",TEST!$K$1=\"\"),\"\",TEST!$K$1)","v":""},{"$f":"IF(OR(M132=\"\",TEST!$F$1=\"\"),\"\",TEST!$F$1)","v":""}]
[null,null,null,null,null,null,null,128,{"$f":"IF(TEST!Z134=\"X\",\"\",IF(TEST!AA134=\"OUI\",TEST!E134&IF(TEST!F134=\"\",\"\",\" \"&TEST!F134),\"\"))","v":""},"","",null,"",128,{"$f":"IF(TEST!E134=\"\",\"\",TEST!E134)","v":""},{"$f":"IF(TEST!F134=\"\",\"\",TEST!F134)","v":""},{"$f":"IF(TEST!G134=\"\",\"\",TEST!G134)","v":""},{"$f":"IF(TEST!H134=\"\",\"\",TEST!H134)","v":""},{"$f":"IF(TEST!Y134=\"\",\"\",TEST!Y134)","v":""},{"$f":"IF(TEST!V134=\"\",\"\",TEST!V134)","v":""},{"$f":"IF(TEST!W134=\"\",\"\",TEST!W134)","v":""},{"$f":"IF(TEST!X134=\"\",\"\",TEST!X134)","v":""},{"$f":"IF(OR(M133=\"\",TEST!$K$1=\"\"),\"\",TEST!$K$1)","v":""},{"$f":"IF(OR(M133=\"\",TEST!$F$1=\"\"),\"\",TEST!$F$1)","v":""}]
[null,null,null,null,null,null,null,129,{"$f":"IF(TEST!Z135=\"X\",\"\",IF(TEST!AA135=\"OUI\",TEST!E135&IF(TEST!F135=\"\",\"\",\" \"&TEST!F135),\"\"))","v":""},"","",null,"",129,{"$f":"IF(TEST!E135=\"\",\"\",TEST!E135)","v":""},{"$f":"IF(TEST!F135=\"\",\"\",TEST!F135)","v":""},{"$f":"IF(TEST!G135=\"\",\"\",TEST!G135)","v":""},{"$f":"IF(TEST!H135=\"\",\"\",TEST!H135)","v":""},{"$f":"IF(TEST!Y135=\"\",\"\",TEST!Y135)","v":""},{"$f":"IF(TEST!V135=\"\",\"\",TEST!V135)","v":""},{"$f":"IF(TEST!W135=\"\",\"\",TEST!W135)","v":""},{"$f":"IF(TEST!X135=\"\",\"\",TEST!X135)","v":""},{"$f":"IF(OR(M134=\"\",TEST!$K$1=\"\"),\"\",TEST!$K$1)","v":""},{"$f":"IF(OR(M134=\"\",TEST!$F$1=\"\"),\"\",TEST!$F$1)","v":""}]
[null,null,null,null,null,null,null,130,{"$f":"IF(TEST!Z136=\"X\",\"\",IF(TEST!AA136=\"OUI\",TEST!E136&IF(TEST!F136=\"\",\"\",\" \"&TEST!F136),\"\"))","v":""},{"$f":"IF(I135=\"\",\"\",H135)","v":""},{"$f":"IF(ISERROR(INDEX($H$6:$I$305,SMALL($J$6:$J$305,H135),2)),\"\",INDEX($H$6:$I$305,SMALL($J$6:$J$305,H135),2))","v":""},null,{"$f":"O135&IF(P135=\"\",\"\",\" \"&P135)","v":""},130,{"$f":"IF(TEST!E136=\"\",\"\",TEST!E136)","v":""},{"$f":"IF(TEST!F136=\"\",\"\",TEST!F136)","v":""},{"$f":"IF(TEST!G136=\"\",\"\",TEST!G136)","v":""},{"$f":"IF(TEST!H136=\"\",\"\",TEST!H136)","v":""},{"$f":"IF(TEST!Y136=\"\",\"\",TEST!Y136)","v":""},{"$f":"IF(TEST!V136=\"\",\"\",TEST!V136)","v":""},{"$f":"IF(TEST!W136=\"\",\"\",TEST!W136)","v":""},{"$f":"IF(TEST!X136=\"\",\"\",TEST!X136)","v":""},{"$f":"IF(OR(M135=\"\",TEST!$K$1=\"\"),\"\",TEST!$K$1)","v":""},{"$f":"IF(OR(M135=\"\",TEST!$F$1=\"\"),\"\",TEST!$F$1)","v":""}]
[null,null,null,null,null,null,null,131,{"$f":"IF(TEST!Z137=\"X\",\"\",IF(TEST!AA137=\"OUI\",TEST!E137&IF(TEST!F137=\"\",\"\",\" \"&TEST!F137),\"\"))","v":""},"","",null,"",131,{"$f":"IF(TEST!E137=\"\",\"\",TEST!E137)","v":""},{"$f":"IF(TEST!F137=\"\",\"\",TEST!F137)","v":""},{"$f":"IF(TEST!G137=\"\",\"\",TEST!G137)","v":""},{"$f":"IF(TEST!H137=\"\",\"\",TEST!H137)","v":""},{"$f":"IF(TEST!Y137=\"\",\"\",TEST!Y137)","v":""},{"$f":"IF(TEST!V137=\"\",\"\",TEST!V137)","v":""},{"$f":"IF(TEST!W137=\"\",\"\",TEST!W137)","v":""},{"$f":"IF(TEST!X137=\"\",\"\",TEST!X137)","v":""},{"$f":"IF(OR(M136=\"\",TEST!$K$1=\"\"),\"\",TEST!$K$1)","v":""},{"$f":"IF(OR(M136=\"\",TEST!$F$1=\"\"),\"\",TEST!$F$1)","v":""}]
[null,null,null,null,null,null,null,132,{"$f":"IF(TEST!Z138=\"X\",\"\",IF(TEST!AA138=\"OUI\",TEST!E138&IF(TEST!F138=\"\",\"\",\" \"&TEST!F138),\"\"))","v":""},"","",null,"",132,{"$f":"IF(TEST!E138=\"\",\"\",TEST!E138)","v":""},{"$f":"IF(TEST!F138=\"\",\"\",TEST!F138)","v":""},{"$f":"IF(TEST!G138=\"\",\"\",TEST!G138)","v":""},{"$f":"IF(TEST!H138=\"\",\"\",TEST!H138)","v":""},{"$f":"IF(TEST!Y138=\"\",\"\",TEST!Y138)","v":""},{"$f":"IF(TEST!V138=\"\",\"\",TEST!V138)","v":""},{"$f":"IF(TEST!W138=\"\",\"\",TEST!W138)","v":""},{"$f":"IF(TEST!X138=\"\",\"\",TEST!X138)","v":""},{"$f":"IF(OR(M137=\"\",TEST!$K$1=\"\"),\"\",TEST!$K$1)","v":""},{"$f":"IF(OR(M137=\"\",TEST!$F$1=\"\"),\"\",TEST!$F$1)","v":""}]
[null,null,null,null,null,null,null,133,{"$f":"IF(TEST!Z139=\"X\",\"\",IF(TEST!AA139=\"OUI\",TEST!E139&IF(TEST!F139=\"\",\"\",\" \"&TEST!F139),\"\"))","v":""},"","",null,"",133,{"$f":"IF(TEST!E139=\"\",\"\",TEST!E139)","v":""},{"$f":"IF(TEST!F139=\"\",\"\",TEST!F139)","v":""},{"$f":"IF(TEST!G139=\"\",\"\",TEST!G139)","v":""},{"$f":"IF(TEST!H139=\"\",\"\",TEST!H139)","v":""},{"$f":"IF(TEST!Y139=\"\",\"\",TEST!Y139)","v":""},{"$f":"IF(TEST!V139=\"\",\"\",TEST!V139)","v":""},{"$f":"IF(TEST!W139=\"\",\"\",TEST!W139)","v":""},{"$f":"IF(TEST!X139=\"\",\"\",TEST!X139)","v":""},{"$f":"IF(OR(M138=\"\",TEST!$K$1=\"\"),\"\",TEST!$K$1)","v":""},{"$f":"IF(OR(M138=\"\",TEST!$F$1=\"\"),\"\",TEST!$F$1)","v":""}]
[null,null,null,null,null,null,null,134,{"$f":"IF(TEST!Z140=\"X\",\"\",IF(TEST!AA140=\"OUI\",TEST!E140&IF(TEST!F140=\"\",\"\",\" \"&TEST!F140),\"\"))","v":""},"","",null,"",134,{"$f":"IF(TEST!E140=\"\",\"\",TEST!E140)","v":""},{"$f":"IF(TEST!F140=\"\",\"\",TEST!F140)","v":""},{"$f":"IF(TEST!G140=\"\",\"\",TEST!G140)","v":""},{"$f":"IF(TEST!H140=\"\",\"\",TEST!H140)","v":""},{"$f":"IF(TEST!Y140=\"\",\"\",TEST!Y140)","v":""},{"$f":"IF(TEST!V140=\"\",\"\",TEST!V140)","v":""},{"$f":"IF(TEST!W140=\"\",\"\",TEST!W140)","v":""},{"$f":"IF(TEST!X140=\"\",\"\",TEST!X140)","v":""},{"$f":"IF(OR(M139=\"\",TEST!$K$1=\"\"),\"\",TEST!$K$1)","v":""},{"$f":"IF(OR(M139=\"\",TEST!$F$1=\"\"),\"\",TEST!$F$1)","v":""}]
[null,null,null,null,null,null,null,135,{"$f":"IF(TEST!Z141=\"X\",\"\",IF(TEST!AA141=\"OUI\",TEST!E141&IF(TEST!F141=\"\",\"\",\" \"&TEST!F141),\"\"))","v":""},"","",null,"",135,{"$f":"IF(TEST!E141=\"\",\"\",TEST!E141)","v":""},{"$f":"IF(TEST!F141=\"\",\"\",TEST!F141)","v":""},{"$f":"IF(TEST!G141=\"\",\"\",TEST!G141)","v":""},{"$f":"IF(TEST!H141=\"\",\"\",TEST!H141)","v":""},{"$f":"IF(TEST!Y141=\"\",\"\",TEST!Y141)","v":""},{"$f":"IF(TEST!V141=\"\",\"\",TEST!V141)","v":""},{"$f":"IF(TEST!W141=\"\",\"\",TEST!W141)","v":""},{"$f":"IF(TEST!X141=\"\",\"\",TEST!X141)","v":""},{"$f":"IF(OR(M140=\"\",TEST!$K$1=\"\"),\"\",TEST!$K$1)","v":""},{"$f":"IF(OR(M140=\"\",TEST!$F$1=\"\"),\"\",TEST!$F$1)","v":""}]
[null,null,null,null,null,null,null,136,{"$f":"IF(TEST!Z142=\"X\",\"\",IF(TEST!AA142=\"OUI\",TEST!E142&IF(TEST!F142=\"\",\"\",\" \"&TEST!F142),\"\"))","v":""},"","",null,"",136,{"$f":"IF(TEST!E142=\"\",\"\",TEST!E142)","v":""},{"$f":"IF(TEST!F142=\"\",\"\",TEST!F142)","v":""},{"$f":"IF(TEST!G142=\"\",\"\",TEST!G142)","v":""},{"$f":"IF(TEST!H142=\"\",\"\",TEST!H142)","v":""},{"$f":"IF(TEST!Y142=\"\",\"\",TEST!Y142)","v":""},{"$f":"IF(TEST!V142=\"\",\"\",TEST!V142)","v":""},{"$f":"IF(TEST!W142=\"\",\"\",TEST!W142)","v":""},{"$f":"IF(TEST!X142=\"\",\"\",TEST!X142)","v":""},{"$f":"IF(OR(M141=\"\",TEST!$K$1=\"\"),\"\",TEST!$K$1)","v":""},{"$f":"IF(OR(M141=\"\",TEST!$F$1=\"\"),\"\",TEST!$F$1)","v":""}]
[null,null,null,null,null,null,null,137,{"$f":"IF(TEST!Z143=\"X\",\"\",IF(TEST!AA143=\"OUI\",TEST!E143&IF(TEST!F143=\"\",\"\",\" \"&TEST!F143),\"\"))","v":""},"","",null,"",137,{"$f":"IF(TEST!E143=\"\",\"\",TEST!E143)","v":""},{"$f":"IF(TEST!F143=\"\",\"\",TEST!F143)","v":""},{"$f":"IF(TEST!G143=\"\",\"\",TEST!G143)","v":""},{"$f":"IF(TEST!H143=\"\",\"\",TEST!H143)","v":""},{"$f":"IF(TEST!Y143=\"\",\"\",TEST!Y143)","v":""},{"$f":"IF(TEST!V143=\"\",\"\",TEST!V143)","v":""},{"$f":"IF(TEST!W143=\"\",\"\",TEST!W143)","v":""},{"$f":"IF(TEST!X143=\"\",\"\",TEST!X143)","v":""},{"$f":"IF(OR(M142=\"\",TEST!$K$1=\"\"),\"\",TEST!$K$1)","v":""},{"$f":"IF(OR(M142=\"\",TEST!$F$1=\"\"),\"\",TEST!$F$1)","v":""}]
[null,null,null,null,null,null,null,138,{"$f":"IF(TEST!Z144=\"X\",\"\",IF(TEST!AA144=\"OUI\",TEST!E144&IF(TEST!F144=\"\",\"\",\" \"&TEST!F144),\"\"))","v":""},"","",null,"",138,{"$f":"IF(TEST!E144=\"\",\"\",TEST!E144)","v":""},{"$f":"IF(TEST!F144=\"\",\"\",TEST!F144)","v":""},{"$f":"IF(TEST!G144=\"\",\"\",TEST!G144)","v":""},{"$f":"IF(TEST!H144=\"\",\"\",TEST!H144)","v":""},{"$f":"IF(TEST!Y144=\"\",\"\",TEST!Y144)","v":""},{"$f":"IF(TEST!V144=\"\",\"\",TEST!V144)","v":""},{"$f":"IF(TEST!W144=\"\",\"\",TEST!W144)","v":""},{"$f":"IF(TEST!X144=\"\",\"\",TEST!X144)","v":""},{"$f":"IF(OR(M143=\"\",TEST!$K$1=\"\"),\"\",TEST!$K$1)","v":""},{"$f":"IF(OR(M143=\"\",TEST!$F$1=\"\"),\"\",TEST!$F$1)","v":""}]
[null,null,null,null,null,null,null,139,{"$f":"IF(TEST!Z145=\"X\",\"\",IF(TEST!AA145=\"OUI\",TEST!E145&IF(TEST!F145=\"\",\"\",\" \"&TEST!F145),\"\"))","v":""},"","",null,"",139,{"$f":"IF(TEST!E145=\"\",\"\",TEST!E145)","v":""},{"$f":"IF(TEST!F145=\"\",\"\",TEST!F145)","v":""},{"$f":"IF(TEST!G145=\"\",\"\",TEST!G145)","v":""},{"$f":"IF(TEST!H145=\"\",\"\",TEST!H145)","v":""},{"$f":"IF(TEST!Y145=\"\",\"\",TEST!Y145)","v":""},{"$f":"IF(TEST!V145=\"\",\"\",TEST!V145)","v":""},{"$f":"IF(TEST!W145=\"\",\"\",TEST!W145)","v":""},{"$f":"IF(TEST!X145=\"\",\"\",TEST!X145)","v":""},{"$f":"IF(OR(M144=\"\",TEST!$K$1=\"\"),\"\",TEST!$K$1)","v":""},{"$f":"IF(OR(M144=\"\",TEST!$F$1=\"\"),\"\",TEST!$F$1)","v":""}]
[null,null,null,null,null,null,null,140,{"$f":"IF(TEST!Z146=\"X\",\"\",IF(TEST!AA146=\"OUI\",TEST!E146&IF(TEST!F146=\"\",\"\",\" \"&TEST!F146),\"\"))","v":""},"","",null,"",140,{"$f":"IF(TEST!E146=\"\",\"\",TEST!E146)","v":""},{"$f":"IF(TEST!F146=\"\",\"\",TEST!F146)","v":""},{"$f":"IF(TEST!G146=\"\",\"\",TEST!G146)","v":""},{"$f":"IF(TEST!H146=\"\",\"\",TEST!H146)","v":""},{"$f":"IF(TEST!Y146=\"\",\"\",TEST!Y146)","v":""},{"$f":"IF(TEST!V146=\"\",\"\",TEST!V146)","v":""},{"$f":"IF(TEST!W146=\"\",\"\",TEST!W146)","v":""},{"$f":"IF(TEST!X146=\"\",\"\",TEST!X146)","v":""},{"$f":"IF(OR(M145=\"\",TEST!$K$1=\"\"),\"\",TEST!$K$1)","v":""},{"$f":"IF(OR(M145=\"\",TEST!$F$1=\"\"),\"\",TEST!$F$1)","v":""}]
[null,null,null,null,null,null,null,141,{"$f":"IF(TEST!Z147=\"X\",\"\",IF(TEST!AA147=\"OUI\",TEST!E147&IF(TEST!F147=\"\",\"\",\" \"&TEST!F147),\"\"))","v":""},"","",null,"",141,{"$f":"IF(TEST!E147=\"\",\"\",TEST!E147)","v":""},{"$f":"IF(TEST!F147=\"\",\"\",TEST!F147)","v":""},{"$f":"IF(TEST!G147=\"\",\"\",TEST!G147)","v":""},{"$f":"IF(TEST!H147=\"\",\"\",TEST!H147)","v":""},{"$f":"IF(TEST!Y147=\"\",\"\",TEST!Y147)","v":""},{"$f":"IF(TEST!V147=\"\",\"\",TEST!V147)","v":""},{"$f":"IF(TEST!W147=\"\",\"\",TEST!W147)","v":""},{"$f":"IF(TEST!X147=\"\",\"\",TEST!X147)","v":""},{"$f":"IF(OR(M146=\"\",TEST!$K$1=\"\"),\"\",TEST!$K$1)","v":""},{"$f":"IF(OR(M146=\"\",TEST!$F$1=\"\"),\"\",TEST!$F$1)","v":""}]
[null,null,null,null,null,null,null,142,{"$f":"IF(TEST!Z148=\"X\",\"\",IF(TEST!AA148=\"OUI\",TEST!E148&IF(TEST!F148=\"\",\"\",\" \"&TEST!F148),\"\"))","v":""},"","",null,"",142,{"$f":"IF(TEST!E148=\"\",\"\",TEST!E148)","v":""},{"$f":"IF(TEST!F148=\"\",\"\",TEST!F148)","v":""},{"$f":"IF(TEST!G148=\"\",\"\",TEST!G148)","v":""},{"$f":"IF(TEST!H148=\"\",\"\",TEST!H148)","v":""},{"$f":"IF(TEST!Y148=\"\",\"\",TEST!Y148)","v":""},{"$f":"IF(TEST!V148=\"\",\"\",TEST!V148)","v":""},{"$f":"IF(TEST!W148=\"\",\"\",TEST!W148)","v":""},{"$f":"IF(TEST!X148=\"\",\"\",TEST!X148)","v":""},{"$f":"IF(OR(M147=\"\",TEST!$K$1=\"\"),\"\",TEST!$K$1)","v":""},{"$f":"IF(OR(M147=\"\",TEST!$F$1=\"\"),\"\",TEST!$F$1)","v":""}]
[null,null,null,null,null,null,null,143,{"$f":"IF(TEST!Z149=\"X\",\"\",IF(TEST!AA149=\"OUI\",TEST!E149&IF(TEST!F149=\"\",\"\",\" \"&TEST!F149),\"\"))","v":""},"","",null,"",143,{"$f":"IF(TEST!E149=\"\",\"\",TEST!E149)","v":""},{"$f":"IF(TEST!F149=\"\",\"\",TEST!F149)","v":""},{"$f":"IF(TEST!G149=\"\",\"\",TEST!G149)","v":""},{"$f":"IF(TEST!H149=\"\",\"\",TEST!H149)","v":""},{"$f":"IF(TEST!Y149=\"\",\"\",TEST!Y149)","v":""},{"$f":"IF(TEST!V149=\"\",\"\",TEST!V149)","v":""},{"$f":"IF(TEST!W149=\"\",\"\",TEST!W149)","v":""},{"$f":"IF(TEST!X149=\"\",\"\",TEST!X149)","v":""},{"$f":"IF(OR(M148=\"\",TEST!$K$1=\"\"),\"\",TEST!$K$1)","v":""},{"$f":"IF(OR(M148=\"\",TEST!$F$1=\"\"),\"\",TEST!$F$1)","v":""}]
[null,null,null,null,null,null,null,144,{"$f":"IF(TEST!Z150=\"X\",\"\",IF(TEST!AA150=\"OUI\",TEST!E150&IF(TEST!F150=\"\",\"\",\" \"&TEST!F150),\"\"))","v":""},"","",null,"",144,{"$f":"IF(TEST!E150=\"\",\"\",TEST!E150)","v":""},{"$f":"IF(TEST!F150=\"\",\"\",TEST!F150)","v":""},{"$f":"IF(TEST!G150=\"\",\"\",TEST!G150)","v":""},{"$f":"IF(TEST!H150=\"\",\"\",TEST!H150)","v":""},{"$f":"IF(TEST!Y150=\"\",\"\",TEST!Y150)","v":""},{"$f":"IF(TEST!V150=\"\",\"\",TEST!V150)","v":""},{"$f":"IF(TEST!W150=\"\",\"\",TEST!W150)","v":""},{"$f":"IF(TEST!X150=\"\",\"\",TEST!X150)","v":""},{"$f":"IF(OR(M149=\"\",TEST!$K$1=\"\"),\"\",TEST!$K$1)","v":""},{"$f":"IF(OR(M149=\"\",TEST!$F$1=\"\"),\"\",TEST!$F$1)","v":""}]
[null,null,null,null,null,null,null,145,{"$f":"IF(TEST!Z151=\"X\",\"\",IF(TEST!AA151=\"OUI\",TEST!E151&IF(TEST!F151=\"\",\"\",\" \"&TEST!F151),\"\"))","v":""},"","",null,"",145,{"$f":"IF(TEST!E151=\"\",\"\",TEST!E151)","v":""},{"$f":"IF(TEST!F151=\"\",\"\",TEST!F151)","v":""},{"$f":"IF(TEST!G151=\"\",\"\",TEST!G151)","v":""},{"$f":"IF(TEST!H151=\"\",\"\",TEST!H151)","v":""},{"$f":"IF(TEST!Y151=\"\",\"\",TEST!Y151)","v":""},{"$f":"IF(TEST!V151=\"\",\"\",TEST!V151)","v":""},{"$f":"IF(TEST!W151=\"\",\"\",TEST!W151)","v":""},{"$f":"IF(TEST!X151=\"\",\"\",TEST!X151)","v":""},{"$f":"IF(OR(M150=\"\",TEST!$K$1=\"\"),\"\",TEST!$K$1)","v":""},{"$f":"IF(OR(M150=\"\",TEST!$F$1=\"\"),\"\",TEST!$F$1)","v":""}]
[null,null,null,null,null,null,null,146,{"$f":"IF(TEST!Z152=\"X\",\"\",IF(TEST!AA152=\"OUI\",TEST!E152&IF(TEST!F152=\"\",\"\",\" \"&TEST!F152),\"\"))","v":""},"","",null,"",146,{"$f":"IF(TEST!E152=\"\",\"\",TEST!E152)","v":""},{"$f":"IF(TEST!F152=\"\",\"\",TEST!F152)","v":""},{"$f":"IF(TEST!G152=\"\",\"\",TEST!G152)","v":""},{"$f":"IF(TEST!H152=\"\",\"\",TEST!H152)","v":""},{"$f":"IF(TEST!Y152=\"\",\"\",TEST!Y152)","v":""},{"$f":"IF(TEST!V152=\"\",\"\",TEST!V152)","v":""},{"$f":"IF(TEST!W152=\"\",\"\",TEST!W152)","v":""},{"$f":"IF(TEST!X152=\"\",\"\",TEST!X152)","v":""},{"$f":"IF(OR(M151=\"\",TEST!$K$1=\"\"),\"\",TEST!$K$1)","v":""},{"$f":"IF(OR(M151=\"\",TEST!$F$1=\"\"),\"\",TEST!$F$1)","v":""}]
[null,null,null,null,null,null,null,147,{"$f":"IF(TEST!Z153=\"X\",\"\",IF(TEST!AA153=\"OUI\",TEST!E153&IF(TEST!F153=\"\",\"\",\" \"&TEST!F153),\"\"))","v":""},"","",null,"",147,{"$f":"IF(TEST!E153=\"\",\"\",TEST!E153)","v":""},{"$f":"IF(TEST!F153=\"\",\"\",TEST!F153)","v":""},{"$f":"IF(TEST!G153=\"\",\"\",TEST!G153)","v":""},{"$f":"IF(TEST!H153=\"\",\"\",TEST!H153)","v":""},{"$f":"IF(TEST!Y153=\"\",\"\",TEST!Y153)","v":""},{"$f":"IF(TEST!V153=\"\",\"\",TEST!V153)","v":""},{"$f":"IF(TEST!W153=\"\",\"\",TEST!W153)","v":""},{"$f":"IF(TEST!X153=\"\",\"\",TEST!X153)","v":""},{"$f":"IF(OR(M152=\"\",TEST!$K$1=\"\"),\"\",TEST!$K$1)","v":""},{"$f":"IF(OR(M152=\"\",TEST!$F$1=\"\"),\"\",TEST!$F$1)","v":""}]
[null,null,null,null,null,null,null,148,{"$f":"IF(TEST!Z154=\"X\",\"\",IF(TEST!AA154=\"OUI\",TEST!E154&IF(TEST!F154=\"\",\"\",\" \"&TEST!F154),\"\"))","v":""},"","",null,"",148,{"$f":"IF(TEST!E154=\"\",\"\",TEST!E154)","v":""},{"$f":"IF(TEST!F154=\"\",\"\",TEST!F154)","v":""},{"$f":"IF(TEST!G154=\"\",\"\",TEST!G154)","v":""},{"$f":"IF(TEST!H154=\"\",\"\",TEST!H154)","v":""},{"$f":"IF(TEST!Y154=\"\",\"\",TEST!Y154)","v":""},{"$f":"IF(TEST!V154=\"\",\"\",TEST!V154)","v":""},{"$f":"IF(TEST!W154=\"\",\"\",TEST!W154)","v":""},{"$f":"IF(TEST!X154=\"\",\"\",TEST!X154)","v":""},{"$f":"IF(OR(M153=\"\",TEST!$K$1=\"\"),\"\",TEST!$K$1)","v":""},{"$f":"IF(OR(M153=\"\",TEST!$F$1=\"\"),\"\",TEST!$F$1)","v":""}]
[null,null,null,null,null,null,null,149,{"$f":"IF(TEST!Z155=\"X\",\"\",IF(TEST!AA155=\"OUI\",TEST!E155&IF(TEST!F155=\"\",\"\",\" \"&TEST!F155),\"\"))","v":""},"","",null,"",149,{"$f":"IF(TEST!E155=\"\",\"\",TEST!E155)","v":""},{"$f":"IF(TEST!F155=\"\",\"\",TEST!F155)","v":""},{"$f":"IF(TEST!G155=\"\",\"\",TEST!G155)","v":""},{"$f":"IF(TEST!H155=\"\",\"\",TEST!H155)","v":""},{"$f":"IF(TEST!Y155=\"\",\"\",TEST!Y155)","v":""},{"$f":"IF(TEST!V155=\"\",\"\",TEST!V155)","v":""},{"$f":"IF(TEST!W155=\"\",\"\",TEST!W155)","v":""},{"$f":"IF(TEST!X155=\"\",\"\",TEST!X155)","v":""},{"$f":"IF(OR(M154=\"\",TEST!$K$1=\"\"),\"\",TEST!$K$1)","v":""},{"$f":"IF(OR(M154=\"\",TEST!$F$1=\"\"),\"\",TEST!$F$1)","v":""}]
[null,null,null,null,null,null,null,150,{"$f":"IF(TEST!Z156=\"X\",\"\",IF(TEST!AA156=\"OUI\",TEST!E156&IF(TEST!F156=\"\",\"\",\" \"&TEST!F156),\"\"))","v":""},"","",null,"",150,{"$f":"IF(TEST!E156=\"\",\"\",TEST!E156)","v":""},{"$f":"IF(TEST!F156=\"\",\"\",TEST!F156)","v":""},{"$f":"IF(TEST!G156=\"\",\"\",TEST!G156)","v":""},{"$f":"IF(TEST!H156=\"\",\"\",TEST!H156)","v":""},{"$f":"IF(TEST!Y156=\"\",\"\",TEST!Y156)","v":""},{"$f":"IF(TEST!V156=\"\",\"\",TEST!V156)","v":""},{"$f":"IF(TEST!W156=\"\",\"\",TEST!W156)","v":""},{"$f":"IF(TEST!X156=\"\",\"\",TEST!X156)","v":""},{"$f":"IF(OR(M155=\"\",TEST!$K$1=\"\"),\"\",TEST!$K$1)","v":""},{"$f":"IF(OR(M155=\"\",TEST!$F$1=\"\"),\"\",TEST!$F$1)","v":""}]
[null,null,null,null,null,null,null,151,{"$f":"IF(TEST!Z157=\"X\",\"\",IF(TEST!AA157=\"OUI\",TEST!E157&IF(TEST!F157=\"\",\"\",\" \"&TEST!F157),\"\"))","v":""},"","",null,"",151,{"$f":"IF(TEST!E157=\"\",\"\",TEST!E157)","v":""},{"$f":"IF(TEST!F157=\"\",\"\",TEST!F157)","v":""},{"$f":"IF(TEST!G157=\"\",\"\",TEST!G157)","v":""},{"$f":"IF(TEST!H157=\"\",\"\",TEST!H157)","v":""},{"$f":"IF(TEST!Y157=\"\",\"\",TEST!Y157)","v":""},{"$f":"IF(TEST!V157=\"\",\"\",TEST!V157)","v":""},{"$f":"IF(TEST!W157=\"\",\"\",TEST!W157)","v":""},{"$f":"IF(TEST!X157=\"\",\"\",TEST!X157)","v":""},{"$f":"IF(OR(M156=\"\",TEST!$K$1=\"\"),\"\",TEST!$K$1)","v":""},{"$f":"IF(OR(M156=\"\",TEST!$F$1=\"\"),\"\",TEST!$F$1)","v":""}]
[null,null,null,null,null,null,null,152,{"$f":"IF(TEST!Z158=\"X\",\"\",IF(TEST!AA158=\"OUI\",TEST!E158&IF(TEST!F158=\"\",\"\",\" \"&TEST!F158),\"\"))","v":""},"","",null,"",152,{"$f":"IF(TEST!E158=\"\",\"\",TEST!E158)","v":""},{"$f":"IF(TEST!F158=\"\",\"\",TEST!F158)","v":""},{"$f":"IF(TEST!G158=\"\",\"\",TEST!G158)","v":""},{"$f":"IF(TEST!H158=\"\",\"\",TEST!H158)","v":""},{"$f":"IF(TEST!Y158=\"\",\"\",TEST!Y158)","v":""},{"$f":"IF(TEST!V158=\"\",\"\",TEST!V158)","v":""},{"$f":"IF(TEST!W158=\"\",\"\",TEST!W158)","v":""},{"$f":"IF(TEST!X158=\"\",\"\",TEST!X158)","v":""},{"$f":"IF(OR(M157=\"\",TEST!$K$1=\"\"),\"\",TEST!$K$1)","v":""},{"$f":"IF(OR(M157=\"\",TEST!$F$1=\"\"),\"\",TEST!$F$1)","v":""}]
[null,null,null,null,null,null,null,153,{"$f":"IF(TEST!Z159=\"X\",\"\",IF(TEST!AA159=\"OUI\",TEST!E159&IF(TEST!F159=\"\",\"\",\" \"&TEST!F159),\"\"))","v":""},"","",null,"",153,{"$f":"IF(TEST!E159=\"\",\"\",TEST!E159)","v":""},{"$f":"IF(TEST!F159=\"\",\"\",TEST!F159)","v":""},{"$f":"IF(TEST!G159=\"\",\"\",TEST!G159)","v":""},{"$f":"IF(TEST!H159=\"\",\"\",TEST!H159)","v":""},{"$f":"IF(TEST!Y159=\"\",\"\",TEST!Y159)","v":""},{"$f":"IF(TEST!V159=\"\",\"\",TEST!V159)","v":""},{"$f":"IF(TEST!W159=\"\",\"\",TEST!W159)","v":""},{"$f":"IF(TEST!X159=\"\",\"\",TEST!X159)","v":""},{"$f":"IF(OR(M158=\"\",TEST!$K$1=\"\"),\"\",TEST!$K$1)","v":""},{"$f":"IF(OR(M158=\"\",TEST!$F$1=\"\"),\"\",TEST!$F$1)","v":""}]
[null,null,null,null,null,null,null,154,{"$f":"IF(TEST!Z160=\"X\",\"\",IF(TEST!AA160=\"OUI\",TEST!E160&IF(TEST!F160=\"\",\"\",\" \"&TEST!F160),\"\"))","v":""},"","",null,"",154,{"$f":"IF(TEST!E160=\"\",\"\",TEST!E160)","v":""},{"$f":"IF(TEST!F160=\"\",\"\",TEST!F160)","v":""},{"$f":"IF(TEST!G160=\"\",\"\",TEST!G160)","v":""},{"$f":"IF(TEST!H160=\"\",\"\",TEST!H160)","v":""},{"$f":"IF(TEST!Y160=\"\",\"\",TEST!Y160)","v":""},{"$f":"IF(TEST!V160=\"\",\"\",TEST!V160)","v":""},{"$f":"IF(TEST!W160=\"\",\"\",TEST!W160)","v":""},{"$f":"IF(TEST!X160=\"\",\"\",TEST!X160)","v":""},{"$f":"IF(OR(M159=\"\",TEST!$K$1=\"\"),\"\",TEST!$K$1)","v":""},{"$f":"IF(OR(M159=\"\",TEST!$F$1=\"\"),\"\",TEST!$F$1)","v":""}]
[null,null,null,null,null,null,null,155,{"$f":"IF(TEST!Z161=\"X\",\"\",IF(TEST!AA161=\"OUI\",TEST!E161&IF(TEST!F161=\"\",\"\",\" \"&TEST!F161),\"\"))","v":""},"","",null,"",155,{"$f":"IF(TEST!E161=\"\",\"\",TEST!E161)","v":""},{"$f":"IF(TEST!F161=\"\",\"\",TEST!F161)","v":""},{"$f":"IF(TEST!G161=\"\",\"\",TEST!G161)","v":""},{"$f":"IF(TEST!H161=\"\",\"\",TEST!H161)","v":""},{"$f":"IF(TEST!Y161=\"\",\"\",TEST!Y161)","v":""},{"$f":"IF(TEST!V161=\"\",\"\",TEST!V161)","v":""},{"$f":"IF(TEST!W161=\"\",\"\",TEST!W161)","v":""},{"$f":"IF(TEST!X161=\"\",\"\",TEST!X161)","v":""},{"$f":"IF(OR(M160=\"\",TEST!$K$1=\"\"),\"\",TEST!$K$1)","v":""},{"$f":"IF(OR(M160=\"\",TEST!$F$1=\"\"),\"\",TEST!$F$1)","v":""}]
[null,null,null,null,null,null,null,156,{"$f":"IF(TEST!Z162=\"X\",\"\",IF(TEST!AA162=\"OUI\",TEST!E162&IF(TEST!F162=\"\",\"\",\" \"&TEST!F162),\"\"))","v":""},"","",null,"",156,{"$f":"IF(TEST!E162=\"\",\"\",TEST!E162)","v":""},{"$f":"IF(TEST!F162=\"\",\"\",TEST!F162)","v":""},{"$f":"IF(TEST!G162=\"\",\"\",TEST!G162)","v":""},{"$f":"IF(TEST!H162=\"\",\"\",TEST!H162)","v":""},{"$f":"IF(TEST!Y162=\"\",\"\",TEST!Y162)","v":""},{"$f":"IF(TEST!V162=\"\",\"\",TEST!V162)","v":""},{"$f":"IF(TEST!W162=\"\",\"\",TEST!W162)","v":""},{"$f":"IF(TEST!X162=\"\",\"\",TEST!X162)","v":""},{"$f":"IF(OR(M161=\"\",TEST!$K$1=\"\"),\"\",TEST!$K$1)","v":""},{"$f":"IF(OR(M161=\"\",TEST!$F$1=\"\"),\"\",TEST!$F$1)","v":""}]
[null,null,null,null,null,null,null,157,{"$f":"IF(TEST!Z163=\"X\",\"\",IF(TEST!AA163=\"OUI\",TEST!E163&IF(TEST!F163=\"\",\"\",\" \"&TEST!F163),\"\"))","v":""},"","",null,"",157,{"$f":"IF(TEST!E163=\"\",\"\",TEST!E163)","v":""},{"$f":"IF(TEST!F163=\"\",\"\",TEST!F163)","v":""},{"$f":"IF(TEST!G163=\"\",\"\",TEST!G163)","v":""},{"$f":"IF(TEST!H163=\"\",\"\",TEST!H163)","v":""},{"$f":"IF(TEST!Y163=\"\",\"\",TEST!Y163)","v":""},{"$f":"IF(TEST!V163=\"\",\"\",TEST!V163)","v":""},{"$f":"IF(TEST!W163=\"\",\"\",TEST!W163)","v":""},{"$f":"IF(TEST!X163=\"\",\"\",TEST!X163)","v":""},{"$f":"IF(OR(M162=\"\",TEST!$K$1=\"\"),\"\",TEST!$K$1)","v":""},{"$f":"IF(OR(M162=\"\",TEST!$F$1=\"\"),\"\",TEST!$F$1)","v":""}]
[null,null,null,null,null,null,null,158,{"$f":"IF(TEST!Z164=\"X\",\"\",IF(TEST!AA164=\"OUI\",TEST!E164&IF(TEST!F164=\"\",\"\",\" \"&TEST!F164),\"\"))","v":""},"","",null,"",158,{"$f":"IF(TEST!E164=\"\",\"\",TEST!E164)","v":""},{"$f":"IF(TEST!F164=\"\",\"\",TEST!F164)","v":""},{"$f":"IF(TEST!G164=\"\",\"\",TEST!G164)","v":""},{"$f":"IF(TEST!H164=\"\",\"\",TEST!H164)","v":""},{"$f":"IF(TEST!Y164=\"\",\"\",TEST!Y164)","v":""},{"$f":"IF(TEST!V164=\"\",\"\",TEST!V164)","v":""},{"$f":"IF(TEST!W164=\"\",\"\",TEST!W164)","v":""},{"$f":"IF(TEST!X164=\"\",\"\",TEST!X164)","v":""},{"$f":"IF(OR(M163=\"\",TEST!$K$1=\"\"),\"\",TEST!$K$1)","v":""},{"$f":"IF(OR(M163=\"\",TEST!$F$1=\"\"),\"\",TEST!$F$1)","v":""}]
[null,null,null,null,null,null,null,159,{"$f":"IF(TEST!Z165=\"X\",\"\",IF(TEST!AA165=\"OUI\",TEST!E165&IF(TEST!F165=\"\",\"\",\" \"&TEST!F165),\"\"))","v":""},"","",null,"",159,{"$f":"IF(TEST!E165=\"\",\"\",TEST!E165)","v":""},{"$f":"IF(TEST!F165=\"\",\"\",TEST!F165)","v":""},{"$f":"IF(TEST!G165=\"\",\"\",TEST!G165)","v":""},{"$f":"IF(TEST!H165=\"\",\"\",TEST!H165)","v":""},{"$f":"IF(TEST!Y165=\"\",\"\",TEST!Y165)","v":""},{"$f":"IF(TEST!V165=\"\",\"\",TEST!V165)","v":""},{"$f":"IF(TEST!W165=\"\",\"\",TEST!W165)","v":""},{"$f":"IF(TEST!X165=\"\",\"\",TEST!X165)","v":""},{"$f":"IF(OR(M164=\"\",TEST!$K$1=\"\"),\"\",TEST!$K$1)","v":""},{"$f":"IF(OR(M164=\"\",TEST!$F$1=\"\"),\"\",TEST!$F$1)","v":""}]
[null,null,null,null,null,null,null,160,{"$f":"IF(TEST!Z166=\"X\",\"\",IF(TEST!AA166=\"OUI\",TEST!E166&IF(TEST!F166=\"\",\"\",\" \"&TEST!F166),\"\"))","v":""},"","",null,"",160,{"$f":"IF(TEST!E166=\"\",\"\",TEST!E166)","v":""},{"$f":"IF(TEST!F166=\"\",\"\",TEST!F166)","v":""},{"$f":"IF(TEST!G166=\"\",\"\",TEST!G166)","v":""},{"$f":"IF(TEST!H166=\"\",\"\",TEST!H166)","v":""},{"$f":"IF(TEST!Y166=\"\",\"\",TEST!Y166)","v":""},{"$f":"IF(TEST!V166=\"\",\"\",TEST!V166)","v":""},{"$f":"IF(TEST!W166=\"\",\"\",TEST!W166)","v":""},{"$f":"IF(TEST!X166=\"\",\"\",TEST!X166)","v":""},{"$f":"IF(OR(M165=\"\",TEST!$K$1=\"\"),\"\",TEST!$K$1)","v":""},{"$f":"IF(OR(M165=\"\",TEST!$F$1=\"\"),\"\",TEST!$F$1)","v":""}]
[null,null,null,null,null,null,null,161,{"$f":"IF(TEST!Z167=\"X\",\"\",IF(TEST!AA167=\"OUI\",TEST!E167&IF(TEST!F167=\"\",\"\",\" \"&TEST!F167),\"\"))","v":""},"","",null,"",161,{"$f":"IF(TEST!E167=\"\",\"\",TEST!E167)","v":""},{"$f":"IF(TEST!F167=\"\",\"\",TEST!F167)","v":""},{"$f":"IF(TEST!G167=\"\",\"\",TEST!G167)","v":""},{"$f":"IF(TEST!H167=\"\",\"\",TEST!H167)","v":""},{"$f":"IF(TEST!Y167=\"\",\"\",TEST!Y167)","v":""},{"$f":"IF(TEST!V167=\"\",\"\",TEST!V167)","v":""},{"$f":"IF(TEST!W167=\"\",\"\",TEST!W167)","v":""},{"$f":"IF(TEST!X167=\"\",\"\",TEST!X167)","v":""},{"$f":"IF(OR(M166=\"\",TEST!$K$1=\"\"),\"\",TEST!$K$1)","v":""},{"$f":"IF(OR(M166=\"\",TEST!$F$1=\"\"),\"\",TEST!$F$1)","v":""}]
[null,null,null,null,null,null,null,162,{"$f":"IF(TEST!Z168=\"X\",\"\",IF(TEST!AA168=\"OUI\",TEST!E168&IF(TEST!F168=\"\",\"\",\" \"&TEST!F168),\"\"))","v":""},"","",null,"",162,{"$f":"IF(TEST!E168=\"\",\"\",TEST!E168)","v":""},{"$f":"IF(TEST!F168=\"\",\"\",TEST!F168)","v":""},{"$f":"IF(TEST!G168=\"\",\"\",TEST!G168)","v":""},{"$f":"IF(TEST!H168=\"\",\"\",TEST!H168)","v":""},{"$f":"IF(TEST!Y168=\"\",\"\",TEST!Y168)","v":""},{"$f":"IF(TEST!V168=\"\",\"\",TEST!V168)","v":""},{"$f":"IF(TEST!W168=\"\",\"\",TEST!W168)","v":""},{"$f":"IF(TEST!X168=\"\",\"\",TEST!X168)","v":""},{"$f":"IF(OR(M167=\"\",TEST!$K$1=\"\"),\"\",TEST!$K$1)","v":""},{"$f":"IF(OR(M167=\"\",TEST!$F$1=\"\"),\"\",TEST!$F$1)","v":""}]
[null,null,null,null,null,null,null,163,{"$f":"IF(TEST!Z169=\"X\",\"\",IF(TEST!AA169=\"OUI\",TEST!E169&IF(TEST!F169=\"\",\"\",\" \"&TEST!F169),\"\"))","v":""},"","",null,"",163,{"$f":"IF(TEST!E169=\"\",\"\",TEST!E169)","v":""},{"$f":"IF(TEST!F169=\"\",\"\",TEST!F169)","v":""},{"$f":"IF(TEST!G169=\"\",\"\",TEST!G169)","v":""},{"$f":"IF(TEST!H169=\"\",\"\",TEST!H169)","v":""},{"$f":"IF(TEST!Y169=\"\",\"\",TEST!Y169)","v":""},{"$f":"IF(TEST!V169=\"\",\"\",TEST!V169)","v":""},{"$f":"IF(TEST!W169=\"\",\"\",TEST!W169)","v":""},{"$f":"IF(TEST!X169=\"\",\"\",TEST!X169)","v":""},{"$f":"IF(OR(M168=\"\",TEST!$K$1=\"\"),\"\",TEST!$K$1)","v":""},{"$f":"IF(OR(M168=\"\",TEST!$F$1=\"\"),\"\",TEST!$F$1)","v":""}]
[null,null,null,null,null,null,null,164,{"$f":"IF(TEST!Z170=\"X\",\"\",IF(TEST!AA170=\"OUI\",TEST!E170&IF(TEST!F170=\"\",\"\",\" \"&TEST!F170),\"\"))","v":""},"","",null,"",164,{"$f":"IF(TEST!E170=\"\",\"\",TEST!E170)","v":""},{"$f":"IF(TEST!F170=\"\",\"\",TEST!F170)","v":""},{"$f":"IF(TEST!G170=\"\",\"\",TEST!G170)","v":""},{"$f":"IF(TEST!H170=\"\",\"\",TEST!H170)","v":""},{"$f":"IF(TEST!Y170=\"\",\"\",TEST!Y170)","v":""},{"$f":"IF(TEST!V170=\"\",\"\",TEST!V170)","v":""},{"$f":"IF(TEST!W170=\"\",\"\",TEST!W170)","v":""},{"$f":"IF(TEST!X170=\"\",\"\",TEST!X170)","v":""},{"$f":"IF(OR(M169=\"\",TEST!$K$1=\"\"),\"\",TEST!$K$1)","v":""},{"$f":"IF(OR(M169=\"\",TEST!$F$1=\"\"),\"\",TEST!$F$1)","v":""}]
[null,null,null,null,null,null,null,165,{"$f":"IF(TEST!Z171=\"X\",\"\",IF(TEST!AA171=\"OUI\",TEST!E171&IF(TEST!F171=\"\",\"\",\" \"&TEST!F171),\"\"))","v":""},"","",null,"",165,{"$f":"IF(TEST!E171=\"\",\"\",TEST!E171)","v":""},{"$f":"IF(TEST!F171=\"\",\"\",TEST!F171)","v":""},{"$f":"IF(TEST!G171=\"\",\"\",TEST!G171)","v":""},{"$f":"IF(TEST!H171=\"\",\"\",TEST!H171)","v":""},{"$f":"IF(TEST!Y171=\"\",\"\",TEST!Y171)","v":""},{"$f":"IF(TEST!V171=\"\",\"\",TEST!V171)","v":""},{"$f":"IF(TEST!W171=\"\",\"\",TEST!W171)","v":""},{"$f":"IF(TEST!X171=\"\",\"\",TEST!X171)","v":""},{"$f":"IF(OR(M170=\"\",TEST!$K$1=\"\"),\"\",TEST!$K$1)","v":""},{"$f":"IF(OR(M170=\"\",TEST!$F$1=\"\"),\"\",TEST!$F$1)","v":""}]
[null,null,null,null,null,null,null,166,{"$f":"IF(TEST!Z172=\"X\",\"\",IF(TEST!AA172=\"OUI\",TEST!E172&IF(TEST!F172=\"\",\"\",\" \"&TEST!F172),\"\"))","v":""},"","",null,"",166,{"$f":"IF(TEST!E172=\"\",\"\",TEST!E172)","v":""},{"$f":"IF(TEST!F172=\"\",\"\",TEST!F172)","v":""},{"$f":"IF(TEST!G172=\"\",\"\",TEST!G172)","v":""},{"$f":"IF(TEST!H172=\"\",\"\",TEST!H172)","v":""},{"$f":"IF(TEST!Y172=\"\",\"\",TEST!Y172)","v":""},{"$f":"IF(TEST!V172=\"\",\"\",TEST!V172)","v":""},{"$f":"IF(TEST!W172=\"\",\"\",TEST!W172)","v":""},{"$f":"IF(TEST!X172=\"\",\"\",TEST!X172)","v":""},{"$f":"IF(OR(M171=\"\",TEST!$K$1=\"\"),\"\",TEST!$K$1)","v":""},{"$f":"IF(OR(M171=\"\",TEST!$F$1=\"\"),\"\",TEST!$F$1)","v":""}]
[null,null,null,null,null,null,null,167,{"$f":"IF(TEST!Z173=\"X\",\"\",IF(TEST!AA173=\"OUI\",TEST!E173&IF(TEST!F173=\"\",\"\",\" \"&TEST!F173),\"\"))","v":""},"","",null,"",167,{"$f":"IF(TEST!E173=\"\",\"\",TEST!E173)","v":""},{"$f":"IF(TEST!F173=\"\",\"\",TEST!F173)","v":""},{"$f":"IF(TEST!G173=\"\",\"\",TEST!G173)","v":""},{"$f":"IF(TEST!H173=\"\",\"\",TEST!H173)","v":""},{"$f":"IF(TEST!Y173=\"\",\"\",TEST!Y173)","v":""},{"$f":"IF(TEST!V173=\"\",\"\",TEST!V173)","v":""},{"$f":"IF(TEST!W173=\"\",\"\",TEST!W173)","v":""},{"$f":"IF(TEST!X173=\"\",\"\",TEST!X173)","v":""},{"$f":"IF(OR(M172=\"\",TEST!$K$1=\"\"),\"\",TEST!$K$1)","v":""},{"$f":"IF(OR(M172=\"\",TEST!$F$1=\"\"),\"\",TEST!$F$1)","v":""}]
[null,null,null,null,null,null,null,168,{"$f":"IF(TEST!Z174=\"X\",\"\",IF(TEST!AA174=\"OUI\",TEST!E174&IF(TEST!F174=\"\",\"\",\" \"&TEST!F174),\"\"))","v":""},"","",null,"",168,{"$f":"IF(TEST!E174=\"\",\"\",TEST!E174)","v":""},{"$f":"IF(TEST!F174=\"\",\"\",TEST!F174)","v":""},{"$f":"IF(TEST!G174=\"\",\"\",TEST!G174)","v":""},{"$f":"IF(TEST!H174=\"\",\"\",TEST!H174)","v":""},{"$f":"IF(TEST!Y174=\"\",\"\",TEST!Y174)","v":""},{"$f":"IF(TEST!V174=\"\",\"\",TEST!V174)","v":""},{"$f":"IF(TEST!W174=\"\",\"\",TEST!W174)","v":""},{"$f":"IF(TEST!X174=\"\",\"\",TEST!X174)","v":""},{"$f":"IF(OR(M173=\"\",TEST!$K$1=\"\"),\"\",TEST!$K$1)","v":""},{"$f":"IF(OR(M173=\"\",TEST!$F$1=\"\"),\"\",TEST!$F$1)","v":""}]
[null,null,null,null,null,null,null,169,{"$f":"IF(TEST!Z175=\"X\",\"\",IF(TEST!AA175=\"OUI\",TEST!E175&IF(TEST!F175=\"\",\"\",\" \"&TEST!F175),\"\"))","v":""},"","",null,"",169,{"$f":"IF(TEST!E175=\"\",\"\",TEST!E175)","v":""},{"$f":"IF(TEST!F175=\"\",\"\",TEST!F175)","v":""},{"$f":"IF(TEST!G175=\"\",\"\",TEST!G175)","v":""},{"$f":"IF(TEST!H175=\"\",\"\",TEST!H175)","v":""},{"$f":"IF(TEST!Y175=\"\",\"\",TEST!Y175)","v":""},{"$f":"IF(TEST!V175=\"\",\"\",TEST!V175)","v":""},{"$f":"IF(TEST!W175=\"\",\"\",TEST!W175)","v":""},{"$f":"IF(TEST!X175=\"\",\"\",TEST!X175)","v":""},{"$f":"IF(OR(M174=\"\",TEST!$K$1=\"\"),\"\",TEST!$K$1)","v":""},{"$f":"IF(OR(M174=\"\",TEST!$F$1=\"\"),\"\",TEST!$F$1)","v":""}]
[null,null,null,null,null,null,null,170,{"$f":"IF(TEST!Z176=\"X\",\"\",IF(TEST!AA176=\"OUI\",TEST!E176&IF(TEST!F176=\"\",\"\",\" \"&TEST!F176),\"\"))","v":""},"","",null,"",170,{"$f":"IF(TEST!E176=\"\",\"\",TEST!E176)","v":""},{"$f":"IF(TEST!F176=\"\",\"\",TEST!F176)","v":""},{"$f":"IF(TEST!G176=\"\",\"\",TEST!G176)","v":""},{"$f":"IF(TEST!H176=\"\",\"\",TEST!H176)","v":""},{"$f":"IF(TEST!Y176=\"\",\"\",TEST!Y176)","v":""},{"$f":"IF(TEST!V176=\"\",\"\",TEST!V176)","v":""},{"$f":"IF(TEST!W176=\"\",\"\",TEST!W176)","v":""},{"$f":"IF(TEST!X176=\"\",\"\",TEST!X176)","v":""},{"$f":"IF(OR(M175=\"\",TEST!$K$1=\"\"),\"\",TEST!$K$1)","v":""},{"$f":"IF(OR(M175=\"\",TEST!$F$1=\"\"),\"\",TEST!$F$1)","v":""}]
[null,null,null,null,null,null,null,171,{"$f":"IF(TEST!Z177=\"X\",\"\",IF(TEST!AA177=\"OUI\",TEST!E177&IF(TEST!F177=\"\",\"\",\" \"&TEST!F177),\"\"))","v":""},"","",null,"",171,{"$f":"IF(TEST!E177=\"\",\"\",TEST!E177)","v":""},{"$f":"IF(TEST!F177=\"\",\"\",TEST!F177)","v":""},{"$f":"IF(TEST!G177=\"\",\"\",TEST!G177)","v":""},{"$f":"IF(TEST!H177=\"\",\"\",TEST!H177)","v":""},{"$f":"IF(TEST!Y177=\"\",\"\",TEST!Y177)","v":""},{"$f":"IF(TEST!V177=\"\",\"\",TEST!V177)","v":""},{"$f":"IF(TEST!W177=\"\",\"\",TEST!W177)","v":""},{"$f":"IF(TEST!X177=\"\",\"\",TEST!X177)","v":""},{"$f":"IF(OR(M176=\"\",TEST!$K$1=\"\"),\"\",TEST!$K$1)","v":""},{"$f":"IF(OR(M176=\"\",TEST!$F$1=\"\"),\"\",TEST!$F$1)","v":""}]
[null,null,null,null,null,null,null,172,{"$f":"IF(TEST!Z178=\"X\",\"\",IF(TEST!AA178=\"OUI\",TEST!E178&IF(TEST!F178=\"\",\"\",\" \"&TEST!F178),\"\"))","v":""},"","",null,"",172,{"$f":"IF(TEST!E178=\"\",\"\",TEST!E178)","v":""},{"$f":"IF(TEST!F178=\"\",\"\",TEST!F178)","v":""},{"$f":"IF(TEST!G178=\"\",\"\",TEST!G178)","v":""},{"$f":"IF(TEST!H178=\"\",\"\",TEST!H178)","v":""},{"$f":"IF(TEST!Y178=\"\",\"\",TEST!Y178)","v":""},{"$f":"IF(TEST!V178=\"\",\"\",TEST!V178)","v":""},{"$f":"IF(TEST!W178=\"\",\"\",TEST!W178)","v":""},{"$f":"IF(TEST!X178=\"\",\"\",TEST!X178)","v":""},{"$f":"IF(OR(M177=\"\",TEST!$K$1=\"\"),\"\",TEST!$K$1)","v":""},{"$f":"IF(OR(M177=\"\",TEST!$F$1=\"\"),\"\",TEST!$F$1)","v":""}]
[null,null,null,null,null,null,null,173,{"$f":"IF(TEST!Z179=\"X\",\"\",IF(TEST!AA179=\"OUI\",TEST!E179&IF(TEST!F179=\"\",\"\",\" \"&TEST!F179),\"\"))","v":""},"","",null,"",173,{"$f":"IF(TEST!E179=\"\",\"\",TEST!E179)","v":""},{"$f":"IF(TEST!F179=\"\",\"\",TEST!F179)","v":""},{"$f":"IF(TEST!G179=\"\",\"\",TEST!G179)","v":""},{"$f":"IF(TEST!H179=\"\",\"\",TEST!H179)","v":""},{"$f":"IF(TEST!Y179=\"\",\"\",TEST!Y179)","v":""},{"$f":"IF(TEST!V179=\"\",\"\",TEST!V179)","v":""},{"$f":"IF(TEST!W179=\"\",\"\",TEST!W179)","v":""},{"$f":"IF(TEST!X179=\"\",\"\",TEST!X179)","v":""},{"$f":"IF(OR(M178=\"\",TEST!$K$1=\"\"),\"\",TEST!$K$1)","v":""},{"$f":"IF(OR(M178=\"\",TEST!$F$1=\"\"),\"\",TEST!$F$1)","v":""}]
[null,null,null,null,null,null,null,174,{"$f":"IF(TEST!Z180=\"X\",\"\",IF(TEST!AA180=\"OUI\",TEST!E180&IF(TEST!F180=\"\",\"\",\" \"&TEST!F180),\"\"))","v":""},"","",null,"",174,{"$f":"IF(TEST!E180=\"\",\"\",TEST!E180)","v":""},{"$f":"IF(TEST!F180=\"\",\"\",TEST!F180)","v":""},{"$f":"IF(TEST!G180=\"\",\"\",TEST!G180)","v":""},{"$f":"IF(TEST!H180=\"\",\"\",TEST!H180)","v":""},{"$f":"IF(TEST!Y180=\"\",\"\",TEST!Y180)","v":""},{"$f":"IF(TEST!V180=\"\",\"\",TEST!V180)","v":""},{"$f":"IF(TEST!W180=\"\",\"\",TEST!W180)","v":""},{"$f":"IF(TEST!X180=\"\",\"\",TEST!X180)","v":""},{"$f":"IF(OR(M179=\"\",TEST!$K$1=\"\"),\"\",TEST!$K$1)","v":""},{"$f":"IF(OR(M179=\"\",TEST!$F$1=\"\"),\"\",TEST!$F$1)","v":""}]
[null,null,null,null,null,null,null,175,{"$f":"IF(TEST!Z181=\"X\",\"\",IF(TEST!AA181=\"OUI\",TEST!E181&IF(TEST!F181=\"\",\"\",\" \"&TEST!F181),\"\"))","v":""},"","",null,"",175,{"$f":"IF(TEST!E181=\"\",\"\",TEST!E181)","v":""},{"$f":"IF(TEST!F181=\"\",\"\",TEST!F181)","v":""},{"$f":"IF(TEST!G181=\"\",\"\",TEST!G181)","v":""},{"$f":"IF(TEST!H181=\"\",\"\",TEST!H181)","v":""},{"$f":"IF(TEST!Y181=\"\",\"\",TEST!Y181)","v":""},{"$f":"IF(TEST!V181=\"\",\"\",TEST!V181)","v":""},{"$f":"IF(TEST!W181=\"\",\"\",TEST!W181)","v":""},{"$f":"IF(TEST!X181=\"\",\"\",TEST!X181)","v":""},{"$f":"IF(OR(M180=\"\",TEST!$K$1=\"\"),\"\",TEST!$K$1)","v":""},{"$f":"IF(OR(M180=\"\",TEST!$F$1=\"\"),\"\",TEST!$F$1)","v":""}]
[null,null,null,null,null,null,null,176,{"$f":"IF(TEST!Z182=\"X\",\"\",IF(TEST!AA182=\"OUI\",TEST!E182&IF(TEST!F182=\"\",\"\",\" \"&TEST!F182),\"\"))","v":""},"","",null,"",176,{"$f":"IF(TEST!E182=\"\",\"\",TEST!E182)","v":""},{"$f":"IF(TEST!F182=\"\",\"\",TEST!F182)","v":""},{"$f":"IF(TEST!G182=\"\",\"\",TEST!G182)","v":""},{"$f":"IF(TEST!H182=\"\",\"\",TEST!H182)","v":""},{"$f":"IF(TEST!Y182=\"\",\"\",TEST!Y182)","v":""},{"$f":"IF(TEST!V182=\"\",\"\",TEST!V182)","v":""},{"$f":"IF(TEST!W182=\"\",\"\",TEST!W182)","v":""},{"$f":"IF(TEST!X182=\"\",\"\",TEST!X182)","v":""},{"$f":"IF(OR(M181=\"\",TEST!$K$1=\"\"),\"\",TEST!$K$1)","v":""},{"$f":"IF(OR(M181=\"\",TEST!$F$1=\"\"),\"\",TEST!$F$1)","v":""}]
[null,null,null,null,null,null,null,177,{"$f":"IF(TEST!Z183=\"X\",\"\",IF(TEST!AA183=\"OUI\",TEST!E183&IF(TEST!F183=\"\",\"\",\" \"&TEST!F183),\"\"))","v":""},"","",null,"",177,{"$f":"IF(TEST!E183=\"\",\"\",TEST!E183)","v":""},{"$f":"IF(TEST!F183=\"\",\"\",TEST!F183)","v":""},{"$f":"IF(TEST!G183=\"\",\"\",TEST!G183)","v":""},{"$f":"IF(TEST!H183=\"\",\"\",TEST!H183)","v":""},{"$f":"IF(TEST!Y183=\"\",\"\",TEST!Y183)","v":""},{"$f":"IF(TEST!V183=\"\",\"\",TEST!V183)","v":""},{"$f":"IF(TEST!W183=\"\",\"\",TEST!W183)","v":""},{"$f":"IF(TEST!X183=\"\",\"\",TEST!X183)","v":""},{"$f":"IF(OR(M182=\"\",TEST!$K$1=\"\"),\"\",TEST!$K$1)","v":""},{"$f":"IF(OR(M182=\"\",TEST!$F$1=\"\"),\"\",TEST!$F$1)","v":""}]
[null,null,null,null,null,null,null,178,{"$f":"IF(TEST!Z184=\"X\",\"\",IF(TEST!AA184=\"OUI\",TEST!E184&IF(TEST!F184=\"\",\"\",\" \"&TEST!F184),\"\"))","v":""},"","",null,"",178,{"$f":"IF(TEST!E184=\"\",\"\",TEST!E184)","v":""},{"$f":"IF(TEST!F184=\"\",\"\",TEST!F184)","v":""},{"$f":"IF(TEST!G184=\"\",\"\",TEST!G184)","v":""},{"$f":"IF(TEST!H184=\"\",\"\",TEST!H184)","v":""},{"$f":"IF(TEST!Y184=\"\",\"\",TEST!Y184)","v":""},{"$f":"IF(TEST!V184=\"\",\"\",TEST!V184)","v":""},{"$f":"IF(TEST!W184=\"\",\"\",TEST!W184)","v":""},{"$f":"IF(TEST!X184=\"\",\"\",TEST!X184)","v":""},{"$f":"IF(OR(M183=\"\",TEST!$K$1=\"\"),\"\",TEST!$K$1)","v":""},{"$f":"IF(OR(M183=\"\",TEST!$F$1=\"\"),\"\",TEST!$F$1)","v":""}]
[null,null,null,null,null,null,null,179,{"$f":"IF(TEST!Z185=\"X\",\"\",IF(TEST!AA185=\"OUI\",TEST!E185&IF(TEST!F185=\"\",\"\",\" \"&TEST!F185),\"\"))","v":""},"","",null,"",179,{"$f":"IF(TEST!E185=\"\",\"\",TEST!E185)","v":""},{"$f":"IF(TEST!F185=\"\",\"\",TEST!F185)","v":""},{"$f":"IF(TEST!G185=\"\",\"\",TEST!G185)","v":""},{"$f":"IF(TEST!H185=\"\",\"\",TEST!H185)","v":""},{"$f":"IF(TEST!Y185=\"\",\"\",TEST!Y185)","v":""},{"$f":"IF(TEST!V185=\"\",\"\",TEST!V185)","v":""},{"$f":"IF(TEST!W185=\"\",\"\",TEST!W185)","v":""},{"$f":"IF(TEST!X185=\"\",\"\",TEST!X185)","v":""},{"$f":"IF(OR(M184=\"\",TEST!$K$1=\"\"),\"\",TEST!$K$1)","v":""},{"$f":"IF(OR(M184=\"\",TEST!$F$1=\"\"),\"\",TEST!$F$1)","v":""}]
[null,null,null,null,null,null,null,180,{"$f":"IF(TEST!Z186=\"X\",\"\",IF(TEST!AA186=\"OUI\",TEST!E186&IF(TEST!F186=\"\",\"\",\" \"&TEST!F186),\"\"))","v":""},"","",null,"",180,{"$f":"IF(TEST!E186=\"\",\"\",TEST!E186)","v":""},{"$f":"IF(TEST!F186=\"\",\"\",TEST!F186)","v":""},{"$f":"IF(TEST!G186=\"\",\"\",TEST!G186)","v":""},{"$f":"IF(TEST!H186=\"\",\"\",TEST!H186)","v":""},{"$f":"IF(TEST!Y186=\"\",\"\",TEST!Y186)","v":""},{"$f":"IF(TEST!V186=\"\",\"\",TEST!V186)","v":""},{"$f":"IF(TEST!W186=\"\",\"\",TEST!W186)","v":""},{"$f":"IF(TEST!X186=\"\",\"\",TEST!X186)","v":""},{"$f":"IF(OR(M185=\"\",TEST!$K$1=\"\"),\"\",TEST!$K$1)","v":""},{"$f":"IF(OR(M185=\"\",TEST!$F$1=\"\"),\"\",TEST!$F$1)","v":""}]
[null,null,null,null,null,null,null,181,{"$f":"IF(TEST!Z187=\"X\",\"\",IF(TEST!AA187=\"OUI\",TEST!E187&IF(TEST!F187=\"\",\"\",\" \"&TEST!F187),\"\"))","v":""},"","",null,"",181,{"$f":"IF(TEST!E187=\"\",\"\",TEST!E187)","v":""},{"$f":"IF(TEST!F187=\"\",\"\",TEST!F187)","v":""},{"$f":"IF(TEST!G187=\"\",\"\",TEST!G187)","v":""},{"$f":"IF(TEST!H187=\"\",\"\",TEST!H187)","v":""},{"$f":"IF(TEST!Y187=\"\",\"\",TEST!Y187)","v":""},{"$f":"IF(TEST!V187=\"\",\"\",TEST!V187)","v":""},{"$f":"IF(TEST!W187=\"\",\"\",TEST!W187)","v":""},{"$f":"IF(TEST!X187=\"\",\"\",TEST!X187)","v":""},{"$f":"IF(OR(M186=\"\",TEST!$K$1=\"\"),\"\",TEST!$K$1)","v":""},{"$f":"IF(OR(M186=\"\",TEST!$F$1=\"\"),\"\",TEST!$F$1)","v":""}]
[null,null,null,null,null,null,null,182,{"$f":"IF(TEST!Z188=\"X\",\"\",IF(TEST!AA188=\"OUI\",TEST!E188&IF(TEST!F188=\"\",\"\",\" \"&TEST!F188),\"\"))","v":""},"","",null,"",182,{"$f":"IF(TEST!E188=\"\",\"\",TEST!E188)","v":""},{"$f":"IF(TEST!F188=\"\",\"\",TEST!F188)","v":""},{"$f":"IF(TEST!G188=\"\",\"\",TEST!G188)","v":""},{"$f":"IF(TEST!H188=\"\",\"\",TEST!H188)","v":""},{"$f":"IF(TEST!Y188=\"\",\"\",TEST!Y188)","v":""},{"$f":"IF(TEST!V188=\"\",\"\",TEST!V188)","v":""},{"$f":"IF(TEST!W188=\"\",\"\",TEST!W188)","v":""},{"$f":"IF(TEST!X188=\"\",\"\",TEST!X188)","v":""},{"$f":"IF(OR(M187=\"\",TEST!$K$1=\"\"),\"\",TEST!$K$1)","v":""},{"$f":"IF(OR(M187=\"\",TEST!$F$1=\"\"),\"\",TEST!$F$1)","v":""}]
[null,null,null,null,null,null,null,183,{"$f":"IF(TEST!Z189=\"X\",\"\",IF(TEST!AA189=\"OUI\",TEST!E189&IF(TEST!F189=\"\",\"\",\" \"&TEST!F189),\"\"))","v":""},"","",null,"",183,{"$f":"IF(TEST!E189=\"\",\"\",TEST!E189)","v":""},{"$f":"IF(TEST!F189=\"\",\"\",TEST!F189)","v":""},{"$f":"IF(TEST!G189=\"\",\"\",TEST!G189)","v":""},{"$f":"IF(TEST!H189=\"\",\"\",TEST!H189)","v":""},{"$f":"IF(TEST!Y189=\"\",\"\",TEST!Y189)","v":""},{"$f":"IF(TEST!V189=\"\",\"\",TEST!V189)","v":""},{"$f":"IF(TEST!W189=\"\",\"\",TEST!W189)","v":""},{"$f":"IF(TEST!X189=\"\",\"\",TEST!X189)","v":""},{"$f":"IF(OR(M188=\"\",TEST!$K$1=\"\"),\"\",TEST!$K$1)","v":""},{"$f":"IF(OR(M188=\"\",TEST!$F$1=\"\"),\"\",TEST!$F$1)","v":""}]
[null,null,null,null,null,null,null,184,{"$f":"IF(TEST!Z190=\"X\",\"\",IF(TEST!AA190=\"OUI\",TEST!E190&IF(TEST!F190=\"\",\"\",\" \"&TEST!F190),\"\"))","v":""},"","",null,"",184,{"$f":"IF(TEST!E190=\"\",\"\",TEST!E190)","v":""},{"$f":"IF(TEST!F190=\"\",\"\",TEST!F190)","v":""},{"$f":"IF(TEST!G190=\"\",\"\",TEST!G190)","v":""},{"$f":"IF(TEST!H190=\"\",\"\",TEST!H190)","v":""},{"$f":"IF(TEST!Y190=\"\",\"\",TEST!Y190)","v":""},{"$f":"IF(TEST!V190=\"\",\"\",TEST!V190)","v":""},{"$f":"IF(TEST!W190=\"\",\"\",TEST!W190)","v":""},{"$f":"IF(TEST!X190=\"\",\"\",TEST!X190)","v":""},{"$f":"IF(OR(M189=\"\",TEST!$K$1=\"\"),\"\",TEST!$K$1)","v":""},{"$f":"IF(OR(M189=\"\",TEST!$F$1=\"\"),\"\",TEST!$F$1)","v":""}]
[null,null,null,null,null,null,null,185,{"$f":"IF(TEST!Z191=\"X\",\"\",IF(TEST!AA191=\"OUI\",TEST!E191&IF(TEST!F191=\"\",\"\",\" \"&TEST!F191),\"\"))","v":""},"","",null,"",185,{"$f":"IF(TEST!E191=\"\",\"\",TEST!E191)","v":""},{"$f":"IF(TEST!F191=\"\",\"\",TEST!F191)","v":""},{"$f":"IF(TEST!G191=\"\",\"\",TEST!G191)","v":""},{"$f":"IF(TEST!H191=\"\",\"\",TEST!H191)","v":""},{"$f":"IF(TEST!Y191=\"\",\"\",TEST!Y191)","v":""},{"$f":"IF(TEST!V191=\"\",\"\",TEST!V191)","v":""},{"$f":"IF(TEST!W191=\"\",\"\",TEST!W191)","v":""},{"$f":"IF(TEST!X191=\"\",\"\",TEST!X191)","v":""},{"$f":"IF(OR(M190=\"\",TEST!$K$1=\"\"),\"\",TEST!$K$1)","v":""},{"$f":"IF(OR(M190=\"\",TEST!$F$1=\"\"),\"\",TEST!$F$1)","v":""}]
[null,null,null,null,null,null,null,186,{"$f":"IF(TEST!Z192=\"X\",\"\",IF(TEST!AA192=\"OUI\",TEST!E192&IF(TEST!F192=\"\",\"\",\" \"&TEST!F192),\"\"))","v":""},"","",null,"",186,{"$f":"IF(TEST!E192=\"\",\"\",TEST!E192)","v":""},{"$f":"IF(TEST!F192=\"\",\"\",TEST!F192)","v":""},{"$f":"IF(TEST!G192=\"\",\"\",TEST!G192)","v":""},{"$f":"IF(TEST!H192=\"\",\"\",TEST!H192)","v":""},{"$f":"IF(TEST!Y192=\"\",\"\",TEST!Y192)","v":""},{"$f":"IF(TEST!V192=\"\",\"\",TEST!V192)","v":""},{"$f":"IF(TEST!W192=\"\",\"\",TEST!W192)","v":""},{"$f":"IF(TEST!X192=\"\",\"\",TEST!X192)","v":""},{"$f":"IF(OR(M191=\"\",TEST!$K$1=\"\"),\"\",TEST!$K$1)","v":""},{"$f":"IF(OR(M191=\"\",TEST!$F$1=\"\"),\"\",TEST!$F$1)","v":""}]
[null,null,null,null,null,null,null,187,{"$f":"IF(TEST!Z193=\"X\",\"\",IF(TEST!AA193=\"OUI\",TEST!E193&IF(TEST!F193=\"\",\"\",\" \"&TEST!F193),\"\"))","v":""},"","",null,"",187,{"$f":"IF(TEST!E193=\"\",\"\",TEST!E193)","v":""},{"$f":"IF(TEST!F193=\"\",\"\",TEST!F193)","v":""},{"$f":"IF(TEST!G193=\"\",\"\",TEST!G193)","v":""},{"$f":"IF(TEST!H193=\"\",\"\",TEST!H193)","v":""},{"$f":"IF(TEST!Y193=\"\",\"\",TEST!Y193)","v":""},{"$f":"IF(TEST!V193=\"\",\"\",TEST!V193)","v":""},{"$f":"IF(TEST!W193=\"\",\"\",TEST!W193)","v":""},{"$f":"IF(TEST!X193=\"\",\"\",TEST!X193)","v":""},{"$f":"IF(OR(M192=\"\",TEST!$K$1=\"\"),\"\",TEST!$K$1)","v":""},{"$f":"IF(OR(M192=\"\",TEST!$F$1=\"\"),\"\",TEST!$F$1)","v":""}]
[null,null,null,null,null,null,null,188,{"$f":"IF(TEST!Z194=\"X\",\"\",IF(TEST!AA194=\"OUI\",TEST!E194&IF(TEST!F194=\"\",\"\",\" \"&TEST!F194),\"\"))","v":""},"","",null,"",188,{"$f":"IF(TEST!E194=\"\",\"\",TEST!E194)","v":""},{"$f":"IF(TEST!F194=\"\",\"\",TEST!F194)","v":""},{"$f":"IF(TEST!G194=\"\",\"\",TEST!G194)","v":""},{"$f":"IF(TEST!H194=\"\",\"\",TEST!H194)","v":""},{"$f":"IF(TEST!Y194=\"\",\"\",TEST!Y194)","v":""},{"$f":"IF(TEST!V194=\"\",\"\",TEST!V194)","v":""},{"$f":"IF(TEST!W194=\"\",\"\",TEST!W194)","v":""},{"$f":"IF(TEST!X194=\"\",\"\",TEST!X194)","v":""},{"$f":"IF(OR(M193=\"\",TEST!$K$1=\"\"),\"\",TEST!$K$1)","v":""},{"$f":"IF(OR(M193=\"\",TEST!$F$1=\"\"),\"\",TEST!$F$1)","v":""}]
[null,null,null,null,null,null,null,189,{"$f":"IF(TEST!Z195=\"X\",\"\",IF(TEST!AA195=\"OUI\",TEST!E195&IF(TEST!F195=\"\",\"\",\" \"&TEST!F195),\"\"))","v":""},"","",null,"",189,{"$f":"IF(TEST!E195=\"\",\"\",TEST!E195)","v":""},{"$f":"IF(TEST!F195=\"\",\"\",TEST!F195)","v":""},{"$f":"IF(TEST!G195=\"\",\"\",TEST!G195)","v":""},{"$f":"IF(TEST!H195=\"\",\"\",TEST!H195)","v":""},{"$f":"IF(TEST!Y195=\"\",\"\",TEST!Y195)","v":""},{"$f":"IF(TEST!V195=\"\",\"\",TEST!V195)","v":""},{"$f":"IF(TEST!W195=\"\",\"\",TEST!W195)","v":""},{"$f":"IF(TEST!X195=\"\",\"\",TEST!X195)","v":""},{"$f":"IF(OR(M194=\"\",TEST!$K$1=\"\"),\"\",TEST!$K$1)","v":""},{"$f":"IF(OR(M194=\"\",TEST!$F$1=\"\"),\"\",TEST!$F$1)","v":""}]
[null,null,null,null,null,null,null,190,{"$f":"IF(TEST!Z196=\"X\",\"\",IF(TEST!AA196=\"OUI\",TEST!E196&IF(TEST!F196=\"\",\"\",\" \"&TEST!F196),\"\"))","v":""},"","",null,"",190,{"$f":"IF(TEST!E196=\"\",\"\",TEST!E196)","v":""},{"$f":"IF(TEST!F196=\"\",\"\",TEST!F196)","v":""},{"$f":"IF(TEST!G196=\"\",\"\",TEST!G196)","v":""},{"$f":"IF(TEST!H196=\"\",\"\",TEST!H196)","v":""},{"$f":"IF(TEST!Y196=\"\",\"\",TEST!Y196)","v":""},{"$f":"IF(TEST!V196=\"\",\"\",TEST!V196)","v":""},{"$f":"IF(TEST!W196=\"\",\"\",TEST!W196)","v":""},{"$f":"IF(TEST!X196=\"\",\"\",TEST!X196)","v":""},{"$f":"IF(OR(M195=\"\",TEST!$K$1=\"\"),\"\",TEST!$K$1)","v":""},{"$f":"IF(OR(M195=\"\",TEST!$F$1=\"\"),\"\",TEST!$F$1)","v":""}]
[null,null,null,null,null,null,null,191,{"$f":"IF(TEST!Z197=\"X\",\"\",IF(TEST!AA197=\"OUI\",TEST!E197&IF(TEST!F197=\"\",\"\",\" \"&TEST!F197),\"\"))","v":""},"","",null,"",191,{"$f":"IF(TEST!E197=\"\",\"\",TEST!E197)","v":""},{"$f":"IF(TEST!F197=\"\",\"\",TEST!F197)","v":""},{"$f":"IF(TEST!G197=\"\",\"\",TEST!G197)","v":""},{"$f":"IF(TEST!H197=\"\",\"\",TEST!H197)","v":""},{"$f":"IF(TEST!Y197=\"\",\"\",TEST!Y197)","v":""},{"$f":"IF(TEST!V197=\"\",\"\",TEST!V197)","v":""},{"$f":"IF(TEST!W197=\"\",\"\",TEST!W197)","v":""},{"$f":"IF(TEST!X197=\"\",\"\",TEST!X197)","v":""},{"$f":"IF(OR(M196=\"\",TEST!$K$1=\"\"),\"\",TEST!$K$1)","v":""},{"$f":"IF(OR(M196=\"\",TEST!$F$1=\"\"),\"\",TEST!$F$1)","v":""}]
[null,null,null,null,null,null,null,192,{"$f":"IF(TEST!Z198=\"X\",\"\",IF(TEST!AA198=\"OUI\",TEST!E198&IF(TEST!F198=\"\",\"\",\" \"&TEST!F198),\"\"))","v":""},"","",null,"",192,{"$f":"IF(TEST!E198=\"\",\"\",TEST!E198)","v":""},{"$f":"IF(TEST!F198=\"\",\"\",TEST!F198)","v":""},{"$f":"IF(TEST!G198=\"\",\"\",TEST!G198)","v":""},{"$f":"IF(TEST!H198=\"\",\"\",TEST!H198)","v":""},{"$f":"IF(TEST!Y198=\"\",\"\",TEST!Y198)","v":""},{"$f":"IF(TEST!V198=\"\",\"\",TEST!V198)","v":""},{"$f":"IF(TEST!W198=\"\",\"\",TEST!W198)","v":""},{"$f":"IF(TEST!X198=\"\",\"\",TEST!X198)","v":""},{"$f":"IF(OR(M197=\"\",TEST!$K$1=\"\"),\"\",TEST!$K$1)","v":""},{"$f":"IF(OR(M197=\"\",TEST!$F$1=\"\"),\"\",TEST!$F$1)","v":""}]
[null,null,null,null,null,null,null,193,{"$f":"IF(TEST!Z199=\"X\",\"\",IF(TEST!AA199=\"OUI\",TEST!E199&IF(TEST!F199=\"\",\"\",\" \"&TEST!F199),\"\"))","v":""},"","",null,"",193,{"$f":"IF(TEST!E199=\"\",\"\",TEST!E199)","v":""},{"$f":"IF(TEST!F199=\"\",\"\",TEST!F199)","v":""},{"$f":"IF(TEST!G199=\"\",\"\",TEST!G199)","v":""},{"$f":"IF(TEST!H199=\"\",\"\",TEST!H199)","v":""},{"$f":"IF(TEST!Y199=\"\",\"\",TEST!Y199)","v":""},{"$f":"IF(TEST!V199=\"\",\"\",TEST!V199)","v":""},{"$f":"IF(TEST!W199=\"\",\"\",TEST!W199)","v":""},{"$f":"IF(TEST!X199=\"\",\"\",TEST!X199)","v":""},{"$f":"IF(OR(M198=\"\",TEST!$K$1=\"\"),\"\",TEST!$K$1)","v":""},{"$f":"IF(OR(M198=\"\",TEST!$F$1=\"\"),\"\",TEST!$F$1)","v":""}]
[null,null,null,null,null,null,null,194,{"$f":"IF(TEST!Z200=\"X\",\"\",IF(TEST!AA200=\"OUI\",TEST!E200&IF(TEST!F200=\"\",\"\",\" \"&TEST!F200),\"\"))","v":""},{"$f":"IF(I199=\"\",\"\",H199)","v":""},{"$f":"IF(ISERROR(INDEX($H$6:$I$305,SMALL($J$6:$J$305,H199),2)),\"\",INDEX($H$6:$I$305,SMALL($J$6:$J$305,H199),2))","v":""},null,{"$f":"O199&IF(P199=\"\",\"\",\" \"&P199)","v":""},194,{"$f":"IF(TEST!E200=\"\",\"\",TEST!E200)","v":""},{"$f":"IF(TEST!F200=\"\",\"\",TEST!F200)","v":""},{"$f":"IF(TEST!G200=\"\",\"\",TEST!G200)","v":""},{"$f":"IF(TEST!H200=\"\",\"\",TEST!H200)","v":""},{"$f":"IF(TEST!Y200=\"\",\"\",TEST!Y200)","v":""},{"$f":"IF(TEST!V200=\"\",\"\",TEST!V200)","v":""},{"$f":"IF(TEST!W200=\"\",\"\",TEST!W200)","v":""},{"$f":"IF(TEST!X200=\"\",\"\",TEST!X200)","v":""},{"$f":"IF(OR(M199=\"\",TEST!$K$1=\"\"),\"\",TEST!$K$1)","v":""},{"$f":"IF(OR(M199=\"\",TEST!$F$1=\"\"),\"\",TEST!$F$1)","v":""}]
[null,null,null,null,null,null,null,195,{"$f":"IF(TEST!Z201=\"X\",\"\",IF(TEST!AA201=\"OUI\",TEST!E201&IF(TEST!F201=\"\",\"\",\" \"&TEST!F201),\"\"))","v":""},"","",null,"",195,{"$f":"IF(TEST!E201=\"\",\"\",TEST!E201)","v":""},{"$f":"IF(TEST!F201=\"\",\"\",TEST!F201)","v":""},{"$f":"IF(TEST!G201=\"\",\"\",TEST!G201)","v":""},{"$f":"IF(TEST!H201=\"\",\"\",TEST!H201)","v":""},{"$f":"IF(TEST!Y201=\"\",\"\",TEST!Y201)","v":""},{"$f":"IF(TEST!V201=\"\",\"\",TEST!V201)","v":""},{"$f":"IF(TEST!W201=\"\",\"\",TEST!W201)","v":""},{"$f":"IF(TEST!X201=\"\",\"\",TEST!X201)","v":""},{"$f":"IF(OR(M200=\"\",TEST!$K$1=\"\"),\"\",TEST!$K$1)","v":""},{"$f":"IF(OR(M200=\"\",TEST!$F$1=\"\"),\"\",TEST!$F$1)","v":""}]
[null,null,null,null,null,null,null,196,{"$f":"IF(TEST!Z202=\"X\",\"\",IF(TEST!AA202=\"OUI\",TEST!E202&IF(TEST!F202=\"\",\"\",\" \"&TEST!F202),\"\"))","v":""},"","",null,"",196,{"$f":"IF(TEST!E202=\"\",\"\",TEST!E202)","v":""},{"$f":"IF(TEST!F202=\"\",\"\",TEST!F202)","v":""},{"$f":"IF(TEST!G202=\"\",\"\",TEST!G202)","v":""},{"$f":"IF(TEST!H202=\"\",\"\",TEST!H202)","v":""},{"$f":"IF(TEST!Y202=\"\",\"\",TEST!Y202)","v":""},{"$f":"IF(TEST!V202=\"\",\"\",TEST!V202)","v":""},{"$f":"IF(TEST!W202=\"\",\"\",TEST!W202)","v":""},{"$f":"IF(TEST!X202=\"\",\"\",TEST!X202)","v":""},{"$f":"IF(OR(M201=\"\",TEST!$K$1=\"\"),\"\",TEST!$K$1)","v":""},{"$f":"IF(OR(M201=\"\",TEST!$F$1=\"\"),\"\",TEST!$F$1)","v":""}]
[null,null,null,null,null,null,null,197,{"$f":"IF(TEST!Z203=\"X\",\"\",IF(TEST!AA203=\"OUI\",TEST!E203&IF(TEST!F203=\"\",\"\",\" \"&TEST!F203),\"\"))","v":""},"","",null,"",197,{"$f":"IF(TEST!E203=\"\",\"\",TEST!E203)","v":""},{"$f":"IF(TEST!F203=\"\",\"\",TEST!F203)","v":""},{"$f":"IF(TEST!G203=\"\",\"\",TEST!G203)","v":""},{"$f":"IF(TEST!H203=\"\",\"\",TEST!H203)","v":""},{"$f":"IF(TEST!Y203=\"\",\"\",TEST!Y203)","v":""},{"$f":"IF(TEST!V203=\"\",\"\",TEST!V203)","v":""},{"$f":"IF(TEST!W203=\"\",\"\",TEST!W203)","v":""},{"$f":"IF(TEST!X203=\"\",\"\",TEST!X203)","v":""},{"$f":"IF(OR(M202=\"\",TEST!$K$1=\"\"),\"\",TEST!$K$1)","v":""},{"$f":"IF(OR(M202=\"\",TEST!$F$1=\"\"),\"\",TEST!$F$1)","v":""}]
[null,null,null,null,null,null,null,198,{"$f":"IF(TEST!Z204=\"X\",\"\",IF(TEST!AA204=\"OUI\",TEST!E204&IF(TEST!F204=\"\",\"\",\" \"&TEST!F204),\"\"))","v":""},"","",null,"",198,{"$f":"IF(TEST!E204=\"\",\"\",TEST!E204)","v":""},{"$f":"IF(TEST!F204=\"\",\"\",TEST!F204)","v":""},{"$f":"IF(TEST!G204=\"\",\"\",TEST!G204)","v":""},{"$f":"IF(TEST!H204=\"\",\"\",TEST!H204)","v":""},{"$f":"IF(TEST!Y204=\"\",\"\",TEST!Y204)","v":""},{"$f":"IF(TEST!V204=\"\",\"\",TEST!V204)","v":""},{"$f":"IF(TEST!W204=\"\",\"\",TEST!W204)","v":""},{"$f":"IF(TEST!X204=\"\",\"\",TEST!X204)","v":""},{"$f":"IF(OR(M203=\"\",TEST!$K$1=\"\"),\"\",TEST!$K$1)","v":""},{"$f":"IF(OR(M203=\"\",TEST!$F$1=\"\"),\"\",TEST!$F$1)","v":""}]
[null,null,null,null,null,null,null,199,{"$f":"IF(TEST!Z205=\"X\",\"\",IF(TEST!AA205=\"OUI\",TEST!E205&IF(TEST!F205=\"\",\"\",\" \"&TEST!F205),\"\"))","v":""},"","",null,"",199,{"$f":"IF(TEST!E205=\"\",\"\",TEST!E205)","v":""},{"$f":"IF(TEST!F205=\"\",\"\",TEST!F205)","v":""},{"$f":"IF(TEST!G205=\"\",\"\",TEST!G205)","v":""},{"$f":"IF(TEST!H205=\"\",\"\",TEST!H205)","v":""},{"$f":"IF(TEST!Y205=\"\",\"\",TEST!Y205)","v":""},{"$f":"IF(TEST!V205=\"\",\"\",TEST!V205)","v":""},{"$f":"IF(TEST!W205=\"\",\"\",TEST!W205)","v":""},{"$f":"IF(TEST!X205=\"\",\"\",TEST!X205)","v":""},{"$f":"IF(OR(M204=\"\",TEST!$K$1=\"\"),\"\",TEST!$K$1)","v":""},{"$f":"IF(OR(M204=\"\",TEST!$F$1=\"\"),\"\",TEST!$F$1)","v":""}]
[null,null,null,null,null,null,null,200,{"$f":"IF(TEST!Z206=\"X\",\"\",IF(TEST!AA206=\"OUI\",TEST!E206&IF(TEST!F206=\"\",\"\",\" \"&TEST!F206),\"\"))","v":""},"","",null,"",200,{"$f":"IF(TEST!E206=\"\",\"\",TEST!E206)","v":""},{"$f":"IF(TEST!F206=\"\",\"\",TEST!F206)","v":""},{"$f":"IF(TEST!G206=\"\",\"\",TEST!G206)","v":""},{"$f":"IF(TEST!H206=\"\",\"\",TEST!H206)","v":""},{"$f":"IF(TEST!Y206=\"\",\"\",TEST!Y206)","v":""},{"$f":"IF(TEST!V206=\"\",\"\",TEST!V206)","v":""},{"$f":"IF(TEST!W206=\"\",\"\",TEST!W206)","v":""},{"$f":"IF(TEST!X206=\"\",\"\",TEST!X206)","v":""},{"$f":"IF(OR(M205=\"\",TEST!$K$1=\"\"),\"\",TEST!$K$1)","v":""},{"$f":"IF(OR(M205=\"\",TEST!$F$1=\"\"),\"\",TEST!$F$1)","v":""}]
[null,null,null,null,null,null,null,201,{"$f":"IF(TEST!Z207=\"X\",\"\",IF(TEST!AA207=\"OUI\",TEST!E207&IF(TEST!F207=\"\",\"\",\" \"&TEST!F207),\"\"))","v":""},"","",null,"",201,{"$f":"IF(TEST!E207=\"\",\"\",TEST!E207)","v":""},{"$f":"IF(TEST!F207=\"\",\"\",TEST!F207)","v":""},{"$f":"IF(TEST!G207=\"\",\"\",TEST!G207)","v":""},{"$f":"IF(TEST!H207=\"\",\"\",TEST!H207)","v":""},{"$f":"IF(TEST!Y207=\"\",\"\",TEST!Y207)","v":""},{"$f":"IF(TEST!V207=\"\",\"\",TEST!V207)","v":""},{"$f":"IF(TEST!W207=\"\",\"\",TEST!W207)","v":""},{"$f":"IF(TEST!X207=\"\",\"\",TEST!X207)","v":""},{"$f":"IF(OR(M206=\"\",TEST!$K$1=\"\"),\"\",TEST!$K$1)","v":""},{"$f":"IF(OR(M206=\"\",TEST!$F$1=\"\"),\"\",TEST!$F$1)","v":""}]
[null,null,null,null,null,null,null,202,{"$f":"IF(TEST!Z208=\"X\",\"\",IF(TEST!AA208=\"OUI\",TEST!E208&IF(TEST!F208=\"\",\"\",\" \"&TEST!F208),\"\"))","v":""},"","",null,"",202,{"$f":"IF(TEST!E208=\"\",\"\",TEST!E208)","v":""},{"$f":"IF(TEST!F208=\"\",\"\",TEST!F208)","v":""},{"$f":"IF(TEST!G208=\"\",\"\",TEST!G208)","v":""},{"$f":"IF(TEST!H208=\"\",\"\",TEST!H208)","v":""},{"$f":"IF(TEST!Y208=\"\",\"\",TEST!Y208)","v":""},{"$f":"IF(TEST!V208=\"\",\"\",TEST!V208)","v":""},{"$f":"IF(TEST!W208=\"\",\"\",TEST!W208)","v":""},{"$f":"IF(TEST!X208=\"\",\"\",TEST!X208)","v":""},{"$f":"IF(OR(M207=\"\",TEST!$K$1=\"\"),\"\",TEST!$K$1)","v":""},{"$f":"IF(OR(M207=\"\",TEST!$F$1=\"\"),\"\",TEST!$F$1)","v":""}]
[null,null,null,null,null,null,null,203,{"$f":"IF(TEST!Z209=\"X\",\"\",IF(TEST!AA209=\"OUI\",TEST!E209&IF(TEST!F209=\"\",\"\",\" \"&TEST!F209),\"\"))","v":""},"","",null,"",203,{"$f":"IF(TEST!E209=\"\",\"\",TEST!E209)","v":""},{"$f":"IF(TEST!F209=\"\",\"\",TEST!F209)","v":""},{"$f":"IF(TEST!G209=\"\",\"\",TEST!G209)","v":""},{"$f":"IF(TEST!H209=\"\",\"\",TEST!H209)","v":""},{"$f":"IF(TEST!Y209=\"\",\"\",TEST!Y209)","v":""},{"$f":"IF(TEST!V209=\"\",\"\",TEST!V209)","v":""},{"$f":"IF(TEST!W209=\"\",\"\",TEST!W209)","v":""},{"$f":"IF(TEST!X209=\"\",\"\",TEST!X209)","v":""},{"$f":"IF(OR(M208=\"\",TEST!$K$1=\"\"),\"\",TEST!$K$1)","v":""},{"$f":"IF(OR(M208=\"\",TEST!$F$1=\"\"),\"\",TEST!$F$1)","v":""}]
[null,null,null,null,null,null,null,204,{"$f":"IF(TEST!Z210=\"X\",\"\",IF(TEST!AA210=\"OUI\",TEST!E210&IF(TEST!F210=\"\",\"\",\" \"&TEST!F210),\"\"))","v":""},"","",null,"",204,{"$f":"IF(TEST!E210=\"\",\"\",TEST!E210)","v":""},{"$f":"IF(TEST!F210=\"\",\"\",TEST!F210)","v":""},{"$f":"IF(TEST!G210=\"\",\"\",TEST!G210)","v":""},{"$f":"IF(TEST!H210=\"\",\"\",TEST!H210)","v":""},{"$f":"IF(TEST!Y210=\"\",\"\",TEST!Y210)","v":""},{"$f":"IF(TEST!V210=\"\",\"\",TEST!V210)","v":""},{"$f":"IF(TEST!W210=\"\",\"\",TEST!W210)","v":""},{"$f":"IF(TEST!X210=\"\",\"\",TEST!X210)","v":""},{"$f":"IF(OR(M209=\"\",TEST!$K$1=\"\"),\"\",TEST!$K$1)","v":""},{"$f":"IF(OR(M209=\"\",TEST!$F$1=\"\"),\"\",TEST!$F$1)","v":""}]
[null,null,null,null,null,null,null,205,{"$f":"IF(TEST!Z211=\"X\",\"\",IF(TEST!AA211=\"OUI\",TEST!E211&IF(TEST!F211=\"\",\"\",\" \"&TEST!F211),\"\"))","v":""},"","",null,"",205,{"$f":"IF(TEST!E211=\"\",\"\",TEST!E211)","v":""},{"$f":"IF(TEST!F211=\"\",\"\",TEST!F211)","v":""},{"$f":"IF(TEST!G211=\"\",\"\",TEST!G211)","v":""},{"$f":"IF(TEST!H211=\"\",\"\",TEST!H211)","v":""},{"$f":"IF(TEST!Y211=\"\",\"\",TEST!Y211)","v":""},{"$f":"IF(TEST!V211=\"\",\"\",TEST!V211)","v":""},{"$f":"IF(TEST!W211=\"\",\"\",TEST!W211)","v":""},{"$f":"IF(TEST!X211=\"\",\"\",TEST!X211)","v":""},{"$f":"IF(OR(M210=\"\",TEST!$K$1=\"\"),\"\",TEST!$K$1)","v":""},{"$f":"IF(OR(M210=\"\",TEST!$F$1=\"\"),\"\",TEST!$F$1)","v":""}]
[null,null,null,null,null,null,null,206,{"$f":"IF(TEST!Z212=\"X\",\"\",IF(TEST!AA212=\"OUI\",TEST!E212&IF(TEST!F212=\"\",\"\",\" \"&TEST!F212),\"\"))","v":""},"","",null,"",206,{"$f":"IF(TEST!E212=\"\",\"\",TEST!E212)","v":""},{"$f":"IF(TEST!F212=\"\",\"\",TEST!F212)","v":""},{"$f":"IF(TEST!G212=\"\",\"\",TEST!G212)","v":""},{"$f":"IF(TEST!H212=\"\",\"\",TEST!H212)","v":""},{"$f":"IF(TEST!Y212=\"\",\"\",TEST!Y212)","v":""},{"$f":"IF(TEST!V212=\"\",\"\",TEST!V212)","v":""},{"$f":"IF(TEST!W212=\"\",\"\",TEST!W212)","v":""},{"$f":"IF(TEST!X212=\"\",\"\",TEST!X212)","v":""},{"$f":"IF(OR(M211=\"\",TEST!$K$1=\"\"),\"\",TEST!$K$1)","v":""},{"$f":"IF(OR(M211=\"\",TEST!$F$1=\"\"),\"\",TEST!$F$1)","v":""}]
[null,null,null,null,null,null,null,207,{"$f":"IF(TEST!Z213=\"X\",\"\",IF(TEST!AA213=\"OUI\",TEST!E213&IF(TEST!F213=\"\",\"\",\" \"&TEST!F213),\"\"))","v":""},"","",null,"",207,{"$f":"IF(TEST!E213=\"\",\"\",TEST!E213)","v":""},{"$f":"IF(TEST!F213=\"\",\"\",TEST!F213)","v":""},{"$f":"IF(TEST!G213=\"\",\"\",TEST!G213)","v":""},{"$f":"IF(TEST!H213=\"\",\"\",TEST!H213)","v":""},{"$f":"IF(TEST!Y213=\"\",\"\",TEST!Y213)","v":""},{"$f":"IF(TEST!V213=\"\",\"\",TEST!V213)","v":""},{"$f":"IF(TEST!W213=\"\",\"\",TEST!W213)","v":""},{"$f":"IF(TEST!X213=\"\",\"\",TEST!X213)","v":""},{"$f":"IF(OR(M212=\"\",TEST!$K$1=\"\"),\"\",TEST!$K$1)","v":""},{"$f":"IF(OR(M212=\"\",TEST!$F$1=\"\"),\"\",TEST!$F$1)","v":""}]
[null,null,null,null,null,null,null,208,{"$f":"IF(TEST!Z214=\"X\",\"\",IF(TEST!AA214=\"OUI\",TEST!E214&IF(TEST!F214=\"\",\"\",\" \"&TEST!F214),\"\"))","v":""},"","",null,"",208,{"$f":"IF(TEST!E214=\"\",\"\",TEST!E214)","v":""},{"$f":"IF(TEST!F214=\"\",\"\",TEST!F214)","v":""},{"$f":"IF(TEST!G214=\"\",\"\",TEST!G214)","v":""},{"$f":"IF(TEST!H214=\"\",\"\",TEST!H214)","v":""},{"$f":"IF(TEST!Y214=\"\",\"\",TEST!Y214)","v":""},{"$f":"IF(TEST!V214=\"\",\"\",TEST!V214)","v":""},{"$f":"IF(TEST!W214=\"\",\"\",TEST!W214)","v":""},{"$f":"IF(TEST!X214=\"\",\"\",TEST!X214)","v":""},{"$f":"IF(OR(M213=\"\",TEST!$K$1=\"\"),\"\",TEST!$K$1)","v":""},{"$f":"IF(OR(M213=\"\",TEST!$F$1=\"\"),\"\",TEST!$F$1)","v":""}]
[null,null,null,null,null,null,null,209,{"$f":"IF(TEST!Z215=\"X\",\"\",IF(TEST!AA215=\"OUI\",TEST!E215&IF(TEST!F215=\"\",\"\",\" \"&TEST!F215),\"\"))","v":""},"","",null,"",209,{"$f":"IF(TEST!E215=\"\",\"\",TEST!E215)","v":""},{"$f":"IF(TEST!F215=\"\",\"\",TEST!F215)","v":""},{"$f":"IF(TEST!G215=\"\",\"\",TEST!G215)","v":""},{"$f":"IF(TEST!H215=\"\",\"\",TEST!H215)","v":""},{"$f":"IF(TEST!Y215=\"\",\"\",TEST!Y215)","v":""},{"$f":"IF(TEST!V215=\"\",\"\",TEST!V215)","v":""},{"$f":"IF(TEST!W215=\"\",\"\",TEST!W215)","v":""},{"$f":"IF(TEST!X215=\"\",\"\",TEST!X215)","v":""},{"$f":"IF(OR(M214=\"\",TEST!$K$1=\"\"),\"\",TEST!$K$1)","v":""},{"$f":"IF(OR(M214=\"\",TEST!$F$1=\"\"),\"\",TEST!$F$1)","v":""}]
[null,null,null,null,null,null,null,210,{"$f":"IF(TEST!Z216=\"X\",\"\",IF(TEST!AA216=\"OUI\",TEST!E216&IF(TEST!F216=\"\",\"\",\" \"&TEST!F216),\"\"))","v":""},"","",null,"",210,{"$f":"IF(TEST!E216=\"\",\"\",TEST!E216)","v":""},{"$f":"IF(TEST!F216=\"\",\"\",TEST!F216)","v":""},{"$f":"IF(TEST!G216=\"\",\"\",TEST!G216)","v":""},{"$f":"IF(TEST!H216=\"\",\"\",TEST!H216)","v":""},{"$f":"IF(TEST!Y216=\"\",\"\",TEST!Y216)","v":""},{"$f":"IF(TEST!V216=\"\",\"\",TEST!V216)","v":""},{"$f":"IF(TEST!W216=\"\",\"\",TEST!W216)","v":""},{"$f":"IF(TEST!X216=\"\",\"\",TEST!X216)","v":""},{"$f":"IF(OR(M215=\"\",TEST!$K$1=\"\"),\"\",TEST!$K$1)","v":""},{"$f":"IF(OR(M215=\"\",TEST!$F$1=\"\"),\"\",TEST!$F$1)","v":""}]
[null,null,null,null,null,null,null,211,{"$f":"IF(TEST!Z217=\"X\",\"\",IF(TEST!AA217=\"OUI\",TEST!E217&IF(TEST!F217=\"\",\"\",\" \"&TEST!F217),\"\"))","v":""},"","",null,"",211,{"$f":"IF(TEST!E217=\"\",\"\",TEST!E217)","v":""},{"$f":"IF(TEST!F217=\"\",\"\",TEST!F217)","v":""},{"$f":"IF(TEST!G217=\"\",\"\",TEST!G217)","v":""},{"$f":"IF(TEST!H217=\"\",\"\",TEST!H217)","v":""},{"$f":"IF(TEST!Y217=\"\",\"\",TEST!Y217)","v":""},{"$f":"IF(TEST!V217=\"\",\"\",TEST!V217)","v":""},{"$f":"IF(TEST!W217=\"\",\"\",TEST!W217)","v":""},{"$f":"IF(TEST!X217=\"\",\"\",TEST!X217)","v":""},{"$f":"IF(OR(M216=\"\",TEST!$K$1=\"\"),\"\",TEST!$K$1)","v":""},{"$f":"IF(OR(M216=\"\",TEST!$F$1=\"\"),\"\",TEST!$F$1)","v":""}]
[null,null,null,null,null,null,null,212,{"$f":"IF(TEST!Z218=\"X\",\"\",IF(TEST!AA218=\"OUI\",TEST!E218&IF(TEST!F218=\"\",\"\",\" \"&TEST!F218),\"\"))","v":""},"","",null,"",212,{"$f":"IF(TEST!E218=\"\",\"\",TEST!E218)","v":""},{"$f":"IF(TEST!F218=\"\",\"\",TEST!F218)","v":""},{"$f":"IF(TEST!G218=\"\",\"\",TEST!G218)","v":""},{"$f":"IF(TEST!H218=\"\",\"\",TEST!H218)","v":""},{"$f":"IF(TEST!Y218=\"\",\"\",TEST!Y218)","v":""},{"$f":"IF(TEST!V218=\"\",\"\",TEST!V218)","v":""},{"$f":"IF(TEST!W218=\"\",\"\",TEST!W218)","v":""},{"$f":"IF(TEST!X218=\"\",\"\",TEST!X218)","v":""},{"$f":"IF(OR(M217=\"\",TEST!$K$1=\"\"),\"\",TEST!$K$1)","v":""},{"$f":"IF(OR(M217=\"\",TEST!$F$1=\"\"),\"\",TEST!$F$1)","v":""}]
[null,null,null,null,null,null,null,213,{"$f":"IF(TEST!Z219=\"X\",\"\",IF(TEST!AA219=\"OUI\",TEST!E219&IF(TEST!F219=\"\",\"\",\" \"&TEST!F219),\"\"))","v":""},"","",null,"",213,{"$f":"IF(TEST!E219=\"\",\"\",TEST!E219)","v":""},{"$f":"IF(TEST!F219=\"\",\"\",TEST!F219)","v":""},{"$f":"IF(TEST!G219=\"\",\"\",TEST!G219)","v":""},{"$f":"IF(TEST!H219=\"\",\"\",TEST!H219)","v":""},{"$f":"IF(TEST!Y219=\"\",\"\",TEST!Y219)","v":""},{"$f":"IF(TEST!V219=\"\",\"\",TEST!V219)","v":""},{"$f":"IF(TEST!W219=\"\",\"\",TEST!W219)","v":""},{"$f":"IF(TEST!X219=\"\",\"\",TEST!X219)","v":""},{"$f":"IF(OR(M218=\"\",TEST!$K$1=\"\"),\"\",TEST!$K$1)","v":""},{"$f":"IF(OR(M218=\"\",TEST!$F$1=\"\"),\"\",TEST!$F$1)","v":""}]
[null,null,null,null,null,null,null,214,{"$f":"IF(TEST!Z220=\"X\",\"\",IF(TEST!AA220=\"OUI\",TEST!E220&IF(TEST!F220=\"\",\"\",\" \"&TEST!F220),\"\"))","v":""},"","",null,"",214,{"$f":"IF(TEST!E220=\"\",\"\",TEST!E220)","v":""},{"$f":"IF(TEST!F220=\"\",\"\",TEST!F220)","v":""},{"$f":"IF(TEST!G220=\"\",\"\",TEST!G220)","v":""},{"$f":"IF(TEST!H220=\"\",\"\",TEST!H220)","v":""},{"$f":"IF(TEST!Y220=\"\",\"\",TEST!Y220)","v":""},{"$f":"IF(TEST!V220=\"\",\"\",TEST!V220)","v":""},{"$f":"IF(TEST!W220=\"\",\"\",TEST!W220)","v":""},{"$f":"IF(TEST!X220=\"\",\"\",TEST!X220)","v":""},{"$f":"IF(OR(M219=\"\",TEST!$K$1=\"\"),\"\",TEST!$K$1)","v":""},{"$f":"IF(OR(M219=\"\",TEST!$F$1=\"\"),\"\",TEST!$F$1)","v":""}]
[null,null,null,null,null,null,null,215,{"$f":"IF(TEST!Z221=\"X\",\"\",IF(TEST!AA221=\"OUI\",TEST!E221&IF(TEST!F221=\"\",\"\",\" \"&TEST!F221),\"\"))","v":""},"","",null,"",215,{"$f":"IF(TEST!E221=\"\",\"\",TEST!E221)","v":""},{"$f":"IF(TEST!F221=\"\",\"\",TEST!F221)","v":""},{"$f":"IF(TEST!G221=\"\",\"\",TEST!G221)","v":""},{"$f":"IF(TEST!H221=\"\",\"\",TEST!H221)","v":""},{"$f":"IF(TEST!Y221=\"\",\"\",TEST!Y221)","v":""},{"$f":"IF(TEST!V221=\"\",\"\",TEST!V221)","v":""},{"$f":"IF(TEST!W221=\"\",\"\",TEST!W221)","v":""},{"$f":"IF(TEST!X221=\"\",\"\",TEST!X221)","v":""},{"$f":"IF(OR(M220=\"\",TEST!$K$1=\"\"),\"\",TEST!$K$1)","v":""},{"$f":"IF(OR(M220=\"\",TEST!$F$1=\"\"),\"\",TEST!$F$1)","v":""}]
[null,null,null,null,null,null,null,216,{"$f":"IF(TEST!Z222=\"X\",\"\",IF(TEST!AA222=\"OUI\",TEST!E222&IF(TEST!F222=\"\",\"\",\" \"&TEST!F222),\"\"))","v":""},"","",null,"",216,{"$f":"IF(TEST!E222=\"\",\"\",TEST!E222)","v":""},{"$f":"IF(TEST!F222=\"\",\"\",TEST!F222)","v":""},{"$f":"IF(TEST!G222=\"\",\"\",TEST!G222)","v":""},{"$f":"IF(TEST!H222=\"\",\"\",TEST!H222)","v":""},{"$f":"IF(TEST!Y222=\"\",\"\",TEST!Y222)","v":""},{"$f":"IF(TEST!V222=\"\",\"\",TEST!V222)","v":""},{"$f":"IF(TEST!W222=\"\",\"\",TEST!W222)","v":""},{"$f":"IF(TEST!X222=\"\",\"\",TEST!X222)","v":""},{"$f":"IF(OR(M221=\"\",TEST!$K$1=\"\"),\"\",TEST!$K$1)","v":""},{"$f":"IF(OR(M221=\"\",TEST!$F$1=\"\"),\"\",TEST!$F$1)","v":""}]
[null,null,null,null,null,null,null,217,{"$f":"IF(TEST!Z223=\"X\",\"\",IF(TEST!AA223=\"OUI\",TEST!E223&IF(TEST!F223=\"\",\"\",\" \"&TEST!F223),\"\"))","v":""},"","",null,"",217,{"$f":"IF(TEST!E223=\"\",\"\",TEST!E223)","v":""},{"$f":"IF(TEST!F223=\"\",\"\",TEST!F223)","v":""},{"$f":"IF(TEST!G223=\"\",\"\",TEST!G223)","v":""},{"$f":"IF(TEST!H223=\"\",\"\",TEST!H223)","v":""},{"$f":"IF(TEST!Y223=\"\",\"\",TEST!Y223)","v":""},{"$f":"IF(TEST!V223=\"\",\"\",TEST!V223)","v":""},{"$f":"IF(TEST!W223=\"\",\"\",TEST!W223)","v":""},{"$f":"IF(TEST!X223=\"\",\"\",TEST!X223)","v":""},{"$f":"IF(OR(M222=\"\",TEST!$K$1=\"\"),\"\",TEST!$K$1)","v":""},{"$f":"IF(OR(M222=\"\",TEST!$F$1=\"\"),\"\",TEST!$F$1)","v":""}]
[null,null,null,null,null,null,null,218,{"$f":"IF(TEST!Z224=\"X\",\"\",IF(TEST!AA224=\"OUI\",TEST!E224&IF(TEST!F224=\"\",\"\",\" \"&TEST!F224),\"\"))","v":""},"","",null,"",218,{"$f":"IF(TEST!E224=\"\",\"\",TEST!E224)","v":""},{"$f":"IF(TEST!F224=\"\",\"\",TEST!F224)","v":""},{"$f":"IF(TEST!G224=\"\",\"\",TEST!G224)","v":""},{"$f":"IF(TEST!H224=\"\",\"\",TEST!H224)","v":""},{"$f":"IF(TEST!Y224=\"\",\"\",TEST!Y224)","v":""},{"$f":"IF(TEST!V224=\"\",\"\",TEST!V224)","v":""},{"$f":"IF(TEST!W224=\"\",\"\",TEST!W224)","v":""},{"$f":"IF(TEST!X224=\"\",\"\",TEST!X224)","v":""},{"$f":"IF(OR(M223=\"\",TEST!$K$1=\"\"),\"\",TEST!$K$1)","v":""},{"$f":"IF(OR(M223=\"\",TEST!$F$1=\"\"),\"\",TEST!$F$1)","v":""}]
[null,null,null,null,null,null,null,219,{"$f":"IF(TEST!Z225=\"X\",\"\",IF(TEST!AA225=\"OUI\",TEST!E225&IF(TEST!F225=\"\",\"\",\" \"&TEST!F225),\"\"))","v":""},"","",null,"",219,{"$f":"IF(TEST!E225=\"\",\"\",TEST!E225)","v":""},{"$f":"IF(TEST!F225=\"\",\"\",TEST!F225)","v":""},{"$f":"IF(TEST!G225=\"\",\"\",TEST!G225)","v":""},{"$f":"IF(TEST!H225=\"\",\"\",TEST!H225)","v":""},{"$f":"IF(TEST!Y225=\"\",\"\",TEST!Y225)","v":""},{"$f":"IF(TEST!V225=\"\",\"\",TEST!V225)","v":""},{"$f":"IF(TEST!W225=\"\",\"\",TEST!W225)","v":""},{"$f":"IF(TEST!X225=\"\",\"\",TEST!X225)","v":""},{"$f":"IF(OR(M224=\"\",TEST!$K$1=\"\"),\"\",TEST!$K$1)","v":""},{"$f":"IF(OR(M224=\"\",TEST!$F$1=\"\"),\"\",TEST!$F$1)","v":""}]
[null,null,null,null,null,null,null,220,{"$f":"IF(TEST!Z226=\"X\",\"\",IF(TEST!AA226=\"OUI\",TEST!E226&IF(TEST!F226=\"\",\"\",\" \"&TEST!F226),\"\"))","v":""},"","",null,"",220,{"$f":"IF(TEST!E226=\"\",\"\",TEST!E226)","v":""},{"$f":"IF(TEST!F226=\"\",\"\",TEST!F226)","v":""},{"$f":"IF(TEST!G226=\"\",\"\",TEST!G226)","v":""},{"$f":"IF(TEST!H226=\"\",\"\",TEST!H226)","v":""},{"$f":"IF(TEST!Y226=\"\",\"\",TEST!Y226)","v":""},{"$f":"IF(TEST!V226=\"\",\"\",TEST!V226)","v":""},{"$f":"IF(TEST!W226=\"\",\"\",TEST!W226)","v":""},{"$f":"IF(TEST!X226=\"\",\"\",TEST!X226)","v":""},{"$f":"IF(OR(M225=\"\",TEST!$K$1=\"\"),\"\",TEST!$K$1)","v":""},{"$f":"IF(OR(M225=\"\",TEST!$F$1=\"\"),\"\",TEST!$F$1)","v":""}]
[null,null,null,null,null,null,null,221,{"$f":"IF(TEST!Z227=\"X\",\"\",IF(TEST!AA227=\"OUI\",TEST!E227&IF(TEST!F227=\"\",\"\",\" \"&TEST!F227),\"\"))","v":""},"","",null,"",221,{"$f":"IF(TEST!E227=\"\",\"\",TEST!E227)","v":""},{"$f":"IF(TEST!F227=\"\",\"\",TEST!F227)","v":""},{"$f":"IF(TEST!G227=\"\",\"\",TEST!G227)","v":""},{"$f":"IF(TEST!H227=\"\",\"\",TEST!H227)","v":""},{"$f":"IF(TEST!Y227=\"\",\"\",TEST!Y227)","v":""},{"$f":"IF(TEST!V227=\"\",\"\",TEST!V227)","v":""},{"$f":"IF(TEST!W227=\"\",\"\",TEST!W227)","v":""},{"$f":"IF(TEST!X227=\"\",\"\",TEST!X227)","v":""},{"$f":"IF(OR(M226=\"\",TEST!$K$1=\"\"),\"\",TEST!$K$1)","v":""},{"$f":"IF(OR(M226=\"\",TEST!$F$1=\"\"),\"\",TEST!$F$1)","v":""}]
[null,null,null,null,null,null,null,222,{"$f":"IF(TEST!Z228=\"X\",\"\",IF(TEST!AA228=\"OUI\",TEST!E228&IF(TEST!F228=\"\",\"\",\" \"&TEST!F228),\"\"))","v":""},"","",null,"",222,{"$f":"IF(TEST!E228=\"\",\"\",TEST!E228)","v":""},{"$f":"IF(TEST!F228=\"\",\"\",TEST!F228)","v":""},{"$f":"IF(TEST!G228=\"\",\"\",TEST!G228)","v":""},{"$f":"IF(TEST!H228=\"\",\"\",TEST!H228)","v":""},{"$f":"IF(TEST!Y228=\"\",\"\",TEST!Y228)","v":""},{"$f":"IF(TEST!V228=\"\",\"\",TEST!V228)","v":""},{"$f":"IF(TEST!W228=\"\",\"\",TEST!W228)","v":""},{"$f":"IF(TEST!X228=\"\",\"\",TEST!X228)","v":""},{"$f":"IF(OR(M227=\"\",TEST!$K$1=\"\"),\"\",TEST!$K$1)","v":""},{"$f":"IF(OR(M227=\"\",TEST!$F$1=\"\"),\"\",TEST!$F$1)","v":""}]
[null,null,null,null,null,null,null,223,{"$f":"IF(TEST!Z229=\"X\",\"\",IF(TEST!AA229=\"OUI\",TEST!E229&IF(TEST!F229=\"\",\"\",\" \"&TEST!F229),\"\"))","v":""},"","",null,"",223,{"$f":"IF(TEST!E229=\"\",\"\",TEST!E229)","v":""},{"$f":"IF(TEST!F229=\"\",\"\",TEST!F229)","v":""},{"$f":"IF(TEST!G229=\"\",\"\",TEST!G229)","v":""},{"$f":"IF(TEST!H229=\"\",\"\",TEST!H229)","v":""},{"$f":"IF(TEST!Y229=\"\",\"\",TEST!Y229)","v":""},{"$f":"IF(TEST!V229=\"\",\"\",TEST!V229)","v":""},{"$f":"IF(TEST!W229=\"\",\"\",TEST!W229)","v":""},{"$f":"IF(TEST!X229=\"\",\"\",TEST!X229)","v":""},{"$f":"IF(OR(M228=\"\",TEST!$K$1=\"\"),\"\",TEST!$K$1)","v":""},{"$f":"IF(OR(M228=\"\",TEST!$F$1=\"\"),\"\",TEST!$F$1)","v":""}]
[null,null,null,null,null,null,null,224,{"$f":"IF(TEST!Z230=\"X\",\"\",IF(TEST!AA230=\"OUI\",TEST!E230&IF(TEST!F230=\"\",\"\",\" \"&TEST!F230),\"\"))","v":""},"","",null,"",224,{"$f":"IF(TEST!E230=\"\",\"\",TEST!E230)","v":""},{"$f":"IF(TEST!F230=\"\",\"\",TEST!F230)","v":""},{"$f":"IF(TEST!G230=\"\",\"\",TEST!G230)","v":""},{"$f":"IF(TEST!H230=\"\",\"\",TEST!H230)","v":""},{"$f":"IF(TEST!Y230=\"\",\"\",TEST!Y230)","v":""},{"$f":"IF(TEST!V230=\"\",\"\",TEST!V230)","v":""},{"$f":"IF(TEST!W230=\"\",\"\",TEST!W230)","v":""},{"$f":"IF(TEST!X230=\"\",\"\",TEST!X230)","v":""},{"$f":"IF(OR(M229=\"\",TEST!$K$1=\"\"),\"\",TEST!$K$1)","v":""},{"$f":"IF(OR(M229=\"\",TEST!$F$1=\"\"),\"\",TEST!$F$1)","v":""}]
[null,null,null,null,null,null,null,225,{"$f":"IF(TEST!Z231=\"X\",\"\",IF(TEST!AA231=\"OUI\",TEST!E231&IF(TEST!F231=\"\",\"\",\" \"&TEST!F231),\"\"))","v":""},"","",null,"",225,{"$f":"IF(TEST!E231=\"\",\"\",TEST!E231)","v":""},{"$f":"IF(TEST!F231=\"\",\"\",TEST!F231)","v":""},{"$f":"IF(TEST!G231=\"\",\"\",TEST!G231)","v":""},{"$f":"IF(TEST!H231=\"\",\"\",TEST!H231)","v":""},{"$f":"IF(TEST!Y231=\"\",\"\",TEST!Y231)","v":""},{"$f":"IF(TEST!V231=\"\",\"\",TEST!V231)","v":""},{"$f":"IF(TEST!W231=\"\",\"\",TEST!W231)","v":""},{"$f":"IF(TEST!X231=\"\",\"\",TEST!X231)","v":""},{"$f":"IF(OR(M230=\"\",TEST!$K$1=\"\"),\"\",TEST!$K$1)","v":""},{"$f":"IF(OR(M230=\"\",TEST!$F$1=\"\"),\"\",TEST!$F$1)","v":""}]
[null,null,null,null,null,null,null,226,{"$f":"IF(TEST!Z232=\"X\",\"\",IF(TEST!AA232=\"OUI\",TEST!E232&IF(TEST!F232=\"\",\"\",\" \"&TEST!F232),\"\"))","v":""},"","",null,"",226,{"$f":"IF(TEST!E232=\"\",\"\",TEST!E232)","v":""},{"$f":"IF(TEST!F232=\"\",\"\",TEST!F232)","v":""},{"$f":"IF(TEST!G232=\"\",\"\",TEST!G232)","v":""},{"$f":"IF(TEST!H232=\"\",\"\",TEST!H232)","v":""},{"$f":"IF(TEST!Y232=\"\",\"\",TEST!Y232)","v":""},{"$f":"IF(TEST!V232=\"\",\"\",TEST!V232)","v":""},{"$f":"IF(TEST!W232=\"\",\"\",TEST!W232)","v":""},{"$f":"IF(TEST!X232=\"\",\"\",TEST!X232)","v":""},{"$f":"IF(OR(M231=\"\",TEST!$K$1=\"\"),\"\",TEST!$K$1)","v":""},{"$f":"IF(OR(M231=\"\",TEST!$F$1=\"\"),\"\",TEST!$F$1)","v":""}]
[null,null,null,null,null,null,null,227,{"$f":"IF(TEST!Z233=\"X\",\"\",IF(TEST!AA233=\"OUI\",TEST!E233&IF(TEST!F233=\"\",\"\",\" \"&TEST!F233),\"\"))","v":""},"","",null,"",227,{"$f":"IF(TEST!E233=\"\",\"\",TEST!E233)","v":""},{"$f":"IF(TEST!F233=\"\",\"\",TEST!F233)","v":""},{"$f":"IF(TEST!G233=\"\",\"\",TEST!G233)","v":""},{"$f":"IF(TEST!H233=\"\",\"\",TEST!H233)","v":""},{"$f":"IF(TEST!Y233=\"\",\"\",TEST!Y233)","v":""},{"$f":"IF(TEST!V233=\"\",\"\",TEST!V233)","v":""},{"$f":"IF(TEST!W233=\"\",\"\",TEST!W233)","v":""},{"$f":"IF(TEST!X233=\"\",\"\",TEST!X233)","v":""},{"$f":"IF(OR(M232=\"\",TEST!$K$1=\"\"),\"\",TEST!$K$1)","v":""},{"$f":"IF(OR(M232=\"\",TEST!$F$1=\"\"),\"\",TEST!$F$1)","v":""}]
[null,null,null,null,null,null,null,228,{"$f":"IF(TEST!Z234=\"X\",\"\",IF(TEST!AA234=\"OUI\",TEST!E234&IF(TEST!F234=\"\",\"\",\" \"&TEST!F234),\"\"))","v":""},"","",null,"",228,{"$f":"IF(TEST!E234=\"\",\"\",TEST!E234)","v":""},{"$f":"IF(TEST!F234=\"\",\"\",TEST!F234)","v":""},{"$f":"IF(TEST!G234=\"\",\"\",TEST!G234)","v":""},{"$f":"IF(TEST!H234=\"\",\"\",TEST!H234)","v":""},{"$f":"IF(TEST!Y234=\"\",\"\",TEST!Y234)","v":""},{"$f":"IF(TEST!V234=\"\",\"\",TEST!V234)","v":""},{"$f":"IF(TEST!W234=\"\",\"\",TEST!W234)","v":""},{"$f":"IF(TEST!X234=\"\",\"\",TEST!X234)","v":""},{"$f":"IF(OR(M233=\"\",TEST!$K$1=\"\"),\"\",TEST!$K$1)","v":""},{"$f":"IF(OR(M233=\"\",TEST!$F$1=\"\"),\"\",TEST!$F$1)","v":""}]
[null,null,null,null,null,null,null,229,{"$f":"IF(TEST!Z235=\"X\",\"\",IF(TEST!AA235=\"OUI\",TEST!E235&IF(TEST!F235=\"\",\"\",\" \"&TEST!F235),\"\"))","v":""},"","",null,"",229,{"$f":"IF(TEST!E235=\"\",\"\",TEST!E235)","v":""},{"$f":"IF(TEST!F235=\"\",\"\",TEST!F235)","v":""},{"$f":"IF(TEST!G235=\"\",\"\",TEST!G235)","v":""},{"$f":"IF(TEST!H235=\"\",\"\",TEST!H235)","v":""},{"$f":"IF(TEST!Y235=\"\",\"\",TEST!Y235)","v":""},{"$f":"IF(TEST!V235=\"\",\"\",TEST!V235)","v":""},{"$f":"IF(TEST!W235=\"\",\"\",TEST!W235)","v":""},{"$f":"IF(TEST!X235=\"\",\"\",TEST!X235)","v":""},{"$f":"IF(OR(M234=\"\",TEST!$K$1=\"\"),\"\",TEST!$K$1)","v":""},{"$f":"IF(OR(M234=\"\",TEST!$F$1=\"\"),\"\",TEST!$F$1)","v":""}]
[null,null,null,null,null,null,null,230,{"$f":"IF(TEST!Z236=\"X\",\"\",IF(TEST!AA236=\"OUI\",TEST!E236&IF(TEST!F236=\"\",\"\",\" \"&TEST!F236),\"\"))","v":""},"","",null,"",230,{"$f":"IF(TEST!E236=\"\",\"\",TEST!E236)","v":""},{"$f":"IF(TEST!F236=\"\",\"\",TEST!F236)","v":""},{"$f":"IF(TEST!G236=\"\",\"\",TEST!G236)","v":""},{"$f":"IF(TEST!H236=\"\",\"\",TEST!H236)","v":""},{"$f":"IF(TEST!Y236=\"\",\"\",TEST!Y236)","v":""},{"$f":"IF(TEST!V236=\"\",\"\",TEST!V236)","v":""},{"$f":"IF(TEST!W236=\"\",\"\",TEST!W236)","v":""},{"$f":"IF(TEST!X236=\"\",\"\",TEST!X236)","v":""},{"$f":"IF(OR(M235=\"\",TEST!$K$1=\"\"),\"\",TEST!$K$1)","v":""},{"$f":"IF(OR(M235=\"\",TEST!$F$1=\"\"),\"\",TEST!$F$1)","v":""}]
[null,null,null,null,null,null,null,231,{"$f":"IF(TEST!Z237=\"X\",\"\",IF(TEST!AA237=\"OUI\",TEST!E237&IF(TEST!F237=\"\",\"\",\" \"&TEST!F237),\"\"))","v":""},"","",null,"",231,{"$f":"IF(TEST!E237=\"\",\"\",TEST!E237)","v":""},{"$f":"IF(TEST!F237=\"\",\"\",TEST!F237)","v":""},{"$f":"IF(TEST!G237=\"\",\"\",TEST!G237)","v":""},{"$f":"IF(TEST!H237=\"\",\"\",TEST!H237)","v":""},{"$f":"IF(TEST!Y237=\"\",\"\",TEST!Y237)","v":""},{"$f":"IF(TEST!V237=\"\",\"\",TEST!V237)","v":""},{"$f":"IF(TEST!W237=\"\",\"\",TEST!W237)","v":""},{"$f":"IF(TEST!X237=\"\",\"\",TEST!X237)","v":""},{"$f":"IF(OR(M236=\"\",TEST!$K$1=\"\"),\"\",TEST!$K$1)","v":""},{"$f":"IF(OR(M236=\"\",TEST!$F$1=\"\"),\"\",TEST!$F$1)","v":""}]
[null,null,null,null,null,null,null,232,{"$f":"IF(TEST!Z238=\"X\",\"\",IF(TEST!AA238=\"OUI\",TEST!E238&IF(TEST!F238=\"\",\"\",\" \"&TEST!F238),\"\"))","v":""},"","",null,"",232,{"$f":"IF(TEST!E238=\"\",\"\",TEST!E238)","v":""},{"$f":"IF(TEST!F238=\"\",\"\",TEST!F238)","v":""},{"$f":"IF(TEST!G238=\"\",\"\",TEST!G238)","v":""},{"$f":"IF(TEST!H238=\"\",\"\",TEST!H238)","v":""},{"$f":"IF(TEST!Y238=\"\",\"\",TEST!Y238)","v":""},{"$f":"IF(TEST!V238=\"\",\"\",TEST!V238)","v":""},{"$f":"IF(TEST!W238=\"\",\"\",TEST!W238)","v":""},{"$f":"IF(TEST!X238=\"\",\"\",TEST!X238)","v":""},{"$f":"IF(OR(M237=\"\",TEST!$K$1=\"\"),\"\",TEST!$K$1)","v":""},{"$f":"IF(OR(M237=\"\",TEST!$F$1=\"\"),\"\",TEST!$F$1)","v":""}]
[null,null,null,null,null,null,null,233,{"$f":"IF(TEST!Z239=\"X\",\"\",IF(TEST!AA239=\"OUI\",TEST!E239&IF(TEST!F239=\"\",\"\",\" \"&TEST!F239),\"\"))","v":""},"","",null,"",233,{"$f":"IF(TEST!E239=\"\",\"\",TEST!E239)","v":""},{"$f":"IF(TEST!F239=\"\",\"\",TEST!F239)","v":""},{"$f":"IF(TEST!G239=\"\",\"\",TEST!G239)","v":""},{"$f":"IF(TEST!H239=\"\",\"\",TEST!H239)","v":""},{"$f":"IF(TEST!Y239=\"\",\"\",TEST!Y239)","v":""},{"$f":"IF(TEST!V239=\"\",\"\",TEST!V239)","v":""},{"$f":"IF(TEST!W239=\"\",\"\",TEST!W239)","v":""},{"$f":"IF(TEST!X239=\"\",\"\",TEST!X239)","v":""},{"$f":"IF(OR(M238=\"\",TEST!$K$1=\"\"),\"\",TEST!$K$1)","v":""},{"$f":"IF(OR(M238=\"\",TEST!$F$1=\"\"),\"\",TEST!$F$1)","v":""}]
[null,null,null,null,null,null,null,234,{"$f":"IF(TEST!Z240=\"X\",\"\",IF(TEST!AA240=\"OUI\",TEST!E240&IF(TEST!F240=\"\",\"\",\" \"&TEST!F240),\"\"))","v":""},"","",null,"",234,{"$f":"IF(TEST!E240=\"\",\"\",TEST!E240)","v":""},{"$f":"IF(TEST!F240=\"\",\"\",TEST!F240)","v":""},{"$f":"IF(TEST!G240=\"\",\"\",TEST!G240)","v":""},{"$f":"IF(TEST!H240=\"\",\"\",TEST!H240)","v":""},{"$f":"IF(TEST!Y240=\"\",\"\",TEST!Y240)","v":""},{"$f":"IF(TEST!V240=\"\",\"\",TEST!V240)","v":""},{"$f":"IF(TEST!W240=\"\",\"\",TEST!W240)","v":""},{"$f":"IF(TEST!X240=\"\",\"\",TEST!X240)","v":""},{"$f":"IF(OR(M239=\"\",TEST!$K$1=\"\"),\"\",TEST!$K$1)","v":""},{"$f":"IF(OR(M239=\"\",TEST!$F$1=\"\"),\"\",TEST!$F$1)","v":""}]
[null,null,null,null,null,null,null,235,{"$f":"IF(TEST!Z241=\"X\",\"\",IF(TEST!AA241=\"OUI\",TEST!E241&IF(TEST!F241=\"\",\"\",\" \"&TEST!F241),\"\"))","v":""},"","",null,"",235,{"$f":"IF(TEST!E241=\"\",\"\",TEST!E241)","v":""},{"$f":"IF(TEST!F241=\"\",\"\",TEST!F241)","v":""},{"$f":"IF(TEST!G241=\"\",\"\",TEST!G241)","v":""},{"$f":"IF(TEST!H241=\"\",\"\",TEST!H241)","v":""},{"$f":"IF(TEST!Y241=\"\",\"\",TEST!Y241)","v":""},{"$f":"IF(TEST!V241=\"\",\"\",TEST!V241)","v":""},{"$f":"IF(TEST!W241=\"\",\"\",TEST!W241)","v":""},{"$f":"IF(TEST!X241=\"\",\"\",TEST!X241)","v":""},{"$f":"IF(OR(M240=\"\",TEST!$K$1=\"\"),\"\",TEST!$K$1)","v":""},{"$f":"IF(OR(M240=\"\",TEST!$F$1=\"\"),\"\",TEST!$F$1)","v":""}]
[null,null,null,null,null,null,null,236,{"$f":"IF(TEST!Z242=\"X\",\"\",IF(TEST!AA242=\"OUI\",TEST!E242&IF(TEST!F242=\"\",\"\",\" \"&TEST!F242),\"\"))","v":""},"","",null,"",236,{"$f":"IF(TEST!E242=\"\",\"\",TEST!E242)","v":""},{"$f":"IF(TEST!F242=\"\",\"\",TEST!F242)","v":""},{"$f":"IF(TEST!G242=\"\",\"\",TEST!G242)","v":""},{"$f":"IF(TEST!H242=\"\",\"\",TEST!H242)","v":""},{"$f":"IF(TEST!Y242=\"\",\"\",TEST!Y242)","v":""},{"$f":"IF(TEST!V242=\"\",\"\",TEST!V242)","v":""},{"$f":"IF(TEST!W242=\"\",\"\",TEST!W242)","v":""},{"$f":"IF(TEST!X242=\"\",\"\",TEST!X242)","v":""},{"$f":"IF(OR(M241=\"\",TEST!$K$1=\"\"),\"\",TEST!$K$1)","v":""},{"$f":"IF(OR(M241=\"\",TEST!$F$1=\"\"),\"\",TEST!$F$1)","v":""}]
[null,null,null,null,null,null,null,237,{"$f":"IF(TEST!Z243=\"X\",\"\",IF(TEST!AA243=\"OUI\",TEST!E243&IF(TEST!F243=\"\",\"\",\" \"&TEST!F243),\"\"))","v":""},"","",null,"",237,{"$f":"IF(TEST!E243=\"\",\"\",TEST!E243)","v":""},{"$f":"IF(TEST!F243=\"\",\"\",TEST!F243)","v":""},{"$f":"IF(TEST!G243=\"\",\"\",TEST!G243)","v":""},{"$f":"IF(TEST!H243=\"\",\"\",TEST!H243)","v":""},{"$f":"IF(TEST!Y243=\"\",\"\",TEST!Y243)","v":""},{"$f":"IF(TEST!V243=\"\",\"\",TEST!V243)","v":""},{"$f":"IF(TEST!W243=\"\",\"\",TEST!W243)","v":""},{"$f":"IF(TEST!X243=\"\",\"\",TEST!X243)","v":""},{"$f":"IF(OR(M242=\"\",TEST!$K$1=\"\"),\"\",TEST!$K$1)","v":""},{"$f":"IF(OR(M242=\"\",TEST!$F$1=\"\"),\"\",TEST!$F$1)","v":""}]
[null,null,null,null,null,null,null,238,{"$f":"IF(TEST!Z244=\"X\",\"\",IF(TEST!AA244=\"OUI\",TEST!E244&IF(TEST!F244=\"\",\"\",\" \"&TEST!F244),\"\"))","v":""},"","",null,"",238,{"$f":"IF(TEST!E244=\"\",\"\",TEST!E244)","v":""},{"$f":"IF(TEST!F244=\"\",\"\",TEST!F244)","v":""},{"$f":"IF(TEST!G244=\"\",\"\",TEST!G244)","v":""},{"$f":"IF(TEST!H244=\"\",\"\",TEST!H244)","v":""},{"$f":"IF(TEST!Y244=\"\",\"\",TEST!Y244)","v":""},{"$f":"IF(TEST!V244=\"\",\"\",TEST!V244)","v":""},{"$f":"IF(TEST!W244=\"\",\"\",TEST!W244)","v":""},{"$f":"IF(TEST!X244=\"\",\"\",TEST!X244)","v":""},{"$f":"IF(OR(M243=\"\",TEST!$K$1=\"\"),\"\",TEST!$K$1)","v":""},{"$f":"IF(OR(M243=\"\",TEST!$F$1=\"\"),\"\",TEST!$F$1)","v":""}]
[null,null,null,null,null,null,null,239,{"$f":"IF(TEST!Z245=\"X\",\"\",IF(TEST!AA245=\"OUI\",TEST!E245&IF(TEST!F245=\"\",\"\",\" \"&TEST!F245),\"\"))","v":""},"","",null,"",239,{"$f":"IF(TEST!E245=\"\",\"\",TEST!E245)","v":""},{"$f":"IF(TEST!F245=\"\",\"\",TEST!F245)","v":""},{"$f":"IF(TEST!G245=\"\",\"\",TEST!G245)","v":""},{"$f":"IF(TEST!H245=\"\",\"\",TEST!H245)","v":""},{"$f":"IF(TEST!Y245=\"\",\"\",TEST!Y245)","v":""},{"$f":"IF(TEST!V245=\"\",\"\",TEST!V245)","v":""},{"$f":"IF(TEST!W245=\"\",\"\",TEST!W245)","v":""},{"$f":"IF(TEST!X245=\"\",\"\",TEST!X245)","v":""},{"$f":"IF(OR(M244=\"\",TEST!$K$1=\"\"),\"\",TEST!$K$1)","v":""},{"$f":"IF(OR(M244=\"\",TEST!$F$1=\"\"),\"\",TEST!$F$1)","v":""}]
[null,null,null,null,null,null,null,240,{"$f":"IF(TEST!Z246=\"X\",\"\",IF(TEST!AA246=\"OUI\",TEST!E246&IF(TEST!F246=\"\",\"\",\" \"&TEST!F246),\"\"))","v":""},"","",null,"",240,{"$f":"IF(TEST!E246=\"\",\"\",TEST!E246)","v":""},{"$f":"IF(TEST!F246=\"\",\"\",TEST!F246)","v":""},{"$f":"IF(TEST!G246=\"\",\"\",TEST!G246)","v":""},{"$f":"IF(TEST!H246=\"\",\"\",TEST!H246)","v":""},{"$f":"IF(TEST!Y246=\"\",\"\",TEST!Y246)","v":""},{"$f":"IF(TEST!V246=\"\",\"\",TEST!V246)","v":""},{"$f":"IF(TEST!W246=\"\",\"\",TEST!W246)","v":""},{"$f":"IF(TEST!X246=\"\",\"\",TEST!X246)","v":""},{"$f":"IF(OR(M245=\"\",TEST!$K$1=\"\"),\"\",TEST!$K$1)","v":""},{"$f":"IF(OR(M245=\"\",TEST!$F$1=\"\"),\"\",TEST!$F$1)","v":""}]
[null,null,null,null,null,null,null,241,{"$f":"IF(TEST!Z247=\"X\",\"\",IF(TEST!AA247=\"OUI\",TEST!E247&IF(TEST!F247=\"\",\"\",\" \"&TEST!F247),\"\"))","v":""},"","",null,"",241,{"$f":"IF(TEST!E247=\"\",\"\",TEST!E247)","v":""},{"$f":"IF(TEST!F247=\"\",\"\",TEST!F247)","v":""},{"$f":"IF(TEST!G247=\"\",\"\",TEST!G247)","v":""},{"$f":"IF(TEST!H247=\"\",\"\",TEST!H247)","v":""},{"$f":"IF(TEST!Y247=\"\",\"\",TEST!Y247)","v":""},{"$f":"IF(TEST!V247=\"\",\"\",TEST!V247)","v":""},{"$f":"IF(TEST!W247=\"\",\"\",TEST!W247)","v":""},{"$f":"IF(TEST!X247=\"\",\"\",TEST!X247)","v":""},{"$f":"IF(OR(M246=\"\",TEST!$K$1=\"\"),\"\",TEST!$K$1)","v":""},{"$f":"IF(OR(M246=\"\",TEST!$F$1=\"\"),\"\",TEST!$F$1)","v":""}]
[null,null,null,null,null,null,null,242,{"$f":"IF(TEST!Z248=\"X\",\"\",IF(TEST!AA248=\"OUI\",TEST!E248&IF(TEST!F248=\"\",\"\",\" \"&TEST!F248),\"\"))","v":""},"","",null,"",242,{"$f":"IF(TEST!E248=\"\",\"\",TEST!E248)","v":""},{"$f":"IF(TEST!F248=\"\",\"\",TEST!F248)","v":""},{"$f":"IF(TEST!G248=\"\",\"\",TEST!G248)","v":""},{"$f":"IF(TEST!H248=\"\",\"\",TEST!H248)","v":""},{"$f":"IF(TEST!Y248=\"\",\"\",TEST!Y248)","v":""},{"$f":"IF(TEST!V248=\"\",\"\",TEST!V248)","v":""},{"$f":"IF(TEST!W248=\"\",\"\",TEST!W248)","v":""},{"$f":"IF(TEST!X248=\"\",\"\",TEST!X248)","v":""},{"$f":"IF(OR(M247=\"\",TEST!$K$1=\"\"),\"\",TEST!$K$1)","v":""},{"$f":"IF(OR(M247=\"\",TEST!$F$1=\"\"),\"\",TEST!$F$1)","v":""}]
[null,null,null,null,null,null,null,243,{"$f":"IF(TEST!Z249=\"X\",\"\",IF(TEST!AA249=\"OUI\",TEST!E249&IF(TEST!F249=\"\",\"\",\" \"&TEST!F249),\"\"))","v":""},"","",null,"",243,{"$f":"IF(TEST!E249=\"\",\"\",TEST!E249)","v":""},{"$f":"IF(TEST!F249=\"\",\"\",TEST!F249)","v":""},{"$f":"IF(TEST!G249=\"\",\"\",TEST!G249)","v":""},{"$f":"IF(TEST!H249=\"\",\"\",TEST!H249)","v":""},{"$f":"IF(TEST!Y249=\"\",\"\",TEST!Y249)","v":""},{"$f":"IF(TEST!V249=\"\",\"\",TEST!V249)","v":""},{"$f":"IF(TEST!W249=\"\",\"\",TEST!W249)","v":""},{"$f":"IF(TEST!X249=\"\",\"\",TEST!X249)","v":""},{"$f":"IF(OR(M248=\"\",TEST!$K$1=\"\"),\"\",TEST!$K$1)","v":""},{"$f":"IF(OR(M248=\"\",TEST!$F$1=\"\"),\"\",TEST!$F$1)","v":""}]
[null,null,null,null,null,null,null,244,{"$f":"IF(TEST!Z250=\"X\",\"\",IF(TEST!AA250=\"OUI\",TEST!E250&IF(TEST!F250=\"\",\"\",\" \"&TEST!F250),\"\"))","v":""},"","",null,"",244,{"$f":"IF(TEST!E250=\"\",\"\",TEST!E250)","v":""},{"$f":"IF(TEST!F250=\"\",\"\",TEST!F250)","v":""},{"$f":"IF(TEST!G250=\"\",\"\",TEST!G250)","v":""},{"$f":"IF(TEST!H250=\"\",\"\",TEST!H250)","v":""},{"$f":"IF(TEST!Y250=\"\",\"\",TEST!Y250)","v":""},{"$f":"IF(TEST!V250=\"\",\"\",TEST!V250)","v":""},{"$f":"IF(TEST!W250=\"\",\"\",TEST!W250)","v":""},{"$f":"IF(TEST!X250=\"\",\"\",TEST!X250)","v":""},{"$f":"IF(OR(M249=\"\",TEST!$K$1=\"\"),\"\",TEST!$K$1)","v":""},{"$f":"IF(OR(M249=\"\",TEST!$F$1=\"\"),\"\",TEST!$F$1)","v":""}]
[null,null,null,null,null,null,null,245,{"$f":"IF(TEST!Z251=\"X\",\"\",IF(TEST!AA251=\"OUI\",TEST!E251&IF(TEST!F251=\"\",\"\",\" \"&TEST!F251),\"\"))","v":""},"","",null,"",245,{"$f":"IF(TEST!E251=\"\",\"\",TEST!E251)","v":""},{"$f":"IF(TEST!F251=\"\",\"\",TEST!F251)","v":""},{"$f":"IF(TEST!G251=\"\",\"\",TEST!G251)","v":""},{"$f":"IF(TEST!H251=\"\",\"\",TEST!H251)","v":""},{"$f":"IF(TEST!Y251=\"\",\"\",TEST!Y251)","v":""},{"$f":"IF(TEST!V251=\"\",\"\",TEST!V251)","v":""},{"$f":"IF(TEST!W251=\"\",\"\",TEST!W251)","v":""},{"$f":"IF(TEST!X251=\"\",\"\",TEST!X251)","v":""},{"$f":"IF(OR(M250=\"\",TEST!$K$1=\"\"),\"\",TEST!$K$1)","v":""},{"$f":"IF(OR(M250=\"\",TEST!$F$1=\"\"),\"\",TEST!$F$1)","v":""}]
[null,null,null,null,null,null,null,246,{"$f":"IF(TEST!Z252=\"X\",\"\",IF(TEST!AA252=\"OUI\",TEST!E252&IF(TEST!F252=\"\",\"\",\" \"&TEST!F252),\"\"))","v":""},"","",null,"",246,{"$f":"IF(TEST!E252=\"\",\"\",TEST!E252)","v":""},{"$f":"IF(TEST!F252=\"\",\"\",TEST!F252)","v":""},{"$f":"IF(TEST!G252=\"\",\"\",TEST!G252)","v":""},{"$f":"IF(TEST!H252=\"\",\"\",TEST!H252)","v":""},{"$f":"IF(TEST!Y252=\"\",\"\",TEST!Y252)","v":""},{"$f":"IF(TEST!V252=\"\",\"\",TEST!V252)","v":""},{"$f":"IF(TEST!W252=\"\",\"\",TEST!W252)","v":""},{"$f":"IF(TEST!X252=\"\",\"\",TEST!X252)","v":""},{"$f":"IF(OR(M251=\"\",TEST!$K$1=\"\"),\"\",TEST!$K$1)","v":""},{"$f":"IF(OR(M251=\"\",TEST!$F$1=\"\"),\"\",TEST!$F$1)","v":""}]
[null,null,null,null,null,null,null,247,{"$f":"IF(TEST!Z253=\"X\",\"\",IF(TEST!AA253=\"OUI\",TEST!E253&IF(TEST!F253=\"\",\"\",\" \"&TEST!F253),\"\"))","v":""},"","",null,"",247,{"$f":"IF(TEST!E253=\"\",\"\",TEST!E253)","v":""},{"$f":"IF(TEST!F253=\"\",\"\",TEST!F253)","v":""},{"$f":"IF(TEST!G253=\"\",\"\",TEST!G253)","v":""},{"$f":"IF(TEST!H253=\"\",\"\",TEST!H253)","v":""},{"$f":"IF(TEST!Y253=\"\",\"\",TEST!Y253)","v":""},{"$f":"IF(TEST!V253=\"\",\"\",TEST!V253)","v":""},{"$f":"IF(TEST!W253=\"\",\"\",TEST!W253)","v":""},{"$f":"IF(TEST!X253=\"\",\"\",TEST!X253)","v":""},{"$f":"IF(OR(M252=\"\",TEST!$K$1=\"\"),\"\",TEST!$K$1)","v":""},{"$f":"IF(OR(M252=\"\",TEST!$F$1=\"\"),\"\",TEST!$F$1)","v":""}]
[null,null,null,null,null,null,null,248,{"$f":"IF(TEST!Z254=\"X\",\"\",IF(TEST!AA254=\"OUI\",TEST!E254&IF(TEST!F254=\"\",\"\",\" \"&TEST!F254),\"\"))","v":""},"","",null,"",248,{"$f":"IF(TEST!E254=\"\",\"\",TEST!E254)","v":""},{"$f":"IF(TEST!F254=\"\",\"\",TEST!F254)","v":""},{"$f":"IF(TEST!G254=\"\",\"\",TEST!G254)","v":""},{"$f":"IF(TEST!H254=\"\",\"\",TEST!H254)","v":""},{"$f":"IF(TEST!Y254=\"\",\"\",TEST!Y254)","v":""},{"$f":"IF(TEST!V254=\"\",\"\",TEST!V254)","v":""},{"$f":"IF(TEST!W254=\"\",\"\",TEST!W254)","v":""},{"$f":"IF(TEST!X254=\"\",\"\",TEST!X254)","v":""},{"$f":"IF(OR(M253=\"\",TEST!$K$1=\"\"),\"\",TEST!$K$1)","v":""},{"$f":"IF(OR(M253=\"\",TEST!$F$1=\"\"),\"\",TEST!$F$1)","v":""}]
[null,null,null,null,null,null,null,249,{"$f":"IF(TEST!Z255=\"X\",\"\",IF(TEST!AA255=\"OUI\",TEST!E255&IF(TEST!F255=\"\",\"\",\" \"&TEST!F255),\"\"))","v":""},"","",null,"",249,{"$f":"IF(TEST!E255=\"\",\"\",TEST!E255)","v":""},{"$f":"IF(TEST!F255=\"\",\"\",TEST!F255)","v":""},{"$f":"IF(TEST!G255=\"\",\"\",TEST!G255)","v":""},{"$f":"IF(TEST!H255=\"\",\"\",TEST!H255)","v":""},{"$f":"IF(TEST!Y255=\"\",\"\",TEST!Y255)","v":""},{"$f":"IF(TEST!V255=\"\",\"\",TEST!V255)","v":""},{"$f":"IF(TEST!W255=\"\",\"\",TEST!W255)","v":""},{"$f":"IF(TEST!X255=\"\",\"\",TEST!X255)","v":""},{"$f":"IF(OR(M254=\"\",TEST!$K$1=\"\"),\"\",TEST!$K$1)","v":""},{"$f":"IF(OR(M254=\"\",TEST!$F$1=\"\"),\"\",TEST!$F$1)","v":""}]
[null,null,null,null,null,null,null,250,{"$f":"IF(TEST!Z256=\"X\",\"\",IF(TEST!AA256=\"OUI\",TEST!E256&IF(TEST!F256=\"\",\"\",\" \"&TEST!F256),\"\"))","v":""},"","",null,"",250,{"$f":"IF(TEST!E256=\"\",\"\",TEST!E256)","v":""},{"$f":"IF(TEST!F256=\"\",\"\",TEST!F256)","v":""},{"$f":"IF(TEST!G256=\"\",\"\",TEST!G256)","v":""},{"$f":"IF(TEST!H256=\"\",\"\",TEST!H256)","v":""},{"$f":"IF(TEST!Y256=\"\",\"\",TEST!Y256)","v":""},{"$f":"IF(TEST!V256=\"\",\"\",TEST!V256)","v":""},{"$f":"IF(TEST!W256=\"\",\"\",TEST!W256)","v":""},{"$f":"IF(TEST!X256=\"\",\"\",TEST!X256)","v":""},{"$f":"IF(OR(M255=\"\",TEST!$K$1=\"\"),\"\",TEST!$K$1)","v":""},{"$f":"IF(OR(M255=\"\",TEST!$F$1=\"\"),\"\",TEST!$F$1)","v":""}]
[null,null,null,null,null,null,null,251,{"$f":"IF(TEST!Z257=\"X\",\"\",IF(TEST!AA257=\"OUI\",TEST!E257&IF(TEST!F257=\"\",\"\",\" \"&TEST!F257),\"\"))","v":""},"","",null,"",251,{"$f":"IF(TEST!E257=\"\",\"\",TEST!E257)","v":""},{"$f":"IF(TEST!F257=\"\",\"\",TEST!F257)","v":""},{"$f":"IF(TEST!G257=\"\",\"\",TEST!G257)","v":""},{"$f":"IF(TEST!H257=\"\",\"\",TEST!H257)","v":""},{"$f":"IF(TEST!Y257=\"\",\"\",TEST!Y257)","v":""},{"$f":"IF(TEST!V257=\"\",\"\",TEST!V257)","v":""},{"$f":"IF(TEST!W257=\"\",\"\",TEST!W257)","v":""},{"$f":"IF(TEST!X257=\"\",\"\",TEST!X257)","v":""},{"$f":"IF(OR(M256=\"\",TEST!$K$1=\"\"),\"\",TEST!$K$1)","v":""},{"$f":"IF(OR(M256=\"\",TEST!$F$1=\"\"),\"\",TEST!$F$1)","v":""}]
[null,null,null,null,null,null,null,252,{"$f":"IF(TEST!Z258=\"X\",\"\",IF(TEST!AA258=\"OUI\",TEST!E258&IF(TEST!F258=\"\",\"\",\" \"&TEST!F258),\"\"))","v":""},"","",null,"",252,{"$f":"IF(TEST!E258=\"\",\"\",TEST!E258)","v":""},{"$f":"IF(TEST!F258=\"\",\"\",TEST!F258)","v":""},{"$f":"IF(TEST!G258=\"\",\"\",TEST!G258)","v":""},{"$f":"IF(TEST!H258=\"\",\"\",TEST!H258)","v":""},{"$f":"IF(TEST!Y258=\"\",\"\",TEST!Y258)","v":""},{"$f":"IF(TEST!V258=\"\",\"\",TEST!V258)","v":""},{"$f":"IF(TEST!W258=\"\",\"\",TEST!W258)","v":""},{"$f":"IF(TEST!X258=\"\",\"\",TEST!X258)","v":""},{"$f":"IF(OR(M257=\"\",TEST!$K$1=\"\"),\"\",TEST!$K$1)","v":""},{"$f":"IF(OR(M257=\"\",TEST!$F$1=\"\"),\"\",TEST!$F$1)","v":""}]
[null,null,null,null,null,null,null,253,{"$f":"IF(TEST!Z259=\"X\",\"\",IF(TEST!AA259=\"OUI\",TEST!E259&IF(TEST!F259=\"\",\"\",\" \"&TEST!F259),\"\"))","v":""},"","",null,"",253,{"$f":"IF(TEST!E259=\"\",\"\",TEST!E259)","v":""},{"$f":"IF(TEST!F259=\"\",\"\",TEST!F259)","v":""},{"$f":"IF(TEST!G259=\"\",\"\",TEST!G259)","v":""},{"$f":"IF(TEST!H259=\"\",\"\",TEST!H259)","v":""},{"$f":"IF(TEST!Y259=\"\",\"\",TEST!Y259)","v":""},{"$f":"IF(TEST!V259=\"\",\"\",TEST!V259)","v":""},{"$f":"IF(TEST!W259=\"\",\"\",TEST!W259)","v":""},{"$f":"IF(TEST!X259=\"\",\"\",TEST!X259)","v":""},{"$f":"IF(OR(M258=\"\",TEST!$K$1=\"\"),\"\",TEST!$K$1)","v":""},{"$f":"IF(OR(M258=\"\",TEST!$F$1=\"\"),\"\",TEST!$F$1)","v":""}]
[null,null,null,null,null,null,null,254,{"$f":"IF(TEST!Z260=\"X\",\"\",IF(TEST!AA260=\"OUI\",TEST!E260&IF(TEST!F260=\"\",\"\",\" \"&TEST!F260),\"\"))","v":""},"","",null,"",254,{"$f":"IF(TEST!E260=\"\",\"\",TEST!E260)","v":""},{"$f":"IF(TEST!F260=\"\",\"\",TEST!F260)","v":""},{"$f":"IF(TEST!G260=\"\",\"\",TEST!G260)","v":""},{"$f":"IF(TEST!H260=\"\",\"\",TEST!H260)","v":""},{"$f":"IF(TEST!Y260=\"\",\"\",TEST!Y260)","v":""},{"$f":"IF(TEST!V260=\"\",\"\",TEST!V260)","v":""},{"$f":"IF(TEST!W260=\"\",\"\",TEST!W260)","v":""},{"$f":"IF(TEST!X260=\"\",\"\",TEST!X260)","v":""},{"$f":"IF(OR(M259=\"\",TEST!$K$1=\"\"),\"\",TEST!$K$1)","v":""},{"$f":"IF(OR(M259=\"\",TEST!$F$1=\"\"),\"\",TEST!$F$1)","v":""}]
[null,null,null,null,null,null,null,255,{"$f":"IF(TEST!Z261=\"X\",\"\",IF(TEST!AA261=\"OUI\",TEST!E261&IF(TEST!F261=\"\",\"\",\" \"&TEST!F261),\"\"))","v":""},"","",null,"",255,{"$f":"IF(TEST!E261=\"\",\"\",TEST!E261)","v":""},{"$f":"IF(TEST!F261=\"\",\"\",TEST!F261)","v":""},{"$f":"IF(TEST!G261=\"\",\"\",TEST!G261)","v":""},{"$f":"IF(TEST!H261=\"\",\"\",TEST!H261)","v":""},{"$f":"IF(TEST!Y261=\"\",\"\",TEST!Y261)","v":""},{"$f":"IF(TEST!V261=\"\",\"\",TEST!V261)","v":""},{"$f":"IF(TEST!W261=\"\",\"\",TEST!W261)","v":""},{"$f":"IF(TEST!X261=\"\",\"\",TEST!X261)","v":""},{"$f":"IF(OR(M260=\"\",TEST!$K$1=\"\"),\"\",TEST!$K$1)","v":""},{"$f":"IF(OR(M260=\"\",TEST!$F$1=\"\"),\"\",TEST!$F$1)","v":""}]
[null,null,null,null,null,null,null,256,{"$f":"IF(TEST!Z262=\"X\",\"\",IF(TEST!AA262=\"OUI\",TEST!E262&IF(TEST!F262=\"\",\"\",\" \"&TEST!F262),\"\"))","v":""},"","",null,"",256,{"$f":"IF(TEST!E262=\"\",\"\",TEST!E262)","v":""},{"$f":"IF(TEST!F262=\"\",\"\",TEST!F262)","v":""},{"$f":"IF(TEST!G262=\"\",\"\",TEST!G262)","v":""},{"$f":"IF(TEST!H262=\"\",\"\",TEST!H262)","v":""},{"$f":"IF(TEST!Y262=\"\",\"\",TEST!Y262)","v":""},{"$f":"IF(TEST!V262=\"\",\"\",TEST!V262)","v":""},{"$f":"IF(TEST!W262=\"\",\"\",TEST!W262)","v":""},{"$f":"IF(TEST!X262=\"\",\"\",TEST!X262)","v":""},{"$f":"IF(OR(M261=\"\",TEST!$K$1=\"\"),\"\",TEST!$K$1)","v":""},{"$f":"IF(OR(M261=\"\",TEST!$F$1=\"\"),\"\",TEST!$F$1)","v":""}]
[null,null,null,null,null,null,null,257,{"$f":"IF(TEST!Z263=\"X\",\"\",IF(TEST!AA263=\"OUI\",TEST!E263&IF(TEST!F263=\"\",\"\",\" \"&TEST!F263),\"\"))","v":""},"","",null,"",257,{"$f":"IF(TEST!E263=\"\",\"\",TEST!E263)","v":""},{"$f":"IF(TEST!F263=\"\",\"\",TEST!F263)","v":""},{"$f":"IF(TEST!G263=\"\",\"\",TEST!G263)","v":""},{"$f":"IF(TEST!H263=\"\",\"\",TEST!H263)","v":""},{"$f":"IF(TEST!Y263=\"\",\"\",TEST!Y263)","v":""},{"$f":"IF(TEST!V263=\"\",\"\",TEST!V263)","v":""},{"$f":"IF(TEST!W263=\"\",\"\",TEST!W263)","v":""},{"$f":"IF(TEST!X263=\"\",\"\",TEST!X263)","v":""},{"$f":"IF(OR(M262=\"\",TEST!$K$1=\"\"),\"\",TEST!$K$1)","v":""},{"$f":"IF(OR(M262=\"\",TEST!$F$1=\"\"),\"\",TEST!$F$1)","v":""}]
[null,null,null,null,null,null,null,258,{"$f":"IF(TEST!Z264=\"X\",\"\",IF(TEST!AA264=\"OUI\",TEST!E264&IF(TEST!F264=\"\",\"\",\" \"&TEST!F264),\"\"))","v":""},{"$f":"IF(I263=\"\",\"\",H263)","v":""},{"$f":"IF(ISERROR(INDEX($H$6:$I$305,SMALL($J$6:$J$305,H263),2)),\"\",INDEX($H$6:$I$305,SMALL($J$6:$J$305,H263),2))","v":""},null,{"$f":"O263&IF(P263=\"\",\"\",\" \"&P263)","v":""},258,{"$f":"IF(TEST!E264=\"\",\"\",TEST!E264)","v":""},{"$f":"IF(TEST!F264=\"\",\"\",TEST!F264)","v":""},{"$f":"IF(TEST!G264=\"\",\"\",TEST!G264)","v":""},{"$f":"IF(TEST!H264=\"\",\"\",TEST!H264)","v":""},{"$f":"IF(TEST!Y264=\"\",\"\",TEST!Y264)","v":""},{"$f":"IF(TEST!V264=\"\",\"\",TEST!V264)","v":""},{"$f":"IF(TEST!W264=\"\",\"\",TEST!W264)","v":""},{"$f":"IF(TEST!X264=\"\",\"\",TEST!X264)","v":""},{"$f":"IF(OR(M263=\"\",TEST!$K$1=\"\"),\"\",TEST!$K$1)","v":""},{"$f":"IF(OR(M263=\"\",TEST!$F$1=\"\"),\"\",TEST!$F$1)","v":""}]
[null,null,null,null,null,null,null,259,{"$f":"IF(TEST!Z265=\"X\",\"\",IF(TEST!AA265=\"OUI\",TEST!E265&IF(TEST!F265=\"\",\"\",\" \"&TEST!F265),\"\"))","v":""},"","",null,"",259,{"$f":"IF(TEST!E265=\"\",\"\",TEST!E265)","v":""},{"$f":"IF(TEST!F265=\"\",\"\",TEST!F265)","v":""},{"$f":"IF(TEST!G265=\"\",\"\",TEST!G265)","v":""},{"$f":"IF(TEST!H265=\"\",\"\",TEST!H265)","v":""},{"$f":"IF(TEST!Y265=\"\",\"\",TEST!Y265)","v":""},{"$f":"IF(TEST!V265=\"\",\"\",TEST!V265)","v":""},{"$f":"IF(TEST!W265=\"\",\"\",TEST!W265)","v":""},{"$f":"IF(TEST!X265=\"\",\"\",TEST!X265)","v":""},{"$f":"IF(OR(M264=\"\",TEST!$K$1=\"\"),\"\",TEST!$K$1)","v":""},{"$f":"IF(OR(M264=\"\",TEST!$F$1=\"\"),\"\",TEST!$F$1)","v":""}]
[null,null,null,null,null,null,null,260,{"$f":"IF(TEST!Z266=\"X\",\"\",IF(TEST!AA266=\"OUI\",TEST!E266&IF(TEST!F266=\"\",\"\",\" \"&TEST!F266),\"\"))","v":""},"","",null,"",260,{"$f":"IF(TEST!E266=\"\",\"\",TEST!E266)","v":""},{"$f":"IF(TEST!F266=\"\",\"\",TEST!F266)","v":""},{"$f":"IF(TEST!G266=\"\",\"\",TEST!G266)","v":""},{"$f":"IF(TEST!H266=\"\",\"\",TEST!H266)","v":""},{"$f":"IF(TEST!Y266=\"\",\"\",TEST!Y266)","v":""},{"$f":"IF(TEST!V266=\"\",\"\",TEST!V266)","v":""},{"$f":"IF(TEST!W266=\"\",\"\",TEST!W266)","v":""},{"$f":"IF(TEST!X266=\"\",\"\",TEST!X266)","v":""},{"$f":"IF(OR(M265=\"\",TEST!$K$1=\"\"),\"\",TEST!$K$1)","v":""},{"$f":"IF(OR(M265=\"\",TEST!$F$1=\"\"),\"\",TEST!$F$1)","v":""}]
[null,null,null,null,null,null,null,261,{"$f":"IF(TEST!Z267=\"X\",\"\",IF(TEST!AA267=\"OUI\",TEST!E267&IF(TEST!F267=\"\",\"\",\" \"&TEST!F267),\"\"))","v":""},"","",null,"",261,{"$f":"IF(TEST!E267=\"\",\"\",TEST!E267)","v":""},{"$f":"IF(TEST!F267=\"\",\"\",TEST!F267)","v":""},{"$f":"IF(TEST!G267=\"\",\"\",TEST!G267)","v":""},{"$f":"IF(TEST!H267=\"\",\"\",TEST!H267)","v":""},{"$f":"IF(TEST!Y267=\"\",\"\",TEST!Y267)","v":""},{"$f":"IF(TEST!V267=\"\",\"\",TEST!V267)","v":""},{"$f":"IF(TEST!W267=\"\",\"\",TEST!W267)","v":""},{"$f":"IF(TEST!X267=\"\",\"\",TEST!X267)","v":""},{"$f":"IF(OR(M266=\"\",TEST!$K$1=\"\"),\"\",TEST!$K$1)","v":""},{"$f":"IF(OR(M266=\"\",TEST!$F$1=\"\"),\"\",TEST!$F$1)","v":""}]
[null,null,null,null,null,null,null,262,{"$f":"IF(TEST!Z268=\"X\",\"\",IF(TEST!AA268=\"OUI\",TEST!E268&IF(TEST!F268=\"\",\"\",\" \"&TEST!F268),\"\"))","v":""},"","",null,"",262,{"$f":"IF(TEST!E268=\"\",\"\",TEST!E268)","v":""},{"$f":"IF(TEST!F268=\"\",\"\",TEST!F268)","v":""},{"$f":"IF(TEST!G268=\"\",\"\",TEST!G268)","v":""},{"$f":"IF(TEST!H268=\"\",\"\",TEST!H268)","v":""},{"$f":"IF(TEST!Y268=\"\",\"\",TEST!Y268)","v":""},{"$f":"IF(TEST!V268=\"\",\"\",TEST!V268)","v":""},{"$f":"IF(TEST!W268=\"\",\"\",TEST!W268)","v":""},{"$f":"IF(TEST!X268=\"\",\"\",TEST!X268)","v":""},{"$f":"IF(OR(M267=\"\",TEST!$K$1=\"\"),\"\",TEST!$K$1)","v":""},{"$f":"IF(OR(M267=\"\",TEST!$F$1=\"\"),\"\",TEST!$F$1)","v":""}]
[null,null,null,null,null,null,null,263,{"$f":"IF(TEST!Z269=\"X\",\"\",IF(TEST!AA269=\"OUI\",TEST!E269&IF(TEST!F269=\"\",\"\",\" \"&TEST!F269),\"\"))","v":""},"","",null,"",263,{"$f":"IF(TEST!E269=\"\",\"\",TEST!E269)","v":""},{"$f":"IF(TEST!F269=\"\",\"\",TEST!F269)","v":""},{"$f":"IF(TEST!G269=\"\",\"\",TEST!G269)","v":""},{"$f":"IF(TEST!H269=\"\",\"\",TEST!H269)","v":""},{"$f":"IF(TEST!Y269=\"\",\"\",TEST!Y269)","v":""},{"$f":"IF(TEST!V269=\"\",\"\",TEST!V269)","v":""},{"$f":"IF(TEST!W269=\"\",\"\",TEST!W269)","v":""},{"$f":"IF(TEST!X269=\"\",\"\",TEST!X269)","v":""},{"$f":"IF(OR(M268=\"\",TEST!$K$1=\"\"),\"\",TEST!$K$1)","v":""},{"$f":"IF(OR(M268=\"\",TEST!$F$1=\"\"),\"\",TEST!$F$1)","v":""}]
[null,null,null,null,null,null,null,264,{"$f":"IF(TEST!Z270=\"X\",\"\",IF(TEST!AA270=\"OUI\",TEST!E270&IF(TEST!F270=\"\",\"\",\" \"&TEST!F270),\"\"))","v":""},"","",null,"",264,{"$f":"IF(TEST!E270=\"\",\"\",TEST!E270)","v":""},{"$f":"IF(TEST!F270=\"\",\"\",TEST!F270)","v":""},{"$f":"IF(TEST!G270=\"\",\"\",TEST!G270)","v":""},{"$f":"IF(TEST!H270=\"\",\"\",TEST!H270)","v":""},{"$f":"IF(TEST!Y270=\"\",\"\",TEST!Y270)","v":""},{"$f":"IF(TEST!V270=\"\",\"\",TEST!V270)","v":""},{"$f":"IF(TEST!W270=\"\",\"\",TEST!W270)","v":""},{"$f":"IF(TEST!X270=\"\",\"\",TEST!X270)","v":""},{"$f":"IF(OR(M269=\"\",TEST!$K$1=\"\"),\"\",TEST!$K$1)","v":""},{"$f":"IF(OR(M269=\"\",TEST!$F$1=\"\"),\"\",TEST!$F$1)","v":""}]
[null,null,null,null,null,null,null,265,{"$f":"IF(TEST!Z271=\"X\",\"\",IF(TEST!AA271=\"OUI\",TEST!E271&IF(TEST!F271=\"\",\"\",\" \"&TEST!F271),\"\"))","v":""},"","",null,"",265,{"$f":"IF(TEST!E271=\"\",\"\",TEST!E271)","v":""},{"$f":"IF(TEST!F271=\"\",\"\",TEST!F271)","v":""},{"$f":"IF(TEST!G271=\"\",\"\",TEST!G271)","v":""},{"$f":"IF(TEST!H271=\"\",\"\",TEST!H271)","v":""},{"$f":"IF(TEST!Y271=\"\",\"\",TEST!Y271)","v":""},{"$f":"IF(TEST!V271=\"\",\"\",TEST!V271)","v":""},{"$f":"IF(TEST!W271=\"\",\"\",TEST!W271)","v":""},{"$f":"IF(TEST!X271=\"\",\"\",TEST!X271)","v":""},{"$f":"IF(OR(M270=\"\",TEST!$K$1=\"\"),\"\",TEST!$K$1)","v":""},{"$f":"IF(OR(M270=\"\",TEST!$F$1=\"\"),\"\",TEST!$F$1)","v":""}]
[null,null,null,null,null,null,null,266,{"$f":"IF(TEST!Z272=\"X\",\"\",IF(TEST!AA272=\"OUI\",TEST!E272&IF(TEST!F272=\"\",\"\",\" \"&TEST!F272),\"\"))","v":""},"","",null,"",266,{"$f":"IF(TEST!E272=\"\",\"\",TEST!E272)","v":""},{"$f":"IF(TEST!F272=\"\",\"\",TEST!F272)","v":""},{"$f":"IF(TEST!G272=\"\",\"\",TEST!G272)","v":""},{"$f":"IF(TEST!H272=\"\",\"\",TEST!H272)","v":""},{"$f":"IF(TEST!Y272=\"\",\"\",TEST!Y272)","v":""},{"$f":"IF(TEST!V272=\"\",\"\",TEST!V272)","v":""},{"$f":"IF(TEST!W272=\"\",\"\",TEST!W272)","v":""},{"$f":"IF(TEST!X272=\"\",\"\",TEST!X272)","v":""},{"$f":"IF(OR(M271=\"\",TEST!$K$1=\"\"),\"\",TEST!$K$1)","v":""},{"$f":"IF(OR(M271=\"\",TEST!$F$1=\"\"),\"\",TEST!$F$1)","v":""}]
[null,null,null,null,null,null,null,267,{"$f":"IF(TEST!Z273=\"X\",\"\",IF(TEST!AA273=\"OUI\",TEST!E273&IF(TEST!F273=\"\",\"\",\" \"&TEST!F273),\"\"))","v":""},"","",null,"",267,{"$f":"IF(TEST!E273=\"\",\"\",TEST!E273)","v":""},{"$f":"IF(TEST!F273=\"\",\"\",TEST!F273)","v":""},{"$f":"IF(TEST!G273=\"\",\"\",TEST!G273)","v":""},{"$f":"IF(TEST!H273=\"\",\"\",TEST!H273)","v":""},{"$f":"IF(TEST!Y273=\"\",\"\",TEST!Y273)","v":""},{"$f":"IF(TEST!V273=\"\",\"\",TEST!V273)","v":""},{"$f":"IF(TEST!W273=\"\",\"\",TEST!W273)","v":""},{"$f":"IF(TEST!X273=\"\",\"\",TEST!X273)","v":""},{"$f":"IF(OR(M272=\"\",TEST!$K$1=\"\"),\"\",TEST!$K$1)","v":""},{"$f":"IF(OR(M272=\"\",TEST!$F$1=\"\"),\"\",TEST!$F$1)","v":""}]
[null,null,null,null,null,null,null,268,{"$f":"IF(TEST!Z274=\"X\",\"\",IF(TEST!AA274=\"OUI\",TEST!E274&IF(TEST!F274=\"\",\"\",\" \"&TEST!F274),\"\"))","v":""},"","",null,"",268,{"$f":"IF(TEST!E274=\"\",\"\",TEST!E274)","v":""},{"$f":"IF(TEST!F274=\"\",\"\",TEST!F274)","v":""},{"$f":"IF(TEST!G274=\"\",\"\",TEST!G274)","v":""},{"$f":"IF(TEST!H274=\"\",\"\",TEST!H274)","v":""},{"$f":"IF(TEST!Y274=\"\",\"\",TEST!Y274)","v":""},{"$f":"IF(TEST!V274=\"\",\"\",TEST!V274)","v":""},{"$f":"IF(TEST!W274=\"\",\"\",TEST!W274)","v":""},{"$f":"IF(TEST!X274=\"\",\"\",TEST!X274)","v":""},{"$f":"IF(OR(M273=\"\",TEST!$K$1=\"\"),\"\",TEST!$K$1)","v":""},{"$f":"IF(OR(M273=\"\",TEST!$F$1=\"\"),\"\",TEST!$F$1)","v":""}]
[null,null,null,null,null,null,null,269,{"$f":"IF(TEST!Z275=\"X\",\"\",IF(TEST!AA275=\"OUI\",TEST!E275&IF(TEST!F275=\"\",\"\",\" \"&TEST!F275),\"\"))","v":""},"","",null,"",269,{"$f":"IF(TEST!E275=\"\",\"\",TEST!E275)","v":""},{"$f":"IF(TEST!F275=\"\",\"\",TEST!F275)","v":""},{"$f":"IF(TEST!G275=\"\",\"\",TEST!G275)","v":""},{"$f":"IF(TEST!H275=\"\",\"\",TEST!H275)","v":""},{"$f":"IF(TEST!Y275=\"\",\"\",TEST!Y275)","v":""},{"$f":"IF(TEST!V275=\"\",\"\",TEST!V275)","v":""},{"$f":"IF(TEST!W275=\"\",\"\",TEST!W275)","v":""},{"$f":"IF(TEST!X275=\"\",\"\",TEST!X275)","v":""},{"$f":"IF(OR(M274=\"\",TEST!$K$1=\"\"),\"\",TEST!$K$1)","v":""},{"$f":"IF(OR(M274=\"\",TEST!$F$1=\"\"),\"\",TEST!$F$1)","v":""}]
[null,null,null,null,null,null,null,270,{"$f":"IF(TEST!Z276=\"X\",\"\",IF(TEST!AA276=\"OUI\",TEST!E276&IF(TEST!F276=\"\",\"\",\" \"&TEST!F276),\"\"))","v":""},"","",null,"",270,{"$f":"IF(TEST!E276=\"\",\"\",TEST!E276)","v":""},{"$f":"IF(TEST!F276=\"\",\"\",TEST!F276)","v":""},{"$f":"IF(TEST!G276=\"\",\"\",TEST!G276)","v":""},{"$f":"IF(TEST!H276=\"\",\"\",TEST!H276)","v":""},{"$f":"IF(TEST!Y276=\"\",\"\",TEST!Y276)","v":""},{"$f":"IF(TEST!V276=\"\",\"\",TEST!V276)","v":""},{"$f":"IF(TEST!W276=\"\",\"\",TEST!W276)","v":""},{"$f":"IF(TEST!X276=\"\",\"\",TEST!X276)","v":""},{"$f":"IF(OR(M275=\"\",TEST!$K$1=\"\"),\"\",TEST!$K$1)","v":""},{"$f":"IF(OR(M275=\"\",TEST!$F$1=\"\"),\"\",TEST!$F$1)","v":""}]
[null,null,null,null,null,null,null,271,{"$f":"IF(TEST!Z277=\"X\",\"\",IF(TEST!AA277=\"OUI\",TEST!E277&IF(TEST!F277=\"\",\"\",\" \"&TEST!F277),\"\"))","v":""},"","",null,"",271,{"$f":"IF(TEST!E277=\"\",\"\",TEST!E277)","v":""},{"$f":"IF(TEST!F277=\"\",\"\",TEST!F277)","v":""},{"$f":"IF(TEST!G277=\"\",\"\",TEST!G277)","v":""},{"$f":"IF(TEST!H277=\"\",\"\",TEST!H277)","v":""},{"$f":"IF(TEST!Y277=\"\",\"\",TEST!Y277)","v":""},{"$f":"IF(TEST!V277=\"\",\"\",TEST!V277)","v":""},{"$f":"IF(TEST!W277=\"\",\"\",TEST!W277)","v":""},{"$f":"IF(TEST!X277=\"\",\"\",TEST!X277)","v":""},{"$f":"IF(OR(M276=\"\",TEST!$K$1=\"\"),\"\",TEST!$K$1)","v":""},{"$f":"IF(OR(M276=\"\",TEST!$F$1=\"\"),\"\",TEST!$F$1)","v":""}]
[null,null,null,null,null,null,null,272,{"$f":"IF(TEST!Z278=\"X\",\"\",IF(TEST!AA278=\"OUI\",TEST!E278&IF(TEST!F278=\"\",\"\",\" \"&TEST!F278),\"\"))","v":""},"","",null,"",272,{"$f":"IF(TEST!E278=\"\",\"\",TEST!E278)","v":""},{"$f":"IF(TEST!F278=\"\",\"\",TEST!F278)","v":""},{"$f":"IF(TEST!G278=\"\",\"\",TEST!G278)","v":""},{"$f":"IF(TEST!H278=\"\",\"\",TEST!H278)","v":""},{"$f":"IF(TEST!Y278=\"\",\"\",TEST!Y278)","v":""},{"$f":"IF(TEST!V278=\"\",\"\",TEST!V278)","v":""},{"$f":"IF(TEST!W278=\"\",\"\",TEST!W278)","v":""},{"$f":"IF(TEST!X278=\"\",\"\",TEST!X278)","v":""},{"$f":"IF(OR(M277=\"\",TEST!$K$1=\"\"),\"\",TEST!$K$1)","v":""},{"$f":"IF(OR(M277=\"\",TEST!$F$1=\"\"),\"\",TEST!$F$1)","v":""}]
[null,null,null,null,null,null,null,273,{"$f":"IF(TEST!Z279=\"X\",\"\",IF(TEST!AA279=\"OUI\",TEST!E279&IF(TEST!F279=\"\",\"\",\" \"&TEST!F279),\"\"))","v":""},"","",null,"",273,{"$f":"IF(TEST!E279=\"\",\"\",TEST!E279)","v":""},{"$f":"IF(TEST!F279=\"\",\"\",TEST!F279)","v":""},{"$f":"IF(TEST!G279=\"\",\"\",TEST!G279)","v":""},{"$f":"IF(TEST!H279=\"\",\"\",TEST!H279)","v":""},{"$f":"IF(TEST!Y279=\"\",\"\",TEST!Y279)","v":""},{"$f":"IF(TEST!V279=\"\",\"\",TEST!V279)","v":""},{"$f":"IF(TEST!W279=\"\",\"\",TEST!W279)","v":""},{"$f":"IF(TEST!X279=\"\",\"\",TEST!X279)","v":""},{"$f":"IF(OR(M278=\"\",TEST!$K$1=\"\"),\"\",TEST!$K$1)","v":""},{"$f":"IF(OR(M278=\"\",TEST!$F$1=\"\"),\"\",TEST!$F$1)","v":""}]
[null,null,null,null,null,null,null,274,{"$f":"IF(TEST!Z280=\"X\",\"\",IF(TEST!AA280=\"OUI\",TEST!E280&IF(TEST!F280=\"\",\"\",\" \"&TEST!F280),\"\"))","v":""},"","",null,"",274,{"$f":"IF(TEST!E280=\"\",\"\",TEST!E280)","v":""},{"$f":"IF(TEST!F280=\"\",\"\",TEST!F280)","v":""},{"$f":"IF(TEST!G280=\"\",\"\",TEST!G280)","v":""},{"$f":"IF(TEST!H280=\"\",\"\",TEST!H280)","v":""},{"$f":"IF(TEST!Y280=\"\",\"\",TEST!Y280)","v":""},{"$f":"IF(TEST!V280=\"\",\"\",TEST!V280)","v":""},{"$f":"IF(TEST!W280=\"\",\"\",TEST!W280)","v":""},{"$f":"IF(TEST!X280=\"\",\"\",TEST!X280)","v":""},{"$f":"IF(OR(M279=\"\",TEST!$K$1=\"\"),\"\",TEST!$K$1)","v":""},{"$f":"IF(OR(M279=\"\",TEST!$F$1=\"\"),\"\",TEST!$F$1)","v":""}]
[null,null,null,null,null,null,null,275,{"$f":"IF(TEST!Z281=\"X\",\"\",IF(TEST!AA281=\"OUI\",TEST!E281&IF(TEST!F281=\"\",\"\",\" \"&TEST!F281),\"\"))","v":""},"","",null,"",275,{"$f":"IF(TEST!E281=\"\",\"\",TEST!E281)","v":""},{"$f":"IF(TEST!F281=\"\",\"\",TEST!F281)","v":""},{"$f":"IF(TEST!G281=\"\",\"\",TEST!G281)","v":""},{"$f":"IF(TEST!H281=\"\",\"\",TEST!H281)","v":""},{"$f":"IF(TEST!Y281=\"\",\"\",TEST!Y281)","v":""},{"$f":"IF(TEST!V281=\"\",\"\",TEST!V281)","v":""},{"$f":"IF(TEST!W281=\"\",\"\",TEST!W281)","v":""},{"$f":"IF(TEST!X281=\"\",\"\",TEST!X281)","v":""},{"$f":"IF(OR(M280=\"\",TEST!$K$1=\"\"),\"\",TEST!$K$1)","v":""},{"$f":"IF(OR(M280=\"\",TEST!$F$1=\"\"),\"\",TEST!$F$1)","v":""}]
[null,null,null,null,null,null,null,276,{"$f":"IF(TEST!Z282=\"X\",\"\",IF(TEST!AA282=\"OUI\",TEST!E282&IF(TEST!F282=\"\",\"\",\" \"&TEST!F282),\"\"))","v":""},"","",null,"",276,{"$f":"IF(TEST!E282=\"\",\"\",TEST!E282)","v":""},{"$f":"IF(TEST!F282=\"\",\"\",TEST!F282)","v":""},{"$f":"IF(TEST!G282=\"\",\"\",TEST!G282)","v":""},{"$f":"IF(TEST!H282=\"\",\"\",TEST!H282)","v":""},{"$f":"IF(TEST!Y282=\"\",\"\",TEST!Y282)","v":""},{"$f":"IF(TEST!V282=\"\",\"\",TEST!V282)","v":""},{"$f":"IF(TEST!W282=\"\",\"\",TEST!W282)","v":""},{"$f":"IF(TEST!X282=\"\",\"\",TEST!X282)","v":""},{"$f":"IF(OR(M281=\"\",TEST!$K$1=\"\"),\"\",TEST!$K$1)","v":""},{"$f":"IF(OR(M281=\"\",TEST!$F$1=\"\"),\"\",TEST!$F$1)","v":""}]
[null,null,null,null,null,null,null,277,{"$f":"IF(TEST!Z283=\"X\",\"\",IF(TEST!AA283=\"OUI\",TEST!E283&IF(TEST!F283=\"\",\"\",\" \"&TEST!F283),\"\"))","v":""},"","",null,"",277,{"$f":"IF(TEST!E283=\"\",\"\",TEST!E283)","v":""},{"$f":"IF(TEST!F283=\"\",\"\",TEST!F283)","v":""},{"$f":"IF(TEST!G283=\"\",\"\",TEST!G283)","v":""},{"$f":"IF(TEST!H283=\"\",\"\",TEST!H283)","v":""},{"$f":"IF(TEST!Y283=\"\",\"\",TEST!Y283)","v":""},{"$f":"IF(TEST!V283=\"\",\"\",TEST!V283)","v":""},{"$f":"IF(TEST!W283=\"\",\"\",TEST!W283)","v":""},{"$f":"IF(TEST!X283=\"\",\"\",TEST!X283)","v":""},{"$f":"IF(OR(M282=\"\",TEST!$K$1=\"\"),\"\",TEST!$K$1)","v":""},{"$f":"IF(OR(M282=\"\",TEST!$F$1=\"\"),\"\",TEST!$F$1)","v":""}]
[null,null,null,null,null,null,null,278,{"$f":"IF(TEST!Z284=\"X\",\"\",IF(TEST!AA284=\"OUI\",TEST!E284&IF(TEST!F284=\"\",\"\",\" \"&TEST!F284),\"\"))","v":""},"","",null,"",278,{"$f":"IF(TEST!E284=\"\",\"\",TEST!E284)","v":""},{"$f":"IF(TEST!F284=\"\",\"\",TEST!F284)","v":""},{"$f":"IF(TEST!G284=\"\",\"\",TEST!G284)","v":""},{"$f":"IF(TEST!H284=\"\",\"\",TEST!H284)","v":""},{"$f":"IF(TEST!Y284=\"\",\"\",TEST!Y284)","v":""},{"$f":"IF(TEST!V284=\"\",\"\",TEST!V284)","v":""},{"$f":"IF(TEST!W284=\"\",\"\",TEST!W284)","v":""},{"$f":"IF(TEST!X284=\"\",\"\",TEST!X284)","v":""},{"$f":"IF(OR(M283=\"\",TEST!$K$1=\"\"),\"\",TEST!$K$1)","v":""},{"$f":"IF(OR(M283=\"\",TEST!$F$1=\"\"),\"\",TEST!$F$1)","v":""}]
[null,null,null,null,null,null,null,279,{"$f":"IF(TEST!Z285=\"X\",\"\",IF(TEST!AA285=\"OUI\",TEST!E285&IF(TEST!F285=\"\",\"\",\" \"&TEST!F285),\"\"))","v":""},"","",null,"",279,{"$f":"IF(TEST!E285=\"\",\"\",TEST!E285)","v":""},{"$f":"IF(TEST!F285=\"\",\"\",TEST!F285)","v":""},{"$f":"IF(TEST!G285=\"\",\"\",TEST!G285)","v":""},{"$f":"IF(TEST!H285=\"\",\"\",TEST!H285)","v":""},{"$f":"IF(TEST!Y285=\"\",\"\",TEST!Y285)","v":""},{"$f":"IF(TEST!V285=\"\",\"\",TEST!V285)","v":""},{"$f":"IF(TEST!W285=\"\",\"\",TEST!W285)","v":""},{"$f":"IF(TEST!X285=\"\",\"\",TEST!X285)","v":""},{"$f":"IF(OR(M284=\"\",TEST!$K$1=\"\"),\"\",TEST!$K$1)","v":""},{"$f":"IF(OR(M284=\"\",TEST!$F$1=\"\"),\"\",TEST!$F$1)","v":""}]
[null,null,null,null,null,null,null,280,{"$f":"IF(TEST!Z286=\"X\",\"\",IF(TEST!AA286=\"OUI\",TEST!E286&IF(TEST!F286=\"\",\"\",\" \"&TEST!F286),\"\"))","v":""},"","",null,"",280,{"$f":"IF(TEST!E286=\"\",\"\",TEST!E286)","v":""},{"$f":"IF(TEST!F286=\"\",\"\",TEST!F286)","v":""},{"$f":"IF(TEST!G286=\"\",\"\",TEST!G286)","v":""},{"$f":"IF(TEST!H286=\"\",\"\",TEST!H286)","v":""},{"$f":"IF(TEST!Y286=\"\",\"\",TEST!Y286)","v":""},{"$f":"IF(TEST!V286=\"\",\"\",TEST!V286)","v":""},{"$f":"IF(TEST!W286=\"\",\"\",TEST!W286)","v":""},{"$f":"IF(TEST!X286=\"\",\"\",TEST!X286)","v":""},{"$f":"IF(OR(M285=\"\",TEST!$K$1=\"\"),\"\",TEST!$K$1)","v":""},{"$f":"IF(OR(M285=\"\",TEST!$F$1=\"\"),\"\",TEST!$F$1)","v":""}]
[null,null,null,null,null,null,null,281,{"$f":"IF(TEST!Z287=\"X\",\"\",IF(TEST!AA287=\"OUI\",TEST!E287&IF(TEST!F287=\"\",\"\",\" \"&TEST!F287),\"\"))","v":""},"","",null,"",281,{"$f":"IF(TEST!E287=\"\",\"\",TEST!E287)","v":""},{"$f":"IF(TEST!F287=\"\",\"\",TEST!F287)","v":""},{"$f":"IF(TEST!G287=\"\",\"\",TEST!G287)","v":""},{"$f":"IF(TEST!H287=\"\",\"\",TEST!H287)","v":""},{"$f":"IF(TEST!Y287=\"\",\"\",TEST!Y287)","v":""},{"$f":"IF(TEST!V287=\"\",\"\",TEST!V287)","v":""},{"$f":"IF(TEST!W287=\"\",\"\",TEST!W287)","v":""},{"$f":"IF(TEST!X287=\"\",\"\",TEST!X287)","v":""},{"$f":"IF(OR(M286=\"\",TEST!$K$1=\"\"),\"\",TEST!$K$1)","v":""},{"$f":"IF(OR(M286=\"\",TEST!$F$1=\"\"),\"\",TEST!$F$1)","v":""}]
[null,null,null,null,null,null,null,282,{"$f":"IF(TEST!Z288=\"X\",\"\",IF(TEST!AA288=\"OUI\",TEST!E288&IF(TEST!F288=\"\",\"\",\" \"&TEST!F288),\"\"))","v":""},"","",null,"",282,{"$f":"IF(TEST!E288=\"\",\"\",TEST!E288)","v":""},{"$f":"IF(TEST!F288=\"\",\"\",TEST!F288)","v":""},{"$f":"IF(TEST!G288=\"\",\"\",TEST!G288)","v":""},{"$f":"IF(TEST!H288=\"\",\"\",TEST!H288)","v":""},{"$f":"IF(TEST!Y288=\"\",\"\",TEST!Y288)","v":""},{"$f":"IF(TEST!V288=\"\",\"\",TEST!V288)","v":""},{"$f":"IF(TEST!W288=\"\",\"\",TEST!W288)","v":""},{"$f":"IF(TEST!X288=\"\",\"\",TEST!X288)","v":""},{"$f":"IF(OR(M287=\"\",TEST!$K$1=\"\"),\"\",TEST!$K$1)","v":""},{"$f":"IF(OR(M287=\"\",TEST!$F$1=\"\"),\"\",TEST!$F$1)","v":""}]
[null,null,null,null,null,null,null,283,{"$f":"IF(TEST!Z289=\"X\",\"\",IF(TEST!AA289=\"OUI\",TEST!E289&IF(TEST!F289=\"\",\"\",\" \"&TEST!F289),\"\"))","v":""},"","",null,"",283,{"$f":"IF(TEST!E289=\"\",\"\",TEST!E289)","v":""},{"$f":"IF(TEST!F289=\"\",\"\",TEST!F289)","v":""},{"$f":"IF(TEST!G289=\"\",\"\",TEST!G289)","v":""},{"$f":"IF(TEST!H289=\"\",\"\",TEST!H289)","v":""},{"$f":"IF(TEST!Y289=\"\",\"\",TEST!Y289)","v":""},{"$f":"IF(TEST!V289=\"\",\"\",TEST!V289)","v":""},{"$f":"IF(TEST!W289=\"\",\"\",TEST!W289)","v":""},{"$f":"IF(TEST!X289=\"\",\"\",TEST!X289)","v":""},{"$f":"IF(OR(M288=\"\",TEST!$K$1=\"\"),\"\",TEST!$K$1)","v":""},{"$f":"IF(OR(M288=\"\",TEST!$F$1=\"\"),\"\",TEST!$F$1)","v":""}]
[null,null,null,null,null,null,null,284,{"$f":"IF(TEST!Z290=\"X\",\"\",IF(TEST!AA290=\"OUI\",TEST!E290&IF(TEST!F290=\"\",\"\",\" \"&TEST!F290),\"\"))","v":""},"","",null,"",284,{"$f":"IF(TEST!E290=\"\",\"\",TEST!E290)","v":""},{"$f":"IF(TEST!F290=\"\",\"\",TEST!F290)","v":""},{"$f":"IF(TEST!G290=\"\",\"\",TEST!G290)","v":""},{"$f":"IF(TEST!H290=\"\",\"\",TEST!H290)","v":""},{"$f":"IF(TEST!Y290=\"\",\"\",TEST!Y290)","v":""},{"$f":"IF(TEST!V290=\"\",\"\",TEST!V290)","v":""},{"$f":"IF(TEST!W290=\"\",\"\",TEST!W290)","v":""},{"$f":"IF(TEST!X290=\"\",\"\",TEST!X290)","v":""},{"$f":"IF(OR(M289=\"\",TEST!$K$1=\"\"),\"\",TEST!$K$1)","v":""},{"$f":"IF(OR(M289=\"\",TEST!$F$1=\"\"),\"\",TEST!$F$1)","v":""}]
[null,null,null,null,null,null,null,285,{"$f":"IF(TEST!Z291=\"X\",\"\",IF(TEST!AA291=\"OUI\",TEST!E291&IF(TEST!F291=\"\",\"\",\" \"&TEST!F291),\"\"))","v":""},"","",null,"",285,{"$f":"IF(TEST!E291=\"\",\"\",TEST!E291)","v":""},{"$f":"IF(TEST!F291=\"\",\"\",TEST!F291)","v":""},{"$f":"IF(TEST!G291=\"\",\"\",TEST!G291)","v":""},{"$f":"IF(TEST!H291=\"\",\"\",TEST!H291)","v":""},{"$f":"IF(TEST!Y291=\"\",\"\",TEST!Y291)","v":""},{"$f":"IF(TEST!V291=\"\",\"\",TEST!V291)","v":""},{"$f":"IF(TEST!W291=\"\",\"\",TEST!W291)","v":""},{"$f":"IF(TEST!X291=\"\",\"\",TEST!X291)","v":""},{"$f":"IF(OR(M290=\"\",TEST!$K$1=\"\"),\"\",TEST!$K$1)","v":""},{"$f":"IF(OR(M290=\"\",TEST!$F$1=\"\"),\"\",TEST!$F$1)","v":""}]
[null,null,null,null,null,null,null,286,{"$f":"IF(TEST!Z292=\"X\",\"\",IF(TEST!AA292=\"OUI\",TEST!E292&IF(TEST!F292=\"\",\"\",\" \"&TEST!F292),\"\"))","v":""},"","",null,"",286,{"$f":"IF(TEST!E292=\"\",\"\",TEST!E292)","v":""},{"$f":"IF(TEST!F292=\"\",\"\",TEST!F292)","v":""},{"$f":"IF(TEST!G292=\"\",\"\",TEST!G292)","v":""},{"$f":"IF(TEST!H292=\"\",\"\",TEST!H292)","v":""},{"$f":"IF(TEST!Y292=\"\",\"\",TEST!Y292)","v":""},{"$f":"IF(TEST!V292=\"\",\"\",TEST!V292)","v":""},{"$f":"IF(TEST!W292=\"\",\"\",TEST!W292)","v":""},{"$f":"IF(TEST!X292=\"\",\"\",TEST!X292)","v":""},{"$f":"IF(OR(M291=\"\",TEST!$K$1=\"\"),\"\",TEST!$K$1)","v":""},{"$f":"IF(OR(M291=\"\",TEST!$F$1=\"\"),\"\",TEST!$F$1)","v":""}]
[null,null,null,null,null,null,null,287,{"$f":"IF(TEST!Z293=\"X\",\"\",IF(TEST!AA293=\"OUI\",TEST!E293&IF(TEST!F293=\"\",\"\",\" \"&TEST!F293),\"\"))","v":""},"","",null,"",287,{"$f":"IF(TEST!E293=\"\",\"\",TEST!E293)","v":""},{"$f":"IF(TEST!F293=\"\",\"\",TEST!F293)","v":""},{"$f":"IF(TEST!G293=\"\",\"\",TEST!G293)","v":""},{"$f":"IF(TEST!H293=\"\",\"\",TEST!H293)","v":""},{"$f":"IF(TEST!Y293=\"\",\"\",TEST!Y293)","v":""},{"$f":"IF(TEST!V293=\"\",\"\",TEST!V293)","v":""},{"$f":"IF(TEST!W293=\"\",\"\",TEST!W293)","v":""},{"$f":"IF(TEST!X293=\"\",\"\",TEST!X293)","v":""},{"$f":"IF(OR(M292=\"\",TEST!$K$1=\"\"),\"\",TEST!$K$1)","v":""},{"$f":"IF(OR(M292=\"\",TEST!$F$1=\"\"),\"\",TEST!$F$1)","v":""}]
[null,null,null,null,null,null,null,288,{"$f":"IF(TEST!Z294=\"X\",\"\",IF(TEST!AA294=\"OUI\",TEST!E294&IF(TEST!F294=\"\",\"\",\" \"&TEST!F294),\"\"))","v":""},"","",null,"",288,{"$f":"IF(TEST!E294=\"\",\"\",TEST!E294)","v":""},{"$f":"IF(TEST!F294=\"\",\"\",TEST!F294)","v":""},{"$f":"IF(TEST!G294=\"\",\"\",TEST!G294)","v":""},{"$f":"IF(TEST!H294=\"\",\"\",TEST!H294)","v":""},{"$f":"IF(TEST!Y294=\"\",\"\",TEST!Y294)","v":""},{"$f":"IF(TEST!V294=\"\",\"\",TEST!V294)","v":""},{"$f":"IF(TEST!W294=\"\",\"\",TEST!W294)","v":""},{"$f":"IF(TEST!X294=\"\",\"\",TEST!X294)","v":""},{"$f":"IF(OR(M293=\"\",TEST!$K$1=\"\"),\"\",TEST!$K$1)","v":""},{"$f":"IF(OR(M293=\"\",TEST!$F$1=\"\"),\"\",TEST!$F$1)","v":""}]
[null,null,null,null,null,null,null,289,{"$f":"IF(TEST!Z295=\"X\",\"\",IF(TEST!AA295=\"OUI\",TEST!E295&IF(TEST!F295=\"\",\"\",\" \"&TEST!F295),\"\"))","v":""},"","",null,"",289,{"$f":"IF(TEST!E295=\"\",\"\",TEST!E295)","v":""},{"$f":"IF(TEST!F295=\"\",\"\",TEST!F295)","v":""},{"$f":"IF(TEST!G295=\"\",\"\",TEST!G295)","v":""},{"$f":"IF(TEST!H295=\"\",\"\",TEST!H295)","v":""},{"$f":"IF(TEST!Y295=\"\",\"\",TEST!Y295)","v":""},{"$f":"IF(TEST!V295=\"\",\"\",TEST!V295)","v":""},{"$f":"IF(TEST!W295=\"\",\"\",TEST!W295)","v":""},{"$f":"IF(TEST!X295=\"\",\"\",TEST!X295)","v":""},{"$f":"IF(OR(M294=\"\",TEST!$K$1=\"\"),\"\",TEST!$K$1)","v":""},{"$f":"IF(OR(M294=\"\",TEST!$F$1=\"\"),\"\",TEST!$F$1)","v":""}]
[null,null,null,null,null,null,null,290,{"$f":"IF(TEST!Z296=\"X\",\"\",IF(TEST!AA296=\"OUI\",TEST!E296&IF(TEST!F296=\"\",\"\",\" \"&TEST!F296),\"\"))","v":""},"","",null,"",290,{"$f":"IF(TEST!E296=\"\",\"\",TEST!E296)","v":""},{"$f":"IF(TEST!F296=\"\",\"\",TEST!F296)","v":""},{"$f":"IF(TEST!G296=\"\",\"\",TEST!G296)","v":""},{"$f":"IF(TEST!H296=\"\",\"\",TEST!H296)","v":""},{"$f":"IF(TEST!Y296=\"\",\"\",TEST!Y296)","v":""},{"$f":"IF(TEST!V296=\"\",\"\",TEST!V296)","v":""},{"$f":"IF(TEST!W296=\"\",\"\",TEST!W296)","v":""},{"$f":"IF(TEST!X296=\"\",\"\",TEST!X296)","v":""},{"$f":"IF(OR(M295=\"\",TEST!$K$1=\"\"),\"\",TEST!$K$1)","v":""},{"$f":"IF(OR(M295=\"\",TEST!$F$1=\"\"),\"\",TEST!$F$1)","v":""}]
[null,null,null,null,null,null,null,291,{"$f":"IF(TEST!Z297=\"X\",\"\",IF(TEST!AA297=\"OUI\",TEST!E297&IF(TEST!F297=\"\",\"\",\" \"&TEST!F297),\"\"))","v":""},"","",null,"",291,{"$f":"IF(TEST!E297=\"\",\"\",TEST!E297)","v":""},{"$f":"IF(TEST!F297=\"\",\"\",TEST!F297)","v":""},{"$f":"IF(TEST!G297=\"\",\"\",TEST!G297)","v":""},{"$f":"IF(TEST!H297=\"\",\"\",TEST!H297)","v":""},{"$f":"IF(TEST!Y297=\"\",\"\",TEST!Y297)","v":""},{"$f":"IF(TEST!V297=\"\",\"\",TEST!V297)","v":""},{"$f":"IF(TEST!W297=\"\",\"\",TEST!W297)","v":""},{"$f":"IF(TEST!X297=\"\",\"\",TEST!X297)","v":""},{"$f":"IF(OR(M296=\"\",TEST!$K$1=\"\"),\"\",TEST!$K$1)","v":""},{"$f":"IF(OR(M296=\"\",TEST!$F$1=\"\"),\"\",TEST!$F$1)","v":""}]
[null,null,null,null,null,null,null,292,{"$f":"IF(TEST!Z298=\"X\",\"\",IF(TEST!AA298=\"OUI\",TEST!E298&IF(TEST!F298=\"\",\"\",\" \"&TEST!F298),\"\"))","v":""},"","",null,"",292,{"$f":"IF(TEST!E298=\"\",\"\",TEST!E298)","v":""},{"$f":"IF(TEST!F298=\"\",\"\",TEST!F298)","v":""},{"$f":"IF(TEST!G298=\"\",\"\",TEST!G298)","v":""},{"$f":"IF(TEST!H298=\"\",\"\",TEST!H298)","v":""},{"$f":"IF(TEST!Y298=\"\",\"\",TEST!Y298)","v":""},{"$f":"IF(TEST!V298=\"\",\"\",TEST!V298)","v":""},{"$f":"IF(TEST!W298=\"\",\"\",TEST!W298)","v":""},{"$f":"IF(TEST!X298=\"\",\"\",TEST!X298)","v":""},{"$f":"IF(OR(M297=\"\",TEST!$K$1=\"\"),\"\",TEST!$K$1)","v":""},{"$f":"IF(OR(M297=\"\",TEST!$F$1=\"\"),\"\",TEST!$F$1)","v":""}]
[null,null,null,null,null,null,null,293,{"$f":"IF(TEST!Z299=\"X\",\"\",IF(TEST!AA299=\"OUI\",TEST!E299&IF(TEST!F299=\"\",\"\",\" \"&TEST!F299),\"\"))","v":""},"","",null,"",293,{"$f":"IF(TEST!E299=\"\",\"\",TEST!E299)","v":""},{"$f":"IF(TEST!F299=\"\",\"\",TEST!F299)","v":""},{"$f":"IF(TEST!G299=\"\",\"\",TEST!G299)","v":""},{"$f":"IF(TEST!H299=\"\",\"\",TEST!H299)","v":""},{"$f":"IF(TEST!Y299=\"\",\"\",TEST!Y299)","v":""},{"$f":"IF(TEST!V299=\"\",\"\",TEST!V299)","v":""},{"$f":"IF(TEST!W299=\"\",\"\",TEST!W299)","v":""},{"$f":"IF(TEST!X299=\"\",\"\",TEST!X299)","v":""},{"$f":"IF(OR(M298=\"\",TEST!$K$1=\"\"),\"\",TEST!$K$1)","v":""},{"$f":"IF(OR(M298=\"\",TEST!$F$1=\"\"),\"\",TEST!$F$1)","v":""}]
[null,null,null,null,null,null,null,294,{"$f":"IF(TEST!Z300=\"X\",\"\",IF(TEST!AA300=\"OUI\",TEST!E300&IF(TEST!F300=\"\",\"\",\" \"&TEST!F300),\"\"))","v":""},"","",null,"",294,{"$f":"IF(TEST!E300=\"\",\"\",TEST!E300)","v":""},{"$f":"IF(TEST!F300=\"\",\"\",TEST!F300)","v":""},{"$f":"IF(TEST!G300=\"\",\"\",TEST!G300)","v":""},{"$f":"IF(TEST!H300=\"\",\"\",TEST!H300)","v":""},{"$f":"IF(TEST!Y300=\"\",\"\",TEST!Y300)","v":""},{"$f":"IF(TEST!V300=\"\",\"\",TEST!V300)","v":""},{"$f":"IF(TEST!W300=\"\",\"\",TEST!W300)","v":""},{"$f":"IF(TEST!X300=\"\",\"\",TEST!X300)","v":""},{"$f":"IF(OR(M299=\"\",TEST!$K$1=\"\"),\"\",TEST!$K$1)","v":""},{"$f":"IF(OR(M299=\"\",TEST!$F$1=\"\"),\"\",TEST!$F$1)","v":""}]
[null,null,null,null,null,null,null,295,{"$f":"IF(TEST!Z301=\"X\",\"\",IF(TEST!AA301=\"OUI\",TEST!E301&IF(TEST!F301=\"\",\"\",\" \"&TEST!F301),\"\"))","v":""},"","",null,"",295,{"$f":"IF(TEST!E301=\"\",\"\",TEST!E301)","v":""},{"$f":"IF(TEST!F301=\"\",\"\",TEST!F301)","v":""},{"$f":"IF(TEST!G301=\"\",\"\",TEST!G301)","v":""},{"$f":"IF(TEST!H301=\"\",\"\",TEST!H301)","v":""},{"$f":"IF(TEST!Y301=\"\",\"\",TEST!Y301)","v":""},{"$f":"IF(TEST!V301=\"\",\"\",TEST!V301)","v":""},{"$f":"IF(TEST!W301=\"\",\"\",TEST!W301)","v":""},{"$f":"IF(TEST!X301=\"\",\"\",TEST!X301)","v":""},{"$f":"IF(OR(M300=\"\",TEST!$K$1=\"\"),\"\",TEST!$K$1)","v":""},{"$f":"IF(OR(M300=\"\",TEST!$F$1=\"\"),\"\",TEST!$F$1)","v":""}]
[null,null,null,null,null,null,null,296,{"$f":"IF(TEST!Z302=\"X\",\"\",IF(TEST!AA302=\"OUI\",TEST!E302&IF(TEST!F302=\"\",\"\",\" \"&TEST!F302),\"\"))","v":""},"","",null,"",296,{"$f":"IF(TEST!E302=\"\",\"\",TEST!E302)","v":""},{"$f":"IF(TEST!F302=\"\",\"\",TEST!F302)","v":""},{"$f":"IF(TEST!G302=\"\",\"\",TEST!G302)","v":""},{"$f":"IF(TEST!H302=\"\",\"\",TEST!H302)","v":""},{"$f":"IF(TEST!Y302=\"\",\"\",TEST!Y302)","v":""},{"$f":"IF(TEST!V302=\"\",\"\",TEST!V302)","v":""},{"$f":"IF(TEST!W302=\"\",\"\",TEST!W302)","v":""},{"$f":"IF(TEST!X302=\"\",\"\",TEST!X302)","v":""},{"$f":"IF(OR(M301=\"\",TEST!$K$1=\"\"),\"\",TEST!$K$1)","v":""},{"$f":"IF(OR(M301=\"\",TEST!$F$1=\"\"),\"\",TEST!$F$1)","v":""}]
[null,null,null,null,null,null,null,297,{"$f":"IF(TEST!Z303=\"X\",\"\",IF(TEST!AA303=\"OUI\",TEST!E303&IF(TEST!F303=\"\",\"\",\" \"&TEST!F303),\"\"))","v":""},"","",null,"",297,{"$f":"IF(TEST!E303=\"\",\"\",TEST!E303)","v":""},{"$f":"IF(TEST!F303=\"\",\"\",TEST!F303)","v":""},{"$f":"IF(TEST!G303=\"\",\"\",TEST!G303)","v":""},{"$f":"IF(TEST!H303=\"\",\"\",TEST!H303)","v":""},{"$f":"IF(TEST!Y303=\"\",\"\",TEST!Y303)","v":""},{"$f":"IF(TEST!V303=\"\",\"\",TEST!V303)","v":""},{"$f":"IF(TEST!W303=\"\",\"\",TEST!W303)","v":""},{"$f":"IF(TEST!X303=\"\",\"\",TEST!X303)","v":""},{"$f":"IF(OR(M302=\"\",TEST!$K$1=\"\"),\"\",TEST!$K$1)","v":""},{"$f":"IF(OR(M302=\"\",TEST!$F$1=\"\"),\"\",TEST!$F$1)","v":""}]
[null,null,null,null,null,null,null,298,{"$f":"IF(TEST!Z304=\"X\",\"\",IF(TEST!AA304=\"OUI\",TEST!E304&IF(TEST!F304=\"\",\"\",\" \"&TEST!F304),\"\"))","v":""},"","",null,"",298,{"$f":"IF(TEST!E304=\"\",\"\",TEST!E304)","v":""},{"$f":"IF(TEST!F304=\"\",\"\",TEST!F304)","v":""},{"$f":"IF(TEST!G304=\"\",\"\",TEST!G304)","v":""},{"$f":"IF(TEST!H304=\"\",\"\",TEST!H304)","v":""},{"$f":"IF(TEST!Y304=\"\",\"\",TEST!Y304)","v":""},{"$f":"IF(TEST!V304=\"\",\"\",TEST!V304)","v":""},{"$f":"IF(TEST!W304=\"\",\"\",TEST!W304)","v":""},{"$f":"IF(TEST!X304=\"\",\"\",TEST!X304)","v":""},{"$f":"IF(OR(M303=\"\",TEST!$K$1=\"\"),\"\",TEST!$K$1)","v":""},{"$f":"IF(OR(M303=\"\",TEST!$F$1=\"\"),\"\",TEST!$F$1)","v":""}]
[null,null,null,null,null,null,null,299,{"$f":"IF(TEST!Z305=\"X\",\"\",IF(TEST!AA305=\"OUI\",TEST!E305&IF(TEST!F305=\"\",\"\",\" \"&TEST!F305),\"\"))","v":""},"","",null,"",299,{"$f":"IF(TEST!E305=\"\",\"\",TEST!E305)","v":""},{"$f":"IF(TEST!F305=\"\",\"\",TEST!F305)","v":""},{"$f":"IF(TEST!G305=\"\",\"\",TEST!G305)","v":""},{"$f":"IF(TEST!H305=\"\",\"\",TEST!H305)","v":""},{"$f":"IF(TEST!Y305=\"\",\"\",TEST!Y305)","v":""},{"$f":"IF(TEST!V305=\"\",\"\",TEST!V305)","v":""},{"$f":"IF(TEST!W305=\"\",\"\",TEST!W305)","v":""},{"$f":"IF(TEST!X305=\"\",\"\",TEST!X305)","v":""},{"$f":"IF(OR(M304=\"\",TEST!$K$1=\"\"),\"\",TEST!$K$1)","v":""},{"$f":"IF(OR(M304=\"\",TEST!$F$1=\"\"),\"\",TEST!$F$1)","v":""}]
[null,null,null,null,null,null,null,300,{"$f":"IF(TEST!Z306=\"X\",\"\",IF(TEST!AA306=\"OUI\",TEST!E306&IF(TEST!F306=\"\",\"\",\" \"&TEST!F306),\"\"))","v":""},"","",null,"",300,{"$f":"IF(TEST!E306=\"\",\"\",TEST!E306)","v":""},{"$f":"IF(TEST!F306=\"\",\"\",TEST!F306)","v":""},{"$f":"IF(TEST!G306=\"\",\"\",TEST!G306)","v":""},{"$f":"IF(TEST!H306=\"\",\"\",TEST!H306)","v":""},{"$f":"IF(TEST!Y306=\"\",\"\",TEST!Y306)","v":""},{"$f":"IF(TEST!V306=\"\",\"\",TEST!V306)","v":""},{"$f":"IF(TEST!W306=\"\",\"\",TEST!W306)","v":""},{"$f":"IF(TEST!X306=\"\",\"\",TEST!X306)","v":""},{"$f":"IF(OR(M305=\"\",TEST!$K$1=\"\"),\"\",TEST!$K$1)","v":""},{"$f":"IF(OR(M305=\"\",TEST!$F$1=\"\"),\"\",TEST!$F$1)","v":""}]